{"text_format":"1","workbook":"xlsx","n_sheets":6,"sheets":["AOM-802","Plantilla","Referencias Normativas","Matriz de Conciliación","Poliductos","ESRI_MAPINFO_SHEET"],"not_rendered":{"charts":0,"images":0,"macros":1,"external_links":0,"defined_names":5,"comments":1,"pivot_tables":0},"unopened":[],"bounds":{"document_bytes":16777216,"sheet_cells":100000,"rows_first":2000,"rows_last":500,"rows_between":2000,"halvings":0,"cell_chars":16384,"cell_head_chars":4096},"cells_cut":0,"cells_raw":0,"read":"whole","date_system":"1900"}

{"sheet":"AOM-802","index":0,"n_rows":2228,"n_cols":4,"rows_kept":2228,"cut":false,"hidden":true,"merged":[]}
["CODIGO POLIDUCTO","CODIGO_CONCEPTO","CODIGO_EDC","VALOR"]
[{"$f":"VLOOKUP(Plantilla!$A$2,Poliductos!#REF!,2,0)","v":{"$error":"#REF!"}},"01000000","ATCLXP",{"$f":"Plantilla!D4","v":0}]
[{"$f":"VLOOKUP(Plantilla!$A$2,Poliductos!#REF!,2,0)","v":{"$error":"#REF!"}},"01010000","ATCLXP",{"$f":"Plantilla!D5","v":0}]
[{"$f":"VLOOKUP(Plantilla!$A$2,Poliductos!#REF!,2,0)","v":{"$error":"#REF!"}},"01010100","ATCLXP",{"$f":"Plantilla!D6","v":0}]
[{"$f":"VLOOKUP(Plantilla!$A$2,Poliductos!#REF!,2,0)","v":{"$error":"#REF!"}},"01010200","ATCLXP",{"$f":"Plantilla!D7","v":0}]
[{"$f":"VLOOKUP(Plantilla!$A$2,Poliductos!#REF!,2,0)","v":{"$error":"#REF!"}},"01010201","ATCLXP",{"$f":"Plantilla!D8","v":0}]
[{"$f":"VLOOKUP(Plantilla!$A$2,Poliductos!#REF!,2,0)","v":{"$error":"#REF!"}},"01010202","ATCLXP",{"$f":"Plantilla!D9","v":0}]
[{"$f":"VLOOKUP(Plantilla!$A$2,Poliductos!#REF!,2,0)","v":{"$error":"#REF!"}},"01010300","ATCLXP",{"$f":"Plantilla!D10","v":0}]
[{"$f":"VLOOKUP(Plantilla!$A$2,Poliductos!#REF!,2,0)","v":{"$error":"#REF!"}},"01010301","ATCLXP",{"$f":"Plantilla!D11","v":0}]
[{"$f":"VLOOKUP(Plantilla!$A$2,Poliductos!#REF!,2,0)","v":{"$error":"#REF!"}},"01010302","ATCLXP",{"$f":"Plantilla!D12","v":0}]
[{"$f":"VLOOKUP(Plantilla!$A$2,Poliductos!#REF!,2,0)","v":{"$error":"#REF!"}},"01010400","ATCLXP",{"$f":"Plantilla!D13","v":0}]
[{"$f":"VLOOKUP(Plantilla!$A$2,Poliductos!#REF!,2,0)","v":{"$error":"#REF!"}},"01010500","ATCLXP",{"$f":"Plantilla!D14","v":0}]
[{"$f":"VLOOKUP(Plantilla!$A$2,Poliductos!#REF!,2,0)","v":{"$error":"#REF!"}},"01010600","ATCLXP",{"$f":"Plantilla!D15","v":0}]
[{"$f":"VLOOKUP(Plantilla!$A$2,Poliductos!#REF!,2,0)","v":{"$error":"#REF!"}},"01010700","ATCLXP",{"$f":"Plantilla!D16","v":0}]
[{"$f":"VLOOKUP(Plantilla!$A$2,Poliductos!#REF!,2,0)","v":{"$error":"#REF!"}},"01010800","ATCLXP",{"$f":"Plantilla!D17","v":0}]
[{"$f":"VLOOKUP(Plantilla!$A$2,Poliductos!#REF!,2,0)","v":{"$error":"#REF!"}},"01010900","ATCLXP",{"$f":"Plantilla!D18","v":0}]
[{"$f":"VLOOKUP(Plantilla!$A$2,Poliductos!#REF!,2,0)","v":{"$error":"#REF!"}},"01011000","ATCLXP",{"$f":"Plantilla!D19","v":0}]
[{"$f":"VLOOKUP(Plantilla!$A$2,Poliductos!#REF!,2,0)","v":{"$error":"#REF!"}},"01020000","ATCLXP",{"$f":"Plantilla!D20","v":0}]
[{"$f":"VLOOKUP(Plantilla!$A$2,Poliductos!#REF!,2,0)","v":{"$error":"#REF!"}},"01020100","ATCLXP",{"$f":"Plantilla!D21","v":0}]
[{"$f":"VLOOKUP(Plantilla!$A$2,Poliductos!#REF!,2,0)","v":{"$error":"#REF!"}},"01020200","ATCLXP",{"$f":"Plantilla!D22","v":0}]
[{"$f":"VLOOKUP(Plantilla!$A$2,Poliductos!#REF!,2,0)","v":{"$error":"#REF!"}},"01020300","ATCLXP",{"$f":"Plantilla!D23","v":0}]
[{"$f":"VLOOKUP(Plantilla!$A$2,Poliductos!#REF!,2,0)","v":{"$error":"#REF!"}},"01020400","ATCLXP",{"$f":"Plantilla!D24","v":0}]
[{"$f":"VLOOKUP(Plantilla!$A$2,Poliductos!#REF!,2,0)","v":{"$error":"#REF!"}},"01020500","ATCLXP",{"$f":"Plantilla!D25","v":0}]
[{"$f":"VLOOKUP(Plantilla!$A$2,Poliductos!#REF!,2,0)","v":{"$error":"#REF!"}},"01020600","ATCLXP",{"$f":"Plantilla!D26","v":0}]
[{"$f":"VLOOKUP(Plantilla!$A$2,Poliductos!#REF!,2,0)","v":{"$error":"#REF!"}},"01020700","ATCLXP",{"$f":"Plantilla!D27","v":0}]
[{"$f":"VLOOKUP(Plantilla!$A$2,Poliductos!#REF!,2,0)","v":{"$error":"#REF!"}},"01030000","ATCLXP",{"$f":"Plantilla!D29","v":0}]
[{"$f":"VLOOKUP(Plantilla!$A$2,Poliductos!#REF!,2,0)","v":{"$error":"#REF!"}},"01030100","ATCLXP",{"$f":"Plantilla!D30","v":0}]
[{"$f":"VLOOKUP(Plantilla!$A$2,Poliductos!#REF!,2,0)","v":{"$error":"#REF!"}},"01030200","ATCLXP",{"$f":"Plantilla!D31","v":0}]
[{"$f":"VLOOKUP(Plantilla!$A$2,Poliductos!#REF!,2,0)","v":{"$error":"#REF!"}},"01030300","ATCLXP",{"$f":"Plantilla!D32","v":0}]
[{"$f":"VLOOKUP(Plantilla!$A$2,Poliductos!#REF!,2,0)","v":{"$error":"#REF!"}},"01030400","ATCLXP",{"$f":"Plantilla!D33","v":0}]
[{"$f":"VLOOKUP(Plantilla!$A$2,Poliductos!#REF!,2,0)","v":{"$error":"#REF!"}},"01030500","ATCLXP",{"$f":"Plantilla!D34","v":0}]
[{"$f":"VLOOKUP(Plantilla!$A$2,Poliductos!#REF!,2,0)","v":{"$error":"#REF!"}},"01030600","ATCLXP",{"$f":"Plantilla!D35","v":0}]
[{"$f":"VLOOKUP(Plantilla!$A$2,Poliductos!#REF!,2,0)","v":{"$error":"#REF!"}},"01030700","ATCLXP",{"$f":"Plantilla!D36","v":0}]
[{"$f":"VLOOKUP(Plantilla!$A$2,Poliductos!#REF!,2,0)","v":{"$error":"#REF!"}},"01030800","ATCLXP",{"$f":"Plantilla!D37","v":0}]
[{"$f":"VLOOKUP(Plantilla!$A$2,Poliductos!#REF!,2,0)","v":{"$error":"#REF!"}},"01030900","ATCLXP",{"$f":"Plantilla!D38","v":0}]
[{"$f":"VLOOKUP(Plantilla!$A$2,Poliductos!#REF!,2,0)","v":{"$error":"#REF!"}},"01031000","ATCLXP",{"$f":"Plantilla!D39","v":0}]
[{"$f":"VLOOKUP(Plantilla!$A$2,Poliductos!#REF!,2,0)","v":{"$error":"#REF!"}},"01031100","ATCLXP",{"$f":"Plantilla!D40","v":0}]
[{"$f":"VLOOKUP(Plantilla!$A$2,Poliductos!#REF!,2,0)","v":{"$error":"#REF!"}},"01040000","ATCLXP",{"$f":"Plantilla!D41","v":0}]
[{"$f":"VLOOKUP(Plantilla!$A$2,Poliductos!#REF!,2,0)","v":{"$error":"#REF!"}},"01050000","ATCLXP",{"$f":"Plantilla!D42","v":0}]
[{"$f":"VLOOKUP(Plantilla!$A$2,Poliductos!#REF!,2,0)","v":{"$error":"#REF!"}},"01060000","ATCLXP",{"$f":"Plantilla!D43","v":0}]
[{"$f":"VLOOKUP(Plantilla!$A$2,Poliductos!#REF!,2,0)","v":{"$error":"#REF!"}},"01060100","ATCLXP",{"$f":"Plantilla!D44","v":0}]
[{"$f":"VLOOKUP(Plantilla!$A$2,Poliductos!#REF!,2,0)","v":{"$error":"#REF!"}},"01060200","ATCLXP",{"$f":"Plantilla!D45","v":0}]
[{"$f":"VLOOKUP(Plantilla!$A$2,Poliductos!#REF!,2,0)","v":{"$error":"#REF!"}},"01060201","ATCLXP",{"$f":"Plantilla!D46","v":0}]
[{"$f":"VLOOKUP(Plantilla!$A$2,Poliductos!#REF!,2,0)","v":{"$error":"#REF!"}},"01060202","ATCLXP",{"$f":"Plantilla!D47","v":0}]
[{"$f":"VLOOKUP(Plantilla!$A$2,Poliductos!#REF!,2,0)","v":{"$error":"#REF!"}},"01060203","ATCLXP",{"$f":"Plantilla!D48","v":0}]
[{"$f":"VLOOKUP(Plantilla!$A$2,Poliductos!#REF!,2,0)","v":{"$error":"#REF!"}},"01060300","ATCLXP",{"$f":"Plantilla!D49","v":0}]
[{"$f":"VLOOKUP(Plantilla!$A$2,Poliductos!#REF!,2,0)","v":{"$error":"#REF!"}},"01060400","ATCLXP",{"$f":"Plantilla!D50","v":0}]
[{"$f":"VLOOKUP(Plantilla!$A$2,Poliductos!#REF!,2,0)","v":{"$error":"#REF!"}},"01070000","ATCLXP",{"$f":"Plantilla!D51","v":0}]
[{"$f":"VLOOKUP(Plantilla!$A$2,Poliductos!#REF!,2,0)","v":{"$error":"#REF!"}},"01070100","ATCLXP",{"$f":"Plantilla!D52","v":0}]
[{"$f":"VLOOKUP(Plantilla!$A$2,Poliductos!#REF!,2,0)","v":{"$error":"#REF!"}},"01070200","ATCLXP",{"$f":"Plantilla!D53","v":0}]
[{"$f":"VLOOKUP(Plantilla!$A$2,Poliductos!#REF!,2,0)","v":{"$error":"#REF!"}},"01070300","ATCLXP",{"$f":"Plantilla!D54","v":0}]
[{"$f":"VLOOKUP(Plantilla!$A$2,Poliductos!#REF!,2,0)","v":{"$error":"#REF!"}},"01070400","ATCLXP",{"$f":"Plantilla!D55","v":0}]
[{"$f":"VLOOKUP(Plantilla!$A$2,Poliductos!#REF!,2,0)","v":{"$error":"#REF!"}},"02000000","ATCLXP",{"$f":"Plantilla!D56","v":0}]
[{"$f":"VLOOKUP(Plantilla!$A$2,Poliductos!#REF!,2,0)","v":{"$error":"#REF!"}},"02010000","ATCLXP",{"$f":"Plantilla!D57","v":0}]
[{"$f":"VLOOKUP(Plantilla!$A$2,Poliductos!#REF!,2,0)","v":{"$error":"#REF!"}},"02010100","ATCLXP",{"$f":"Plantilla!D58","v":0}]
[{"$f":"VLOOKUP(Plantilla!$A$2,Poliductos!#REF!,2,0)","v":{"$error":"#REF!"}},"02010200","ATCLXP",{"$f":"Plantilla!D59","v":0}]
[{"$f":"VLOOKUP(Plantilla!$A$2,Poliductos!#REF!,2,0)","v":{"$error":"#REF!"}},"02010201","ATCLXP",{"$f":"Plantilla!D60","v":0}]
[{"$f":"VLOOKUP(Plantilla!$A$2,Poliductos!#REF!,2,0)","v":{"$error":"#REF!"}},"02010202","ATCLXP",{"$f":"Plantilla!D61","v":0}]
[{"$f":"VLOOKUP(Plantilla!$A$2,Poliductos!#REF!,2,0)","v":{"$error":"#REF!"}},"02010300","ATCLXP",{"$f":"Plantilla!D62","v":0}]
[{"$f":"VLOOKUP(Plantilla!$A$2,Poliductos!#REF!,2,0)","v":{"$error":"#REF!"}},"02010301","ATCLXP",{"$f":"Plantilla!D63","v":0}]
[{"$f":"VLOOKUP(Plantilla!$A$2,Poliductos!#REF!,2,0)","v":{"$error":"#REF!"}},"02010302","ATCLXP",{"$f":"Plantilla!D64","v":0}]
[{"$f":"VLOOKUP(Plantilla!$A$2,Poliductos!#REF!,2,0)","v":{"$error":"#REF!"}},"02010400","ATCLXP",{"$f":"Plantilla!D65","v":0}]
[{"$f":"VLOOKUP(Plantilla!$A$2,Poliductos!#REF!,2,0)","v":{"$error":"#REF!"}},"02010500","ATCLXP",{"$f":"Plantilla!D66","v":0}]
[{"$f":"VLOOKUP(Plantilla!$A$2,Poliductos!#REF!,2,0)","v":{"$error":"#REF!"}},"02010600","ATCLXP",{"$f":"Plantilla!D67","v":0}]
[{"$f":"VLOOKUP(Plantilla!$A$2,Poliductos!#REF!,2,0)","v":{"$error":"#REF!"}},"02010700","ATCLXP",{"$f":"Plantilla!D68","v":0}]
[{"$f":"VLOOKUP(Plantilla!$A$2,Poliductos!#REF!,2,0)","v":{"$error":"#REF!"}},"02010800","ATCLXP",{"$f":"Plantilla!D69","v":0}]
[{"$f":"VLOOKUP(Plantilla!$A$2,Poliductos!#REF!,2,0)","v":{"$error":"#REF!"}},"02010900","ATCLXP",{"$f":"Plantilla!D70","v":0}]
[{"$f":"VLOOKUP(Plantilla!$A$2,Poliductos!#REF!,2,0)","v":{"$error":"#REF!"}},"02011000","ATCLXP",{"$f":"Plantilla!D71","v":0}]
[{"$f":"VLOOKUP(Plantilla!$A$2,Poliductos!#REF!,2,0)","v":{"$error":"#REF!"}},"02020000","ATCLXP",{"$f":"Plantilla!D72","v":0}]
[{"$f":"VLOOKUP(Plantilla!$A$2,Poliductos!#REF!,2,0)","v":{"$error":"#REF!"}},"02020100","ATCLXP",{"$f":"Plantilla!D73","v":0}]
[{"$f":"VLOOKUP(Plantilla!$A$2,Poliductos!#REF!,2,0)","v":{"$error":"#REF!"}},"02020200","ATCLXP",{"$f":"Plantilla!D74","v":0}]
[{"$f":"VLOOKUP(Plantilla!$A$2,Poliductos!#REF!,2,0)","v":{"$error":"#REF!"}},"02020300","ATCLXP",{"$f":"Plantilla!D75","v":0}]
[{"$f":"VLOOKUP(Plantilla!$A$2,Poliductos!#REF!,2,0)","v":{"$error":"#REF!"}},"02020400","ATCLXP",{"$f":"Plantilla!D76","v":0}]
[{"$f":"VLOOKUP(Plantilla!$A$2,Poliductos!#REF!,2,0)","v":{"$error":"#REF!"}},"02020500","ATCLXP",{"$f":"Plantilla!D77","v":0}]
[{"$f":"VLOOKUP(Plantilla!$A$2,Poliductos!#REF!,2,0)","v":{"$error":"#REF!"}},"02020600","ATCLXP",{"$f":"Plantilla!D78","v":0}]
[{"$f":"VLOOKUP(Plantilla!$A$2,Poliductos!#REF!,2,0)","v":{"$error":"#REF!"}},"02030000","ATCLXP",{"$f":"Plantilla!D79","v":0}]
[{"$f":"VLOOKUP(Plantilla!$A$2,Poliductos!#REF!,2,0)","v":{"$error":"#REF!"}},"02030100","ATCLXP",{"$f":"Plantilla!D80","v":0}]
[{"$f":"VLOOKUP(Plantilla!$A$2,Poliductos!#REF!,2,0)","v":{"$error":"#REF!"}},"02030200","ATCLXP",{"$f":"Plantilla!D81","v":0}]
[{"$f":"VLOOKUP(Plantilla!$A$2,Poliductos!#REF!,2,0)","v":{"$error":"#REF!"}},"02030300","ATCLXP",{"$f":"Plantilla!D82","v":0}]
[{"$f":"VLOOKUP(Plantilla!$A$2,Poliductos!#REF!,2,0)","v":{"$error":"#REF!"}},"02030400","ATCLXP",{"$f":"Plantilla!D83","v":0}]
[{"$f":"VLOOKUP(Plantilla!$A$2,Poliductos!#REF!,2,0)","v":{"$error":"#REF!"}},"02040000","ATCLXP",{"$f":"Plantilla!D84","v":0}]
[{"$f":"VLOOKUP(Plantilla!$A$2,Poliductos!#REF!,2,0)","v":{"$error":"#REF!"}},"02040100","ATCLXP",{"$f":"Plantilla!D85","v":0}]
[{"$f":"VLOOKUP(Plantilla!$A$2,Poliductos!#REF!,2,0)","v":{"$error":"#REF!"}},"02040200","ATCLXP",{"$f":"Plantilla!D86","v":0}]
[{"$f":"VLOOKUP(Plantilla!$A$2,Poliductos!#REF!,2,0)","v":{"$error":"#REF!"}},"02040300","ATCLXP",{"$f":"Plantilla!D87","v":0}]
[{"$f":"VLOOKUP(Plantilla!$A$2,Poliductos!#REF!,2,0)","v":{"$error":"#REF!"}},"02050000","ATCLXP",{"$f":"Plantilla!D88","v":0}]
[{"$f":"VLOOKUP(Plantilla!$A$2,Poliductos!#REF!,2,0)","v":{"$error":"#REF!"}},"02060000","ATCLXP",{"$f":"Plantilla!D89","v":0}]
[{"$f":"VLOOKUP(Plantilla!$A$2,Poliductos!#REF!,2,0)","v":{"$error":"#REF!"}},"02060100","ATCLXP",{"$f":"Plantilla!D90","v":0}]
[{"$f":"VLOOKUP(Plantilla!$A$2,Poliductos!#REF!,2,0)","v":{"$error":"#REF!"}},"02060200","ATCLXP",{"$f":"Plantilla!D91","v":0}]
[{"$f":"VLOOKUP(Plantilla!$A$2,Poliductos!#REF!,2,0)","v":{"$error":"#REF!"}},"02060300","ATCLXP",{"$f":"Plantilla!D92","v":0}]
[{"$f":"VLOOKUP(Plantilla!$A$2,Poliductos!#REF!,2,0)","v":{"$error":"#REF!"}},"02070000","ATCLXP",{"$f":"Plantilla!D93","v":0}]
[{"$f":"VLOOKUP(Plantilla!$A$2,Poliductos!#REF!,2,0)","v":{"$error":"#REF!"}},"02080000","ATCLXP",{"$f":"Plantilla!D94","v":0}]
[{"$f":"VLOOKUP(Plantilla!$A$2,Poliductos!#REF!,2,0)","v":{"$error":"#REF!"}},"02090000","ATCLXP",{"$f":"Plantilla!D95","v":0}]
[{"$f":"VLOOKUP(Plantilla!$A$2,Poliductos!#REF!,2,0)","v":{"$error":"#REF!"}},"02090100","ATCLXP",{"$f":"Plantilla!D96","v":0}]
[{"$f":"VLOOKUP(Plantilla!$A$2,Poliductos!#REF!,2,0)","v":{"$error":"#REF!"}},"02090200","ATCLXP",{"$f":"Plantilla!D97","v":0}]
[{"$f":"VLOOKUP(Plantilla!$A$2,Poliductos!#REF!,2,0)","v":{"$error":"#REF!"}},"02090300","ATCLXP",{"$f":"Plantilla!D98","v":0}]
[{"$f":"VLOOKUP(Plantilla!$A$2,Poliductos!#REF!,2,0)","v":{"$error":"#REF!"}},"02090400","ATCLXP",{"$f":"Plantilla!D99","v":0}]
[{"$f":"VLOOKUP(Plantilla!$A$2,Poliductos!#REF!,2,0)","v":{"$error":"#REF!"}},"02090500","ATCLXP",{"$f":"Plantilla!D100","v":0}]
[{"$f":"VLOOKUP(Plantilla!$A$2,Poliductos!#REF!,2,0)","v":{"$error":"#REF!"}},"02090600","ATCLXP",{"$f":"Plantilla!D101","v":0}]
[{"$f":"VLOOKUP(Plantilla!$A$2,Poliductos!#REF!,2,0)","v":{"$error":"#REF!"}},"02100000","ATCLXP",{"$f":"Plantilla!D102","v":0}]
[{"$f":"VLOOKUP(Plantilla!$A$2,Poliductos!#REF!,2,0)","v":{"$error":"#REF!"}},"02100100","ATCLXP",{"$f":"Plantilla!D103","v":0}]
[{"$f":"VLOOKUP(Plantilla!$A$2,Poliductos!#REF!,2,0)","v":{"$error":"#REF!"}},"02100200","ATCLXP",{"$f":"Plantilla!D104","v":0}]
[{"$f":"VLOOKUP(Plantilla!$A$2,Poliductos!#REF!,2,0)","v":{"$error":"#REF!"}},"02100300","ATCLXP",{"$f":"Plantilla!D105","v":0}]
[{"$f":"VLOOKUP(Plantilla!$A$2,Poliductos!#REF!,2,0)","v":{"$error":"#REF!"}},"02100400","ATCLXP",{"$f":"Plantilla!D106","v":0}]
[{"$f":"VLOOKUP(Plantilla!$A$2,Poliductos!#REF!,2,0)","v":{"$error":"#REF!"}},"02110000","ATCLXP",{"$f":"Plantilla!D107","v":0}]
[{"$f":"VLOOKUP(Plantilla!$A$2,Poliductos!#REF!,2,0)","v":{"$error":"#REF!"}},"02110100","ATCLXP",{"$f":"Plantilla!D108","v":0}]
[{"$f":"VLOOKUP(Plantilla!$A$2,Poliductos!#REF!,2,0)","v":{"$error":"#REF!"}},"02110200","ATCLXP",{"$f":"Plantilla!D109","v":0}]
[{"$f":"VLOOKUP(Plantilla!$A$2,Poliductos!#REF!,2,0)","v":{"$error":"#REF!"}},"02110300","ATCLXP",{"$f":"Plantilla!D110","v":0}]
[{"$f":"VLOOKUP(Plantilla!$A$2,Poliductos!#REF!,2,0)","v":{"$error":"#REF!"}},"02110400","ATCLXP",{"$f":"Plantilla!D111","v":0}]
[{"$f":"VLOOKUP(Plantilla!$A$2,Poliductos!#REF!,2,0)","v":{"$error":"#REF!"}},"02110500","ATCLXP",{"$f":"Plantilla!D112","v":0}]
[{"$f":"VLOOKUP(Plantilla!$A$2,Poliductos!#REF!,2,0)","v":{"$error":"#REF!"}},"02120000","ATCLXP",{"$f":"Plantilla!D113","v":0}]
[{"$f":"VLOOKUP(Plantilla!$A$2,Poliductos!#REF!,2,0)","v":{"$error":"#REF!"}},"02130000","ATCLXP",{"$f":"Plantilla!D114","v":0}]
[{"$f":"VLOOKUP(Plantilla!$A$2,Poliductos!#REF!,2,0)","v":{"$error":"#REF!"}},"02130100","ATCLXP",{"$f":"Plantilla!D115","v":0}]
[{"$f":"VLOOKUP(Plantilla!$A$2,Poliductos!#REF!,2,0)","v":{"$error":"#REF!"}},"02130200","ATCLXP",{"$f":"Plantilla!D116","v":0}]
[{"$f":"VLOOKUP(Plantilla!$A$2,Poliductos!#REF!,2,0)","v":{"$error":"#REF!"}},"02130300","ATCLXP",{"$f":"Plantilla!D117","v":0}]
[{"$f":"VLOOKUP(Plantilla!$A$2,Poliductos!#REF!,2,0)","v":{"$error":"#REF!"}},"02130400","ATCLXP",{"$f":"Plantilla!D118","v":0}]
[{"$f":"VLOOKUP(Plantilla!$A$2,Poliductos!#REF!,2,0)","v":{"$error":"#REF!"}},"02130500","ATCLXP",{"$f":"Plantilla!D119","v":0}]
[{"$f":"VLOOKUP(Plantilla!$A$2,Poliductos!#REF!,2,0)","v":{"$error":"#REF!"}},"02130600","ATCLXP",{"$f":"Plantilla!D120","v":0}]
[{"$f":"VLOOKUP(Plantilla!$A$2,Poliductos!#REF!,2,0)","v":{"$error":"#REF!"}},"02140000","ATCLXP",{"$f":"Plantilla!D121","v":0}]
[{"$f":"VLOOKUP(Plantilla!$A$2,Poliductos!#REF!,2,0)","v":{"$error":"#REF!"}},"02140100","ATCLXP",{"$f":"Plantilla!D122","v":0}]
[{"$f":"VLOOKUP(Plantilla!$A$2,Poliductos!#REF!,2,0)","v":{"$error":"#REF!"}},"02140200","ATCLXP",{"$f":"Plantilla!D123","v":0}]
[{"$f":"VLOOKUP(Plantilla!$A$2,Poliductos!#REF!,2,0)","v":{"$error":"#REF!"}},"02150000","ATCLXP",{"$f":"Plantilla!D124","v":0}]
[{"$f":"VLOOKUP(Plantilla!$A$2,Poliductos!#REF!,2,0)","v":{"$error":"#REF!"}},"02150100","ATCLXP",{"$f":"Plantilla!D125","v":0}]
[{"$f":"VLOOKUP(Plantilla!$A$2,Poliductos!#REF!,2,0)","v":{"$error":"#REF!"}},"02150200","ATCLXP",{"$f":"Plantilla!D126","v":0}]
[{"$f":"VLOOKUP(Plantilla!$A$2,Poliductos!#REF!,2,0)","v":{"$error":"#REF!"}},"02150300","ATCLXP",{"$f":"Plantilla!D127","v":0}]
[{"$f":"VLOOKUP(Plantilla!$A$2,Poliductos!#REF!,2,0)","v":{"$error":"#REF!"}},"02150400","ATCLXP",{"$f":"Plantilla!D128","v":0}]
[{"$f":"VLOOKUP(Plantilla!$A$2,Poliductos!#REF!,2,0)","v":{"$error":"#REF!"}},"02150500","ATCLXP",{"$f":"Plantilla!D129","v":0}]
[{"$f":"VLOOKUP(Plantilla!$A$2,Poliductos!#REF!,2,0)","v":{"$error":"#REF!"}},"02150600","ATCLXP",{"$f":"Plantilla!D130","v":0}]
[{"$f":"VLOOKUP(Plantilla!$A$2,Poliductos!#REF!,2,0)","v":{"$error":"#REF!"}},"02150700","ATCLXP",{"$f":"Plantilla!D131","v":0}]
[{"$f":"VLOOKUP(Plantilla!$A$2,Poliductos!#REF!,2,0)","v":{"$error":"#REF!"}},"02150800","ATCLXP",{"$f":"Plantilla!D132","v":0}]
[{"$f":"VLOOKUP(Plantilla!$A$2,Poliductos!#REF!,2,0)","v":{"$error":"#REF!"}},"02160000","ATCLXP",{"$f":"Plantilla!D136","v":0}]
[{"$f":"VLOOKUP(Plantilla!$A$2,Poliductos!#REF!,2,0)","v":{"$error":"#REF!"}},"02160100","ATCLXP",{"$f":"Plantilla!D137","v":0}]
[{"$f":"VLOOKUP(Plantilla!$A$2,Poliductos!#REF!,2,0)","v":{"$error":"#REF!"}},"02160200","ATCLXP",{"$f":"Plantilla!D138","v":0}]
[{"$f":"VLOOKUP(Plantilla!$A$2,Poliductos!#REF!,2,0)","v":{"$error":"#REF!"}},"01000000","LLL",{"$f":"Plantilla!E4","v":0}]
[{"$f":"VLOOKUP(Plantilla!$A$2,Poliductos!#REF!,2,0)","v":{"$error":"#REF!"}},"01010000","LLL",{"$f":"Plantilla!E5","v":0}]
[{"$f":"VLOOKUP(Plantilla!$A$2,Poliductos!#REF!,2,0)","v":{"$error":"#REF!"}},"01010100","LLL",{"$f":"Plantilla!E6","v":0}]
[{"$f":"VLOOKUP(Plantilla!$A$2,Poliductos!#REF!,2,0)","v":{"$error":"#REF!"}},"01010200","LLL",{"$f":"Plantilla!E7","v":0}]
[{"$f":"VLOOKUP(Plantilla!$A$2,Poliductos!#REF!,2,0)","v":{"$error":"#REF!"}},"01010201","LLL",{"$f":"Plantilla!E8","v":0}]
[{"$f":"VLOOKUP(Plantilla!$A$2,Poliductos!#REF!,2,0)","v":{"$error":"#REF!"}},"01010202","LLL",{"$f":"Plantilla!E9","v":0}]
[{"$f":"VLOOKUP(Plantilla!$A$2,Poliductos!#REF!,2,0)","v":{"$error":"#REF!"}},"01010300","LLL",{"$f":"Plantilla!E10","v":0}]
[{"$f":"VLOOKUP(Plantilla!$A$2,Poliductos!#REF!,2,0)","v":{"$error":"#REF!"}},"01010301","LLL",{"$f":"Plantilla!E11","v":0}]
[{"$f":"VLOOKUP(Plantilla!$A$2,Poliductos!#REF!,2,0)","v":{"$error":"#REF!"}},"01010302","LLL",{"$f":"Plantilla!E12","v":0}]
[{"$f":"VLOOKUP(Plantilla!$A$2,Poliductos!#REF!,2,0)","v":{"$error":"#REF!"}},"01010400","LLL",{"$f":"Plantilla!E13","v":0}]
[{"$f":"VLOOKUP(Plantilla!$A$2,Poliductos!#REF!,2,0)","v":{"$error":"#REF!"}},"01010500","LLL",{"$f":"Plantilla!E14","v":0}]
[{"$f":"VLOOKUP(Plantilla!$A$2,Poliductos!#REF!,2,0)","v":{"$error":"#REF!"}},"01010600","LLL",{"$f":"Plantilla!E15","v":0}]
[{"$f":"VLOOKUP(Plantilla!$A$2,Poliductos!#REF!,2,0)","v":{"$error":"#REF!"}},"01010700","LLL",{"$f":"Plantilla!E16","v":0}]
[{"$f":"VLOOKUP(Plantilla!$A$2,Poliductos!#REF!,2,0)","v":{"$error":"#REF!"}},"01010800","LLL",{"$f":"Plantilla!E17","v":0}]
[{"$f":"VLOOKUP(Plantilla!$A$2,Poliductos!#REF!,2,0)","v":{"$error":"#REF!"}},"01010900","LLL",{"$f":"Plantilla!E18","v":0}]
[{"$f":"VLOOKUP(Plantilla!$A$2,Poliductos!#REF!,2,0)","v":{"$error":"#REF!"}},"01011000","LLL",{"$f":"Plantilla!E19","v":0}]
[{"$f":"VLOOKUP(Plantilla!$A$2,Poliductos!#REF!,2,0)","v":{"$error":"#REF!"}},"01020000","LLL",{"$f":"Plantilla!E20","v":0}]
[{"$f":"VLOOKUP(Plantilla!$A$2,Poliductos!#REF!,2,0)","v":{"$error":"#REF!"}},"01020100","LLL",{"$f":"Plantilla!E21","v":0}]
[{"$f":"VLOOKUP(Plantilla!$A$2,Poliductos!#REF!,2,0)","v":{"$error":"#REF!"}},"01020200","LLL",{"$f":"Plantilla!E22","v":0}]
[{"$f":"VLOOKUP(Plantilla!$A$2,Poliductos!#REF!,2,0)","v":{"$error":"#REF!"}},"01020300","LLL",{"$f":"Plantilla!E23","v":0}]
[{"$f":"VLOOKUP(Plantilla!$A$2,Poliductos!#REF!,2,0)","v":{"$error":"#REF!"}},"01020400","LLL",{"$f":"Plantilla!E24","v":0}]
[{"$f":"VLOOKUP(Plantilla!$A$2,Poliductos!#REF!,2,0)","v":{"$error":"#REF!"}},"01020500","LLL",{"$f":"Plantilla!E25","v":0}]
[{"$f":"VLOOKUP(Plantilla!$A$2,Poliductos!#REF!,2,0)","v":{"$error":"#REF!"}},"01020600","LLL",{"$f":"Plantilla!E26","v":0}]
[{"$f":"VLOOKUP(Plantilla!$A$2,Poliductos!#REF!,2,0)","v":{"$error":"#REF!"}},"01020700","LLL",{"$f":"Plantilla!E27","v":0}]
[{"$f":"VLOOKUP(Plantilla!$A$2,Poliductos!#REF!,2,0)","v":{"$error":"#REF!"}},"01030000","LLL",{"$f":"Plantilla!E29","v":0}]
[{"$f":"VLOOKUP(Plantilla!$A$2,Poliductos!#REF!,2,0)","v":{"$error":"#REF!"}},"01030100","LLL",{"$f":"Plantilla!E30","v":0}]
[{"$f":"VLOOKUP(Plantilla!$A$2,Poliductos!#REF!,2,0)","v":{"$error":"#REF!"}},"01030200","LLL",{"$f":"Plantilla!E31","v":0}]
[{"$f":"VLOOKUP(Plantilla!$A$2,Poliductos!#REF!,2,0)","v":{"$error":"#REF!"}},"01030300","LLL",{"$f":"Plantilla!E32","v":0}]
[{"$f":"VLOOKUP(Plantilla!$A$2,Poliductos!#REF!,2,0)","v":{"$error":"#REF!"}},"01030400","LLL",{"$f":"Plantilla!E33","v":0}]
[{"$f":"VLOOKUP(Plantilla!$A$2,Poliductos!#REF!,2,0)","v":{"$error":"#REF!"}},"01030500","LLL",{"$f":"Plantilla!E34","v":0}]
[{"$f":"VLOOKUP(Plantilla!$A$2,Poliductos!#REF!,2,0)","v":{"$error":"#REF!"}},"01030600","LLL",{"$f":"Plantilla!E35","v":0}]
[{"$f":"VLOOKUP(Plantilla!$A$2,Poliductos!#REF!,2,0)","v":{"$error":"#REF!"}},"01030700","LLL",{"$f":"Plantilla!E36","v":0}]
[{"$f":"VLOOKUP(Plantilla!$A$2,Poliductos!#REF!,2,0)","v":{"$error":"#REF!"}},"01030800","LLL",{"$f":"Plantilla!E37","v":0}]
[{"$f":"VLOOKUP(Plantilla!$A$2,Poliductos!#REF!,2,0)","v":{"$error":"#REF!"}},"01030900","LLL",{"$f":"Plantilla!E38","v":0}]
[{"$f":"VLOOKUP(Plantilla!$A$2,Poliductos!#REF!,2,0)","v":{"$error":"#REF!"}},"01031000","LLL",{"$f":"Plantilla!E39","v":0}]
[{"$f":"VLOOKUP(Plantilla!$A$2,Poliductos!#REF!,2,0)","v":{"$error":"#REF!"}},"01031100","LLL",{"$f":"Plantilla!E40","v":0}]
[{"$f":"VLOOKUP(Plantilla!$A$2,Poliductos!#REF!,2,0)","v":{"$error":"#REF!"}},"01040000","LLL",{"$f":"Plantilla!E41","v":0}]
[{"$f":"VLOOKUP(Plantilla!$A$2,Poliductos!#REF!,2,0)","v":{"$error":"#REF!"}},"01050000","LLL",{"$f":"Plantilla!E42","v":0}]
[{"$f":"VLOOKUP(Plantilla!$A$2,Poliductos!#REF!,2,0)","v":{"$error":"#REF!"}},"01060000","LLL",{"$f":"Plantilla!E43","v":0}]
[{"$f":"VLOOKUP(Plantilla!$A$2,Poliductos!#REF!,2,0)","v":{"$error":"#REF!"}},"01060100","LLL",{"$f":"Plantilla!E44","v":0}]
[{"$f":"VLOOKUP(Plantilla!$A$2,Poliductos!#REF!,2,0)","v":{"$error":"#REF!"}},"01060200","LLL",{"$f":"Plantilla!E45","v":0}]
[{"$f":"VLOOKUP(Plantilla!$A$2,Poliductos!#REF!,2,0)","v":{"$error":"#REF!"}},"01060201","LLL",{"$f":"Plantilla!E46","v":0}]
[{"$f":"VLOOKUP(Plantilla!$A$2,Poliductos!#REF!,2,0)","v":{"$error":"#REF!"}},"01060202","LLL",{"$f":"Plantilla!E47","v":0}]
[{"$f":"VLOOKUP(Plantilla!$A$2,Poliductos!#REF!,2,0)","v":{"$error":"#REF!"}},"01060203","LLL",{"$f":"Plantilla!E48","v":0}]
[{"$f":"VLOOKUP(Plantilla!$A$2,Poliductos!#REF!,2,0)","v":{"$error":"#REF!"}},"01060300","LLL",{"$f":"Plantilla!E49","v":0}]
[{"$f":"VLOOKUP(Plantilla!$A$2,Poliductos!#REF!,2,0)","v":{"$error":"#REF!"}},"01060400","LLL",{"$f":"Plantilla!E50","v":0}]
[{"$f":"VLOOKUP(Plantilla!$A$2,Poliductos!#REF!,2,0)","v":{"$error":"#REF!"}},"01070000","LLL",{"$f":"Plantilla!E51","v":0}]
[{"$f":"VLOOKUP(Plantilla!$A$2,Poliductos!#REF!,2,0)","v":{"$error":"#REF!"}},"01070100","LLL",{"$f":"Plantilla!E52","v":0}]
[{"$f":"VLOOKUP(Plantilla!$A$2,Poliductos!#REF!,2,0)","v":{"$error":"#REF!"}},"01070200","LLL",{"$f":"Plantilla!E53","v":0}]
[{"$f":"VLOOKUP(Plantilla!$A$2,Poliductos!#REF!,2,0)","v":{"$error":"#REF!"}},"01070300","LLL",{"$f":"Plantilla!E54","v":0}]
[{"$f":"VLOOKUP(Plantilla!$A$2,Poliductos!#REF!,2,0)","v":{"$error":"#REF!"}},"01070400","LLL",{"$f":"Plantilla!E55","v":0}]
[{"$f":"VLOOKUP(Plantilla!$A$2,Poliductos!#REF!,2,0)","v":{"$error":"#REF!"}},"02000000","LLL",{"$f":"Plantilla!E56","v":0}]
[{"$f":"VLOOKUP(Plantilla!$A$2,Poliductos!#REF!,2,0)","v":{"$error":"#REF!"}},"02010000","LLL",{"$f":"Plantilla!E57","v":0}]
[{"$f":"VLOOKUP(Plantilla!$A$2,Poliductos!#REF!,2,0)","v":{"$error":"#REF!"}},"02010100","LLL",{"$f":"Plantilla!E58","v":0}]
[{"$f":"VLOOKUP(Plantilla!$A$2,Poliductos!#REF!,2,0)","v":{"$error":"#REF!"}},"02010200","LLL",{"$f":"Plantilla!E59","v":0}]
[{"$f":"VLOOKUP(Plantilla!$A$2,Poliductos!#REF!,2,0)","v":{"$error":"#REF!"}},"02010201","LLL",{"$f":"Plantilla!E60","v":0}]
[{"$f":"VLOOKUP(Plantilla!$A$2,Poliductos!#REF!,2,0)","v":{"$error":"#REF!"}},"02010202","LLL",{"$f":"Plantilla!E61","v":0}]
[{"$f":"VLOOKUP(Plantilla!$A$2,Poliductos!#REF!,2,0)","v":{"$error":"#REF!"}},"02010300","LLL",{"$f":"Plantilla!E62","v":0}]
[{"$f":"VLOOKUP(Plantilla!$A$2,Poliductos!#REF!,2,0)","v":{"$error":"#REF!"}},"02010301","LLL",{"$f":"Plantilla!E63","v":0}]
[{"$f":"VLOOKUP(Plantilla!$A$2,Poliductos!#REF!,2,0)","v":{"$error":"#REF!"}},"02010302","LLL",{"$f":"Plantilla!E64","v":0}]
[{"$f":"VLOOKUP(Plantilla!$A$2,Poliductos!#REF!,2,0)","v":{"$error":"#REF!"}},"02010400","LLL",{"$f":"Plantilla!E65","v":0}]
[{"$f":"VLOOKUP(Plantilla!$A$2,Poliductos!#REF!,2,0)","v":{"$error":"#REF!"}},"02010500","LLL",{"$f":"Plantilla!E66","v":0}]
[{"$f":"VLOOKUP(Plantilla!$A$2,Poliductos!#REF!,2,0)","v":{"$error":"#REF!"}},"02010600","LLL",{"$f":"Plantilla!E67","v":0}]
[{"$f":"VLOOKUP(Plantilla!$A$2,Poliductos!#REF!,2,0)","v":{"$error":"#REF!"}},"02010700","LLL",{"$f":"Plantilla!E68","v":0}]
[{"$f":"VLOOKUP(Plantilla!$A$2,Poliductos!#REF!,2,0)","v":{"$error":"#REF!"}},"02010800","LLL",{"$f":"Plantilla!E69","v":0}]
[{"$f":"VLOOKUP(Plantilla!$A$2,Poliductos!#REF!,2,0)","v":{"$error":"#REF!"}},"02010900","LLL",{"$f":"Plantilla!E70","v":0}]
[{"$f":"VLOOKUP(Plantilla!$A$2,Poliductos!#REF!,2,0)","v":{"$error":"#REF!"}},"02011000","LLL",{"$f":"Plantilla!E71","v":0}]
[{"$f":"VLOOKUP(Plantilla!$A$2,Poliductos!#REF!,2,0)","v":{"$error":"#REF!"}},"02020000","LLL",{"$f":"Plantilla!E72","v":0}]
[{"$f":"VLOOKUP(Plantilla!$A$2,Poliductos!#REF!,2,0)","v":{"$error":"#REF!"}},"02020100","LLL",{"$f":"Plantilla!E73","v":0}]
[{"$f":"VLOOKUP(Plantilla!$A$2,Poliductos!#REF!,2,0)","v":{"$error":"#REF!"}},"02020200","LLL",{"$f":"Plantilla!E74","v":0}]
[{"$f":"VLOOKUP(Plantilla!$A$2,Poliductos!#REF!,2,0)","v":{"$error":"#REF!"}},"02020300","LLL",{"$f":"Plantilla!E75","v":0}]
[{"$f":"VLOOKUP(Plantilla!$A$2,Poliductos!#REF!,2,0)","v":{"$error":"#REF!"}},"02020400","LLL",{"$f":"Plantilla!E76","v":0}]
[{"$f":"VLOOKUP(Plantilla!$A$2,Poliductos!#REF!,2,0)","v":{"$error":"#REF!"}},"02020500","LLL",{"$f":"Plantilla!E77","v":0}]
[{"$f":"VLOOKUP(Plantilla!$A$2,Poliductos!#REF!,2,0)","v":{"$error":"#REF!"}},"02020600","LLL",{"$f":"Plantilla!E78","v":0}]
[{"$f":"VLOOKUP(Plantilla!$A$2,Poliductos!#REF!,2,0)","v":{"$error":"#REF!"}},"02030000","LLL",{"$f":"Plantilla!E79","v":0}]
[{"$f":"VLOOKUP(Plantilla!$A$2,Poliductos!#REF!,2,0)","v":{"$error":"#REF!"}},"02030100","LLL",{"$f":"Plantilla!E80","v":0}]
[{"$f":"VLOOKUP(Plantilla!$A$2,Poliductos!#REF!,2,0)","v":{"$error":"#REF!"}},"02030200","LLL",{"$f":"Plantilla!E81","v":0}]
[{"$f":"VLOOKUP(Plantilla!$A$2,Poliductos!#REF!,2,0)","v":{"$error":"#REF!"}},"02030300","LLL",{"$f":"Plantilla!E82","v":0}]
[{"$f":"VLOOKUP(Plantilla!$A$2,Poliductos!#REF!,2,0)","v":{"$error":"#REF!"}},"02030400","LLL",{"$f":"Plantilla!E83","v":0}]
[{"$f":"VLOOKUP(Plantilla!$A$2,Poliductos!#REF!,2,0)","v":{"$error":"#REF!"}},"02040000","LLL",{"$f":"Plantilla!E84","v":0}]
[{"$f":"VLOOKUP(Plantilla!$A$2,Poliductos!#REF!,2,0)","v":{"$error":"#REF!"}},"02040100","LLL",{"$f":"Plantilla!E85","v":0}]
[{"$f":"VLOOKUP(Plantilla!$A$2,Poliductos!#REF!,2,0)","v":{"$error":"#REF!"}},"02040200","LLL",{"$f":"Plantilla!E86","v":0}]
[{"$f":"VLOOKUP(Plantilla!$A$2,Poliductos!#REF!,2,0)","v":{"$error":"#REF!"}},"02040300","LLL",{"$f":"Plantilla!E87","v":0}]
[{"$f":"VLOOKUP(Plantilla!$A$2,Poliductos!#REF!,2,0)","v":{"$error":"#REF!"}},"02050000","LLL",{"$f":"Plantilla!E88","v":0}]
[{"$f":"VLOOKUP(Plantilla!$A$2,Poliductos!#REF!,2,0)","v":{"$error":"#REF!"}},"02060000","LLL",{"$f":"Plantilla!E89","v":0}]
[{"$f":"VLOOKUP(Plantilla!$A$2,Poliductos!#REF!,2,0)","v":{"$error":"#REF!"}},"02060100","LLL",{"$f":"Plantilla!E90","v":0}]
[{"$f":"VLOOKUP(Plantilla!$A$2,Poliductos!#REF!,2,0)","v":{"$error":"#REF!"}},"02060200","LLL",{"$f":"Plantilla!E91","v":0}]
[{"$f":"VLOOKUP(Plantilla!$A$2,Poliductos!#REF!,2,0)","v":{"$error":"#REF!"}},"02060300","LLL",{"$f":"Plantilla!E92","v":0}]
[{"$f":"VLOOKUP(Plantilla!$A$2,Poliductos!#REF!,2,0)","v":{"$error":"#REF!"}},"02070000","LLL",{"$f":"Plantilla!E93","v":0}]
[{"$f":"VLOOKUP(Plantilla!$A$2,Poliductos!#REF!,2,0)","v":{"$error":"#REF!"}},"02080000","LLL",{"$f":"Plantilla!E94","v":0}]
[{"$f":"VLOOKUP(Plantilla!$A$2,Poliductos!#REF!,2,0)","v":{"$error":"#REF!"}},"02090000","LLL",{"$f":"Plantilla!E95","v":0}]
[{"$f":"VLOOKUP(Plantilla!$A$2,Poliductos!#REF!,2,0)","v":{"$error":"#REF!"}},"02090100","LLL",{"$f":"Plantilla!E96","v":0}]
[{"$f":"VLOOKUP(Plantilla!$A$2,Poliductos!#REF!,2,0)","v":{"$error":"#REF!"}},"02090200","LLL",{"$f":"Plantilla!E97","v":0}]
[{"$f":"VLOOKUP(Plantilla!$A$2,Poliductos!#REF!,2,0)","v":{"$error":"#REF!"}},"02090300","LLL",{"$f":"Plantilla!E98","v":0}]
[{"$f":"VLOOKUP(Plantilla!$A$2,Poliductos!#REF!,2,0)","v":{"$error":"#REF!"}},"02090400","LLL",{"$f":"Plantilla!E99","v":0}]
[{"$f":"VLOOKUP(Plantilla!$A$2,Poliductos!#REF!,2,0)","v":{"$error":"#REF!"}},"02090500","LLL",{"$f":"Plantilla!E100","v":0}]
[{"$f":"VLOOKUP(Plantilla!$A$2,Poliductos!#REF!,2,0)","v":{"$error":"#REF!"}},"02090600","LLL",{"$f":"Plantilla!E101","v":0}]
[{"$f":"VLOOKUP(Plantilla!$A$2,Poliductos!#REF!,2,0)","v":{"$error":"#REF!"}},"02100000","LLL",{"$f":"Plantilla!E102","v":0}]
[{"$f":"VLOOKUP(Plantilla!$A$2,Poliductos!#REF!,2,0)","v":{"$error":"#REF!"}},"02100100","LLL",{"$f":"Plantilla!E103","v":0}]
[{"$f":"VLOOKUP(Plantilla!$A$2,Poliductos!#REF!,2,0)","v":{"$error":"#REF!"}},"02100200","LLL",{"$f":"Plantilla!E104","v":0}]
[{"$f":"VLOOKUP(Plantilla!$A$2,Poliductos!#REF!,2,0)","v":{"$error":"#REF!"}},"02100300","LLL",{"$f":"Plantilla!E105","v":0}]
[{"$f":"VLOOKUP(Plantilla!$A$2,Poliductos!#REF!,2,0)","v":{"$error":"#REF!"}},"02100400","LLL",{"$f":"Plantilla!E106","v":0}]
[{"$f":"VLOOKUP(Plantilla!$A$2,Poliductos!#REF!,2,0)","v":{"$error":"#REF!"}},"02110000","LLL",{"$f":"Plantilla!E107","v":0}]
[{"$f":"VLOOKUP(Plantilla!$A$2,Poliductos!#REF!,2,0)","v":{"$error":"#REF!"}},"02110100","LLL",{"$f":"Plantilla!E108","v":0}]
[{"$f":"VLOOKUP(Plantilla!$A$2,Poliductos!#REF!,2,0)","v":{"$error":"#REF!"}},"02110200","LLL",{"$f":"Plantilla!E109","v":0}]
[{"$f":"VLOOKUP(Plantilla!$A$2,Poliductos!#REF!,2,0)","v":{"$error":"#REF!"}},"02110300","LLL",{"$f":"Plantilla!E110","v":0}]
[{"$f":"VLOOKUP(Plantilla!$A$2,Poliductos!#REF!,2,0)","v":{"$error":"#REF!"}},"02110400","LLL",{"$f":"Plantilla!E111","v":0}]
[{"$f":"VLOOKUP(Plantilla!$A$2,Poliductos!#REF!,2,0)","v":{"$error":"#REF!"}},"02110500","LLL",{"$f":"Plantilla!E112","v":0}]
[{"$f":"VLOOKUP(Plantilla!$A$2,Poliductos!#REF!,2,0)","v":{"$error":"#REF!"}},"02120000","LLL",{"$f":"Plantilla!E113","v":0}]
[{"$f":"VLOOKUP(Plantilla!$A$2,Poliductos!#REF!,2,0)","v":{"$error":"#REF!"}},"02130000","LLL",{"$f":"Plantilla!E114","v":0}]
[{"$f":"VLOOKUP(Plantilla!$A$2,Poliductos!#REF!,2,0)","v":{"$error":"#REF!"}},"02130100","LLL",{"$f":"Plantilla!E115","v":0}]
[{"$f":"VLOOKUP(Plantilla!$A$2,Poliductos!#REF!,2,0)","v":{"$error":"#REF!"}},"02130200","LLL",{"$f":"Plantilla!E116","v":0}]
[{"$f":"VLOOKUP(Plantilla!$A$2,Poliductos!#REF!,2,0)","v":{"$error":"#REF!"}},"02130300","LLL",{"$f":"Plantilla!E117","v":0}]
[{"$f":"VLOOKUP(Plantilla!$A$2,Poliductos!#REF!,2,0)","v":{"$error":"#REF!"}},"02130400","LLL",{"$f":"Plantilla!E118","v":0}]
[{"$f":"VLOOKUP(Plantilla!$A$2,Poliductos!#REF!,2,0)","v":{"$error":"#REF!"}},"02130500","LLL",{"$f":"Plantilla!E119","v":0}]
[{"$f":"VLOOKUP(Plantilla!$A$2,Poliductos!#REF!,2,0)","v":{"$error":"#REF!"}},"02130600","LLL",{"$f":"Plantilla!E120","v":0}]
[{"$f":"VLOOKUP(Plantilla!$A$2,Poliductos!#REF!,2,0)","v":{"$error":"#REF!"}},"02140000","LLL",{"$f":"Plantilla!E121","v":0}]
[{"$f":"VLOOKUP(Plantilla!$A$2,Poliductos!#REF!,2,0)","v":{"$error":"#REF!"}},"02140100","LLL",{"$f":"Plantilla!E122","v":0}]
[{"$f":"VLOOKUP(Plantilla!$A$2,Poliductos!#REF!,2,0)","v":{"$error":"#REF!"}},"02140200","LLL",{"$f":"Plantilla!E123","v":0}]
[{"$f":"VLOOKUP(Plantilla!$A$2,Poliductos!#REF!,2,0)","v":{"$error":"#REF!"}},"02150000","LLL",{"$f":"Plantilla!E124","v":0}]
[{"$f":"VLOOKUP(Plantilla!$A$2,Poliductos!#REF!,2,0)","v":{"$error":"#REF!"}},"02150100","LLL",{"$f":"Plantilla!E125","v":0}]
[{"$f":"VLOOKUP(Plantilla!$A$2,Poliductos!#REF!,2,0)","v":{"$error":"#REF!"}},"02150200","LLL",{"$f":"Plantilla!E126","v":0}]
[{"$f":"VLOOKUP(Plantilla!$A$2,Poliductos!#REF!,2,0)","v":{"$error":"#REF!"}},"02150300","LLL",{"$f":"Plantilla!E127","v":0}]
[{"$f":"VLOOKUP(Plantilla!$A$2,Poliductos!#REF!,2,0)","v":{"$error":"#REF!"}},"02150400","LLL",{"$f":"Plantilla!E128","v":0}]
[{"$f":"VLOOKUP(Plantilla!$A$2,Poliductos!#REF!,2,0)","v":{"$error":"#REF!"}},"02150500","LLL",{"$f":"Plantilla!E129","v":0}]
[{"$f":"VLOOKUP(Plantilla!$A$2,Poliductos!#REF!,2,0)","v":{"$error":"#REF!"}},"02150600","LLL",{"$f":"Plantilla!E130","v":0}]
[{"$f":"VLOOKUP(Plantilla!$A$2,Poliductos!#REF!,2,0)","v":{"$error":"#REF!"}},"02150700","LLL",{"$f":"Plantilla!E131","v":0}]
[{"$f":"VLOOKUP(Plantilla!$A$2,Poliductos!#REF!,2,0)","v":{"$error":"#REF!"}},"02150800","LLL",{"$f":"Plantilla!E132","v":0}]
[{"$f":"VLOOKUP(Plantilla!$A$2,Poliductos!#REF!,2,0)","v":{"$error":"#REF!"}},"02160000","LLL",{"$f":"Plantilla!E136","v":0}]
[{"$f":"VLOOKUP(Plantilla!$A$2,Poliductos!#REF!,2,0)","v":{"$error":"#REF!"}},"02160100","LLL",{"$f":"Plantilla!E137","v":0}]
[{"$f":"VLOOKUP(Plantilla!$A$2,Poliductos!#REF!,2,0)","v":{"$error":"#REF!"}},"02160200","LLL",{"$f":"Plantilla!E138","v":0}]
[{"$f":"VLOOKUP(Plantilla!$A$2,Poliductos!#REF!,2,0)","v":{"$error":"#REF!"}},"01000000","CRI",{"$f":"Plantilla!F4","v":0}]
[{"$f":"VLOOKUP(Plantilla!$A$2,Poliductos!#REF!,2,0)","v":{"$error":"#REF!"}},"01010000","CRI",{"$f":"Plantilla!F5","v":0}]
[{"$f":"VLOOKUP(Plantilla!$A$2,Poliductos!#REF!,2,0)","v":{"$error":"#REF!"}},"01010100","CRI",{"$f":"Plantilla!F6","v":0}]
[{"$f":"VLOOKUP(Plantilla!$A$2,Poliductos!#REF!,2,0)","v":{"$error":"#REF!"}},"01010200","CRI",{"$f":"Plantilla!F7","v":0}]
[{"$f":"VLOOKUP(Plantilla!$A$2,Poliductos!#REF!,2,0)","v":{"$error":"#REF!"}},"01010201","CRI",{"$f":"Plantilla!F8","v":0}]
[{"$f":"VLOOKUP(Plantilla!$A$2,Poliductos!#REF!,2,0)","v":{"$error":"#REF!"}},"01010202","CRI",{"$f":"Plantilla!F9","v":0}]
[{"$f":"VLOOKUP(Plantilla!$A$2,Poliductos!#REF!,2,0)","v":{"$error":"#REF!"}},"01010300","CRI",{"$f":"Plantilla!F10","v":0}]
[{"$f":"VLOOKUP(Plantilla!$A$2,Poliductos!#REF!,2,0)","v":{"$error":"#REF!"}},"01010301","CRI",{"$f":"Plantilla!F11","v":0}]
[{"$f":"VLOOKUP(Plantilla!$A$2,Poliductos!#REF!,2,0)","v":{"$error":"#REF!"}},"01010302","CRI",{"$f":"Plantilla!F12","v":0}]
[{"$f":"VLOOKUP(Plantilla!$A$2,Poliductos!#REF!,2,0)","v":{"$error":"#REF!"}},"01010400","CRI",{"$f":"Plantilla!F13","v":0}]
[{"$f":"VLOOKUP(Plantilla!$A$2,Poliductos!#REF!,2,0)","v":{"$error":"#REF!"}},"01010500","CRI",{"$f":"Plantilla!F14","v":0}]
[{"$f":"VLOOKUP(Plantilla!$A$2,Poliductos!#REF!,2,0)","v":{"$error":"#REF!"}},"01010600","CRI",{"$f":"Plantilla!F15","v":0}]
[{"$f":"VLOOKUP(Plantilla!$A$2,Poliductos!#REF!,2,0)","v":{"$error":"#REF!"}},"01010700","CRI",{"$f":"Plantilla!F16","v":0}]
[{"$f":"VLOOKUP(Plantilla!$A$2,Poliductos!#REF!,2,0)","v":{"$error":"#REF!"}},"01010800","CRI",{"$f":"Plantilla!F17","v":0}]
[{"$f":"VLOOKUP(Plantilla!$A$2,Poliductos!#REF!,2,0)","v":{"$error":"#REF!"}},"01010900","CRI",{"$f":"Plantilla!F18","v":0}]
[{"$f":"VLOOKUP(Plantilla!$A$2,Poliductos!#REF!,2,0)","v":{"$error":"#REF!"}},"01011000","CRI",{"$f":"Plantilla!F19","v":0}]
[{"$f":"VLOOKUP(Plantilla!$A$2,Poliductos!#REF!,2,0)","v":{"$error":"#REF!"}},"01020000","CRI",{"$f":"Plantilla!F20","v":0}]
[{"$f":"VLOOKUP(Plantilla!$A$2,Poliductos!#REF!,2,0)","v":{"$error":"#REF!"}},"01020100","CRI",{"$f":"Plantilla!F21","v":0}]
[{"$f":"VLOOKUP(Plantilla!$A$2,Poliductos!#REF!,2,0)","v":{"$error":"#REF!"}},"01020200","CRI",{"$f":"Plantilla!F22","v":0}]
[{"$f":"VLOOKUP(Plantilla!$A$2,Poliductos!#REF!,2,0)","v":{"$error":"#REF!"}},"01020300","CRI",{"$f":"Plantilla!F23","v":0}]
[{"$f":"VLOOKUP(Plantilla!$A$2,Poliductos!#REF!,2,0)","v":{"$error":"#REF!"}},"01020400","CRI",{"$f":"Plantilla!F24","v":0}]
[{"$f":"VLOOKUP(Plantilla!$A$2,Poliductos!#REF!,2,0)","v":{"$error":"#REF!"}},"01020500","CRI",{"$f":"Plantilla!F25","v":0}]
[{"$f":"VLOOKUP(Plantilla!$A$2,Poliductos!#REF!,2,0)","v":{"$error":"#REF!"}},"01020600","CRI",{"$f":"Plantilla!F26","v":0}]
[{"$f":"VLOOKUP(Plantilla!$A$2,Poliductos!#REF!,2,0)","v":{"$error":"#REF!"}},"01020700","CRI",{"$f":"Plantilla!F27","v":0}]
[{"$f":"VLOOKUP(Plantilla!$A$2,Poliductos!#REF!,2,0)","v":{"$error":"#REF!"}},"01030000","CRI",{"$f":"Plantilla!F29","v":0}]
[{"$f":"VLOOKUP(Plantilla!$A$2,Poliductos!#REF!,2,0)","v":{"$error":"#REF!"}},"01030100","CRI",{"$f":"Plantilla!F30","v":0}]
[{"$f":"VLOOKUP(Plantilla!$A$2,Poliductos!#REF!,2,0)","v":{"$error":"#REF!"}},"01030200","CRI",{"$f":"Plantilla!F31","v":0}]
[{"$f":"VLOOKUP(Plantilla!$A$2,Poliductos!#REF!,2,0)","v":{"$error":"#REF!"}},"01030300","CRI",{"$f":"Plantilla!F32","v":0}]
[{"$f":"VLOOKUP(Plantilla!$A$2,Poliductos!#REF!,2,0)","v":{"$error":"#REF!"}},"01030400","CRI",{"$f":"Plantilla!F33","v":0}]
[{"$f":"VLOOKUP(Plantilla!$A$2,Poliductos!#REF!,2,0)","v":{"$error":"#REF!"}},"01030500","CRI",{"$f":"Plantilla!F34","v":0}]
[{"$f":"VLOOKUP(Plantilla!$A$2,Poliductos!#REF!,2,0)","v":{"$error":"#REF!"}},"01030600","CRI",{"$f":"Plantilla!F35","v":0}]
[{"$f":"VLOOKUP(Plantilla!$A$2,Poliductos!#REF!,2,0)","v":{"$error":"#REF!"}},"01030700","CRI",{"$f":"Plantilla!F36","v":0}]
[{"$f":"VLOOKUP(Plantilla!$A$2,Poliductos!#REF!,2,0)","v":{"$error":"#REF!"}},"01030800","CRI",{"$f":"Plantilla!F37","v":0}]
[{"$f":"VLOOKUP(Plantilla!$A$2,Poliductos!#REF!,2,0)","v":{"$error":"#REF!"}},"01030900","CRI",{"$f":"Plantilla!F38","v":0}]
[{"$f":"VLOOKUP(Plantilla!$A$2,Poliductos!#REF!,2,0)","v":{"$error":"#REF!"}},"01031000","CRI",{"$f":"Plantilla!F39","v":0}]
[{"$f":"VLOOKUP(Plantilla!$A$2,Poliductos!#REF!,2,0)","v":{"$error":"#REF!"}},"01031100","CRI",{"$f":"Plantilla!F40","v":0}]
[{"$f":"VLOOKUP(Plantilla!$A$2,Poliductos!#REF!,2,0)","v":{"$error":"#REF!"}},"01040000","CRI",{"$f":"Plantilla!F41","v":0}]
[{"$f":"VLOOKUP(Plantilla!$A$2,Poliductos!#REF!,2,0)","v":{"$error":"#REF!"}},"01050000","CRI",{"$f":"Plantilla!F42","v":0}]
[{"$f":"VLOOKUP(Plantilla!$A$2,Poliductos!#REF!,2,0)","v":{"$error":"#REF!"}},"01060000","CRI",{"$f":"Plantilla!F43","v":0}]
[{"$f":"VLOOKUP(Plantilla!$A$2,Poliductos!#REF!,2,0)","v":{"$error":"#REF!"}},"01060100","CRI",{"$f":"Plantilla!F44","v":0}]
[{"$f":"VLOOKUP(Plantilla!$A$2,Poliductos!#REF!,2,0)","v":{"$error":"#REF!"}},"01060200","CRI",{"$f":"Plantilla!F45","v":0}]
[{"$f":"VLOOKUP(Plantilla!$A$2,Poliductos!#REF!,2,0)","v":{"$error":"#REF!"}},"01060201","CRI",{"$f":"Plantilla!F46","v":0}]
[{"$f":"VLOOKUP(Plantilla!$A$2,Poliductos!#REF!,2,0)","v":{"$error":"#REF!"}},"01060202","CRI",{"$f":"Plantilla!F47","v":0}]
[{"$f":"VLOOKUP(Plantilla!$A$2,Poliductos!#REF!,2,0)","v":{"$error":"#REF!"}},"01060203","CRI",{"$f":"Plantilla!F48","v":0}]
[{"$f":"VLOOKUP(Plantilla!$A$2,Poliductos!#REF!,2,0)","v":{"$error":"#REF!"}},"01060300","CRI",{"$f":"Plantilla!F49","v":0}]
[{"$f":"VLOOKUP(Plantilla!$A$2,Poliductos!#REF!,2,0)","v":{"$error":"#REF!"}},"01060400","CRI",{"$f":"Plantilla!F50","v":0}]
[{"$f":"VLOOKUP(Plantilla!$A$2,Poliductos!#REF!,2,0)","v":{"$error":"#REF!"}},"01070000","CRI",{"$f":"Plantilla!F51","v":0}]
[{"$f":"VLOOKUP(Plantilla!$A$2,Poliductos!#REF!,2,0)","v":{"$error":"#REF!"}},"01070100","CRI",{"$f":"Plantilla!F52","v":0}]
[{"$f":"VLOOKUP(Plantilla!$A$2,Poliductos!#REF!,2,0)","v":{"$error":"#REF!"}},"01070200","CRI",{"$f":"Plantilla!F53","v":0}]
[{"$f":"VLOOKUP(Plantilla!$A$2,Poliductos!#REF!,2,0)","v":{"$error":"#REF!"}},"01070300","CRI",{"$f":"Plantilla!F54","v":0}]
[{"$f":"VLOOKUP(Plantilla!$A$2,Poliductos!#REF!,2,0)","v":{"$error":"#REF!"}},"01070400","CRI",{"$f":"Plantilla!F55","v":0}]
[{"$f":"VLOOKUP(Plantilla!$A$2,Poliductos!#REF!,2,0)","v":{"$error":"#REF!"}},"02000000","CRI",{"$f":"Plantilla!F56","v":0}]
[{"$f":"VLOOKUP(Plantilla!$A$2,Poliductos!#REF!,2,0)","v":{"$error":"#REF!"}},"02010000","CRI",{"$f":"Plantilla!F57","v":0}]
[{"$f":"VLOOKUP(Plantilla!$A$2,Poliductos!#REF!,2,0)","v":{"$error":"#REF!"}},"02010100","CRI",{"$f":"Plantilla!F58","v":0}]
[{"$f":"VLOOKUP(Plantilla!$A$2,Poliductos!#REF!,2,0)","v":{"$error":"#REF!"}},"02010200","CRI",{"$f":"Plantilla!F59","v":0}]
[{"$f":"VLOOKUP(Plantilla!$A$2,Poliductos!#REF!,2,0)","v":{"$error":"#REF!"}},"02010201","CRI",{"$f":"Plantilla!F60","v":0}]
[{"$f":"VLOOKUP(Plantilla!$A$2,Poliductos!#REF!,2,0)","v":{"$error":"#REF!"}},"02010202","CRI",{"$f":"Plantilla!F61","v":0}]
[{"$f":"VLOOKUP(Plantilla!$A$2,Poliductos!#REF!,2,0)","v":{"$error":"#REF!"}},"02010300","CRI",{"$f":"Plantilla!F62","v":0}]
[{"$f":"VLOOKUP(Plantilla!$A$2,Poliductos!#REF!,2,0)","v":{"$error":"#REF!"}},"02010301","CRI",{"$f":"Plantilla!F63","v":0}]
[{"$f":"VLOOKUP(Plantilla!$A$2,Poliductos!#REF!,2,0)","v":{"$error":"#REF!"}},"02010302","CRI",{"$f":"Plantilla!F64","v":0}]
[{"$f":"VLOOKUP(Plantilla!$A$2,Poliductos!#REF!,2,0)","v":{"$error":"#REF!"}},"02010400","CRI",{"$f":"Plantilla!F65","v":0}]
[{"$f":"VLOOKUP(Plantilla!$A$2,Poliductos!#REF!,2,0)","v":{"$error":"#REF!"}},"02010500","CRI",{"$f":"Plantilla!F66","v":0}]
[{"$f":"VLOOKUP(Plantilla!$A$2,Poliductos!#REF!,2,0)","v":{"$error":"#REF!"}},"02010600","CRI",{"$f":"Plantilla!F67","v":0}]
[{"$f":"VLOOKUP(Plantilla!$A$2,Poliductos!#REF!,2,0)","v":{"$error":"#REF!"}},"02010700","CRI",{"$f":"Plantilla!F68","v":0}]
[{"$f":"VLOOKUP(Plantilla!$A$2,Poliductos!#REF!,2,0)","v":{"$error":"#REF!"}},"02010800","CRI",{"$f":"Plantilla!F69","v":0}]
[{"$f":"VLOOKUP(Plantilla!$A$2,Poliductos!#REF!,2,0)","v":{"$error":"#REF!"}},"02010900","CRI",{"$f":"Plantilla!F70","v":0}]
[{"$f":"VLOOKUP(Plantilla!$A$2,Poliductos!#REF!,2,0)","v":{"$error":"#REF!"}},"02011000","CRI",{"$f":"Plantilla!F71","v":0}]
[{"$f":"VLOOKUP(Plantilla!$A$2,Poliductos!#REF!,2,0)","v":{"$error":"#REF!"}},"02020000","CRI",{"$f":"Plantilla!F72","v":0}]
[{"$f":"VLOOKUP(Plantilla!$A$2,Poliductos!#REF!,2,0)","v":{"$error":"#REF!"}},"02020100","CRI",{"$f":"Plantilla!F73","v":0}]
[{"$f":"VLOOKUP(Plantilla!$A$2,Poliductos!#REF!,2,0)","v":{"$error":"#REF!"}},"02020200","CRI",{"$f":"Plantilla!F74","v":0}]
[{"$f":"VLOOKUP(Plantilla!$A$2,Poliductos!#REF!,2,0)","v":{"$error":"#REF!"}},"02020300","CRI",{"$f":"Plantilla!F75","v":0}]
[{"$f":"VLOOKUP(Plantilla!$A$2,Poliductos!#REF!,2,0)","v":{"$error":"#REF!"}},"02020400","CRI",{"$f":"Plantilla!F76","v":0}]
[{"$f":"VLOOKUP(Plantilla!$A$2,Poliductos!#REF!,2,0)","v":{"$error":"#REF!"}},"02020500","CRI",{"$f":"Plantilla!F77","v":0}]
[{"$f":"VLOOKUP(Plantilla!$A$2,Poliductos!#REF!,2,0)","v":{"$error":"#REF!"}},"02020600","CRI",{"$f":"Plantilla!F78","v":0}]
[{"$f":"VLOOKUP(Plantilla!$A$2,Poliductos!#REF!,2,0)","v":{"$error":"#REF!"}},"02030000","CRI",{"$f":"Plantilla!F79","v":0}]
[{"$f":"VLOOKUP(Plantilla!$A$2,Poliductos!#REF!,2,0)","v":{"$error":"#REF!"}},"02030100","CRI",{"$f":"Plantilla!F80","v":0}]
[{"$f":"VLOOKUP(Plantilla!$A$2,Poliductos!#REF!,2,0)","v":{"$error":"#REF!"}},"02030200","CRI",{"$f":"Plantilla!F81","v":0}]
[{"$f":"VLOOKUP(Plantilla!$A$2,Poliductos!#REF!,2,0)","v":{"$error":"#REF!"}},"02030300","CRI",{"$f":"Plantilla!F82","v":0}]
[{"$f":"VLOOKUP(Plantilla!$A$2,Poliductos!#REF!,2,0)","v":{"$error":"#REF!"}},"02030400","CRI",{"$f":"Plantilla!F83","v":0}]
[{"$f":"VLOOKUP(Plantilla!$A$2,Poliductos!#REF!,2,0)","v":{"$error":"#REF!"}},"02040000","CRI",{"$f":"Plantilla!F84","v":0}]
[{"$f":"VLOOKUP(Plantilla!$A$2,Poliductos!#REF!,2,0)","v":{"$error":"#REF!"}},"02040100","CRI",{"$f":"Plantilla!F85","v":0}]
[{"$f":"VLOOKUP(Plantilla!$A$2,Poliductos!#REF!,2,0)","v":{"$error":"#REF!"}},"02040200","CRI",{"$f":"Plantilla!F86","v":0}]
[{"$f":"VLOOKUP(Plantilla!$A$2,Poliductos!#REF!,2,0)","v":{"$error":"#REF!"}},"02040300","CRI",{"$f":"Plantilla!F87","v":0}]
[{"$f":"VLOOKUP(Plantilla!$A$2,Poliductos!#REF!,2,0)","v":{"$error":"#REF!"}},"02050000","CRI",{"$f":"Plantilla!F88","v":0}]
[{"$f":"VLOOKUP(Plantilla!$A$2,Poliductos!#REF!,2,0)","v":{"$error":"#REF!"}},"02060000","CRI",{"$f":"Plantilla!F89","v":0}]
[{"$f":"VLOOKUP(Plantilla!$A$2,Poliductos!#REF!,2,0)","v":{"$error":"#REF!"}},"02060100","CRI",{"$f":"Plantilla!F90","v":0}]
[{"$f":"VLOOKUP(Plantilla!$A$2,Poliductos!#REF!,2,0)","v":{"$error":"#REF!"}},"02060200","CRI",{"$f":"Plantilla!F91","v":0}]
[{"$f":"VLOOKUP(Plantilla!$A$2,Poliductos!#REF!,2,0)","v":{"$error":"#REF!"}},"02060300","CRI",{"$f":"Plantilla!F92","v":0}]
[{"$f":"VLOOKUP(Plantilla!$A$2,Poliductos!#REF!,2,0)","v":{"$error":"#REF!"}},"02070000","CRI",{"$f":"Plantilla!F93","v":0}]
[{"$f":"VLOOKUP(Plantilla!$A$2,Poliductos!#REF!,2,0)","v":{"$error":"#REF!"}},"02080000","CRI",{"$f":"Plantilla!F94","v":0}]
[{"$f":"VLOOKUP(Plantilla!$A$2,Poliductos!#REF!,2,0)","v":{"$error":"#REF!"}},"02090000","CRI",{"$f":"Plantilla!F95","v":0}]
[{"$f":"VLOOKUP(Plantilla!$A$2,Poliductos!#REF!,2,0)","v":{"$error":"#REF!"}},"02090100","CRI",{"$f":"Plantilla!F96","v":0}]
[{"$f":"VLOOKUP(Plantilla!$A$2,Poliductos!#REF!,2,0)","v":{"$error":"#REF!"}},"02090200","CRI",{"$f":"Plantilla!F97","v":0}]
[{"$f":"VLOOKUP(Plantilla!$A$2,Poliductos!#REF!,2,0)","v":{"$error":"#REF!"}},"02090300","CRI",{"$f":"Plantilla!F98","v":0}]
[{"$f":"VLOOKUP(Plantilla!$A$2,Poliductos!#REF!,2,0)","v":{"$error":"#REF!"}},"02090400","CRI",{"$f":"Plantilla!F99","v":0}]
[{"$f":"VLOOKUP(Plantilla!$A$2,Poliductos!#REF!,2,0)","v":{"$error":"#REF!"}},"02090500","CRI",{"$f":"Plantilla!F100","v":0}]
[{"$f":"VLOOKUP(Plantilla!$A$2,Poliductos!#REF!,2,0)","v":{"$error":"#REF!"}},"02090600","CRI",{"$f":"Plantilla!F101","v":0}]
[{"$f":"VLOOKUP(Plantilla!$A$2,Poliductos!#REF!,2,0)","v":{"$error":"#REF!"}},"02100000","CRI",{"$f":"Plantilla!F102","v":0}]
[{"$f":"VLOOKUP(Plantilla!$A$2,Poliductos!#REF!,2,0)","v":{"$error":"#REF!"}},"02100100","CRI",{"$f":"Plantilla!F103","v":0}]
[{"$f":"VLOOKUP(Plantilla!$A$2,Poliductos!#REF!,2,0)","v":{"$error":"#REF!"}},"02100200","CRI",{"$f":"Plantilla!F104","v":0}]
[{"$f":"VLOOKUP(Plantilla!$A$2,Poliductos!#REF!,2,0)","v":{"$error":"#REF!"}},"02100300","CRI",{"$f":"Plantilla!F105","v":0}]
[{"$f":"VLOOKUP(Plantilla!$A$2,Poliductos!#REF!,2,0)","v":{"$error":"#REF!"}},"02100400","CRI",{"$f":"Plantilla!F106","v":0}]
[{"$f":"VLOOKUP(Plantilla!$A$2,Poliductos!#REF!,2,0)","v":{"$error":"#REF!"}},"02110000","CRI",{"$f":"Plantilla!F107","v":0}]
[{"$f":"VLOOKUP(Plantilla!$A$2,Poliductos!#REF!,2,0)","v":{"$error":"#REF!"}},"02110100","CRI",{"$f":"Plantilla!F108","v":0}]
[{"$f":"VLOOKUP(Plantilla!$A$2,Poliductos!#REF!,2,0)","v":{"$error":"#REF!"}},"02110200","CRI",{"$f":"Plantilla!F109","v":0}]
[{"$f":"VLOOKUP(Plantilla!$A$2,Poliductos!#REF!,2,0)","v":{"$error":"#REF!"}},"02110300","CRI",{"$f":"Plantilla!F110","v":0}]
[{"$f":"VLOOKUP(Plantilla!$A$2,Poliductos!#REF!,2,0)","v":{"$error":"#REF!"}},"02110400","CRI",{"$f":"Plantilla!F111","v":0}]
[{"$f":"VLOOKUP(Plantilla!$A$2,Poliductos!#REF!,2,0)","v":{"$error":"#REF!"}},"02110500","CRI",{"$f":"Plantilla!F112","v":0}]
[{"$f":"VLOOKUP(Plantilla!$A$2,Poliductos!#REF!,2,0)","v":{"$error":"#REF!"}},"02120000","CRI",{"$f":"Plantilla!F113","v":0}]
[{"$f":"VLOOKUP(Plantilla!$A$2,Poliductos!#REF!,2,0)","v":{"$error":"#REF!"}},"02130000","CRI",{"$f":"Plantilla!F114","v":0}]
[{"$f":"VLOOKUP(Plantilla!$A$2,Poliductos!#REF!,2,0)","v":{"$error":"#REF!"}},"02130100","CRI",{"$f":"Plantilla!F115","v":0}]
[{"$f":"VLOOKUP(Plantilla!$A$2,Poliductos!#REF!,2,0)","v":{"$error":"#REF!"}},"02130200","CRI",{"$f":"Plantilla!F116","v":0}]
[{"$f":"VLOOKUP(Plantilla!$A$2,Poliductos!#REF!,2,0)","v":{"$error":"#REF!"}},"02130300","CRI",{"$f":"Plantilla!F117","v":0}]
[{"$f":"VLOOKUP(Plantilla!$A$2,Poliductos!#REF!,2,0)","v":{"$error":"#REF!"}},"02130400","CRI",{"$f":"Plantilla!F118","v":0}]
[{"$f":"VLOOKUP(Plantilla!$A$2,Poliductos!#REF!,2,0)","v":{"$error":"#REF!"}},"02130500","CRI",{"$f":"Plantilla!F119","v":0}]
[{"$f":"VLOOKUP(Plantilla!$A$2,Poliductos!#REF!,2,0)","v":{"$error":"#REF!"}},"02130600","CRI",{"$f":"Plantilla!F120","v":0}]
[{"$f":"VLOOKUP(Plantilla!$A$2,Poliductos!#REF!,2,0)","v":{"$error":"#REF!"}},"02140000","CRI",{"$f":"Plantilla!F121","v":0}]
[{"$f":"VLOOKUP(Plantilla!$A$2,Poliductos!#REF!,2,0)","v":{"$error":"#REF!"}},"02140100","CRI",{"$f":"Plantilla!F122","v":0}]
[{"$f":"VLOOKUP(Plantilla!$A$2,Poliductos!#REF!,2,0)","v":{"$error":"#REF!"}},"02140200","CRI",{"$f":"Plantilla!F123","v":0}]
[{"$f":"VLOOKUP(Plantilla!$A$2,Poliductos!#REF!,2,0)","v":{"$error":"#REF!"}},"02150000","CRI",{"$f":"Plantilla!F124","v":0}]
[{"$f":"VLOOKUP(Plantilla!$A$2,Poliductos!#REF!,2,0)","v":{"$error":"#REF!"}},"02150100","CRI",{"$f":"Plantilla!F125","v":0}]
[{"$f":"VLOOKUP(Plantilla!$A$2,Poliductos!#REF!,2,0)","v":{"$error":"#REF!"}},"02150200","CRI",{"$f":"Plantilla!F126","v":0}]
[{"$f":"VLOOKUP(Plantilla!$A$2,Poliductos!#REF!,2,0)","v":{"$error":"#REF!"}},"02150300","CRI",{"$f":"Plantilla!F127","v":0}]
[{"$f":"VLOOKUP(Plantilla!$A$2,Poliductos!#REF!,2,0)","v":{"$error":"#REF!"}},"02150400","CRI",{"$f":"Plantilla!F128","v":0}]
[{"$f":"VLOOKUP(Plantilla!$A$2,Poliductos!#REF!,2,0)","v":{"$error":"#REF!"}},"02150500","CRI",{"$f":"Plantilla!F129","v":0}]
[{"$f":"VLOOKUP(Plantilla!$A$2,Poliductos!#REF!,2,0)","v":{"$error":"#REF!"}},"02150600","CRI",{"$f":"Plantilla!F130","v":0}]
[{"$f":"VLOOKUP(Plantilla!$A$2,Poliductos!#REF!,2,0)","v":{"$error":"#REF!"}},"02150700","CRI",{"$f":"Plantilla!F131","v":0}]
[{"$f":"VLOOKUP(Plantilla!$A$2,Poliductos!#REF!,2,0)","v":{"$error":"#REF!"}},"02150800","CRI",{"$f":"Plantilla!F132","v":0}]
[{"$f":"VLOOKUP(Plantilla!$A$2,Poliductos!#REF!,2,0)","v":{"$error":"#REF!"}},"02160000","CRI",{"$f":"Plantilla!F136","v":0}]
[{"$f":"VLOOKUP(Plantilla!$A$2,Poliductos!#REF!,2,0)","v":{"$error":"#REF!"}},"02160100","CRI",{"$f":"Plantilla!F137","v":0}]
[{"$f":"VLOOKUP(Plantilla!$A$2,Poliductos!#REF!,2,0)","v":{"$error":"#REF!"}},"02160200","CRI",{"$f":"Plantilla!F138","v":0}]
[{"$f":"VLOOKUP(Plantilla!$A$2,Poliductos!#REF!,2,0)","v":{"$error":"#REF!"}},"01000000","CCT",{"$f":"Plantilla!G4","v":0}]
[{"$f":"VLOOKUP(Plantilla!$A$2,Poliductos!#REF!,2,0)","v":{"$error":"#REF!"}},"01010000","CCT",{"$f":"Plantilla!G5","v":0}]
[{"$f":"VLOOKUP(Plantilla!$A$2,Poliductos!#REF!,2,0)","v":{"$error":"#REF!"}},"01010100","CCT",{"$f":"Plantilla!G6","v":0}]
[{"$f":"VLOOKUP(Plantilla!$A$2,Poliductos!#REF!,2,0)","v":{"$error":"#REF!"}},"01010200","CCT",{"$f":"Plantilla!G7","v":0}]
[{"$f":"VLOOKUP(Plantilla!$A$2,Poliductos!#REF!,2,0)","v":{"$error":"#REF!"}},"01010201","CCT",{"$f":"Plantilla!G8","v":0}]
[{"$f":"VLOOKUP(Plantilla!$A$2,Poliductos!#REF!,2,0)","v":{"$error":"#REF!"}},"01010202","CCT",{"$f":"Plantilla!G9","v":0}]
[{"$f":"VLOOKUP(Plantilla!$A$2,Poliductos!#REF!,2,0)","v":{"$error":"#REF!"}},"01010300","CCT",{"$f":"Plantilla!G10","v":0}]
[{"$f":"VLOOKUP(Plantilla!$A$2,Poliductos!#REF!,2,0)","v":{"$error":"#REF!"}},"01010301","CCT",{"$f":"Plantilla!G11","v":0}]
[{"$f":"VLOOKUP(Plantilla!$A$2,Poliductos!#REF!,2,0)","v":{"$error":"#REF!"}},"01010302","CCT",{"$f":"Plantilla!G12","v":0}]
[{"$f":"VLOOKUP(Plantilla!$A$2,Poliductos!#REF!,2,0)","v":{"$error":"#REF!"}},"01010400","CCT",{"$f":"Plantilla!G13","v":0}]
[{"$f":"VLOOKUP(Plantilla!$A$2,Poliductos!#REF!,2,0)","v":{"$error":"#REF!"}},"01010500","CCT",{"$f":"Plantilla!G14","v":0}]
[{"$f":"VLOOKUP(Plantilla!$A$2,Poliductos!#REF!,2,0)","v":{"$error":"#REF!"}},"01010600","CCT",{"$f":"Plantilla!G15","v":0}]
[{"$f":"VLOOKUP(Plantilla!$A$2,Poliductos!#REF!,2,0)","v":{"$error":"#REF!"}},"01010700","CCT",{"$f":"Plantilla!G16","v":0}]
[{"$f":"VLOOKUP(Plantilla!$A$2,Poliductos!#REF!,2,0)","v":{"$error":"#REF!"}},"01010800","CCT",{"$f":"Plantilla!G17","v":0}]
[{"$f":"VLOOKUP(Plantilla!$A$2,Poliductos!#REF!,2,0)","v":{"$error":"#REF!"}},"01010900","CCT",{"$f":"Plantilla!G18","v":0}]
[{"$f":"VLOOKUP(Plantilla!$A$2,Poliductos!#REF!,2,0)","v":{"$error":"#REF!"}},"01011000","CCT",{"$f":"Plantilla!G19","v":0}]
[{"$f":"VLOOKUP(Plantilla!$A$2,Poliductos!#REF!,2,0)","v":{"$error":"#REF!"}},"01020000","CCT",{"$f":"Plantilla!G20","v":0}]
[{"$f":"VLOOKUP(Plantilla!$A$2,Poliductos!#REF!,2,0)","v":{"$error":"#REF!"}},"01020100","CCT",{"$f":"Plantilla!G21","v":0}]
[{"$f":"VLOOKUP(Plantilla!$A$2,Poliductos!#REF!,2,0)","v":{"$error":"#REF!"}},"01020200","CCT",{"$f":"Plantilla!G22","v":0}]
[{"$f":"VLOOKUP(Plantilla!$A$2,Poliductos!#REF!,2,0)","v":{"$error":"#REF!"}},"01020300","CCT",{"$f":"Plantilla!G23","v":0}]
[{"$f":"VLOOKUP(Plantilla!$A$2,Poliductos!#REF!,2,0)","v":{"$error":"#REF!"}},"01020400","CCT",{"$f":"Plantilla!G24","v":0}]
[{"$f":"VLOOKUP(Plantilla!$A$2,Poliductos!#REF!,2,0)","v":{"$error":"#REF!"}},"01020500","CCT",{"$f":"Plantilla!G25","v":0}]
[{"$f":"VLOOKUP(Plantilla!$A$2,Poliductos!#REF!,2,0)","v":{"$error":"#REF!"}},"01020600","CCT",{"$f":"Plantilla!G26","v":0}]
[{"$f":"VLOOKUP(Plantilla!$A$2,Poliductos!#REF!,2,0)","v":{"$error":"#REF!"}},"01020700","CCT",{"$f":"Plantilla!G27","v":0}]
[{"$f":"VLOOKUP(Plantilla!$A$2,Poliductos!#REF!,2,0)","v":{"$error":"#REF!"}},"01030000","CCT",{"$f":"Plantilla!G29","v":0}]
[{"$f":"VLOOKUP(Plantilla!$A$2,Poliductos!#REF!,2,0)","v":{"$error":"#REF!"}},"01030100","CCT",{"$f":"Plantilla!G30","v":0}]
[{"$f":"VLOOKUP(Plantilla!$A$2,Poliductos!#REF!,2,0)","v":{"$error":"#REF!"}},"01030200","CCT",{"$f":"Plantilla!G31","v":0}]
[{"$f":"VLOOKUP(Plantilla!$A$2,Poliductos!#REF!,2,0)","v":{"$error":"#REF!"}},"01030300","CCT",{"$f":"Plantilla!G32","v":0}]
[{"$f":"VLOOKUP(Plantilla!$A$2,Poliductos!#REF!,2,0)","v":{"$error":"#REF!"}},"01030400","CCT",{"$f":"Plantilla!G33","v":0}]
[{"$f":"VLOOKUP(Plantilla!$A$2,Poliductos!#REF!,2,0)","v":{"$error":"#REF!"}},"01030500","CCT",{"$f":"Plantilla!G34","v":0}]
[{"$f":"VLOOKUP(Plantilla!$A$2,Poliductos!#REF!,2,0)","v":{"$error":"#REF!"}},"01030600","CCT",{"$f":"Plantilla!G35","v":0}]
[{"$f":"VLOOKUP(Plantilla!$A$2,Poliductos!#REF!,2,0)","v":{"$error":"#REF!"}},"01030700","CCT",{"$f":"Plantilla!G36","v":0}]
[{"$f":"VLOOKUP(Plantilla!$A$2,Poliductos!#REF!,2,0)","v":{"$error":"#REF!"}},"01030800","CCT",{"$f":"Plantilla!G37","v":0}]
[{"$f":"VLOOKUP(Plantilla!$A$2,Poliductos!#REF!,2,0)","v":{"$error":"#REF!"}},"01030900","CCT",{"$f":"Plantilla!G38","v":0}]
[{"$f":"VLOOKUP(Plantilla!$A$2,Poliductos!#REF!,2,0)","v":{"$error":"#REF!"}},"01031000","CCT",{"$f":"Plantilla!G39","v":0}]
[{"$f":"VLOOKUP(Plantilla!$A$2,Poliductos!#REF!,2,0)","v":{"$error":"#REF!"}},"01031100","CCT",{"$f":"Plantilla!G40","v":0}]
[{"$f":"VLOOKUP(Plantilla!$A$2,Poliductos!#REF!,2,0)","v":{"$error":"#REF!"}},"01040000","CCT",{"$f":"Plantilla!G41","v":0}]
[{"$f":"VLOOKUP(Plantilla!$A$2,Poliductos!#REF!,2,0)","v":{"$error":"#REF!"}},"01050000","CCT",{"$f":"Plantilla!G42","v":0}]
[{"$f":"VLOOKUP(Plantilla!$A$2,Poliductos!#REF!,2,0)","v":{"$error":"#REF!"}},"01060000","CCT",{"$f":"Plantilla!G43","v":0}]
[{"$f":"VLOOKUP(Plantilla!$A$2,Poliductos!#REF!,2,0)","v":{"$error":"#REF!"}},"01060100","CCT",{"$f":"Plantilla!G44","v":0}]
[{"$f":"VLOOKUP(Plantilla!$A$2,Poliductos!#REF!,2,0)","v":{"$error":"#REF!"}},"01060200","CCT",{"$f":"Plantilla!G45","v":0}]
[{"$f":"VLOOKUP(Plantilla!$A$2,Poliductos!#REF!,2,0)","v":{"$error":"#REF!"}},"01060201","CCT",{"$f":"Plantilla!G46","v":0}]
[{"$f":"VLOOKUP(Plantilla!$A$2,Poliductos!#REF!,2,0)","v":{"$error":"#REF!"}},"01060202","CCT",{"$f":"Plantilla!G47","v":0}]
[{"$f":"VLOOKUP(Plantilla!$A$2,Poliductos!#REF!,2,0)","v":{"$error":"#REF!"}},"01060203","CCT",{"$f":"Plantilla!G48","v":0}]
[{"$f":"VLOOKUP(Plantilla!$A$2,Poliductos!#REF!,2,0)","v":{"$error":"#REF!"}},"01060300","CCT",{"$f":"Plantilla!G49","v":0}]
[{"$f":"VLOOKUP(Plantilla!$A$2,Poliductos!#REF!,2,0)","v":{"$error":"#REF!"}},"01060400","CCT",{"$f":"Plantilla!G50","v":0}]
[{"$f":"VLOOKUP(Plantilla!$A$2,Poliductos!#REF!,2,0)","v":{"$error":"#REF!"}},"01070000","CCT",{"$f":"Plantilla!G51","v":0}]
[{"$f":"VLOOKUP(Plantilla!$A$2,Poliductos!#REF!,2,0)","v":{"$error":"#REF!"}},"01070100","CCT",{"$f":"Plantilla!G52","v":0}]
[{"$f":"VLOOKUP(Plantilla!$A$2,Poliductos!#REF!,2,0)","v":{"$error":"#REF!"}},"01070200","CCT",{"$f":"Plantilla!G53","v":0}]
[{"$f":"VLOOKUP(Plantilla!$A$2,Poliductos!#REF!,2,0)","v":{"$error":"#REF!"}},"01070300","CCT",{"$f":"Plantilla!G54","v":0}]
[{"$f":"VLOOKUP(Plantilla!$A$2,Poliductos!#REF!,2,0)","v":{"$error":"#REF!"}},"01070400","CCT",{"$f":"Plantilla!G55","v":0}]
[{"$f":"VLOOKUP(Plantilla!$A$2,Poliductos!#REF!,2,0)","v":{"$error":"#REF!"}},"02000000","CCT",{"$f":"Plantilla!G56","v":0}]
[{"$f":"VLOOKUP(Plantilla!$A$2,Poliductos!#REF!,2,0)","v":{"$error":"#REF!"}},"02010000","CCT",{"$f":"Plantilla!G57","v":0}]
[{"$f":"VLOOKUP(Plantilla!$A$2,Poliductos!#REF!,2,0)","v":{"$error":"#REF!"}},"02010100","CCT",{"$f":"Plantilla!G58","v":0}]
[{"$f":"VLOOKUP(Plantilla!$A$2,Poliductos!#REF!,2,0)","v":{"$error":"#REF!"}},"02010200","CCT",{"$f":"Plantilla!G59","v":0}]
[{"$f":"VLOOKUP(Plantilla!$A$2,Poliductos!#REF!,2,0)","v":{"$error":"#REF!"}},"02010201","CCT",{"$f":"Plantilla!G60","v":0}]
[{"$f":"VLOOKUP(Plantilla!$A$2,Poliductos!#REF!,2,0)","v":{"$error":"#REF!"}},"02010202","CCT",{"$f":"Plantilla!G61","v":0}]
[{"$f":"VLOOKUP(Plantilla!$A$2,Poliductos!#REF!,2,0)","v":{"$error":"#REF!"}},"02010300","CCT",{"$f":"Plantilla!G62","v":0}]
[{"$f":"VLOOKUP(Plantilla!$A$2,Poliductos!#REF!,2,0)","v":{"$error":"#REF!"}},"02010301","CCT",{"$f":"Plantilla!G63","v":0}]
[{"$f":"VLOOKUP(Plantilla!$A$2,Poliductos!#REF!,2,0)","v":{"$error":"#REF!"}},"02010302","CCT",{"$f":"Plantilla!G64","v":0}]
[{"$f":"VLOOKUP(Plantilla!$A$2,Poliductos!#REF!,2,0)","v":{"$error":"#REF!"}},"02010400","CCT",{"$f":"Plantilla!G65","v":0}]
[{"$f":"VLOOKUP(Plantilla!$A$2,Poliductos!#REF!,2,0)","v":{"$error":"#REF!"}},"02010500","CCT",{"$f":"Plantilla!G66","v":0}]
[{"$f":"VLOOKUP(Plantilla!$A$2,Poliductos!#REF!,2,0)","v":{"$error":"#REF!"}},"02010600","CCT",{"$f":"Plantilla!G67","v":0}]
[{"$f":"VLOOKUP(Plantilla!$A$2,Poliductos!#REF!,2,0)","v":{"$error":"#REF!"}},"02010700","CCT",{"$f":"Plantilla!G68","v":0}]
[{"$f":"VLOOKUP(Plantilla!$A$2,Poliductos!#REF!,2,0)","v":{"$error":"#REF!"}},"02010800","CCT",{"$f":"Plantilla!G69","v":0}]
[{"$f":"VLOOKUP(Plantilla!$A$2,Poliductos!#REF!,2,0)","v":{"$error":"#REF!"}},"02010900","CCT",{"$f":"Plantilla!G70","v":0}]
[{"$f":"VLOOKUP(Plantilla!$A$2,Poliductos!#REF!,2,0)","v":{"$error":"#REF!"}},"02011000","CCT",{"$f":"Plantilla!G71","v":0}]
[{"$f":"VLOOKUP(Plantilla!$A$2,Poliductos!#REF!,2,0)","v":{"$error":"#REF!"}},"02020000","CCT",{"$f":"Plantilla!G72","v":0}]
[{"$f":"VLOOKUP(Plantilla!$A$2,Poliductos!#REF!,2,0)","v":{"$error":"#REF!"}},"02020100","CCT",{"$f":"Plantilla!G73","v":0}]
[{"$f":"VLOOKUP(Plantilla!$A$2,Poliductos!#REF!,2,0)","v":{"$error":"#REF!"}},"02020200","CCT",{"$f":"Plantilla!G74","v":0}]
[{"$f":"VLOOKUP(Plantilla!$A$2,Poliductos!#REF!,2,0)","v":{"$error":"#REF!"}},"02020300","CCT",{"$f":"Plantilla!G75","v":0}]
[{"$f":"VLOOKUP(Plantilla!$A$2,Poliductos!#REF!,2,0)","v":{"$error":"#REF!"}},"02020400","CCT",{"$f":"Plantilla!G76","v":0}]
[{"$f":"VLOOKUP(Plantilla!$A$2,Poliductos!#REF!,2,0)","v":{"$error":"#REF!"}},"02020500","CCT",{"$f":"Plantilla!G77","v":0}]
[{"$f":"VLOOKUP(Plantilla!$A$2,Poliductos!#REF!,2,0)","v":{"$error":"#REF!"}},"02020600","CCT",{"$f":"Plantilla!G78","v":0}]
[{"$f":"VLOOKUP(Plantilla!$A$2,Poliductos!#REF!,2,0)","v":{"$error":"#REF!"}},"02030000","CCT",{"$f":"Plantilla!G79","v":0}]
[{"$f":"VLOOKUP(Plantilla!$A$2,Poliductos!#REF!,2,0)","v":{"$error":"#REF!"}},"02030100","CCT",{"$f":"Plantilla!G80","v":0}]
[{"$f":"VLOOKUP(Plantilla!$A$2,Poliductos!#REF!,2,0)","v":{"$error":"#REF!"}},"02030200","CCT",{"$f":"Plantilla!G81","v":0}]
[{"$f":"VLOOKUP(Plantilla!$A$2,Poliductos!#REF!,2,0)","v":{"$error":"#REF!"}},"02030300","CCT",{"$f":"Plantilla!G82","v":0}]
[{"$f":"VLOOKUP(Plantilla!$A$2,Poliductos!#REF!,2,0)","v":{"$error":"#REF!"}},"02030400","CCT",{"$f":"Plantilla!G83","v":0}]
[{"$f":"VLOOKUP(Plantilla!$A$2,Poliductos!#REF!,2,0)","v":{"$error":"#REF!"}},"02040000","CCT",{"$f":"Plantilla!G84","v":0}]
[{"$f":"VLOOKUP(Plantilla!$A$2,Poliductos!#REF!,2,0)","v":{"$error":"#REF!"}},"02040100","CCT",{"$f":"Plantilla!G85","v":0}]
[{"$f":"VLOOKUP(Plantilla!$A$2,Poliductos!#REF!,2,0)","v":{"$error":"#REF!"}},"02040200","CCT",{"$f":"Plantilla!G86","v":0}]
[{"$f":"VLOOKUP(Plantilla!$A$2,Poliductos!#REF!,2,0)","v":{"$error":"#REF!"}},"02040300","CCT",{"$f":"Plantilla!G87","v":0}]
[{"$f":"VLOOKUP(Plantilla!$A$2,Poliductos!#REF!,2,0)","v":{"$error":"#REF!"}},"02050000","CCT",{"$f":"Plantilla!G88","v":0}]
[{"$f":"VLOOKUP(Plantilla!$A$2,Poliductos!#REF!,2,0)","v":{"$error":"#REF!"}},"02060000","CCT",{"$f":"Plantilla!G89","v":0}]
[{"$f":"VLOOKUP(Plantilla!$A$2,Poliductos!#REF!,2,0)","v":{"$error":"#REF!"}},"02060100","CCT",{"$f":"Plantilla!G90","v":0}]
[{"$f":"VLOOKUP(Plantilla!$A$2,Poliductos!#REF!,2,0)","v":{"$error":"#REF!"}},"02060200","CCT",{"$f":"Plantilla!G91","v":0}]
[{"$f":"VLOOKUP(Plantilla!$A$2,Poliductos!#REF!,2,0)","v":{"$error":"#REF!"}},"02060300","CCT",{"$f":"Plantilla!G92","v":0}]
[{"$f":"VLOOKUP(Plantilla!$A$2,Poliductos!#REF!,2,0)","v":{"$error":"#REF!"}},"02070000","CCT",{"$f":"Plantilla!G93","v":0}]
[{"$f":"VLOOKUP(Plantilla!$A$2,Poliductos!#REF!,2,0)","v":{"$error":"#REF!"}},"02080000","CCT",{"$f":"Plantilla!G94","v":0}]
[{"$f":"VLOOKUP(Plantilla!$A$2,Poliductos!#REF!,2,0)","v":{"$error":"#REF!"}},"02090000","CCT",{"$f":"Plantilla!G95","v":0}]
[{"$f":"VLOOKUP(Plantilla!$A$2,Poliductos!#REF!,2,0)","v":{"$error":"#REF!"}},"02090100","CCT",{"$f":"Plantilla!G96","v":0}]
[{"$f":"VLOOKUP(Plantilla!$A$2,Poliductos!#REF!,2,0)","v":{"$error":"#REF!"}},"02090200","CCT",{"$f":"Plantilla!G97","v":0}]
[{"$f":"VLOOKUP(Plantilla!$A$2,Poliductos!#REF!,2,0)","v":{"$error":"#REF!"}},"02090300","CCT",{"$f":"Plantilla!G98","v":0}]
[{"$f":"VLOOKUP(Plantilla!$A$2,Poliductos!#REF!,2,0)","v":{"$error":"#REF!"}},"02090400","CCT",{"$f":"Plantilla!G99","v":0}]
[{"$f":"VLOOKUP(Plantilla!$A$2,Poliductos!#REF!,2,0)","v":{"$error":"#REF!"}},"02090500","CCT",{"$f":"Plantilla!G100","v":0}]
[{"$f":"VLOOKUP(Plantilla!$A$2,Poliductos!#REF!,2,0)","v":{"$error":"#REF!"}},"02090600","CCT",{"$f":"Plantilla!G101","v":0}]
[{"$f":"VLOOKUP(Plantilla!$A$2,Poliductos!#REF!,2,0)","v":{"$error":"#REF!"}},"02100000","CCT",{"$f":"Plantilla!G102","v":0}]
[{"$f":"VLOOKUP(Plantilla!$A$2,Poliductos!#REF!,2,0)","v":{"$error":"#REF!"}},"02100100","CCT",{"$f":"Plantilla!G103","v":0}]
[{"$f":"VLOOKUP(Plantilla!$A$2,Poliductos!#REF!,2,0)","v":{"$error":"#REF!"}},"02100200","CCT",{"$f":"Plantilla!G104","v":0}]
[{"$f":"VLOOKUP(Plantilla!$A$2,Poliductos!#REF!,2,0)","v":{"$error":"#REF!"}},"02100300","CCT",{"$f":"Plantilla!G105","v":0}]
[{"$f":"VLOOKUP(Plantilla!$A$2,Poliductos!#REF!,2,0)","v":{"$error":"#REF!"}},"02100400","CCT",{"$f":"Plantilla!G106","v":0}]
[{"$f":"VLOOKUP(Plantilla!$A$2,Poliductos!#REF!,2,0)","v":{"$error":"#REF!"}},"02110000","CCT",{"$f":"Plantilla!G107","v":0}]
[{"$f":"VLOOKUP(Plantilla!$A$2,Poliductos!#REF!,2,0)","v":{"$error":"#REF!"}},"02110100","CCT",{"$f":"Plantilla!G108","v":0}]
[{"$f":"VLOOKUP(Plantilla!$A$2,Poliductos!#REF!,2,0)","v":{"$error":"#REF!"}},"02110200","CCT",{"$f":"Plantilla!G109","v":0}]
[{"$f":"VLOOKUP(Plantilla!$A$2,Poliductos!#REF!,2,0)","v":{"$error":"#REF!"}},"02110300","CCT",{"$f":"Plantilla!G110","v":0}]
[{"$f":"VLOOKUP(Plantilla!$A$2,Poliductos!#REF!,2,0)","v":{"$error":"#REF!"}},"02110400","CCT",{"$f":"Plantilla!G111","v":0}]
[{"$f":"VLOOKUP(Plantilla!$A$2,Poliductos!#REF!,2,0)","v":{"$error":"#REF!"}},"02110500","CCT",{"$f":"Plantilla!G112","v":0}]
[{"$f":"VLOOKUP(Plantilla!$A$2,Poliductos!#REF!,2,0)","v":{"$error":"#REF!"}},"02120000","CCT",{"$f":"Plantilla!G113","v":0}]
[{"$f":"VLOOKUP(Plantilla!$A$2,Poliductos!#REF!,2,0)","v":{"$error":"#REF!"}},"02130000","CCT",{"$f":"Plantilla!G114","v":0}]
[{"$f":"VLOOKUP(Plantilla!$A$2,Poliductos!#REF!,2,0)","v":{"$error":"#REF!"}},"02130100","CCT",{"$f":"Plantilla!G115","v":0}]
[{"$f":"VLOOKUP(Plantilla!$A$2,Poliductos!#REF!,2,0)","v":{"$error":"#REF!"}},"02130200","CCT",{"$f":"Plantilla!G116","v":0}]
[{"$f":"VLOOKUP(Plantilla!$A$2,Poliductos!#REF!,2,0)","v":{"$error":"#REF!"}},"02130300","CCT",{"$f":"Plantilla!G117","v":0}]
[{"$f":"VLOOKUP(Plantilla!$A$2,Poliductos!#REF!,2,0)","v":{"$error":"#REF!"}},"02130400","CCT",{"$f":"Plantilla!G118","v":0}]
[{"$f":"VLOOKUP(Plantilla!$A$2,Poliductos!#REF!,2,0)","v":{"$error":"#REF!"}},"02130500","CCT",{"$f":"Plantilla!G119","v":0}]
[{"$f":"VLOOKUP(Plantilla!$A$2,Poliductos!#REF!,2,0)","v":{"$error":"#REF!"}},"02130600","CCT",{"$f":"Plantilla!G120","v":0}]
[{"$f":"VLOOKUP(Plantilla!$A$2,Poliductos!#REF!,2,0)","v":{"$error":"#REF!"}},"02140000","CCT",{"$f":"Plantilla!G121","v":0}]
[{"$f":"VLOOKUP(Plantilla!$A$2,Poliductos!#REF!,2,0)","v":{"$error":"#REF!"}},"02140100","CCT",{"$f":"Plantilla!G122","v":0}]
[{"$f":"VLOOKUP(Plantilla!$A$2,Poliductos!#REF!,2,0)","v":{"$error":"#REF!"}},"02140200","CCT",{"$f":"Plantilla!G123","v":0}]
[{"$f":"VLOOKUP(Plantilla!$A$2,Poliductos!#REF!,2,0)","v":{"$error":"#REF!"}},"02150000","CCT",{"$f":"Plantilla!G124","v":0}]
[{"$f":"VLOOKUP(Plantilla!$A$2,Poliductos!#REF!,2,0)","v":{"$error":"#REF!"}},"02150100","CCT",{"$f":"Plantilla!G125","v":0}]
[{"$f":"VLOOKUP(Plantilla!$A$2,Poliductos!#REF!,2,0)","v":{"$error":"#REF!"}},"02150200","CCT",{"$f":"Plantilla!G126","v":0}]
[{"$f":"VLOOKUP(Plantilla!$A$2,Poliductos!#REF!,2,0)","v":{"$error":"#REF!"}},"02150300","CCT",{"$f":"Plantilla!G127","v":0}]
[{"$f":"VLOOKUP(Plantilla!$A$2,Poliductos!#REF!,2,0)","v":{"$error":"#REF!"}},"02150400","CCT",{"$f":"Plantilla!G128","v":0}]
[{"$f":"VLOOKUP(Plantilla!$A$2,Poliductos!#REF!,2,0)","v":{"$error":"#REF!"}},"02150500","CCT",{"$f":"Plantilla!G129","v":0}]
[{"$f":"VLOOKUP(Plantilla!$A$2,Poliductos!#REF!,2,0)","v":{"$error":"#REF!"}},"02150600","CCT",{"$f":"Plantilla!G130","v":0}]
[{"$f":"VLOOKUP(Plantilla!$A$2,Poliductos!#REF!,2,0)","v":{"$error":"#REF!"}},"02150700","CCT",{"$f":"Plantilla!G131","v":0}]
[{"$f":"VLOOKUP(Plantilla!$A$2,Poliductos!#REF!,2,0)","v":{"$error":"#REF!"}},"02150800","CCT",{"$f":"Plantilla!G132","v":0}]
[{"$f":"VLOOKUP(Plantilla!$A$2,Poliductos!#REF!,2,0)","v":{"$error":"#REF!"}},"02160000","CCT",{"$f":"Plantilla!G136","v":0}]
[{"$f":"VLOOKUP(Plantilla!$A$2,Poliductos!#REF!,2,0)","v":{"$error":"#REF!"}},"02160100","CCT",{"$f":"Plantilla!G137","v":0}]
[{"$f":"VLOOKUP(Plantilla!$A$2,Poliductos!#REF!,2,0)","v":{"$error":"#REF!"}},"02160200","CCT",{"$f":"Plantilla!G138","v":0}]
[{"$f":"VLOOKUP(Plantilla!$A$2,Poliductos!#REF!,2,0)","v":{"$error":"#REF!"}},"01000000","MAOEB",{"$f":"Plantilla!H4","v":0}]
[{"$f":"VLOOKUP(Plantilla!$A$2,Poliductos!#REF!,2,0)","v":{"$error":"#REF!"}},"01010000","MAOEB",{"$f":"Plantilla!H5","v":0}]
[{"$f":"VLOOKUP(Plantilla!$A$2,Poliductos!#REF!,2,0)","v":{"$error":"#REF!"}},"01010100","MAOEB",{"$f":"Plantilla!H6","v":0}]
[{"$f":"VLOOKUP(Plantilla!$A$2,Poliductos!#REF!,2,0)","v":{"$error":"#REF!"}},"01010200","MAOEB",{"$f":"Plantilla!H7","v":0}]
[{"$f":"VLOOKUP(Plantilla!$A$2,Poliductos!#REF!,2,0)","v":{"$error":"#REF!"}},"01010201","MAOEB",{"$f":"Plantilla!H8","v":0}]
[{"$f":"VLOOKUP(Plantilla!$A$2,Poliductos!#REF!,2,0)","v":{"$error":"#REF!"}},"01010202","MAOEB",{"$f":"Plantilla!H9","v":0}]
[{"$f":"VLOOKUP(Plantilla!$A$2,Poliductos!#REF!,2,0)","v":{"$error":"#REF!"}},"01010300","MAOEB",{"$f":"Plantilla!H10","v":0}]
[{"$f":"VLOOKUP(Plantilla!$A$2,Poliductos!#REF!,2,0)","v":{"$error":"#REF!"}},"01010301","MAOEB",{"$f":"Plantilla!H11","v":0}]
[{"$f":"VLOOKUP(Plantilla!$A$2,Poliductos!#REF!,2,0)","v":{"$error":"#REF!"}},"01010302","MAOEB",{"$f":"Plantilla!H12","v":0}]
[{"$f":"VLOOKUP(Plantilla!$A$2,Poliductos!#REF!,2,0)","v":{"$error":"#REF!"}},"01010400","MAOEB",{"$f":"Plantilla!H13","v":0}]
[{"$f":"VLOOKUP(Plantilla!$A$2,Poliductos!#REF!,2,0)","v":{"$error":"#REF!"}},"01010500","MAOEB",{"$f":"Plantilla!H14","v":0}]
[{"$f":"VLOOKUP(Plantilla!$A$2,Poliductos!#REF!,2,0)","v":{"$error":"#REF!"}},"01010600","MAOEB",{"$f":"Plantilla!H15","v":0}]
[{"$f":"VLOOKUP(Plantilla!$A$2,Poliductos!#REF!,2,0)","v":{"$error":"#REF!"}},"01010700","MAOEB",{"$f":"Plantilla!H16","v":0}]
[{"$f":"VLOOKUP(Plantilla!$A$2,Poliductos!#REF!,2,0)","v":{"$error":"#REF!"}},"01010800","MAOEB",{"$f":"Plantilla!H17","v":0}]
[{"$f":"VLOOKUP(Plantilla!$A$2,Poliductos!#REF!,2,0)","v":{"$error":"#REF!"}},"01010900","MAOEB",{"$f":"Plantilla!H18","v":0}]
[{"$f":"VLOOKUP(Plantilla!$A$2,Poliductos!#REF!,2,0)","v":{"$error":"#REF!"}},"01011000","MAOEB",{"$f":"Plantilla!H19","v":0}]
[{"$f":"VLOOKUP(Plantilla!$A$2,Poliductos!#REF!,2,0)","v":{"$error":"#REF!"}},"01020000","MAOEB",{"$f":"Plantilla!H20","v":0}]
[{"$f":"VLOOKUP(Plantilla!$A$2,Poliductos!#REF!,2,0)","v":{"$error":"#REF!"}},"01020100","MAOEB",{"$f":"Plantilla!H21","v":0}]
[{"$f":"VLOOKUP(Plantilla!$A$2,Poliductos!#REF!,2,0)","v":{"$error":"#REF!"}},"01020200","MAOEB",{"$f":"Plantilla!H22","v":0}]
[{"$f":"VLOOKUP(Plantilla!$A$2,Poliductos!#REF!,2,0)","v":{"$error":"#REF!"}},"01020300","MAOEB",{"$f":"Plantilla!H23","v":0}]
[{"$f":"VLOOKUP(Plantilla!$A$2,Poliductos!#REF!,2,0)","v":{"$error":"#REF!"}},"01020400","MAOEB",{"$f":"Plantilla!H24","v":0}]
[{"$f":"VLOOKUP(Plantilla!$A$2,Poliductos!#REF!,2,0)","v":{"$error":"#REF!"}},"01020500","MAOEB",{"$f":"Plantilla!H25","v":0}]
[{"$f":"VLOOKUP(Plantilla!$A$2,Poliductos!#REF!,2,0)","v":{"$error":"#REF!"}},"01020600","MAOEB",{"$f":"Plantilla!H26","v":0}]
[{"$f":"VLOOKUP(Plantilla!$A$2,Poliductos!#REF!,2,0)","v":{"$error":"#REF!"}},"01020700","MAOEB",{"$f":"Plantilla!H27","v":0}]
[{"$f":"VLOOKUP(Plantilla!$A$2,Poliductos!#REF!,2,0)","v":{"$error":"#REF!"}},"01030000","MAOEB",{"$f":"Plantilla!H29","v":0}]
[{"$f":"VLOOKUP(Plantilla!$A$2,Poliductos!#REF!,2,0)","v":{"$error":"#REF!"}},"01030100","MAOEB",{"$f":"Plantilla!H30","v":0}]
[{"$f":"VLOOKUP(Plantilla!$A$2,Poliductos!#REF!,2,0)","v":{"$error":"#REF!"}},"01030200","MAOEB",{"$f":"Plantilla!H31","v":0}]
[{"$f":"VLOOKUP(Plantilla!$A$2,Poliductos!#REF!,2,0)","v":{"$error":"#REF!"}},"01030300","MAOEB",{"$f":"Plantilla!H32","v":0}]
[{"$f":"VLOOKUP(Plantilla!$A$2,Poliductos!#REF!,2,0)","v":{"$error":"#REF!"}},"01030400","MAOEB",{"$f":"Plantilla!H33","v":0}]
[{"$f":"VLOOKUP(Plantilla!$A$2,Poliductos!#REF!,2,0)","v":{"$error":"#REF!"}},"01030500","MAOEB",{"$f":"Plantilla!H34","v":0}]
[{"$f":"VLOOKUP(Plantilla!$A$2,Poliductos!#REF!,2,0)","v":{"$error":"#REF!"}},"01030600","MAOEB",{"$f":"Plantilla!H35","v":0}]
[{"$f":"VLOOKUP(Plantilla!$A$2,Poliductos!#REF!,2,0)","v":{"$error":"#REF!"}},"01030700","MAOEB",{"$f":"Plantilla!H36","v":0}]
[{"$f":"VLOOKUP(Plantilla!$A$2,Poliductos!#REF!,2,0)","v":{"$error":"#REF!"}},"01030800","MAOEB",{"$f":"Plantilla!H37","v":0}]
[{"$f":"VLOOKUP(Plantilla!$A$2,Poliductos!#REF!,2,0)","v":{"$error":"#REF!"}},"01030900","MAOEB",{"$f":"Plantilla!H38","v":0}]
[{"$f":"VLOOKUP(Plantilla!$A$2,Poliductos!#REF!,2,0)","v":{"$error":"#REF!"}},"01031000","MAOEB",{"$f":"Plantilla!H39","v":0}]
[{"$f":"VLOOKUP(Plantilla!$A$2,Poliductos!#REF!,2,0)","v":{"$error":"#REF!"}},"01031100","MAOEB",{"$f":"Plantilla!H40","v":0}]
[{"$f":"VLOOKUP(Plantilla!$A$2,Poliductos!#REF!,2,0)","v":{"$error":"#REF!"}},"01040000","MAOEB",{"$f":"Plantilla!H41","v":0}]
[{"$f":"VLOOKUP(Plantilla!$A$2,Poliductos!#REF!,2,0)","v":{"$error":"#REF!"}},"01050000","MAOEB",{"$f":"Plantilla!H42","v":0}]
[{"$f":"VLOOKUP(Plantilla!$A$2,Poliductos!#REF!,2,0)","v":{"$error":"#REF!"}},"01060000","MAOEB",{"$f":"Plantilla!H43","v":0}]
[{"$f":"VLOOKUP(Plantilla!$A$2,Poliductos!#REF!,2,0)","v":{"$error":"#REF!"}},"01060100","MAOEB",{"$f":"Plantilla!H44","v":0}]
[{"$f":"VLOOKUP(Plantilla!$A$2,Poliductos!#REF!,2,0)","v":{"$error":"#REF!"}},"01060200","MAOEB",{"$f":"Plantilla!H45","v":0}]
[{"$f":"VLOOKUP(Plantilla!$A$2,Poliductos!#REF!,2,0)","v":{"$error":"#REF!"}},"01060201","MAOEB",{"$f":"Plantilla!H46","v":0}]
[{"$f":"VLOOKUP(Plantilla!$A$2,Poliductos!#REF!,2,0)","v":{"$error":"#REF!"}},"01060202","MAOEB",{"$f":"Plantilla!H47","v":0}]
[{"$f":"VLOOKUP(Plantilla!$A$2,Poliductos!#REF!,2,0)","v":{"$error":"#REF!"}},"01060203","MAOEB",{"$f":"Plantilla!H48","v":0}]
[{"$f":"VLOOKUP(Plantilla!$A$2,Poliductos!#REF!,2,0)","v":{"$error":"#REF!"}},"01060300","MAOEB",{"$f":"Plantilla!H49","v":0}]
[{"$f":"VLOOKUP(Plantilla!$A$2,Poliductos!#REF!,2,0)","v":{"$error":"#REF!"}},"01060400","MAOEB",{"$f":"Plantilla!H50","v":0}]
[{"$f":"VLOOKUP(Plantilla!$A$2,Poliductos!#REF!,2,0)","v":{"$error":"#REF!"}},"01070000","MAOEB",{"$f":"Plantilla!H51","v":0}]
[{"$f":"VLOOKUP(Plantilla!$A$2,Poliductos!#REF!,2,0)","v":{"$error":"#REF!"}},"01070100","MAOEB",{"$f":"Plantilla!H52","v":0}]
[{"$f":"VLOOKUP(Plantilla!$A$2,Poliductos!#REF!,2,0)","v":{"$error":"#REF!"}},"01070200","MAOEB",{"$f":"Plantilla!H53","v":0}]
[{"$f":"VLOOKUP(Plantilla!$A$2,Poliductos!#REF!,2,0)","v":{"$error":"#REF!"}},"01070300","MAOEB",{"$f":"Plantilla!H54","v":0}]
[{"$f":"VLOOKUP(Plantilla!$A$2,Poliductos!#REF!,2,0)","v":{"$error":"#REF!"}},"01070400","MAOEB",{"$f":"Plantilla!H55","v":0}]
[{"$f":"VLOOKUP(Plantilla!$A$2,Poliductos!#REF!,2,0)","v":{"$error":"#REF!"}},"02000000","MAOEB",{"$f":"Plantilla!H56","v":0}]
[{"$f":"VLOOKUP(Plantilla!$A$2,Poliductos!#REF!,2,0)","v":{"$error":"#REF!"}},"02010000","MAOEB",{"$f":"Plantilla!H57","v":0}]
[{"$f":"VLOOKUP(Plantilla!$A$2,Poliductos!#REF!,2,0)","v":{"$error":"#REF!"}},"02010100","MAOEB",{"$f":"Plantilla!H58","v":0}]
[{"$f":"VLOOKUP(Plantilla!$A$2,Poliductos!#REF!,2,0)","v":{"$error":"#REF!"}},"02010200","MAOEB",{"$f":"Plantilla!H59","v":0}]
[{"$f":"VLOOKUP(Plantilla!$A$2,Poliductos!#REF!,2,0)","v":{"$error":"#REF!"}},"02010201","MAOEB",{"$f":"Plantilla!H60","v":0}]
[{"$f":"VLOOKUP(Plantilla!$A$2,Poliductos!#REF!,2,0)","v":{"$error":"#REF!"}},"02010202","MAOEB",{"$f":"Plantilla!H61","v":0}]
[{"$f":"VLOOKUP(Plantilla!$A$2,Poliductos!#REF!,2,0)","v":{"$error":"#REF!"}},"02010300","MAOEB",{"$f":"Plantilla!H62","v":0}]
[{"$f":"VLOOKUP(Plantilla!$A$2,Poliductos!#REF!,2,0)","v":{"$error":"#REF!"}},"02010301","MAOEB",{"$f":"Plantilla!H63","v":0}]
[{"$f":"VLOOKUP(Plantilla!$A$2,Poliductos!#REF!,2,0)","v":{"$error":"#REF!"}},"02010302","MAOEB",{"$f":"Plantilla!H64","v":0}]
[{"$f":"VLOOKUP(Plantilla!$A$2,Poliductos!#REF!,2,0)","v":{"$error":"#REF!"}},"02010400","MAOEB",{"$f":"Plantilla!H65","v":0}]
[{"$f":"VLOOKUP(Plantilla!$A$2,Poliductos!#REF!,2,0)","v":{"$error":"#REF!"}},"02010500","MAOEB",{"$f":"Plantilla!H66","v":0}]
[{"$f":"VLOOKUP(Plantilla!$A$2,Poliductos!#REF!,2,0)","v":{"$error":"#REF!"}},"02010600","MAOEB",{"$f":"Plantilla!H67","v":0}]
[{"$f":"VLOOKUP(Plantilla!$A$2,Poliductos!#REF!,2,0)","v":{"$error":"#REF!"}},"02010700","MAOEB",{"$f":"Plantilla!H68","v":0}]
[{"$f":"VLOOKUP(Plantilla!$A$2,Poliductos!#REF!,2,0)","v":{"$error":"#REF!"}},"02010800","MAOEB",{"$f":"Plantilla!H69","v":0}]
[{"$f":"VLOOKUP(Plantilla!$A$2,Poliductos!#REF!,2,0)","v":{"$error":"#REF!"}},"02010900","MAOEB",{"$f":"Plantilla!H70","v":0}]
[{"$f":"VLOOKUP(Plantilla!$A$2,Poliductos!#REF!,2,0)","v":{"$error":"#REF!"}},"02011000","MAOEB",{"$f":"Plantilla!H71","v":0}]
[{"$f":"VLOOKUP(Plantilla!$A$2,Poliductos!#REF!,2,0)","v":{"$error":"#REF!"}},"02020000","MAOEB",{"$f":"Plantilla!H72","v":0}]
[{"$f":"VLOOKUP(Plantilla!$A$2,Poliductos!#REF!,2,0)","v":{"$error":"#REF!"}},"02020100","MAOEB",{"$f":"Plantilla!H73","v":0}]
[{"$f":"VLOOKUP(Plantilla!$A$2,Poliductos!#REF!,2,0)","v":{"$error":"#REF!"}},"02020200","MAOEB",{"$f":"Plantilla!H74","v":0}]
[{"$f":"VLOOKUP(Plantilla!$A$2,Poliductos!#REF!,2,0)","v":{"$error":"#REF!"}},"02020300","MAOEB",{"$f":"Plantilla!H75","v":0}]
[{"$f":"VLOOKUP(Plantilla!$A$2,Poliductos!#REF!,2,0)","v":{"$error":"#REF!"}},"02020400","MAOEB",{"$f":"Plantilla!H76","v":0}]
[{"$f":"VLOOKUP(Plantilla!$A$2,Poliductos!#REF!,2,0)","v":{"$error":"#REF!"}},"02020500","MAOEB",{"$f":"Plantilla!H77","v":0}]
[{"$f":"VLOOKUP(Plantilla!$A$2,Poliductos!#REF!,2,0)","v":{"$error":"#REF!"}},"02020600","MAOEB",{"$f":"Plantilla!H78","v":0}]
[{"$f":"VLOOKUP(Plantilla!$A$2,Poliductos!#REF!,2,0)","v":{"$error":"#REF!"}},"02030000","MAOEB",{"$f":"Plantilla!H79","v":0}]
[{"$f":"VLOOKUP(Plantilla!$A$2,Poliductos!#REF!,2,0)","v":{"$error":"#REF!"}},"02030100","MAOEB",{"$f":"Plantilla!H80","v":0}]
[{"$f":"VLOOKUP(Plantilla!$A$2,Poliductos!#REF!,2,0)","v":{"$error":"#REF!"}},"02030200","MAOEB",{"$f":"Plantilla!H81","v":0}]
[{"$f":"VLOOKUP(Plantilla!$A$2,Poliductos!#REF!,2,0)","v":{"$error":"#REF!"}},"02030300","MAOEB",{"$f":"Plantilla!H82","v":0}]
[{"$f":"VLOOKUP(Plantilla!$A$2,Poliductos!#REF!,2,0)","v":{"$error":"#REF!"}},"02030400","MAOEB",{"$f":"Plantilla!H83","v":0}]
[{"$f":"VLOOKUP(Plantilla!$A$2,Poliductos!#REF!,2,0)","v":{"$error":"#REF!"}},"02040000","MAOEB",{"$f":"Plantilla!H84","v":0}]
[{"$f":"VLOOKUP(Plantilla!$A$2,Poliductos!#REF!,2,0)","v":{"$error":"#REF!"}},"02040100","MAOEB",{"$f":"Plantilla!H85","v":0}]
[{"$f":"VLOOKUP(Plantilla!$A$2,Poliductos!#REF!,2,0)","v":{"$error":"#REF!"}},"02040200","MAOEB",{"$f":"Plantilla!H86","v":0}]
[{"$f":"VLOOKUP(Plantilla!$A$2,Poliductos!#REF!,2,0)","v":{"$error":"#REF!"}},"02040300","MAOEB",{"$f":"Plantilla!H87","v":0}]
[{"$f":"VLOOKUP(Plantilla!$A$2,Poliductos!#REF!,2,0)","v":{"$error":"#REF!"}},"02050000","MAOEB",{"$f":"Plantilla!H88","v":0}]
[{"$f":"VLOOKUP(Plantilla!$A$2,Poliductos!#REF!,2,0)","v":{"$error":"#REF!"}},"02060000","MAOEB",{"$f":"Plantilla!H89","v":0}]
[{"$f":"VLOOKUP(Plantilla!$A$2,Poliductos!#REF!,2,0)","v":{"$error":"#REF!"}},"02060100","MAOEB",{"$f":"Plantilla!H90","v":0}]
[{"$f":"VLOOKUP(Plantilla!$A$2,Poliductos!#REF!,2,0)","v":{"$error":"#REF!"}},"02060200","MAOEB",{"$f":"Plantilla!H91","v":0}]
[{"$f":"VLOOKUP(Plantilla!$A$2,Poliductos!#REF!,2,0)","v":{"$error":"#REF!"}},"02060300","MAOEB",{"$f":"Plantilla!H92","v":0}]
[{"$f":"VLOOKUP(Plantilla!$A$2,Poliductos!#REF!,2,0)","v":{"$error":"#REF!"}},"02070000","MAOEB",{"$f":"Plantilla!H93","v":0}]
[{"$f":"VLOOKUP(Plantilla!$A$2,Poliductos!#REF!,2,0)","v":{"$error":"#REF!"}},"02080000","MAOEB",{"$f":"Plantilla!H94","v":0}]
[{"$f":"VLOOKUP(Plantilla!$A$2,Poliductos!#REF!,2,0)","v":{"$error":"#REF!"}},"02090000","MAOEB",{"$f":"Plantilla!H95","v":0}]
[{"$f":"VLOOKUP(Plantilla!$A$2,Poliductos!#REF!,2,0)","v":{"$error":"#REF!"}},"02090100","MAOEB",{"$f":"Plantilla!H96","v":0}]
[{"$f":"VLOOKUP(Plantilla!$A$2,Poliductos!#REF!,2,0)","v":{"$error":"#REF!"}},"02090200","MAOEB",{"$f":"Plantilla!H97","v":0}]
[{"$f":"VLOOKUP(Plantilla!$A$2,Poliductos!#REF!,2,0)","v":{"$error":"#REF!"}},"02090300","MAOEB",{"$f":"Plantilla!H98","v":0}]
[{"$f":"VLOOKUP(Plantilla!$A$2,Poliductos!#REF!,2,0)","v":{"$error":"#REF!"}},"02090400","MAOEB",{"$f":"Plantilla!H99","v":0}]
[{"$f":"VLOOKUP(Plantilla!$A$2,Poliductos!#REF!,2,0)","v":{"$error":"#REF!"}},"02090500","MAOEB",{"$f":"Plantilla!H100","v":0}]
[{"$f":"VLOOKUP(Plantilla!$A$2,Poliductos!#REF!,2,0)","v":{"$error":"#REF!"}},"02090600","MAOEB",{"$f":"Plantilla!H101","v":0}]
[{"$f":"VLOOKUP(Plantilla!$A$2,Poliductos!#REF!,2,0)","v":{"$error":"#REF!"}},"02100000","MAOEB",{"$f":"Plantilla!H102","v":0}]
[{"$f":"VLOOKUP(Plantilla!$A$2,Poliductos!#REF!,2,0)","v":{"$error":"#REF!"}},"02100100","MAOEB",{"$f":"Plantilla!H103","v":0}]
[{"$f":"VLOOKUP(Plantilla!$A$2,Poliductos!#REF!,2,0)","v":{"$error":"#REF!"}},"02100200","MAOEB",{"$f":"Plantilla!H104","v":0}]
[{"$f":"VLOOKUP(Plantilla!$A$2,Poliductos!#REF!,2,0)","v":{"$error":"#REF!"}},"02100300","MAOEB",{"$f":"Plantilla!H105","v":0}]
[{"$f":"VLOOKUP(Plantilla!$A$2,Poliductos!#REF!,2,0)","v":{"$error":"#REF!"}},"02100400","MAOEB",{"$f":"Plantilla!H106","v":0}]
[{"$f":"VLOOKUP(Plantilla!$A$2,Poliductos!#REF!,2,0)","v":{"$error":"#REF!"}},"02110000","MAOEB",{"$f":"Plantilla!H107","v":0}]
[{"$f":"VLOOKUP(Plantilla!$A$2,Poliductos!#REF!,2,0)","v":{"$error":"#REF!"}},"02110100","MAOEB",{"$f":"Plantilla!H108","v":0}]
[{"$f":"VLOOKUP(Plantilla!$A$2,Poliductos!#REF!,2,0)","v":{"$error":"#REF!"}},"02110200","MAOEB",{"$f":"Plantilla!H109","v":0}]
[{"$f":"VLOOKUP(Plantilla!$A$2,Poliductos!#REF!,2,0)","v":{"$error":"#REF!"}},"02110300","MAOEB",{"$f":"Plantilla!H110","v":0}]
[{"$f":"VLOOKUP(Plantilla!$A$2,Poliductos!#REF!,2,0)","v":{"$error":"#REF!"}},"02110400","MAOEB",{"$f":"Plantilla!H111","v":0}]
[{"$f":"VLOOKUP(Plantilla!$A$2,Poliductos!#REF!,2,0)","v":{"$error":"#REF!"}},"02110500","MAOEB",{"$f":"Plantilla!H112","v":0}]
[{"$f":"VLOOKUP(Plantilla!$A$2,Poliductos!#REF!,2,0)","v":{"$error":"#REF!"}},"02120000","MAOEB",{"$f":"Plantilla!H113","v":0}]
[{"$f":"VLOOKUP(Plantilla!$A$2,Poliductos!#REF!,2,0)","v":{"$error":"#REF!"}},"02130000","MAOEB",{"$f":"Plantilla!H114","v":0}]
[{"$f":"VLOOKUP(Plantilla!$A$2,Poliductos!#REF!,2,0)","v":{"$error":"#REF!"}},"02130100","MAOEB",{"$f":"Plantilla!H115","v":0}]
[{"$f":"VLOOKUP(Plantilla!$A$2,Poliductos!#REF!,2,0)","v":{"$error":"#REF!"}},"02130200","MAOEB",{"$f":"Plantilla!H116","v":0}]
[{"$f":"VLOOKUP(Plantilla!$A$2,Poliductos!#REF!,2,0)","v":{"$error":"#REF!"}},"02130300","MAOEB",{"$f":"Plantilla!H117","v":0}]
[{"$f":"VLOOKUP(Plantilla!$A$2,Poliductos!#REF!,2,0)","v":{"$error":"#REF!"}},"02130400","MAOEB",{"$f":"Plantilla!H118","v":0}]
[{"$f":"VLOOKUP(Plantilla!$A$2,Poliductos!#REF!,2,0)","v":{"$error":"#REF!"}},"02130500","MAOEB",{"$f":"Plantilla!H119","v":0}]
[{"$f":"VLOOKUP(Plantilla!$A$2,Poliductos!#REF!,2,0)","v":{"$error":"#REF!"}},"02130600","MAOEB",{"$f":"Plantilla!H120","v":0}]
[{"$f":"VLOOKUP(Plantilla!$A$2,Poliductos!#REF!,2,0)","v":{"$error":"#REF!"}},"02140000","MAOEB",{"$f":"Plantilla!H121","v":0}]
[{"$f":"VLOOKUP(Plantilla!$A$2,Poliductos!#REF!,2,0)","v":{"$error":"#REF!"}},"02140100","MAOEB",{"$f":"Plantilla!H122","v":0}]
[{"$f":"VLOOKUP(Plantilla!$A$2,Poliductos!#REF!,2,0)","v":{"$error":"#REF!"}},"02140200","MAOEB",{"$f":"Plantilla!H123","v":0}]
[{"$f":"VLOOKUP(Plantilla!$A$2,Poliductos!#REF!,2,0)","v":{"$error":"#REF!"}},"02150000","MAOEB",{"$f":"Plantilla!H124","v":0}]
[{"$f":"VLOOKUP(Plantilla!$A$2,Poliductos!#REF!,2,0)","v":{"$error":"#REF!"}},"02150100","MAOEB",{"$f":"Plantilla!H125","v":0}]
[{"$f":"VLOOKUP(Plantilla!$A$2,Poliductos!#REF!,2,0)","v":{"$error":"#REF!"}},"02150200","MAOEB",{"$f":"Plantilla!H126","v":0}]
[{"$f":"VLOOKUP(Plantilla!$A$2,Poliductos!#REF!,2,0)","v":{"$error":"#REF!"}},"02150300","MAOEB",{"$f":"Plantilla!H127","v":0}]
[{"$f":"VLOOKUP(Plantilla!$A$2,Poliductos!#REF!,2,0)","v":{"$error":"#REF!"}},"02150400","MAOEB",{"$f":"Plantilla!H128","v":0}]
[{"$f":"VLOOKUP(Plantilla!$A$2,Poliductos!#REF!,2,0)","v":{"$error":"#REF!"}},"02150500","MAOEB",{"$f":"Plantilla!H129","v":0}]
[{"$f":"VLOOKUP(Plantilla!$A$2,Poliductos!#REF!,2,0)","v":{"$error":"#REF!"}},"02150600","MAOEB",{"$f":"Plantilla!H130","v":0}]
[{"$f":"VLOOKUP(Plantilla!$A$2,Poliductos!#REF!,2,0)","v":{"$error":"#REF!"}},"02150700","MAOEB",{"$f":"Plantilla!H131","v":0}]
[{"$f":"VLOOKUP(Plantilla!$A$2,Poliductos!#REF!,2,0)","v":{"$error":"#REF!"}},"02150800","MAOEB",{"$f":"Plantilla!H132","v":0}]
[{"$f":"VLOOKUP(Plantilla!$A$2,Poliductos!#REF!,2,0)","v":{"$error":"#REF!"}},"02160000","MAOEB",{"$f":"Plantilla!H136","v":0}]
[{"$f":"VLOOKUP(Plantilla!$A$2,Poliductos!#REF!,2,0)","v":{"$error":"#REF!"}},"02160100","MAOEB",{"$f":"Plantilla!H137","v":0}]
[{"$f":"VLOOKUP(Plantilla!$A$2,Poliductos!#REF!,2,0)","v":{"$error":"#REF!"}},"02160200","MAOEB",{"$f":"Plantilla!H138","v":0}]
[{"$f":"VLOOKUP(Plantilla!$A$2,Poliductos!#REF!,2,0)","v":{"$error":"#REF!"}},"01000000","APES",{"$f":"Plantilla!I4","v":0}]
[{"$f":"VLOOKUP(Plantilla!$A$2,Poliductos!#REF!,2,0)","v":{"$error":"#REF!"}},"01010000","APES",{"$f":"Plantilla!I5","v":0}]
[{"$f":"VLOOKUP(Plantilla!$A$2,Poliductos!#REF!,2,0)","v":{"$error":"#REF!"}},"01010100","APES",{"$f":"Plantilla!I6","v":0}]
[{"$f":"VLOOKUP(Plantilla!$A$2,Poliductos!#REF!,2,0)","v":{"$error":"#REF!"}},"01010200","APES",{"$f":"Plantilla!I7","v":0}]
[{"$f":"VLOOKUP(Plantilla!$A$2,Poliductos!#REF!,2,0)","v":{"$error":"#REF!"}},"01010201","APES",{"$f":"Plantilla!I8","v":0}]
[{"$f":"VLOOKUP(Plantilla!$A$2,Poliductos!#REF!,2,0)","v":{"$error":"#REF!"}},"01010202","APES",{"$f":"Plantilla!I9","v":0}]
[{"$f":"VLOOKUP(Plantilla!$A$2,Poliductos!#REF!,2,0)","v":{"$error":"#REF!"}},"01010300","APES",{"$f":"Plantilla!I10","v":0}]
[{"$f":"VLOOKUP(Plantilla!$A$2,Poliductos!#REF!,2,0)","v":{"$error":"#REF!"}},"01010301","APES",{"$f":"Plantilla!I11","v":0}]
[{"$f":"VLOOKUP(Plantilla!$A$2,Poliductos!#REF!,2,0)","v":{"$error":"#REF!"}},"01010302","APES",{"$f":"Plantilla!I12","v":0}]
[{"$f":"VLOOKUP(Plantilla!$A$2,Poliductos!#REF!,2,0)","v":{"$error":"#REF!"}},"01010400","APES",{"$f":"Plantilla!I13","v":0}]
[{"$f":"VLOOKUP(Plantilla!$A$2,Poliductos!#REF!,2,0)","v":{"$error":"#REF!"}},"01010500","APES",{"$f":"Plantilla!I14","v":0}]
[{"$f":"VLOOKUP(Plantilla!$A$2,Poliductos!#REF!,2,0)","v":{"$error":"#REF!"}},"01010600","APES",{"$f":"Plantilla!I15","v":0}]
[{"$f":"VLOOKUP(Plantilla!$A$2,Poliductos!#REF!,2,0)","v":{"$error":"#REF!"}},"01010700","APES",{"$f":"Plantilla!I16","v":0}]
[{"$f":"VLOOKUP(Plantilla!$A$2,Poliductos!#REF!,2,0)","v":{"$error":"#REF!"}},"01010800","APES",{"$f":"Plantilla!I17","v":0}]
[{"$f":"VLOOKUP(Plantilla!$A$2,Poliductos!#REF!,2,0)","v":{"$error":"#REF!"}},"01010900","APES",{"$f":"Plantilla!I18","v":0}]
[{"$f":"VLOOKUP(Plantilla!$A$2,Poliductos!#REF!,2,0)","v":{"$error":"#REF!"}},"01011000","APES",{"$f":"Plantilla!I19","v":0}]
[{"$f":"VLOOKUP(Plantilla!$A$2,Poliductos!#REF!,2,0)","v":{"$error":"#REF!"}},"01020000","APES",{"$f":"Plantilla!I20","v":0}]
[{"$f":"VLOOKUP(Plantilla!$A$2,Poliductos!#REF!,2,0)","v":{"$error":"#REF!"}},"01020100","APES",{"$f":"Plantilla!I21","v":0}]
[{"$f":"VLOOKUP(Plantilla!$A$2,Poliductos!#REF!,2,0)","v":{"$error":"#REF!"}},"01020200","APES",{"$f":"Plantilla!I22","v":0}]
[{"$f":"VLOOKUP(Plantilla!$A$2,Poliductos!#REF!,2,0)","v":{"$error":"#REF!"}},"01020300","APES",{"$f":"Plantilla!I23","v":0}]
[{"$f":"VLOOKUP(Plantilla!$A$2,Poliductos!#REF!,2,0)","v":{"$error":"#REF!"}},"01020400","APES",{"$f":"Plantilla!I24","v":0}]
[{"$f":"VLOOKUP(Plantilla!$A$2,Poliductos!#REF!,2,0)","v":{"$error":"#REF!"}},"01020500","APES",{"$f":"Plantilla!I25","v":0}]
[{"$f":"VLOOKUP(Plantilla!$A$2,Poliductos!#REF!,2,0)","v":{"$error":"#REF!"}},"01020600","APES",{"$f":"Plantilla!I26","v":0}]
[{"$f":"VLOOKUP(Plantilla!$A$2,Poliductos!#REF!,2,0)","v":{"$error":"#REF!"}},"01020700","APES",{"$f":"Plantilla!I27","v":0}]
[{"$f":"VLOOKUP(Plantilla!$A$2,Poliductos!#REF!,2,0)","v":{"$error":"#REF!"}},"01030000","APES",{"$f":"Plantilla!I29","v":0}]
[{"$f":"VLOOKUP(Plantilla!$A$2,Poliductos!#REF!,2,0)","v":{"$error":"#REF!"}},"01030100","APES",{"$f":"Plantilla!I30","v":0}]
[{"$f":"VLOOKUP(Plantilla!$A$2,Poliductos!#REF!,2,0)","v":{"$error":"#REF!"}},"01030200","APES",{"$f":"Plantilla!I31","v":0}]
[{"$f":"VLOOKUP(Plantilla!$A$2,Poliductos!#REF!,2,0)","v":{"$error":"#REF!"}},"01030300","APES",{"$f":"Plantilla!I32","v":0}]
[{"$f":"VLOOKUP(Plantilla!$A$2,Poliductos!#REF!,2,0)","v":{"$error":"#REF!"}},"01030400","APES",{"$f":"Plantilla!I33","v":0}]
[{"$f":"VLOOKUP(Plantilla!$A$2,Poliductos!#REF!,2,0)","v":{"$error":"#REF!"}},"01030500","APES",{"$f":"Plantilla!I34","v":0}]
[{"$f":"VLOOKUP(Plantilla!$A$2,Poliductos!#REF!,2,0)","v":{"$error":"#REF!"}},"01030600","APES",{"$f":"Plantilla!I35","v":0}]
[{"$f":"VLOOKUP(Plantilla!$A$2,Poliductos!#REF!,2,0)","v":{"$error":"#REF!"}},"01030700","APES",{"$f":"Plantilla!I36","v":0}]
[{"$f":"VLOOKUP(Plantilla!$A$2,Poliductos!#REF!,2,0)","v":{"$error":"#REF!"}},"01030800","APES",{"$f":"Plantilla!I37","v":0}]
[{"$f":"VLOOKUP(Plantilla!$A$2,Poliductos!#REF!,2,0)","v":{"$error":"#REF!"}},"01030900","APES",{"$f":"Plantilla!I38","v":0}]
[{"$f":"VLOOKUP(Plantilla!$A$2,Poliductos!#REF!,2,0)","v":{"$error":"#REF!"}},"01031000","APES",{"$f":"Plantilla!I39","v":0}]
[{"$f":"VLOOKUP(Plantilla!$A$2,Poliductos!#REF!,2,0)","v":{"$error":"#REF!"}},"01031100","APES",{"$f":"Plantilla!I40","v":0}]
[{"$f":"VLOOKUP(Plantilla!$A$2,Poliductos!#REF!,2,0)","v":{"$error":"#REF!"}},"01040000","APES",{"$f":"Plantilla!I41","v":0}]
[{"$f":"VLOOKUP(Plantilla!$A$2,Poliductos!#REF!,2,0)","v":{"$error":"#REF!"}},"01050000","APES",{"$f":"Plantilla!I42","v":0}]
[{"$f":"VLOOKUP(Plantilla!$A$2,Poliductos!#REF!,2,0)","v":{"$error":"#REF!"}},"01060000","APES",{"$f":"Plantilla!I43","v":0}]
[{"$f":"VLOOKUP(Plantilla!$A$2,Poliductos!#REF!,2,0)","v":{"$error":"#REF!"}},"01060100","APES",{"$f":"Plantilla!I44","v":0}]
[{"$f":"VLOOKUP(Plantilla!$A$2,Poliductos!#REF!,2,0)","v":{"$error":"#REF!"}},"01060200","APES",{"$f":"Plantilla!I45","v":0}]
[{"$f":"VLOOKUP(Plantilla!$A$2,Poliductos!#REF!,2,0)","v":{"$error":"#REF!"}},"01060201","APES",{"$f":"Plantilla!I46","v":0}]
[{"$f":"VLOOKUP(Plantilla!$A$2,Poliductos!#REF!,2,0)","v":{"$error":"#REF!"}},"01060202","APES",{"$f":"Plantilla!I47","v":0}]
[{"$f":"VLOOKUP(Plantilla!$A$2,Poliductos!#REF!,2,0)","v":{"$error":"#REF!"}},"01060203","APES",{"$f":"Plantilla!I48","v":0}]
[{"$f":"VLOOKUP(Plantilla!$A$2,Poliductos!#REF!,2,0)","v":{"$error":"#REF!"}},"01060300","APES",{"$f":"Plantilla!I49","v":0}]
[{"$f":"VLOOKUP(Plantilla!$A$2,Poliductos!#REF!,2,0)","v":{"$error":"#REF!"}},"01060400","APES",{"$f":"Plantilla!I50","v":0}]
[{"$f":"VLOOKUP(Plantilla!$A$2,Poliductos!#REF!,2,0)","v":{"$error":"#REF!"}},"01070000","APES",{"$f":"Plantilla!I51","v":0}]
[{"$f":"VLOOKUP(Plantilla!$A$2,Poliductos!#REF!,2,0)","v":{"$error":"#REF!"}},"01070100","APES",{"$f":"Plantilla!I52","v":0}]
[{"$f":"VLOOKUP(Plantilla!$A$2,Poliductos!#REF!,2,0)","v":{"$error":"#REF!"}},"01070200","APES",{"$f":"Plantilla!I53","v":0}]
[{"$f":"VLOOKUP(Plantilla!$A$2,Poliductos!#REF!,2,0)","v":{"$error":"#REF!"}},"01070300","APES",{"$f":"Plantilla!I54","v":0}]
[{"$f":"VLOOKUP(Plantilla!$A$2,Poliductos!#REF!,2,0)","v":{"$error":"#REF!"}},"01070400","APES",{"$f":"Plantilla!I55","v":0}]
[{"$f":"VLOOKUP(Plantilla!$A$2,Poliductos!#REF!,2,0)","v":{"$error":"#REF!"}},"02000000","APES",{"$f":"Plantilla!I56","v":0}]
[{"$f":"VLOOKUP(Plantilla!$A$2,Poliductos!#REF!,2,0)","v":{"$error":"#REF!"}},"02010000","APES",{"$f":"Plantilla!I57","v":0}]
[{"$f":"VLOOKUP(Plantilla!$A$2,Poliductos!#REF!,2,0)","v":{"$error":"#REF!"}},"02010100","APES",{"$f":"Plantilla!I58","v":0}]
[{"$f":"VLOOKUP(Plantilla!$A$2,Poliductos!#REF!,2,0)","v":{"$error":"#REF!"}},"02010200","APES",{"$f":"Plantilla!I59","v":0}]
[{"$f":"VLOOKUP(Plantilla!$A$2,Poliductos!#REF!,2,0)","v":{"$error":"#REF!"}},"02010201","APES",{"$f":"Plantilla!I60","v":0}]
[{"$f":"VLOOKUP(Plantilla!$A$2,Poliductos!#REF!,2,0)","v":{"$error":"#REF!"}},"02010202","APES",{"$f":"Plantilla!I61","v":0}]
[{"$f":"VLOOKUP(Plantilla!$A$2,Poliductos!#REF!,2,0)","v":{"$error":"#REF!"}},"02010300","APES",{"$f":"Plantilla!I62","v":0}]
[{"$f":"VLOOKUP(Plantilla!$A$2,Poliductos!#REF!,2,0)","v":{"$error":"#REF!"}},"02010301","APES",{"$f":"Plantilla!I63","v":0}]
[{"$f":"VLOOKUP(Plantilla!$A$2,Poliductos!#REF!,2,0)","v":{"$error":"#REF!"}},"02010302","APES",{"$f":"Plantilla!I64","v":0}]
[{"$f":"VLOOKUP(Plantilla!$A$2,Poliductos!#REF!,2,0)","v":{"$error":"#REF!"}},"02010400","APES",{"$f":"Plantilla!I65","v":0}]
[{"$f":"VLOOKUP(Plantilla!$A$2,Poliductos!#REF!,2,0)","v":{"$error":"#REF!"}},"02010500","APES",{"$f":"Plantilla!I66","v":0}]
[{"$f":"VLOOKUP(Plantilla!$A$2,Poliductos!#REF!,2,0)","v":{"$error":"#REF!"}},"02010600","APES",{"$f":"Plantilla!I67","v":0}]
[{"$f":"VLOOKUP(Plantilla!$A$2,Poliductos!#REF!,2,0)","v":{"$error":"#REF!"}},"02010700","APES",{"$f":"Plantilla!I68","v":0}]
[{"$f":"VLOOKUP(Plantilla!$A$2,Poliductos!#REF!,2,0)","v":{"$error":"#REF!"}},"02010800","APES",{"$f":"Plantilla!I69","v":0}]
[{"$f":"VLOOKUP(Plantilla!$A$2,Poliductos!#REF!,2,0)","v":{"$error":"#REF!"}},"02010900","APES",{"$f":"Plantilla!I70","v":0}]
[{"$f":"VLOOKUP(Plantilla!$A$2,Poliductos!#REF!,2,0)","v":{"$error":"#REF!"}},"02011000","APES",{"$f":"Plantilla!I71","v":0}]
[{"$f":"VLOOKUP(Plantilla!$A$2,Poliductos!#REF!,2,0)","v":{"$error":"#REF!"}},"02020000","APES",{"$f":"Plantilla!I72","v":0}]
[{"$f":"VLOOKUP(Plantilla!$A$2,Poliductos!#REF!,2,0)","v":{"$error":"#REF!"}},"02020100","APES",{"$f":"Plantilla!I73","v":0}]
[{"$f":"VLOOKUP(Plantilla!$A$2,Poliductos!#REF!,2,0)","v":{"$error":"#REF!"}},"02020200","APES",{"$f":"Plantilla!I74","v":0}]
[{"$f":"VLOOKUP(Plantilla!$A$2,Poliductos!#REF!,2,0)","v":{"$error":"#REF!"}},"02020300","APES",{"$f":"Plantilla!I75","v":0}]
[{"$f":"VLOOKUP(Plantilla!$A$2,Poliductos!#REF!,2,0)","v":{"$error":"#REF!"}},"02020400","APES",{"$f":"Plantilla!I76","v":0}]
[{"$f":"VLOOKUP(Plantilla!$A$2,Poliductos!#REF!,2,0)","v":{"$error":"#REF!"}},"02020500","APES",{"$f":"Plantilla!I77","v":0}]
[{"$f":"VLOOKUP(Plantilla!$A$2,Poliductos!#REF!,2,0)","v":{"$error":"#REF!"}},"02020600","APES",{"$f":"Plantilla!I78","v":0}]
[{"$f":"VLOOKUP(Plantilla!$A$2,Poliductos!#REF!,2,0)","v":{"$error":"#REF!"}},"02030000","APES",{"$f":"Plantilla!I79","v":0}]
[{"$f":"VLOOKUP(Plantilla!$A$2,Poliductos!#REF!,2,0)","v":{"$error":"#REF!"}},"02030100","APES",{"$f":"Plantilla!I80","v":0}]
[{"$f":"VLOOKUP(Plantilla!$A$2,Poliductos!#REF!,2,0)","v":{"$error":"#REF!"}},"02030200","APES",{"$f":"Plantilla!I81","v":0}]
[{"$f":"VLOOKUP(Plantilla!$A$2,Poliductos!#REF!,2,0)","v":{"$error":"#REF!"}},"02030300","APES",{"$f":"Plantilla!I82","v":0}]
[{"$f":"VLOOKUP(Plantilla!$A$2,Poliductos!#REF!,2,0)","v":{"$error":"#REF!"}},"02030400","APES",{"$f":"Plantilla!I83","v":0}]
[{"$f":"VLOOKUP(Plantilla!$A$2,Poliductos!#REF!,2,0)","v":{"$error":"#REF!"}},"02040000","APES",{"$f":"Plantilla!I84","v":0}]
[{"$f":"VLOOKUP(Plantilla!$A$2,Poliductos!#REF!,2,0)","v":{"$error":"#REF!"}},"02040100","APES",{"$f":"Plantilla!I85","v":0}]
[{"$f":"VLOOKUP(Plantilla!$A$2,Poliductos!#REF!,2,0)","v":{"$error":"#REF!"}},"02040200","APES",{"$f":"Plantilla!I86","v":0}]
[{"$f":"VLOOKUP(Plantilla!$A$2,Poliductos!#REF!,2,0)","v":{"$error":"#REF!"}},"02040300","APES",{"$f":"Plantilla!I87","v":0}]
[{"$f":"VLOOKUP(Plantilla!$A$2,Poliductos!#REF!,2,0)","v":{"$error":"#REF!"}},"02050000","APES",{"$f":"Plantilla!I88","v":0}]
[{"$f":"VLOOKUP(Plantilla!$A$2,Poliductos!#REF!,2,0)","v":{"$error":"#REF!"}},"02060000","APES",{"$f":"Plantilla!I89","v":0}]
[{"$f":"VLOOKUP(Plantilla!$A$2,Poliductos!#REF!,2,0)","v":{"$error":"#REF!"}},"02060100","APES",{"$f":"Plantilla!I90","v":0}]
[{"$f":"VLOOKUP(Plantilla!$A$2,Poliductos!#REF!,2,0)","v":{"$error":"#REF!"}},"02060200","APES",{"$f":"Plantilla!I91","v":0}]
[{"$f":"VLOOKUP(Plantilla!$A$2,Poliductos!#REF!,2,0)","v":{"$error":"#REF!"}},"02060300","APES",{"$f":"Plantilla!I92","v":0}]
[{"$f":"VLOOKUP(Plantilla!$A$2,Poliductos!#REF!,2,0)","v":{"$error":"#REF!"}},"02070000","APES",{"$f":"Plantilla!I93","v":0}]
[{"$f":"VLOOKUP(Plantilla!$A$2,Poliductos!#REF!,2,0)","v":{"$error":"#REF!"}},"02080000","APES",{"$f":"Plantilla!I94","v":0}]
[{"$f":"VLOOKUP(Plantilla!$A$2,Poliductos!#REF!,2,0)","v":{"$error":"#REF!"}},"02090000","APES",{"$f":"Plantilla!I95","v":0}]
[{"$f":"VLOOKUP(Plantilla!$A$2,Poliductos!#REF!,2,0)","v":{"$error":"#REF!"}},"02090100","APES",{"$f":"Plantilla!I96","v":0}]
[{"$f":"VLOOKUP(Plantilla!$A$2,Poliductos!#REF!,2,0)","v":{"$error":"#REF!"}},"02090200","APES",{"$f":"Plantilla!I97","v":0}]
[{"$f":"VLOOKUP(Plantilla!$A$2,Poliductos!#REF!,2,0)","v":{"$error":"#REF!"}},"02090300","APES",{"$f":"Plantilla!I98","v":0}]
[{"$f":"VLOOKUP(Plantilla!$A$2,Poliductos!#REF!,2,0)","v":{"$error":"#REF!"}},"02090400","APES",{"$f":"Plantilla!I99","v":0}]
[{"$f":"VLOOKUP(Plantilla!$A$2,Poliductos!#REF!,2,0)","v":{"$error":"#REF!"}},"02090500","APES",{"$f":"Plantilla!I100","v":0}]
[{"$f":"VLOOKUP(Plantilla!$A$2,Poliductos!#REF!,2,0)","v":{"$error":"#REF!"}},"02090600","APES",{"$f":"Plantilla!I101","v":0}]
[{"$f":"VLOOKUP(Plantilla!$A$2,Poliductos!#REF!,2,0)","v":{"$error":"#REF!"}},"02100000","APES",{"$f":"Plantilla!I102","v":0}]
[{"$f":"VLOOKUP(Plantilla!$A$2,Poliductos!#REF!,2,0)","v":{"$error":"#REF!"}},"02100100","APES",{"$f":"Plantilla!I103","v":0}]
[{"$f":"VLOOKUP(Plantilla!$A$2,Poliductos!#REF!,2,0)","v":{"$error":"#REF!"}},"02100200","APES",{"$f":"Plantilla!I104","v":0}]
[{"$f":"VLOOKUP(Plantilla!$A$2,Poliductos!#REF!,2,0)","v":{"$error":"#REF!"}},"02100300","APES",{"$f":"Plantilla!I105","v":0}]
[{"$f":"VLOOKUP(Plantilla!$A$2,Poliductos!#REF!,2,0)","v":{"$error":"#REF!"}},"02100400","APES",{"$f":"Plantilla!I106","v":0}]
[{"$f":"VLOOKUP(Plantilla!$A$2,Poliductos!#REF!,2,0)","v":{"$error":"#REF!"}},"02110000","APES",{"$f":"Plantilla!I107","v":0}]
[{"$f":"VLOOKUP(Plantilla!$A$2,Poliductos!#REF!,2,0)","v":{"$error":"#REF!"}},"02110100","APES",{"$f":"Plantilla!I108","v":0}]
[{"$f":"VLOOKUP(Plantilla!$A$2,Poliductos!#REF!,2,0)","v":{"$error":"#REF!"}},"02110200","APES",{"$f":"Plantilla!I109","v":0}]
[{"$f":"VLOOKUP(Plantilla!$A$2,Poliductos!#REF!,2,0)","v":{"$error":"#REF!"}},"02110300","APES",{"$f":"Plantilla!I110","v":0}]
[{"$f":"VLOOKUP(Plantilla!$A$2,Poliductos!#REF!,2,0)","v":{"$error":"#REF!"}},"02110400","APES",{"$f":"Plantilla!I111","v":0}]
[{"$f":"VLOOKUP(Plantilla!$A$2,Poliductos!#REF!,2,0)","v":{"$error":"#REF!"}},"02110500","APES",{"$f":"Plantilla!I112","v":0}]
[{"$f":"VLOOKUP(Plantilla!$A$2,Poliductos!#REF!,2,0)","v":{"$error":"#REF!"}},"02120000","APES",{"$f":"Plantilla!I113","v":0}]
[{"$f":"VLOOKUP(Plantilla!$A$2,Poliductos!#REF!,2,0)","v":{"$error":"#REF!"}},"02130000","APES",{"$f":"Plantilla!I114","v":0}]
[{"$f":"VLOOKUP(Plantilla!$A$2,Poliductos!#REF!,2,0)","v":{"$error":"#REF!"}},"02130100","APES",{"$f":"Plantilla!I115","v":0}]
[{"$f":"VLOOKUP(Plantilla!$A$2,Poliductos!#REF!,2,0)","v":{"$error":"#REF!"}},"02130200","APES",{"$f":"Plantilla!I116","v":0}]
[{"$f":"VLOOKUP(Plantilla!$A$2,Poliductos!#REF!,2,0)","v":{"$error":"#REF!"}},"02130300","APES",{"$f":"Plantilla!I117","v":0}]
[{"$f":"VLOOKUP(Plantilla!$A$2,Poliductos!#REF!,2,0)","v":{"$error":"#REF!"}},"02130400","APES",{"$f":"Plantilla!I118","v":0}]
[{"$f":"VLOOKUP(Plantilla!$A$2,Poliductos!#REF!,2,0)","v":{"$error":"#REF!"}},"02130500","APES",{"$f":"Plantilla!I119","v":0}]
[{"$f":"VLOOKUP(Plantilla!$A$2,Poliductos!#REF!,2,0)","v":{"$error":"#REF!"}},"02130600","APES",{"$f":"Plantilla!I120","v":0}]
[{"$f":"VLOOKUP(Plantilla!$A$2,Poliductos!#REF!,2,0)","v":{"$error":"#REF!"}},"02140000","APES",{"$f":"Plantilla!I121","v":0}]
[{"$f":"VLOOKUP(Plantilla!$A$2,Poliductos!#REF!,2,0)","v":{"$error":"#REF!"}},"02140100","APES",{"$f":"Plantilla!I122","v":0}]
[{"$f":"VLOOKUP(Plantilla!$A$2,Poliductos!#REF!,2,0)","v":{"$error":"#REF!"}},"02140200","APES",{"$f":"Plantilla!I123","v":0}]
[{"$f":"VLOOKUP(Plantilla!$A$2,Poliductos!#REF!,2,0)","v":{"$error":"#REF!"}},"02150000","APES",{"$f":"Plantilla!I124","v":0}]
[{"$f":"VLOOKUP(Plantilla!$A$2,Poliductos!#REF!,2,0)","v":{"$error":"#REF!"}},"02150100","APES",{"$f":"Plantilla!I125","v":0}]
[{"$f":"VLOOKUP(Plantilla!$A$2,Poliductos!#REF!,2,0)","v":{"$error":"#REF!"}},"02150200","APES",{"$f":"Plantilla!I126","v":0}]
[{"$f":"VLOOKUP(Plantilla!$A$2,Poliductos!#REF!,2,0)","v":{"$error":"#REF!"}},"02150300","APES",{"$f":"Plantilla!I127","v":0}]
[{"$f":"VLOOKUP(Plantilla!$A$2,Poliductos!#REF!,2,0)","v":{"$error":"#REF!"}},"02150400","APES",{"$f":"Plantilla!I128","v":0}]
[{"$f":"VLOOKUP(Plantilla!$A$2,Poliductos!#REF!,2,0)","v":{"$error":"#REF!"}},"02150500","APES",{"$f":"Plantilla!I129","v":0}]
[{"$f":"VLOOKUP(Plantilla!$A$2,Poliductos!#REF!,2,0)","v":{"$error":"#REF!"}},"02150600","APES",{"$f":"Plantilla!I130","v":0}]
[{"$f":"VLOOKUP(Plantilla!$A$2,Poliductos!#REF!,2,0)","v":{"$error":"#REF!"}},"02150700","APES",{"$f":"Plantilla!I131","v":0}]
[{"$f":"VLOOKUP(Plantilla!$A$2,Poliductos!#REF!,2,0)","v":{"$error":"#REF!"}},"02150800","APES",{"$f":"Plantilla!I132","v":0}]
[{"$f":"VLOOKUP(Plantilla!$A$2,Poliductos!#REF!,2,0)","v":{"$error":"#REF!"}},"02160000","APES",{"$f":"Plantilla!I136","v":0}]
[{"$f":"VLOOKUP(Plantilla!$A$2,Poliductos!#REF!,2,0)","v":{"$error":"#REF!"}},"02160100","APES",{"$f":"Plantilla!I137","v":0}]
[{"$f":"VLOOKUP(Plantilla!$A$2,Poliductos!#REF!,2,0)","v":{"$error":"#REF!"}},"02160200","APES",{"$f":"Plantilla!I138","v":0}]
[{"$f":"VLOOKUP(Plantilla!$A$2,Poliductos!#REF!,2,0)","v":{"$error":"#REF!"}},"01000000","AOLEO",{"$f":"Plantilla!J4","v":0}]
[{"$f":"VLOOKUP(Plantilla!$A$2,Poliductos!#REF!,2,0)","v":{"$error":"#REF!"}},"01010000","AOLEO",{"$f":"Plantilla!J5","v":0}]
[{"$f":"VLOOKUP(Plantilla!$A$2,Poliductos!#REF!,2,0)","v":{"$error":"#REF!"}},"01010100","AOLEO",{"$f":"Plantilla!J6","v":0}]
[{"$f":"VLOOKUP(Plantilla!$A$2,Poliductos!#REF!,2,0)","v":{"$error":"#REF!"}},"01010200","AOLEO",{"$f":"Plantilla!J7","v":0}]
[{"$f":"VLOOKUP(Plantilla!$A$2,Poliductos!#REF!,2,0)","v":{"$error":"#REF!"}},"01010201","AOLEO",{"$f":"Plantilla!J8","v":0}]
[{"$f":"VLOOKUP(Plantilla!$A$2,Poliductos!#REF!,2,0)","v":{"$error":"#REF!"}},"01010202","AOLEO",{"$f":"Plantilla!J9","v":0}]
[{"$f":"VLOOKUP(Plantilla!$A$2,Poliductos!#REF!,2,0)","v":{"$error":"#REF!"}},"01010300","AOLEO",{"$f":"Plantilla!J10","v":0}]
[{"$f":"VLOOKUP(Plantilla!$A$2,Poliductos!#REF!,2,0)","v":{"$error":"#REF!"}},"01010301","AOLEO",{"$f":"Plantilla!J11","v":0}]
[{"$f":"VLOOKUP(Plantilla!$A$2,Poliductos!#REF!,2,0)","v":{"$error":"#REF!"}},"01010302","AOLEO",{"$f":"Plantilla!J12","v":0}]
[{"$f":"VLOOKUP(Plantilla!$A$2,Poliductos!#REF!,2,0)","v":{"$error":"#REF!"}},"01010400","AOLEO",{"$f":"Plantilla!J13","v":0}]
[{"$f":"VLOOKUP(Plantilla!$A$2,Poliductos!#REF!,2,0)","v":{"$error":"#REF!"}},"01010500","AOLEO",{"$f":"Plantilla!J14","v":0}]
[{"$f":"VLOOKUP(Plantilla!$A$2,Poliductos!#REF!,2,0)","v":{"$error":"#REF!"}},"01010600","AOLEO",{"$f":"Plantilla!J15","v":0}]
[{"$f":"VLOOKUP(Plantilla!$A$2,Poliductos!#REF!,2,0)","v":{"$error":"#REF!"}},"01010700","AOLEO",{"$f":"Plantilla!J16","v":0}]
[{"$f":"VLOOKUP(Plantilla!$A$2,Poliductos!#REF!,2,0)","v":{"$error":"#REF!"}},"01010800","AOLEO",{"$f":"Plantilla!J17","v":0}]
[{"$f":"VLOOKUP(Plantilla!$A$2,Poliductos!#REF!,2,0)","v":{"$error":"#REF!"}},"01010900","AOLEO",{"$f":"Plantilla!J18","v":0}]
[{"$f":"VLOOKUP(Plantilla!$A$2,Poliductos!#REF!,2,0)","v":{"$error":"#REF!"}},"01011000","AOLEO",{"$f":"Plantilla!J19","v":0}]
[{"$f":"VLOOKUP(Plantilla!$A$2,Poliductos!#REF!,2,0)","v":{"$error":"#REF!"}},"01020000","AOLEO",{"$f":"Plantilla!J20","v":0}]
[{"$f":"VLOOKUP(Plantilla!$A$2,Poliductos!#REF!,2,0)","v":{"$error":"#REF!"}},"01020100","AOLEO",{"$f":"Plantilla!J21","v":0}]
[{"$f":"VLOOKUP(Plantilla!$A$2,Poliductos!#REF!,2,0)","v":{"$error":"#REF!"}},"01020200","AOLEO",{"$f":"Plantilla!J22","v":0}]
[{"$f":"VLOOKUP(Plantilla!$A$2,Poliductos!#REF!,2,0)","v":{"$error":"#REF!"}},"01020300","AOLEO",{"$f":"Plantilla!J23","v":0}]
[{"$f":"VLOOKUP(Plantilla!$A$2,Poliductos!#REF!,2,0)","v":{"$error":"#REF!"}},"01020400","AOLEO",{"$f":"Plantilla!J24","v":0}]
[{"$f":"VLOOKUP(Plantilla!$A$2,Poliductos!#REF!,2,0)","v":{"$error":"#REF!"}},"01020500","AOLEO",{"$f":"Plantilla!J25","v":0}]
[{"$f":"VLOOKUP(Plantilla!$A$2,Poliductos!#REF!,2,0)","v":{"$error":"#REF!"}},"01020600","AOLEO",{"$f":"Plantilla!J26","v":0}]
[{"$f":"VLOOKUP(Plantilla!$A$2,Poliductos!#REF!,2,0)","v":{"$error":"#REF!"}},"01020700","AOLEO",{"$f":"Plantilla!J27","v":0}]
[{"$f":"VLOOKUP(Plantilla!$A$2,Poliductos!#REF!,2,0)","v":{"$error":"#REF!"}},"01030000","AOLEO",{"$f":"Plantilla!J29","v":0}]
[{"$f":"VLOOKUP(Plantilla!$A$2,Poliductos!#REF!,2,0)","v":{"$error":"#REF!"}},"01030100","AOLEO",{"$f":"Plantilla!J30","v":0}]
[{"$f":"VLOOKUP(Plantilla!$A$2,Poliductos!#REF!,2,0)","v":{"$error":"#REF!"}},"01030200","AOLEO",{"$f":"Plantilla!J31","v":0}]
[{"$f":"VLOOKUP(Plantilla!$A$2,Poliductos!#REF!,2,0)","v":{"$error":"#REF!"}},"01030300","AOLEO",{"$f":"Plantilla!J32","v":0}]
[{"$f":"VLOOKUP(Plantilla!$A$2,Poliductos!#REF!,2,0)","v":{"$error":"#REF!"}},"01030400","AOLEO",{"$f":"Plantilla!J33","v":0}]
[{"$f":"VLOOKUP(Plantilla!$A$2,Poliductos!#REF!,2,0)","v":{"$error":"#REF!"}},"01030500","AOLEO",{"$f":"Plantilla!J34","v":0}]
[{"$f":"VLOOKUP(Plantilla!$A$2,Poliductos!#REF!,2,0)","v":{"$error":"#REF!"}},"01030600","AOLEO",{"$f":"Plantilla!J35","v":0}]
[{"$f":"VLOOKUP(Plantilla!$A$2,Poliductos!#REF!,2,0)","v":{"$error":"#REF!"}},"01030700","AOLEO",{"$f":"Plantilla!J36","v":0}]
[{"$f":"VLOOKUP(Plantilla!$A$2,Poliductos!#REF!,2,0)","v":{"$error":"#REF!"}},"01030800","AOLEO",{"$f":"Plantilla!J37","v":0}]
[{"$f":"VLOOKUP(Plantilla!$A$2,Poliductos!#REF!,2,0)","v":{"$error":"#REF!"}},"01030900","AOLEO",{"$f":"Plantilla!J38","v":0}]
[{"$f":"VLOOKUP(Plantilla!$A$2,Poliductos!#REF!,2,0)","v":{"$error":"#REF!"}},"01031000","AOLEO",{"$f":"Plantilla!J39","v":0}]
[{"$f":"VLOOKUP(Plantilla!$A$2,Poliductos!#REF!,2,0)","v":{"$error":"#REF!"}},"01031100","AOLEO",{"$f":"Plantilla!J40","v":0}]
[{"$f":"VLOOKUP(Plantilla!$A$2,Poliductos!#REF!,2,0)","v":{"$error":"#REF!"}},"01040000","AOLEO",{"$f":"Plantilla!J41","v":0}]
[{"$f":"VLOOKUP(Plantilla!$A$2,Poliductos!#REF!,2,0)","v":{"$error":"#REF!"}},"01050000","AOLEO",{"$f":"Plantilla!J42","v":0}]
[{"$f":"VLOOKUP(Plantilla!$A$2,Poliductos!#REF!,2,0)","v":{"$error":"#REF!"}},"01060000","AOLEO",{"$f":"Plantilla!J43","v":0}]
[{"$f":"VLOOKUP(Plantilla!$A$2,Poliductos!#REF!,2,0)","v":{"$error":"#REF!"}},"01060100","AOLEO",{"$f":"Plantilla!J44","v":0}]
[{"$f":"VLOOKUP(Plantilla!$A$2,Poliductos!#REF!,2,0)","v":{"$error":"#REF!"}},"01060200","AOLEO",{"$f":"Plantilla!J45","v":0}]
[{"$f":"VLOOKUP(Plantilla!$A$2,Poliductos!#REF!,2,0)","v":{"$error":"#REF!"}},"01060201","AOLEO",{"$f":"Plantilla!J46","v":0}]
[{"$f":"VLOOKUP(Plantilla!$A$2,Poliductos!#REF!,2,0)","v":{"$error":"#REF!"}},"01060202","AOLEO",{"$f":"Plantilla!J47","v":0}]
[{"$f":"VLOOKUP(Plantilla!$A$2,Poliductos!#REF!,2,0)","v":{"$error":"#REF!"}},"01060203","AOLEO",{"$f":"Plantilla!J48","v":0}]
[{"$f":"VLOOKUP(Plantilla!$A$2,Poliductos!#REF!,2,0)","v":{"$error":"#REF!"}},"01060300","AOLEO",{"$f":"Plantilla!J49","v":0}]
[{"$f":"VLOOKUP(Plantilla!$A$2,Poliductos!#REF!,2,0)","v":{"$error":"#REF!"}},"01060400","AOLEO",{"$f":"Plantilla!J50","v":0}]
[{"$f":"VLOOKUP(Plantilla!$A$2,Poliductos!#REF!,2,0)","v":{"$error":"#REF!"}},"01070000","AOLEO",{"$f":"Plantilla!J51","v":0}]
[{"$f":"VLOOKUP(Plantilla!$A$2,Poliductos!#REF!,2,0)","v":{"$error":"#REF!"}},"01070100","AOLEO",{"$f":"Plantilla!J52","v":0}]
[{"$f":"VLOOKUP(Plantilla!$A$2,Poliductos!#REF!,2,0)","v":{"$error":"#REF!"}},"01070200","AOLEO",{"$f":"Plantilla!J53","v":0}]
[{"$f":"VLOOKUP(Plantilla!$A$2,Poliductos!#REF!,2,0)","v":{"$error":"#REF!"}},"01070300","AOLEO",{"$f":"Plantilla!J54","v":0}]
[{"$f":"VLOOKUP(Plantilla!$A$2,Poliductos!#REF!,2,0)","v":{"$error":"#REF!"}},"01070400","AOLEO",{"$f":"Plantilla!J55","v":0}]
[{"$f":"VLOOKUP(Plantilla!$A$2,Poliductos!#REF!,2,0)","v":{"$error":"#REF!"}},"02000000","AOLEO",{"$f":"Plantilla!J56","v":0}]
[{"$f":"VLOOKUP(Plantilla!$A$2,Poliductos!#REF!,2,0)","v":{"$error":"#REF!"}},"02010000","AOLEO",{"$f":"Plantilla!J57","v":0}]
[{"$f":"VLOOKUP(Plantilla!$A$2,Poliductos!#REF!,2,0)","v":{"$error":"#REF!"}},"02010100","AOLEO",{"$f":"Plantilla!J58","v":0}]
[{"$f":"VLOOKUP(Plantilla!$A$2,Poliductos!#REF!,2,0)","v":{"$error":"#REF!"}},"02010200","AOLEO",{"$f":"Plantilla!J59","v":0}]
[{"$f":"VLOOKUP(Plantilla!$A$2,Poliductos!#REF!,2,0)","v":{"$error":"#REF!"}},"02010201","AOLEO",{"$f":"Plantilla!J60","v":0}]
[{"$f":"VLOOKUP(Plantilla!$A$2,Poliductos!#REF!,2,0)","v":{"$error":"#REF!"}},"02010202","AOLEO",{"$f":"Plantilla!J61","v":0}]
[{"$f":"VLOOKUP(Plantilla!$A$2,Poliductos!#REF!,2,0)","v":{"$error":"#REF!"}},"02010300","AOLEO",{"$f":"Plantilla!J62","v":0}]
[{"$f":"VLOOKUP(Plantilla!$A$2,Poliductos!#REF!,2,0)","v":{"$error":"#REF!"}},"02010301","AOLEO",{"$f":"Plantilla!J63","v":0}]
[{"$f":"VLOOKUP(Plantilla!$A$2,Poliductos!#REF!,2,0)","v":{"$error":"#REF!"}},"02010302","AOLEO",{"$f":"Plantilla!J64","v":0}]
[{"$f":"VLOOKUP(Plantilla!$A$2,Poliductos!#REF!,2,0)","v":{"$error":"#REF!"}},"02010400","AOLEO",{"$f":"Plantilla!J65","v":0}]
[{"$f":"VLOOKUP(Plantilla!$A$2,Poliductos!#REF!,2,0)","v":{"$error":"#REF!"}},"02010500","AOLEO",{"$f":"Plantilla!J66","v":0}]
[{"$f":"VLOOKUP(Plantilla!$A$2,Poliductos!#REF!,2,0)","v":{"$error":"#REF!"}},"02010600","AOLEO",{"$f":"Plantilla!J67","v":0}]
[{"$f":"VLOOKUP(Plantilla!$A$2,Poliductos!#REF!,2,0)","v":{"$error":"#REF!"}},"02010700","AOLEO",{"$f":"Plantilla!J68","v":0}]
[{"$f":"VLOOKUP(Plantilla!$A$2,Poliductos!#REF!,2,0)","v":{"$error":"#REF!"}},"02010800","AOLEO",{"$f":"Plantilla!J69","v":0}]
[{"$f":"VLOOKUP(Plantilla!$A$2,Poliductos!#REF!,2,0)","v":{"$error":"#REF!"}},"02010900","AOLEO",{"$f":"Plantilla!J70","v":0}]
[{"$f":"VLOOKUP(Plantilla!$A$2,Poliductos!#REF!,2,0)","v":{"$error":"#REF!"}},"02011000","AOLEO",{"$f":"Plantilla!J71","v":0}]
[{"$f":"VLOOKUP(Plantilla!$A$2,Poliductos!#REF!,2,0)","v":{"$error":"#REF!"}},"02020000","AOLEO",{"$f":"Plantilla!J72","v":0}]
[{"$f":"VLOOKUP(Plantilla!$A$2,Poliductos!#REF!,2,0)","v":{"$error":"#REF!"}},"02020100","AOLEO",{"$f":"Plantilla!J73","v":0}]
[{"$f":"VLOOKUP(Plantilla!$A$2,Poliductos!#REF!,2,0)","v":{"$error":"#REF!"}},"02020200","AOLEO",{"$f":"Plantilla!J74","v":0}]
[{"$f":"VLOOKUP(Plantilla!$A$2,Poliductos!#REF!,2,0)","v":{"$error":"#REF!"}},"02020300","AOLEO",{"$f":"Plantilla!J75","v":0}]
[{"$f":"VLOOKUP(Plantilla!$A$2,Poliductos!#REF!,2,0)","v":{"$error":"#REF!"}},"02020400","AOLEO",{"$f":"Plantilla!J76","v":0}]
[{"$f":"VLOOKUP(Plantilla!$A$2,Poliductos!#REF!,2,0)","v":{"$error":"#REF!"}},"02020500","AOLEO",{"$f":"Plantilla!J77","v":0}]
[{"$f":"VLOOKUP(Plantilla!$A$2,Poliductos!#REF!,2,0)","v":{"$error":"#REF!"}},"02020600","AOLEO",{"$f":"Plantilla!J78","v":0}]
[{"$f":"VLOOKUP(Plantilla!$A$2,Poliductos!#REF!,2,0)","v":{"$error":"#REF!"}},"02030000","AOLEO",{"$f":"Plantilla!J79","v":0}]
[{"$f":"VLOOKUP(Plantilla!$A$2,Poliductos!#REF!,2,0)","v":{"$error":"#REF!"}},"02030100","AOLEO",{"$f":"Plantilla!J80","v":0}]
[{"$f":"VLOOKUP(Plantilla!$A$2,Poliductos!#REF!,2,0)","v":{"$error":"#REF!"}},"02030200","AOLEO",{"$f":"Plantilla!J81","v":0}]
[{"$f":"VLOOKUP(Plantilla!$A$2,Poliductos!#REF!,2,0)","v":{"$error":"#REF!"}},"02030300","AOLEO",{"$f":"Plantilla!J82","v":0}]
[{"$f":"VLOOKUP(Plantilla!$A$2,Poliductos!#REF!,2,0)","v":{"$error":"#REF!"}},"02030400","AOLEO",{"$f":"Plantilla!J83","v":0}]
[{"$f":"VLOOKUP(Plantilla!$A$2,Poliductos!#REF!,2,0)","v":{"$error":"#REF!"}},"02040000","AOLEO",{"$f":"Plantilla!J84","v":0}]
[{"$f":"VLOOKUP(Plantilla!$A$2,Poliductos!#REF!,2,0)","v":{"$error":"#REF!"}},"02040100","AOLEO",{"$f":"Plantilla!J85","v":0}]
[{"$f":"VLOOKUP(Plantilla!$A$2,Poliductos!#REF!,2,0)","v":{"$error":"#REF!"}},"02040200","AOLEO",{"$f":"Plantilla!J86","v":0}]
[{"$f":"VLOOKUP(Plantilla!$A$2,Poliductos!#REF!,2,0)","v":{"$error":"#REF!"}},"02040300","AOLEO",{"$f":"Plantilla!J87","v":0}]
[{"$f":"VLOOKUP(Plantilla!$A$2,Poliductos!#REF!,2,0)","v":{"$error":"#REF!"}},"02050000","AOLEO",{"$f":"Plantilla!J88","v":0}]
[{"$f":"VLOOKUP(Plantilla!$A$2,Poliductos!#REF!,2,0)","v":{"$error":"#REF!"}},"02060000","AOLEO",{"$f":"Plantilla!J89","v":0}]
[{"$f":"VLOOKUP(Plantilla!$A$2,Poliductos!#REF!,2,0)","v":{"$error":"#REF!"}},"02060100","AOLEO",{"$f":"Plantilla!J90","v":0}]
[{"$f":"VLOOKUP(Plantilla!$A$2,Poliductos!#REF!,2,0)","v":{"$error":"#REF!"}},"02060200","AOLEO",{"$f":"Plantilla!J91","v":0}]
[{"$f":"VLOOKUP(Plantilla!$A$2,Poliductos!#REF!,2,0)","v":{"$error":"#REF!"}},"02060300","AOLEO",{"$f":"Plantilla!J92","v":0}]
[{"$f":"VLOOKUP(Plantilla!$A$2,Poliductos!#REF!,2,0)","v":{"$error":"#REF!"}},"02070000","AOLEO",{"$f":"Plantilla!J93","v":0}]
[{"$f":"VLOOKUP(Plantilla!$A$2,Poliductos!#REF!,2,0)","v":{"$error":"#REF!"}},"02080000","AOLEO",{"$f":"Plantilla!J94","v":0}]
[{"$f":"VLOOKUP(Plantilla!$A$2,Poliductos!#REF!,2,0)","v":{"$error":"#REF!"}},"02090000","AOLEO",{"$f":"Plantilla!J95","v":0}]
[{"$f":"VLOOKUP(Plantilla!$A$2,Poliductos!#REF!,2,0)","v":{"$error":"#REF!"}},"02090100","AOLEO",{"$f":"Plantilla!J96","v":0}]
[{"$f":"VLOOKUP(Plantilla!$A$2,Poliductos!#REF!,2,0)","v":{"$error":"#REF!"}},"02090200","AOLEO",{"$f":"Plantilla!J97","v":0}]
[{"$f":"VLOOKUP(Plantilla!$A$2,Poliductos!#REF!,2,0)","v":{"$error":"#REF!"}},"02090300","AOLEO",{"$f":"Plantilla!J98","v":0}]
[{"$f":"VLOOKUP(Plantilla!$A$2,Poliductos!#REF!,2,0)","v":{"$error":"#REF!"}},"02090400","AOLEO",{"$f":"Plantilla!J99","v":0}]
[{"$f":"VLOOKUP(Plantilla!$A$2,Poliductos!#REF!,2,0)","v":{"$error":"#REF!"}},"02090500","AOLEO",{"$f":"Plantilla!J100","v":0}]
[{"$f":"VLOOKUP(Plantilla!$A$2,Poliductos!#REF!,2,0)","v":{"$error":"#REF!"}},"02090600","AOLEO",{"$f":"Plantilla!J101","v":0}]
[{"$f":"VLOOKUP(Plantilla!$A$2,Poliductos!#REF!,2,0)","v":{"$error":"#REF!"}},"02100000","AOLEO",{"$f":"Plantilla!J102","v":0}]
[{"$f":"VLOOKUP(Plantilla!$A$2,Poliductos!#REF!,2,0)","v":{"$error":"#REF!"}},"02100100","AOLEO",{"$f":"Plantilla!J103","v":0}]
[{"$f":"VLOOKUP(Plantilla!$A$2,Poliductos!#REF!,2,0)","v":{"$error":"#REF!"}},"02100200","AOLEO",{"$f":"Plantilla!J104","v":0}]
[{"$f":"VLOOKUP(Plantilla!$A$2,Poliductos!#REF!,2,0)","v":{"$error":"#REF!"}},"02100300","AOLEO",{"$f":"Plantilla!J105","v":0}]
[{"$f":"VLOOKUP(Plantilla!$A$2,Poliductos!#REF!,2,0)","v":{"$error":"#REF!"}},"02100400","AOLEO",{"$f":"Plantilla!J106","v":0}]
[{"$f":"VLOOKUP(Plantilla!$A$2,Poliductos!#REF!,2,0)","v":{"$error":"#REF!"}},"02110000","AOLEO",{"$f":"Plantilla!J107","v":0}]
[{"$f":"VLOOKUP(Plantilla!$A$2,Poliductos!#REF!,2,0)","v":{"$error":"#REF!"}},"02110100","AOLEO",{"$f":"Plantilla!J108","v":0}]
[{"$f":"VLOOKUP(Plantilla!$A$2,Poliductos!#REF!,2,0)","v":{"$error":"#REF!"}},"02110200","AOLEO",{"$f":"Plantilla!J109","v":0}]
[{"$f":"VLOOKUP(Plantilla!$A$2,Poliductos!#REF!,2,0)","v":{"$error":"#REF!"}},"02110300","AOLEO",{"$f":"Plantilla!J110","v":0}]
[{"$f":"VLOOKUP(Plantilla!$A$2,Poliductos!#REF!,2,0)","v":{"$error":"#REF!"}},"02110400","AOLEO",{"$f":"Plantilla!J111","v":0}]
[{"$f":"VLOOKUP(Plantilla!$A$2,Poliductos!#REF!,2,0)","v":{"$error":"#REF!"}},"02110500","AOLEO",{"$f":"Plantilla!J112","v":0}]
[{"$f":"VLOOKUP(Plantilla!$A$2,Poliductos!#REF!,2,0)","v":{"$error":"#REF!"}},"02120000","AOLEO",{"$f":"Plantilla!J113","v":0}]
[{"$f":"VLOOKUP(Plantilla!$A$2,Poliductos!#REF!,2,0)","v":{"$error":"#REF!"}},"02130000","AOLEO",{"$f":"Plantilla!J114","v":0}]
[{"$f":"VLOOKUP(Plantilla!$A$2,Poliductos!#REF!,2,0)","v":{"$error":"#REF!"}},"02130100","AOLEO",{"$f":"Plantilla!J115","v":0}]
[{"$f":"VLOOKUP(Plantilla!$A$2,Poliductos!#REF!,2,0)","v":{"$error":"#REF!"}},"02130200","AOLEO",{"$f":"Plantilla!J116","v":0}]
[{"$f":"VLOOKUP(Plantilla!$A$2,Poliductos!#REF!,2,0)","v":{"$error":"#REF!"}},"02130300","AOLEO",{"$f":"Plantilla!J117","v":0}]
[{"$f":"VLOOKUP(Plantilla!$A$2,Poliductos!#REF!,2,0)","v":{"$error":"#REF!"}},"02130400","AOLEO",{"$f":"Plantilla!J118","v":0}]
[{"$f":"VLOOKUP(Plantilla!$A$2,Poliductos!#REF!,2,0)","v":{"$error":"#REF!"}},"02130500","AOLEO",{"$f":"Plantilla!J119","v":0}]
[{"$f":"VLOOKUP(Plantilla!$A$2,Poliductos!#REF!,2,0)","v":{"$error":"#REF!"}},"02130600","AOLEO",{"$f":"Plantilla!J120","v":0}]
[{"$f":"VLOOKUP(Plantilla!$A$2,Poliductos!#REF!,2,0)","v":{"$error":"#REF!"}},"02140000","AOLEO",{"$f":"Plantilla!J121","v":0}]
[{"$f":"VLOOKUP(Plantilla!$A$2,Poliductos!#REF!,2,0)","v":{"$error":"#REF!"}},"02140100","AOLEO",{"$f":"Plantilla!J122","v":0}]
[{"$f":"VLOOKUP(Plantilla!$A$2,Poliductos!#REF!,2,0)","v":{"$error":"#REF!"}},"02140200","AOLEO",{"$f":"Plantilla!J123","v":0}]
[{"$f":"VLOOKUP(Plantilla!$A$2,Poliductos!#REF!,2,0)","v":{"$error":"#REF!"}},"02150000","AOLEO",{"$f":"Plantilla!J124","v":0}]
[{"$f":"VLOOKUP(Plantilla!$A$2,Poliductos!#REF!,2,0)","v":{"$error":"#REF!"}},"02150100","AOLEO",{"$f":"Plantilla!J125","v":0}]
[{"$f":"VLOOKUP(Plantilla!$A$2,Poliductos!#REF!,2,0)","v":{"$error":"#REF!"}},"02150200","AOLEO",{"$f":"Plantilla!J126","v":0}]
[{"$f":"VLOOKUP(Plantilla!$A$2,Poliductos!#REF!,2,0)","v":{"$error":"#REF!"}},"02150300","AOLEO",{"$f":"Plantilla!J127","v":0}]
[{"$f":"VLOOKUP(Plantilla!$A$2,Poliductos!#REF!,2,0)","v":{"$error":"#REF!"}},"02150400","AOLEO",{"$f":"Plantilla!J128","v":0}]
[{"$f":"VLOOKUP(Plantilla!$A$2,Poliductos!#REF!,2,0)","v":{"$error":"#REF!"}},"02150500","AOLEO",{"$f":"Plantilla!J129","v":0}]
[{"$f":"VLOOKUP(Plantilla!$A$2,Poliductos!#REF!,2,0)","v":{"$error":"#REF!"}},"02150600","AOLEO",{"$f":"Plantilla!J130","v":0}]
[{"$f":"VLOOKUP(Plantilla!$A$2,Poliductos!#REF!,2,0)","v":{"$error":"#REF!"}},"02150700","AOLEO",{"$f":"Plantilla!J131","v":0}]
[{"$f":"VLOOKUP(Plantilla!$A$2,Poliductos!#REF!,2,0)","v":{"$error":"#REF!"}},"02150800","AOLEO",{"$f":"Plantilla!J132","v":0}]
[{"$f":"VLOOKUP(Plantilla!$A$2,Poliductos!#REF!,2,0)","v":{"$error":"#REF!"}},"02160000","AOLEO",{"$f":"Plantilla!J136","v":0}]
[{"$f":"VLOOKUP(Plantilla!$A$2,Poliductos!#REF!,2,0)","v":{"$error":"#REF!"}},"02160100","AOLEO",{"$f":"Plantilla!J137","v":0}]
[{"$f":"VLOOKUP(Plantilla!$A$2,Poliductos!#REF!,2,0)","v":{"$error":"#REF!"}},"02160200","AOLEO",{"$f":"Plantilla!J138","v":0}]
[{"$f":"VLOOKUP(Plantilla!$A$2,Poliductos!#REF!,2,0)","v":{"$error":"#REF!"}},"01000000","APLCD",{"$f":"Plantilla!K4","v":0}]
[{"$f":"VLOOKUP(Plantilla!$A$2,Poliductos!#REF!,2,0)","v":{"$error":"#REF!"}},"01010000","APLCD",{"$f":"Plantilla!K5","v":0}]
[{"$f":"VLOOKUP(Plantilla!$A$2,Poliductos!#REF!,2,0)","v":{"$error":"#REF!"}},"01010100","APLCD",{"$f":"Plantilla!K6","v":0}]
[{"$f":"VLOOKUP(Plantilla!$A$2,Poliductos!#REF!,2,0)","v":{"$error":"#REF!"}},"01010200","APLCD",{"$f":"Plantilla!K7","v":0}]
[{"$f":"VLOOKUP(Plantilla!$A$2,Poliductos!#REF!,2,0)","v":{"$error":"#REF!"}},"01010201","APLCD",{"$f":"Plantilla!K8","v":0}]
[{"$f":"VLOOKUP(Plantilla!$A$2,Poliductos!#REF!,2,0)","v":{"$error":"#REF!"}},"01010202","APLCD",{"$f":"Plantilla!K9","v":0}]
[{"$f":"VLOOKUP(Plantilla!$A$2,Poliductos!#REF!,2,0)","v":{"$error":"#REF!"}},"01010300","APLCD",{"$f":"Plantilla!K10","v":0}]
[{"$f":"VLOOKUP(Plantilla!$A$2,Poliductos!#REF!,2,0)","v":{"$error":"#REF!"}},"01010301","APLCD",{"$f":"Plantilla!K11","v":0}]
[{"$f":"VLOOKUP(Plantilla!$A$2,Poliductos!#REF!,2,0)","v":{"$error":"#REF!"}},"01010302","APLCD",{"$f":"Plantilla!K12","v":0}]
[{"$f":"VLOOKUP(Plantilla!$A$2,Poliductos!#REF!,2,0)","v":{"$error":"#REF!"}},"01010400","APLCD",{"$f":"Plantilla!K13","v":0}]
[{"$f":"VLOOKUP(Plantilla!$A$2,Poliductos!#REF!,2,0)","v":{"$error":"#REF!"}},"01010500","APLCD",{"$f":"Plantilla!K14","v":0}]
[{"$f":"VLOOKUP(Plantilla!$A$2,Poliductos!#REF!,2,0)","v":{"$error":"#REF!"}},"01010600","APLCD",{"$f":"Plantilla!K15","v":0}]
[{"$f":"VLOOKUP(Plantilla!$A$2,Poliductos!#REF!,2,0)","v":{"$error":"#REF!"}},"01010700","APLCD",{"$f":"Plantilla!K16","v":0}]
[{"$f":"VLOOKUP(Plantilla!$A$2,Poliductos!#REF!,2,0)","v":{"$error":"#REF!"}},"01010800","APLCD",{"$f":"Plantilla!K17","v":0}]
[{"$f":"VLOOKUP(Plantilla!$A$2,Poliductos!#REF!,2,0)","v":{"$error":"#REF!"}},"01010900","APLCD",{"$f":"Plantilla!K18","v":0}]
[{"$f":"VLOOKUP(Plantilla!$A$2,Poliductos!#REF!,2,0)","v":{"$error":"#REF!"}},"01011000","APLCD",{"$f":"Plantilla!K19","v":0}]
[{"$f":"VLOOKUP(Plantilla!$A$2,Poliductos!#REF!,2,0)","v":{"$error":"#REF!"}},"01020000","APLCD",{"$f":"Plantilla!K20","v":0}]
[{"$f":"VLOOKUP(Plantilla!$A$2,Poliductos!#REF!,2,0)","v":{"$error":"#REF!"}},"01020100","APLCD",{"$f":"Plantilla!K21","v":0}]
[{"$f":"VLOOKUP(Plantilla!$A$2,Poliductos!#REF!,2,0)","v":{"$error":"#REF!"}},"01020200","APLCD",{"$f":"Plantilla!K22","v":0}]
[{"$f":"VLOOKUP(Plantilla!$A$2,Poliductos!#REF!,2,0)","v":{"$error":"#REF!"}},"01020300","APLCD",{"$f":"Plantilla!K23","v":0}]
[{"$f":"VLOOKUP(Plantilla!$A$2,Poliductos!#REF!,2,0)","v":{"$error":"#REF!"}},"01020400","APLCD",{"$f":"Plantilla!K24","v":0}]
[{"$f":"VLOOKUP(Plantilla!$A$2,Poliductos!#REF!,2,0)","v":{"$error":"#REF!"}},"01020500","APLCD",{"$f":"Plantilla!K25","v":0}]
[{"$f":"VLOOKUP(Plantilla!$A$2,Poliductos!#REF!,2,0)","v":{"$error":"#REF!"}},"01020600","APLCD",{"$f":"Plantilla!K26","v":0}]
[{"$f":"VLOOKUP(Plantilla!$A$2,Poliductos!#REF!,2,0)","v":{"$error":"#REF!"}},"01020700","APLCD",{"$f":"Plantilla!K27","v":0}]
[{"$f":"VLOOKUP(Plantilla!$A$2,Poliductos!#REF!,2,0)","v":{"$error":"#REF!"}},"01030000","APLCD",{"$f":"Plantilla!K29","v":0}]
[{"$f":"VLOOKUP(Plantilla!$A$2,Poliductos!#REF!,2,0)","v":{"$error":"#REF!"}},"01030100","APLCD",{"$f":"Plantilla!K30","v":0}]
[{"$f":"VLOOKUP(Plantilla!$A$2,Poliductos!#REF!,2,0)","v":{"$error":"#REF!"}},"01030200","APLCD",{"$f":"Plantilla!K31","v":0}]
[{"$f":"VLOOKUP(Plantilla!$A$2,Poliductos!#REF!,2,0)","v":{"$error":"#REF!"}},"01030300","APLCD",{"$f":"Plantilla!K32","v":0}]
[{"$f":"VLOOKUP(Plantilla!$A$2,Poliductos!#REF!,2,0)","v":{"$error":"#REF!"}},"01030400","APLCD",{"$f":"Plantilla!K33","v":0}]
[{"$f":"VLOOKUP(Plantilla!$A$2,Poliductos!#REF!,2,0)","v":{"$error":"#REF!"}},"01030500","APLCD",{"$f":"Plantilla!K34","v":0}]
[{"$f":"VLOOKUP(Plantilla!$A$2,Poliductos!#REF!,2,0)","v":{"$error":"#REF!"}},"01030600","APLCD",{"$f":"Plantilla!K35","v":0}]
[{"$f":"VLOOKUP(Plantilla!$A$2,Poliductos!#REF!,2,0)","v":{"$error":"#REF!"}},"01030700","APLCD",{"$f":"Plantilla!K36","v":0}]
[{"$f":"VLOOKUP(Plantilla!$A$2,Poliductos!#REF!,2,0)","v":{"$error":"#REF!"}},"01030800","APLCD",{"$f":"Plantilla!K37","v":0}]
[{"$f":"VLOOKUP(Plantilla!$A$2,Poliductos!#REF!,2,0)","v":{"$error":"#REF!"}},"01030900","APLCD",{"$f":"Plantilla!K38","v":0}]
[{"$f":"VLOOKUP(Plantilla!$A$2,Poliductos!#REF!,2,0)","v":{"$error":"#REF!"}},"01031000","APLCD",{"$f":"Plantilla!K39","v":0}]
[{"$f":"VLOOKUP(Plantilla!$A$2,Poliductos!#REF!,2,0)","v":{"$error":"#REF!"}},"01031100","APLCD",{"$f":"Plantilla!K40","v":0}]
[{"$f":"VLOOKUP(Plantilla!$A$2,Poliductos!#REF!,2,0)","v":{"$error":"#REF!"}},"01040000","APLCD",{"$f":"Plantilla!K41","v":0}]
[{"$f":"VLOOKUP(Plantilla!$A$2,Poliductos!#REF!,2,0)","v":{"$error":"#REF!"}},"01050000","APLCD",{"$f":"Plantilla!K42","v":0}]
[{"$f":"VLOOKUP(Plantilla!$A$2,Poliductos!#REF!,2,0)","v":{"$error":"#REF!"}},"01060000","APLCD",{"$f":"Plantilla!K43","v":0}]
[{"$f":"VLOOKUP(Plantilla!$A$2,Poliductos!#REF!,2,0)","v":{"$error":"#REF!"}},"01060100","APLCD",{"$f":"Plantilla!K44","v":0}]
[{"$f":"VLOOKUP(Plantilla!$A$2,Poliductos!#REF!,2,0)","v":{"$error":"#REF!"}},"01060200","APLCD",{"$f":"Plantilla!K45","v":0}]
[{"$f":"VLOOKUP(Plantilla!$A$2,Poliductos!#REF!,2,0)","v":{"$error":"#REF!"}},"01060201","APLCD",{"$f":"Plantilla!K46","v":0}]
[{"$f":"VLOOKUP(Plantilla!$A$2,Poliductos!#REF!,2,0)","v":{"$error":"#REF!"}},"01060202","APLCD",{"$f":"Plantilla!K47","v":0}]
[{"$f":"VLOOKUP(Plantilla!$A$2,Poliductos!#REF!,2,0)","v":{"$error":"#REF!"}},"01060203","APLCD",{"$f":"Plantilla!K48","v":0}]
[{"$f":"VLOOKUP(Plantilla!$A$2,Poliductos!#REF!,2,0)","v":{"$error":"#REF!"}},"01060300","APLCD",{"$f":"Plantilla!K49","v":0}]
[{"$f":"VLOOKUP(Plantilla!$A$2,Poliductos!#REF!,2,0)","v":{"$error":"#REF!"}},"01060400","APLCD",{"$f":"Plantilla!K50","v":0}]
[{"$f":"VLOOKUP(Plantilla!$A$2,Poliductos!#REF!,2,0)","v":{"$error":"#REF!"}},"01070000","APLCD",{"$f":"Plantilla!K51","v":0}]
[{"$f":"VLOOKUP(Plantilla!$A$2,Poliductos!#REF!,2,0)","v":{"$error":"#REF!"}},"01070100","APLCD",{"$f":"Plantilla!K52","v":0}]
[{"$f":"VLOOKUP(Plantilla!$A$2,Poliductos!#REF!,2,0)","v":{"$error":"#REF!"}},"01070200","APLCD",{"$f":"Plantilla!K53","v":0}]
[{"$f":"VLOOKUP(Plantilla!$A$2,Poliductos!#REF!,2,0)","v":{"$error":"#REF!"}},"01070300","APLCD",{"$f":"Plantilla!K54","v":0}]
[{"$f":"VLOOKUP(Plantilla!$A$2,Poliductos!#REF!,2,0)","v":{"$error":"#REF!"}},"01070400","APLCD",{"$f":"Plantilla!K55","v":0}]
[{"$f":"VLOOKUP(Plantilla!$A$2,Poliductos!#REF!,2,0)","v":{"$error":"#REF!"}},"02000000","APLCD",{"$f":"Plantilla!K56","v":0}]
[{"$f":"VLOOKUP(Plantilla!$A$2,Poliductos!#REF!,2,0)","v":{"$error":"#REF!"}},"02010000","APLCD",{"$f":"Plantilla!K57","v":0}]
[{"$f":"VLOOKUP(Plantilla!$A$2,Poliductos!#REF!,2,0)","v":{"$error":"#REF!"}},"02010100","APLCD",{"$f":"Plantilla!K58","v":0}]
[{"$f":"VLOOKUP(Plantilla!$A$2,Poliductos!#REF!,2,0)","v":{"$error":"#REF!"}},"02010200","APLCD",{"$f":"Plantilla!K59","v":0}]
[{"$f":"VLOOKUP(Plantilla!$A$2,Poliductos!#REF!,2,0)","v":{"$error":"#REF!"}},"02010201","APLCD",{"$f":"Plantilla!K60","v":0}]
[{"$f":"VLOOKUP(Plantilla!$A$2,Poliductos!#REF!,2,0)","v":{"$error":"#REF!"}},"02010202","APLCD",{"$f":"Plantilla!K61","v":0}]
[{"$f":"VLOOKUP(Plantilla!$A$2,Poliductos!#REF!,2,0)","v":{"$error":"#REF!"}},"02010300","APLCD",{"$f":"Plantilla!K62","v":0}]
[{"$f":"VLOOKUP(Plantilla!$A$2,Poliductos!#REF!,2,0)","v":{"$error":"#REF!"}},"02010301","APLCD",{"$f":"Plantilla!K63","v":0}]
[{"$f":"VLOOKUP(Plantilla!$A$2,Poliductos!#REF!,2,0)","v":{"$error":"#REF!"}},"02010302","APLCD",{"$f":"Plantilla!K64","v":0}]
[{"$f":"VLOOKUP(Plantilla!$A$2,Poliductos!#REF!,2,0)","v":{"$error":"#REF!"}},"02010400","APLCD",{"$f":"Plantilla!K65","v":0}]
[{"$f":"VLOOKUP(Plantilla!$A$2,Poliductos!#REF!,2,0)","v":{"$error":"#REF!"}},"02010500","APLCD",{"$f":"Plantilla!K66","v":0}]
[{"$f":"VLOOKUP(Plantilla!$A$2,Poliductos!#REF!,2,0)","v":{"$error":"#REF!"}},"02010600","APLCD",{"$f":"Plantilla!K67","v":0}]
[{"$f":"VLOOKUP(Plantilla!$A$2,Poliductos!#REF!,2,0)","v":{"$error":"#REF!"}},"02010700","APLCD",{"$f":"Plantilla!K68","v":0}]
[{"$f":"VLOOKUP(Plantilla!$A$2,Poliductos!#REF!,2,0)","v":{"$error":"#REF!"}},"02010800","APLCD",{"$f":"Plantilla!K69","v":0}]
[{"$f":"VLOOKUP(Plantilla!$A$2,Poliductos!#REF!,2,0)","v":{"$error":"#REF!"}},"02010900","APLCD",{"$f":"Plantilla!K70","v":0}]
[{"$f":"VLOOKUP(Plantilla!$A$2,Poliductos!#REF!,2,0)","v":{"$error":"#REF!"}},"02011000","APLCD",{"$f":"Plantilla!K71","v":0}]
[{"$f":"VLOOKUP(Plantilla!$A$2,Poliductos!#REF!,2,0)","v":{"$error":"#REF!"}},"02020000","APLCD",{"$f":"Plantilla!K72","v":0}]
[{"$f":"VLOOKUP(Plantilla!$A$2,Poliductos!#REF!,2,0)","v":{"$error":"#REF!"}},"02020100","APLCD",{"$f":"Plantilla!K73","v":0}]
[{"$f":"VLOOKUP(Plantilla!$A$2,Poliductos!#REF!,2,0)","v":{"$error":"#REF!"}},"02020200","APLCD",{"$f":"Plantilla!K74","v":0}]
[{"$f":"VLOOKUP(Plantilla!$A$2,Poliductos!#REF!,2,0)","v":{"$error":"#REF!"}},"02020300","APLCD",{"$f":"Plantilla!K75","v":0}]
[{"$f":"VLOOKUP(Plantilla!$A$2,Poliductos!#REF!,2,0)","v":{"$error":"#REF!"}},"02020400","APLCD",{"$f":"Plantilla!K76","v":0}]
[{"$f":"VLOOKUP(Plantilla!$A$2,Poliductos!#REF!,2,0)","v":{"$error":"#REF!"}},"02020500","APLCD",{"$f":"Plantilla!K77","v":0}]
[{"$f":"VLOOKUP(Plantilla!$A$2,Poliductos!#REF!,2,0)","v":{"$error":"#REF!"}},"02020600","APLCD",{"$f":"Plantilla!K78","v":0}]
[{"$f":"VLOOKUP(Plantilla!$A$2,Poliductos!#REF!,2,0)","v":{"$error":"#REF!"}},"02030000","APLCD",{"$f":"Plantilla!K79","v":0}]
[{"$f":"VLOOKUP(Plantilla!$A$2,Poliductos!#REF!,2,0)","v":{"$error":"#REF!"}},"02030100","APLCD",{"$f":"Plantilla!K80","v":0}]
[{"$f":"VLOOKUP(Plantilla!$A$2,Poliductos!#REF!,2,0)","v":{"$error":"#REF!"}},"02030200","APLCD",{"$f":"Plantilla!K81","v":0}]
[{"$f":"VLOOKUP(Plantilla!$A$2,Poliductos!#REF!,2,0)","v":{"$error":"#REF!"}},"02030300","APLCD",{"$f":"Plantilla!K82","v":0}]
[{"$f":"VLOOKUP(Plantilla!$A$2,Poliductos!#REF!,2,0)","v":{"$error":"#REF!"}},"02030400","APLCD",{"$f":"Plantilla!K83","v":0}]
[{"$f":"VLOOKUP(Plantilla!$A$2,Poliductos!#REF!,2,0)","v":{"$error":"#REF!"}},"02040000","APLCD",{"$f":"Plantilla!K84","v":0}]
[{"$f":"VLOOKUP(Plantilla!$A$2,Poliductos!#REF!,2,0)","v":{"$error":"#REF!"}},"02040100","APLCD",{"$f":"Plantilla!K85","v":0}]
[{"$f":"VLOOKUP(Plantilla!$A$2,Poliductos!#REF!,2,0)","v":{"$error":"#REF!"}},"02040200","APLCD",{"$f":"Plantilla!K86","v":0}]
[{"$f":"VLOOKUP(Plantilla!$A$2,Poliductos!#REF!,2,0)","v":{"$error":"#REF!"}},"02040300","APLCD",{"$f":"Plantilla!K87","v":0}]
[{"$f":"VLOOKUP(Plantilla!$A$2,Poliductos!#REF!,2,0)","v":{"$error":"#REF!"}},"02050000","APLCD",{"$f":"Plantilla!K88","v":0}]
[{"$f":"VLOOKUP(Plantilla!$A$2,Poliductos!#REF!,2,0)","v":{"$error":"#REF!"}},"02060000","APLCD",{"$f":"Plantilla!K89","v":0}]
[{"$f":"VLOOKUP(Plantilla!$A$2,Poliductos!#REF!,2,0)","v":{"$error":"#REF!"}},"02060100","APLCD",{"$f":"Plantilla!K90","v":0}]
[{"$f":"VLOOKUP(Plantilla!$A$2,Poliductos!#REF!,2,0)","v":{"$error":"#REF!"}},"02060200","APLCD",{"$f":"Plantilla!K91","v":0}]
[{"$f":"VLOOKUP(Plantilla!$A$2,Poliductos!#REF!,2,0)","v":{"$error":"#REF!"}},"02060300","APLCD",{"$f":"Plantilla!K92","v":0}]
[{"$f":"VLOOKUP(Plantilla!$A$2,Poliductos!#REF!,2,0)","v":{"$error":"#REF!"}},"02070000","APLCD",{"$f":"Plantilla!K93","v":0}]
[{"$f":"VLOOKUP(Plantilla!$A$2,Poliductos!#REF!,2,0)","v":{"$error":"#REF!"}},"02080000","APLCD",{"$f":"Plantilla!K94","v":0}]
[{"$f":"VLOOKUP(Plantilla!$A$2,Poliductos!#REF!,2,0)","v":{"$error":"#REF!"}},"02090000","APLCD",{"$f":"Plantilla!K95","v":0}]
[{"$f":"VLOOKUP(Plantilla!$A$2,Poliductos!#REF!,2,0)","v":{"$error":"#REF!"}},"02090100","APLCD",{"$f":"Plantilla!K96","v":0}]
[{"$f":"VLOOKUP(Plantilla!$A$2,Poliductos!#REF!,2,0)","v":{"$error":"#REF!"}},"02090200","APLCD",{"$f":"Plantilla!K97","v":0}]
[{"$f":"VLOOKUP(Plantilla!$A$2,Poliductos!#REF!,2,0)","v":{"$error":"#REF!"}},"02090300","APLCD",{"$f":"Plantilla!K98","v":0}]
[{"$f":"VLOOKUP(Plantilla!$A$2,Poliductos!#REF!,2,0)","v":{"$error":"#REF!"}},"02090400","APLCD",{"$f":"Plantilla!K99","v":0}]
[{"$f":"VLOOKUP(Plantilla!$A$2,Poliductos!#REF!,2,0)","v":{"$error":"#REF!"}},"02090500","APLCD",{"$f":"Plantilla!K100","v":0}]
[{"$f":"VLOOKUP(Plantilla!$A$2,Poliductos!#REF!,2,0)","v":{"$error":"#REF!"}},"02090600","APLCD",{"$f":"Plantilla!K101","v":0}]
[{"$f":"VLOOKUP(Plantilla!$A$2,Poliductos!#REF!,2,0)","v":{"$error":"#REF!"}},"02100000","APLCD",{"$f":"Plantilla!K102","v":0}]
[{"$f":"VLOOKUP(Plantilla!$A$2,Poliductos!#REF!,2,0)","v":{"$error":"#REF!"}},"02100100","APLCD",{"$f":"Plantilla!K103","v":0}]
[{"$f":"VLOOKUP(Plantilla!$A$2,Poliductos!#REF!,2,0)","v":{"$error":"#REF!"}},"02100200","APLCD",{"$f":"Plantilla!K104","v":0}]
[{"$f":"VLOOKUP(Plantilla!$A$2,Poliductos!#REF!,2,0)","v":{"$error":"#REF!"}},"02100300","APLCD",{"$f":"Plantilla!K105","v":0}]
[{"$f":"VLOOKUP(Plantilla!$A$2,Poliductos!#REF!,2,0)","v":{"$error":"#REF!"}},"02100400","APLCD",{"$f":"Plantilla!K106","v":0}]
[{"$f":"VLOOKUP(Plantilla!$A$2,Poliductos!#REF!,2,0)","v":{"$error":"#REF!"}},"02110000","APLCD",{"$f":"Plantilla!K107","v":0}]
[{"$f":"VLOOKUP(Plantilla!$A$2,Poliductos!#REF!,2,0)","v":{"$error":"#REF!"}},"02110100","APLCD",{"$f":"Plantilla!K108","v":0}]
[{"$f":"VLOOKUP(Plantilla!$A$2,Poliductos!#REF!,2,0)","v":{"$error":"#REF!"}},"02110200","APLCD",{"$f":"Plantilla!K109","v":0}]
[{"$f":"VLOOKUP(Plantilla!$A$2,Poliductos!#REF!,2,0)","v":{"$error":"#REF!"}},"02110300","APLCD",{"$f":"Plantilla!K110","v":0}]
[{"$f":"VLOOKUP(Plantilla!$A$2,Poliductos!#REF!,2,0)","v":{"$error":"#REF!"}},"02110400","APLCD",{"$f":"Plantilla!K111","v":0}]
[{"$f":"VLOOKUP(Plantilla!$A$2,Poliductos!#REF!,2,0)","v":{"$error":"#REF!"}},"02110500","APLCD",{"$f":"Plantilla!K112","v":0}]
[{"$f":"VLOOKUP(Plantilla!$A$2,Poliductos!#REF!,2,0)","v":{"$error":"#REF!"}},"02120000","APLCD",{"$f":"Plantilla!K113","v":0}]
[{"$f":"VLOOKUP(Plantilla!$A$2,Poliductos!#REF!,2,0)","v":{"$error":"#REF!"}},"02130000","APLCD",{"$f":"Plantilla!K114","v":0}]
[{"$f":"VLOOKUP(Plantilla!$A$2,Poliductos!#REF!,2,0)","v":{"$error":"#REF!"}},"02130100","APLCD",{"$f":"Plantilla!K115","v":0}]
[{"$f":"VLOOKUP(Plantilla!$A$2,Poliductos!#REF!,2,0)","v":{"$error":"#REF!"}},"02130200","APLCD",{"$f":"Plantilla!K116","v":0}]
[{"$f":"VLOOKUP(Plantilla!$A$2,Poliductos!#REF!,2,0)","v":{"$error":"#REF!"}},"02130300","APLCD",{"$f":"Plantilla!K117","v":0}]
[{"$f":"VLOOKUP(Plantilla!$A$2,Poliductos!#REF!,2,0)","v":{"$error":"#REF!"}},"02130400","APLCD",{"$f":"Plantilla!K118","v":0}]
[{"$f":"VLOOKUP(Plantilla!$A$2,Poliductos!#REF!,2,0)","v":{"$error":"#REF!"}},"02130500","APLCD",{"$f":"Plantilla!K119","v":0}]
[{"$f":"VLOOKUP(Plantilla!$A$2,Poliductos!#REF!,2,0)","v":{"$error":"#REF!"}},"02130600","APLCD",{"$f":"Plantilla!K120","v":0}]
[{"$f":"VLOOKUP(Plantilla!$A$2,Poliductos!#REF!,2,0)","v":{"$error":"#REF!"}},"02140000","APLCD",{"$f":"Plantilla!K121","v":0}]
[{"$f":"VLOOKUP(Plantilla!$A$2,Poliductos!#REF!,2,0)","v":{"$error":"#REF!"}},"02140100","APLCD",{"$f":"Plantilla!K122","v":0}]
[{"$f":"VLOOKUP(Plantilla!$A$2,Poliductos!#REF!,2,0)","v":{"$error":"#REF!"}},"02140200","APLCD",{"$f":"Plantilla!K123","v":0}]
[{"$f":"VLOOKUP(Plantilla!$A$2,Poliductos!#REF!,2,0)","v":{"$error":"#REF!"}},"02150000","APLCD",{"$f":"Plantilla!K124","v":0}]
[{"$f":"VLOOKUP(Plantilla!$A$2,Poliductos!#REF!,2,0)","v":{"$error":"#REF!"}},"02150100","APLCD",{"$f":"Plantilla!K125","v":0}]
[{"$f":"VLOOKUP(Plantilla!$A$2,Poliductos!#REF!,2,0)","v":{"$error":"#REF!"}},"02150200","APLCD",{"$f":"Plantilla!K126","v":0}]
[{"$f":"VLOOKUP(Plantilla!$A$2,Poliductos!#REF!,2,0)","v":{"$error":"#REF!"}},"02150300","APLCD",{"$f":"Plantilla!K127","v":0}]
[{"$f":"VLOOKUP(Plantilla!$A$2,Poliductos!#REF!,2,0)","v":{"$error":"#REF!"}},"02150400","APLCD",{"$f":"Plantilla!K128","v":0}]
[{"$f":"VLOOKUP(Plantilla!$A$2,Poliductos!#REF!,2,0)","v":{"$error":"#REF!"}},"02150500","APLCD",{"$f":"Plantilla!K129","v":0}]
[{"$f":"VLOOKUP(Plantilla!$A$2,Poliductos!#REF!,2,0)","v":{"$error":"#REF!"}},"02150600","APLCD",{"$f":"Plantilla!K130","v":0}]
[{"$f":"VLOOKUP(Plantilla!$A$2,Poliductos!#REF!,2,0)","v":{"$error":"#REF!"}},"02150700","APLCD",{"$f":"Plantilla!K131","v":0}]
[{"$f":"VLOOKUP(Plantilla!$A$2,Poliductos!#REF!,2,0)","v":{"$error":"#REF!"}},"02150800","APLCD",{"$f":"Plantilla!K132","v":0}]
[{"$f":"VLOOKUP(Plantilla!$A$2,Poliductos!#REF!,2,0)","v":{"$error":"#REF!"}},"02160000","APLCD",{"$f":"Plantilla!K136","v":0}]
[{"$f":"VLOOKUP(Plantilla!$A$2,Poliductos!#REF!,2,0)","v":{"$error":"#REF!"}},"02160100","APLCD",{"$f":"Plantilla!K137","v":0}]
[{"$f":"VLOOKUP(Plantilla!$A$2,Poliductos!#REF!,2,0)","v":{"$error":"#REF!"}},"02160200","APLCD",{"$f":"Plantilla!K138","v":0}]
[{"$f":"VLOOKUP(Plantilla!$A$2,Poliductos!#REF!,2,0)","v":{"$error":"#REF!"}},"01000000","ASPATSI",{"$f":"Plantilla!L4","v":0}]
[{"$f":"VLOOKUP(Plantilla!$A$2,Poliductos!#REF!,2,0)","v":{"$error":"#REF!"}},"01010000","ASPATSI",{"$f":"Plantilla!L5","v":0}]
[{"$f":"VLOOKUP(Plantilla!$A$2,Poliductos!#REF!,2,0)","v":{"$error":"#REF!"}},"01010100","ASPATSI",{"$f":"Plantilla!L6","v":0}]
[{"$f":"VLOOKUP(Plantilla!$A$2,Poliductos!#REF!,2,0)","v":{"$error":"#REF!"}},"01010200","ASPATSI",{"$f":"Plantilla!L7","v":0}]
[{"$f":"VLOOKUP(Plantilla!$A$2,Poliductos!#REF!,2,0)","v":{"$error":"#REF!"}},"01010201","ASPATSI",{"$f":"Plantilla!L8","v":0}]
[{"$f":"VLOOKUP(Plantilla!$A$2,Poliductos!#REF!,2,0)","v":{"$error":"#REF!"}},"01010202","ASPATSI",{"$f":"Plantilla!L9","v":0}]
[{"$f":"VLOOKUP(Plantilla!$A$2,Poliductos!#REF!,2,0)","v":{"$error":"#REF!"}},"01010300","ASPATSI",{"$f":"Plantilla!L10","v":0}]
[{"$f":"VLOOKUP(Plantilla!$A$2,Poliductos!#REF!,2,0)","v":{"$error":"#REF!"}},"01010301","ASPATSI",{"$f":"Plantilla!L11","v":0}]
[{"$f":"VLOOKUP(Plantilla!$A$2,Poliductos!#REF!,2,0)","v":{"$error":"#REF!"}},"01010302","ASPATSI",{"$f":"Plantilla!L12","v":0}]
[{"$f":"VLOOKUP(Plantilla!$A$2,Poliductos!#REF!,2,0)","v":{"$error":"#REF!"}},"01010400","ASPATSI",{"$f":"Plantilla!L13","v":0}]
[{"$f":"VLOOKUP(Plantilla!$A$2,Poliductos!#REF!,2,0)","v":{"$error":"#REF!"}},"01010500","ASPATSI",{"$f":"Plantilla!L14","v":0}]
[{"$f":"VLOOKUP(Plantilla!$A$2,Poliductos!#REF!,2,0)","v":{"$error":"#REF!"}},"01010600","ASPATSI",{"$f":"Plantilla!L15","v":0}]
[{"$f":"VLOOKUP(Plantilla!$A$2,Poliductos!#REF!,2,0)","v":{"$error":"#REF!"}},"01010700","ASPATSI",{"$f":"Plantilla!L16","v":0}]
[{"$f":"VLOOKUP(Plantilla!$A$2,Poliductos!#REF!,2,0)","v":{"$error":"#REF!"}},"01010800","ASPATSI",{"$f":"Plantilla!L17","v":0}]
[{"$f":"VLOOKUP(Plantilla!$A$2,Poliductos!#REF!,2,0)","v":{"$error":"#REF!"}},"01010900","ASPATSI",{"$f":"Plantilla!L18","v":0}]
[{"$f":"VLOOKUP(Plantilla!$A$2,Poliductos!#REF!,2,0)","v":{"$error":"#REF!"}},"01011000","ASPATSI",{"$f":"Plantilla!L19","v":0}]
[{"$f":"VLOOKUP(Plantilla!$A$2,Poliductos!#REF!,2,0)","v":{"$error":"#REF!"}},"01020000","ASPATSI",{"$f":"Plantilla!L20","v":0}]
[{"$f":"VLOOKUP(Plantilla!$A$2,Poliductos!#REF!,2,0)","v":{"$error":"#REF!"}},"01020100","ASPATSI",{"$f":"Plantilla!L21","v":0}]
[{"$f":"VLOOKUP(Plantilla!$A$2,Poliductos!#REF!,2,0)","v":{"$error":"#REF!"}},"01020200","ASPATSI",{"$f":"Plantilla!L22","v":0}]
[{"$f":"VLOOKUP(Plantilla!$A$2,Poliductos!#REF!,2,0)","v":{"$error":"#REF!"}},"01020300","ASPATSI",{"$f":"Plantilla!L23","v":0}]
[{"$f":"VLOOKUP(Plantilla!$A$2,Poliductos!#REF!,2,0)","v":{"$error":"#REF!"}},"01020400","ASPATSI",{"$f":"Plantilla!L24","v":0}]
[{"$f":"VLOOKUP(Plantilla!$A$2,Poliductos!#REF!,2,0)","v":{"$error":"#REF!"}},"01020500","ASPATSI",{"$f":"Plantilla!L25","v":0}]
[{"$f":"VLOOKUP(Plantilla!$A$2,Poliductos!#REF!,2,0)","v":{"$error":"#REF!"}},"01020600","ASPATSI",{"$f":"Plantilla!L26","v":0}]
[{"$f":"VLOOKUP(Plantilla!$A$2,Poliductos!#REF!,2,0)","v":{"$error":"#REF!"}},"01020700","ASPATSI",{"$f":"Plantilla!L27","v":0}]
[{"$f":"VLOOKUP(Plantilla!$A$2,Poliductos!#REF!,2,0)","v":{"$error":"#REF!"}},"01030000","ASPATSI",{"$f":"Plantilla!L29","v":0}]
[{"$f":"VLOOKUP(Plantilla!$A$2,Poliductos!#REF!,2,0)","v":{"$error":"#REF!"}},"01030100","ASPATSI",{"$f":"Plantilla!L30","v":0}]
[{"$f":"VLOOKUP(Plantilla!$A$2,Poliductos!#REF!,2,0)","v":{"$error":"#REF!"}},"01030200","ASPATSI",{"$f":"Plantilla!L31","v":0}]
[{"$f":"VLOOKUP(Plantilla!$A$2,Poliductos!#REF!,2,0)","v":{"$error":"#REF!"}},"01030300","ASPATSI",{"$f":"Plantilla!L32","v":0}]
[{"$f":"VLOOKUP(Plantilla!$A$2,Poliductos!#REF!,2,0)","v":{"$error":"#REF!"}},"01030400","ASPATSI",{"$f":"Plantilla!L33","v":0}]
[{"$f":"VLOOKUP(Plantilla!$A$2,Poliductos!#REF!,2,0)","v":{"$error":"#REF!"}},"01030500","ASPATSI",{"$f":"Plantilla!L34","v":0}]
[{"$f":"VLOOKUP(Plantilla!$A$2,Poliductos!#REF!,2,0)","v":{"$error":"#REF!"}},"01030600","ASPATSI",{"$f":"Plantilla!L35","v":0}]
[{"$f":"VLOOKUP(Plantilla!$A$2,Poliductos!#REF!,2,0)","v":{"$error":"#REF!"}},"01030700","ASPATSI",{"$f":"Plantilla!L36","v":0}]
[{"$f":"VLOOKUP(Plantilla!$A$2,Poliductos!#REF!,2,0)","v":{"$error":"#REF!"}},"01030800","ASPATSI",{"$f":"Plantilla!L37","v":0}]
[{"$f":"VLOOKUP(Plantilla!$A$2,Poliductos!#REF!,2,0)","v":{"$error":"#REF!"}},"01030900","ASPATSI",{"$f":"Plantilla!L38","v":0}]
[{"$f":"VLOOKUP(Plantilla!$A$2,Poliductos!#REF!,2,0)","v":{"$error":"#REF!"}},"01031000","ASPATSI",{"$f":"Plantilla!L39","v":0}]
[{"$f":"VLOOKUP(Plantilla!$A$2,Poliductos!#REF!,2,0)","v":{"$error":"#REF!"}},"01031100","ASPATSI",{"$f":"Plantilla!L40","v":0}]
[{"$f":"VLOOKUP(Plantilla!$A$2,Poliductos!#REF!,2,0)","v":{"$error":"#REF!"}},"01040000","ASPATSI",{"$f":"Plantilla!L41","v":0}]
[{"$f":"VLOOKUP(Plantilla!$A$2,Poliductos!#REF!,2,0)","v":{"$error":"#REF!"}},"01050000","ASPATSI",{"$f":"Plantilla!L42","v":0}]
[{"$f":"VLOOKUP(Plantilla!$A$2,Poliductos!#REF!,2,0)","v":{"$error":"#REF!"}},"01060000","ASPATSI",{"$f":"Plantilla!L43","v":0}]
[{"$f":"VLOOKUP(Plantilla!$A$2,Poliductos!#REF!,2,0)","v":{"$error":"#REF!"}},"01060100","ASPATSI",{"$f":"Plantilla!L44","v":0}]
[{"$f":"VLOOKUP(Plantilla!$A$2,Poliductos!#REF!,2,0)","v":{"$error":"#REF!"}},"01060200","ASPATSI",{"$f":"Plantilla!L45","v":0}]
[{"$f":"VLOOKUP(Plantilla!$A$2,Poliductos!#REF!,2,0)","v":{"$error":"#REF!"}},"01060201","ASPATSI",{"$f":"Plantilla!L46","v":0}]
[{"$f":"VLOOKUP(Plantilla!$A$2,Poliductos!#REF!,2,0)","v":{"$error":"#REF!"}},"01060202","ASPATSI",{"$f":"Plantilla!L47","v":0}]
[{"$f":"VLOOKUP(Plantilla!$A$2,Poliductos!#REF!,2,0)","v":{"$error":"#REF!"}},"01060203","ASPATSI",{"$f":"Plantilla!L48","v":0}]
[{"$f":"VLOOKUP(Plantilla!$A$2,Poliductos!#REF!,2,0)","v":{"$error":"#REF!"}},"01060300","ASPATSI",{"$f":"Plantilla!L49","v":0}]
[{"$f":"VLOOKUP(Plantilla!$A$2,Poliductos!#REF!,2,0)","v":{"$error":"#REF!"}},"01060400","ASPATSI",{"$f":"Plantilla!L50","v":0}]
[{"$f":"VLOOKUP(Plantilla!$A$2,Poliductos!#REF!,2,0)","v":{"$error":"#REF!"}},"01070000","ASPATSI",{"$f":"Plantilla!L51","v":0}]
[{"$f":"VLOOKUP(Plantilla!$A$2,Poliductos!#REF!,2,0)","v":{"$error":"#REF!"}},"01070100","ASPATSI",{"$f":"Plantilla!L52","v":0}]
[{"$f":"VLOOKUP(Plantilla!$A$2,Poliductos!#REF!,2,0)","v":{"$error":"#REF!"}},"01070200","ASPATSI",{"$f":"Plantilla!L53","v":0}]
[{"$f":"VLOOKUP(Plantilla!$A$2,Poliductos!#REF!,2,0)","v":{"$error":"#REF!"}},"01070300","ASPATSI",{"$f":"Plantilla!L54","v":0}]
[{"$f":"VLOOKUP(Plantilla!$A$2,Poliductos!#REF!,2,0)","v":{"$error":"#REF!"}},"01070400","ASPATSI",{"$f":"Plantilla!L55","v":0}]
[{"$f":"VLOOKUP(Plantilla!$A$2,Poliductos!#REF!,2,0)","v":{"$error":"#REF!"}},"02000000","ASPATSI",{"$f":"Plantilla!L56","v":0}]
[{"$f":"VLOOKUP(Plantilla!$A$2,Poliductos!#REF!,2,0)","v":{"$error":"#REF!"}},"02010000","ASPATSI",{"$f":"Plantilla!L57","v":0}]
[{"$f":"VLOOKUP(Plantilla!$A$2,Poliductos!#REF!,2,0)","v":{"$error":"#REF!"}},"02010100","ASPATSI",{"$f":"Plantilla!L58","v":0}]
[{"$f":"VLOOKUP(Plantilla!$A$2,Poliductos!#REF!,2,0)","v":{"$error":"#REF!"}},"02010200","ASPATSI",{"$f":"Plantilla!L59","v":0}]
[{"$f":"VLOOKUP(Plantilla!$A$2,Poliductos!#REF!,2,0)","v":{"$error":"#REF!"}},"02010201","ASPATSI",{"$f":"Plantilla!L60","v":0}]
[{"$f":"VLOOKUP(Plantilla!$A$2,Poliductos!#REF!,2,0)","v":{"$error":"#REF!"}},"02010202","ASPATSI",{"$f":"Plantilla!L61","v":0}]
[{"$f":"VLOOKUP(Plantilla!$A$2,Poliductos!#REF!,2,0)","v":{"$error":"#REF!"}},"02010300","ASPATSI",{"$f":"Plantilla!L62","v":0}]
[{"$f":"VLOOKUP(Plantilla!$A$2,Poliductos!#REF!,2,0)","v":{"$error":"#REF!"}},"02010301","ASPATSI",{"$f":"Plantilla!L63","v":0}]
[{"$f":"VLOOKUP(Plantilla!$A$2,Poliductos!#REF!,2,0)","v":{"$error":"#REF!"}},"02010302","ASPATSI",{"$f":"Plantilla!L64","v":0}]
[{"$f":"VLOOKUP(Plantilla!$A$2,Poliductos!#REF!,2,0)","v":{"$error":"#REF!"}},"02010400","ASPATSI",{"$f":"Plantilla!L65","v":0}]
[{"$f":"VLOOKUP(Plantilla!$A$2,Poliductos!#REF!,2,0)","v":{"$error":"#REF!"}},"02010500","ASPATSI",{"$f":"Plantilla!L66","v":0}]
[{"$f":"VLOOKUP(Plantilla!$A$2,Poliductos!#REF!,2,0)","v":{"$error":"#REF!"}},"02010600","ASPATSI",{"$f":"Plantilla!L67","v":0}]
[{"$f":"VLOOKUP(Plantilla!$A$2,Poliductos!#REF!,2,0)","v":{"$error":"#REF!"}},"02010700","ASPATSI",{"$f":"Plantilla!L68","v":0}]
[{"$f":"VLOOKUP(Plantilla!$A$2,Poliductos!#REF!,2,0)","v":{"$error":"#REF!"}},"02010800","ASPATSI",{"$f":"Plantilla!L69","v":0}]
[{"$f":"VLOOKUP(Plantilla!$A$2,Poliductos!#REF!,2,0)","v":{"$error":"#REF!"}},"02010900","ASPATSI",{"$f":"Plantilla!L70","v":0}]
[{"$f":"VLOOKUP(Plantilla!$A$2,Poliductos!#REF!,2,0)","v":{"$error":"#REF!"}},"02011000","ASPATSI",{"$f":"Plantilla!L71","v":0}]
[{"$f":"VLOOKUP(Plantilla!$A$2,Poliductos!#REF!,2,0)","v":{"$error":"#REF!"}},"02020000","ASPATSI",{"$f":"Plantilla!L72","v":0}]
[{"$f":"VLOOKUP(Plantilla!$A$2,Poliductos!#REF!,2,0)","v":{"$error":"#REF!"}},"02020100","ASPATSI",{"$f":"Plantilla!L73","v":0}]
[{"$f":"VLOOKUP(Plantilla!$A$2,Poliductos!#REF!,2,0)","v":{"$error":"#REF!"}},"02020200","ASPATSI",{"$f":"Plantilla!L74","v":0}]
[{"$f":"VLOOKUP(Plantilla!$A$2,Poliductos!#REF!,2,0)","v":{"$error":"#REF!"}},"02020300","ASPATSI",{"$f":"Plantilla!L75","v":0}]
[{"$f":"VLOOKUP(Plantilla!$A$2,Poliductos!#REF!,2,0)","v":{"$error":"#REF!"}},"02020400","ASPATSI",{"$f":"Plantilla!L76","v":0}]
[{"$f":"VLOOKUP(Plantilla!$A$2,Poliductos!#REF!,2,0)","v":{"$error":"#REF!"}},"02020500","ASPATSI",{"$f":"Plantilla!L77","v":0}]
[{"$f":"VLOOKUP(Plantilla!$A$2,Poliductos!#REF!,2,0)","v":{"$error":"#REF!"}},"02020600","ASPATSI",{"$f":"Plantilla!L78","v":0}]
[{"$f":"VLOOKUP(Plantilla!$A$2,Poliductos!#REF!,2,0)","v":{"$error":"#REF!"}},"02030000","ASPATSI",{"$f":"Plantilla!L79","v":0}]
[{"$f":"VLOOKUP(Plantilla!$A$2,Poliductos!#REF!,2,0)","v":{"$error":"#REF!"}},"02030100","ASPATSI",{"$f":"Plantilla!L80","v":0}]
[{"$f":"VLOOKUP(Plantilla!$A$2,Poliductos!#REF!,2,0)","v":{"$error":"#REF!"}},"02030200","ASPATSI",{"$f":"Plantilla!L81","v":0}]
[{"$f":"VLOOKUP(Plantilla!$A$2,Poliductos!#REF!,2,0)","v":{"$error":"#REF!"}},"02030300","ASPATSI",{"$f":"Plantilla!L82","v":0}]
[{"$f":"VLOOKUP(Plantilla!$A$2,Poliductos!#REF!,2,0)","v":{"$error":"#REF!"}},"02030400","ASPATSI",{"$f":"Plantilla!L83","v":0}]
[{"$f":"VLOOKUP(Plantilla!$A$2,Poliductos!#REF!,2,0)","v":{"$error":"#REF!"}},"02040000","ASPATSI",{"$f":"Plantilla!L84","v":0}]
[{"$f":"VLOOKUP(Plantilla!$A$2,Poliductos!#REF!,2,0)","v":{"$error":"#REF!"}},"02040100","ASPATSI",{"$f":"Plantilla!L85","v":0}]
[{"$f":"VLOOKUP(Plantilla!$A$2,Poliductos!#REF!,2,0)","v":{"$error":"#REF!"}},"02040200","ASPATSI",{"$f":"Plantilla!L86","v":0}]
[{"$f":"VLOOKUP(Plantilla!$A$2,Poliductos!#REF!,2,0)","v":{"$error":"#REF!"}},"02040300","ASPATSI",{"$f":"Plantilla!L87","v":0}]
[{"$f":"VLOOKUP(Plantilla!$A$2,Poliductos!#REF!,2,0)","v":{"$error":"#REF!"}},"02050000","ASPATSI",{"$f":"Plantilla!L88","v":0}]
[{"$f":"VLOOKUP(Plantilla!$A$2,Poliductos!#REF!,2,0)","v":{"$error":"#REF!"}},"02060000","ASPATSI",{"$f":"Plantilla!L89","v":0}]
[{"$f":"VLOOKUP(Plantilla!$A$2,Poliductos!#REF!,2,0)","v":{"$error":"#REF!"}},"02060100","ASPATSI",{"$f":"Plantilla!L90","v":0}]
[{"$f":"VLOOKUP(Plantilla!$A$2,Poliductos!#REF!,2,0)","v":{"$error":"#REF!"}},"02060200","ASPATSI",{"$f":"Plantilla!L91","v":0}]
[{"$f":"VLOOKUP(Plantilla!$A$2,Poliductos!#REF!,2,0)","v":{"$error":"#REF!"}},"02060300","ASPATSI",{"$f":"Plantilla!L92","v":0}]
[{"$f":"VLOOKUP(Plantilla!$A$2,Poliductos!#REF!,2,0)","v":{"$error":"#REF!"}},"02070000","ASPATSI",{"$f":"Plantilla!L93","v":0}]
[{"$f":"VLOOKUP(Plantilla!$A$2,Poliductos!#REF!,2,0)","v":{"$error":"#REF!"}},"02080000","ASPATSI",{"$f":"Plantilla!L94","v":0}]
[{"$f":"VLOOKUP(Plantilla!$A$2,Poliductos!#REF!,2,0)","v":{"$error":"#REF!"}},"02090000","ASPATSI",{"$f":"Plantilla!L95","v":0}]
[{"$f":"VLOOKUP(Plantilla!$A$2,Poliductos!#REF!,2,0)","v":{"$error":"#REF!"}},"02090100","ASPATSI",{"$f":"Plantilla!L96","v":0}]
[{"$f":"VLOOKUP(Plantilla!$A$2,Poliductos!#REF!,2,0)","v":{"$error":"#REF!"}},"02090200","ASPATSI",{"$f":"Plantilla!L97","v":0}]
[{"$f":"VLOOKUP(Plantilla!$A$2,Poliductos!#REF!,2,0)","v":{"$error":"#REF!"}},"02090300","ASPATSI",{"$f":"Plantilla!L98","v":0}]
[{"$f":"VLOOKUP(Plantilla!$A$2,Poliductos!#REF!,2,0)","v":{"$error":"#REF!"}},"02090400","ASPATSI",{"$f":"Plantilla!L99","v":0}]
[{"$f":"VLOOKUP(Plantilla!$A$2,Poliductos!#REF!,2,0)","v":{"$error":"#REF!"}},"02090500","ASPATSI",{"$f":"Plantilla!L100","v":0}]
[{"$f":"VLOOKUP(Plantilla!$A$2,Poliductos!#REF!,2,0)","v":{"$error":"#REF!"}},"02090600","ASPATSI",{"$f":"Plantilla!L101","v":0}]
[{"$f":"VLOOKUP(Plantilla!$A$2,Poliductos!#REF!,2,0)","v":{"$error":"#REF!"}},"02100000","ASPATSI",{"$f":"Plantilla!L102","v":0}]
[{"$f":"VLOOKUP(Plantilla!$A$2,Poliductos!#REF!,2,0)","v":{"$error":"#REF!"}},"02100100","ASPATSI",{"$f":"Plantilla!L103","v":0}]
[{"$f":"VLOOKUP(Plantilla!$A$2,Poliductos!#REF!,2,0)","v":{"$error":"#REF!"}},"02100200","ASPATSI",{"$f":"Plantilla!L104","v":0}]
[{"$f":"VLOOKUP(Plantilla!$A$2,Poliductos!#REF!,2,0)","v":{"$error":"#REF!"}},"02100300","ASPATSI",{"$f":"Plantilla!L105","v":0}]
[{"$f":"VLOOKUP(Plantilla!$A$2,Poliductos!#REF!,2,0)","v":{"$error":"#REF!"}},"02100400","ASPATSI",{"$f":"Plantilla!L106","v":0}]
[{"$f":"VLOOKUP(Plantilla!$A$2,Poliductos!#REF!,2,0)","v":{"$error":"#REF!"}},"02110000","ASPATSI",{"$f":"Plantilla!L107","v":0}]
[{"$f":"VLOOKUP(Plantilla!$A$2,Poliductos!#REF!,2,0)","v":{"$error":"#REF!"}},"02110100","ASPATSI",{"$f":"Plantilla!L108","v":0}]
[{"$f":"VLOOKUP(Plantilla!$A$2,Poliductos!#REF!,2,0)","v":{"$error":"#REF!"}},"02110200","ASPATSI",{"$f":"Plantilla!L109","v":0}]
[{"$f":"VLOOKUP(Plantilla!$A$2,Poliductos!#REF!,2,0)","v":{"$error":"#REF!"}},"02110300","ASPATSI",{"$f":"Plantilla!L110","v":0}]
[{"$f":"VLOOKUP(Plantilla!$A$2,Poliductos!#REF!,2,0)","v":{"$error":"#REF!"}},"02110400","ASPATSI",{"$f":"Plantilla!L111","v":0}]
[{"$f":"VLOOKUP(Plantilla!$A$2,Poliductos!#REF!,2,0)","v":{"$error":"#REF!"}},"02110500","ASPATSI",{"$f":"Plantilla!L112","v":0}]
[{"$f":"VLOOKUP(Plantilla!$A$2,Poliductos!#REF!,2,0)","v":{"$error":"#REF!"}},"02120000","ASPATSI",{"$f":"Plantilla!L113","v":0}]
[{"$f":"VLOOKUP(Plantilla!$A$2,Poliductos!#REF!,2,0)","v":{"$error":"#REF!"}},"02130000","ASPATSI",{"$f":"Plantilla!L114","v":0}]
[{"$f":"VLOOKUP(Plantilla!$A$2,Poliductos!#REF!,2,0)","v":{"$error":"#REF!"}},"02130100","ASPATSI",{"$f":"Plantilla!L115","v":0}]
[{"$f":"VLOOKUP(Plantilla!$A$2,Poliductos!#REF!,2,0)","v":{"$error":"#REF!"}},"02130200","ASPATSI",{"$f":"Plantilla!L116","v":0}]
[{"$f":"VLOOKUP(Plantilla!$A$2,Poliductos!#REF!,2,0)","v":{"$error":"#REF!"}},"02130300","ASPATSI",{"$f":"Plantilla!L117","v":0}]
[{"$f":"VLOOKUP(Plantilla!$A$2,Poliductos!#REF!,2,0)","v":{"$error":"#REF!"}},"02130400","ASPATSI",{"$f":"Plantilla!L118","v":0}]
[{"$f":"VLOOKUP(Plantilla!$A$2,Poliductos!#REF!,2,0)","v":{"$error":"#REF!"}},"02130500","ASPATSI",{"$f":"Plantilla!L119","v":0}]
[{"$f":"VLOOKUP(Plantilla!$A$2,Poliductos!#REF!,2,0)","v":{"$error":"#REF!"}},"02130600","ASPATSI",{"$f":"Plantilla!L120","v":0}]
[{"$f":"VLOOKUP(Plantilla!$A$2,Poliductos!#REF!,2,0)","v":{"$error":"#REF!"}},"02140000","ASPATSI",{"$f":"Plantilla!L121","v":0}]
[{"$f":"VLOOKUP(Plantilla!$A$2,Poliductos!#REF!,2,0)","v":{"$error":"#REF!"}},"02140100","ASPATSI",{"$f":"Plantilla!L122","v":0}]
[{"$f":"VLOOKUP(Plantilla!$A$2,Poliductos!#REF!,2,0)","v":{"$error":"#REF!"}},"02140200","ASPATSI",{"$f":"Plantilla!L123","v":0}]
[{"$f":"VLOOKUP(Plantilla!$A$2,Poliductos!#REF!,2,0)","v":{"$error":"#REF!"}},"02150000","ASPATSI",{"$f":"Plantilla!L124","v":0}]
[{"$f":"VLOOKUP(Plantilla!$A$2,Poliductos!#REF!,2,0)","v":{"$error":"#REF!"}},"02150100","ASPATSI",{"$f":"Plantilla!L125","v":0}]
[{"$f":"VLOOKUP(Plantilla!$A$2,Poliductos!#REF!,2,0)","v":{"$error":"#REF!"}},"02150200","ASPATSI",{"$f":"Plantilla!L126","v":0}]
[{"$f":"VLOOKUP(Plantilla!$A$2,Poliductos!#REF!,2,0)","v":{"$error":"#REF!"}},"02150300","ASPATSI",{"$f":"Plantilla!L127","v":0}]
[{"$f":"VLOOKUP(Plantilla!$A$2,Poliductos!#REF!,2,0)","v":{"$error":"#REF!"}},"02150400","ASPATSI",{"$f":"Plantilla!L128","v":0}]
[{"$f":"VLOOKUP(Plantilla!$A$2,Poliductos!#REF!,2,0)","v":{"$error":"#REF!"}},"02150500","ASPATSI",{"$f":"Plantilla!L129","v":0}]
[{"$f":"VLOOKUP(Plantilla!$A$2,Poliductos!#REF!,2,0)","v":{"$error":"#REF!"}},"02150600","ASPATSI",{"$f":"Plantilla!L130","v":0}]
[{"$f":"VLOOKUP(Plantilla!$A$2,Poliductos!#REF!,2,0)","v":{"$error":"#REF!"}},"02150700","ASPATSI",{"$f":"Plantilla!L131","v":0}]
[{"$f":"VLOOKUP(Plantilla!$A$2,Poliductos!#REF!,2,0)","v":{"$error":"#REF!"}},"02150800","ASPATSI",{"$f":"Plantilla!L132","v":0}]
[{"$f":"VLOOKUP(Plantilla!$A$2,Poliductos!#REF!,2,0)","v":{"$error":"#REF!"}},"02160000","ASPATSI",{"$f":"Plantilla!L136","v":0}]
[{"$f":"VLOOKUP(Plantilla!$A$2,Poliductos!#REF!,2,0)","v":{"$error":"#REF!"}},"02160100","ASPATSI",{"$f":"Plantilla!L137","v":0}]
[{"$f":"VLOOKUP(Plantilla!$A$2,Poliductos!#REF!,2,0)","v":{"$error":"#REF!"}},"02160200","ASPATSI",{"$f":"Plantilla!L138","v":0}]
[{"$f":"VLOOKUP(Plantilla!$A$2,Poliductos!#REF!,2,0)","v":{"$error":"#REF!"}},"01000000","ALCOM",{"$f":"Plantilla!M4","v":0}]
[{"$f":"VLOOKUP(Plantilla!$A$2,Poliductos!#REF!,2,0)","v":{"$error":"#REF!"}},"01010000","ALCOM",{"$f":"Plantilla!M5","v":0}]
[{"$f":"VLOOKUP(Plantilla!$A$2,Poliductos!#REF!,2,0)","v":{"$error":"#REF!"}},"01010100","ALCOM",{"$f":"Plantilla!M6","v":0}]
[{"$f":"VLOOKUP(Plantilla!$A$2,Poliductos!#REF!,2,0)","v":{"$error":"#REF!"}},"01010200","ALCOM",{"$f":"Plantilla!M7","v":0}]
[{"$f":"VLOOKUP(Plantilla!$A$2,Poliductos!#REF!,2,0)","v":{"$error":"#REF!"}},"01010201","ALCOM",{"$f":"Plantilla!M8","v":0}]
[{"$f":"VLOOKUP(Plantilla!$A$2,Poliductos!#REF!,2,0)","v":{"$error":"#REF!"}},"01010202","ALCOM",{"$f":"Plantilla!M9","v":0}]
[{"$f":"VLOOKUP(Plantilla!$A$2,Poliductos!#REF!,2,0)","v":{"$error":"#REF!"}},"01010300","ALCOM",{"$f":"Plantilla!M10","v":0}]
[{"$f":"VLOOKUP(Plantilla!$A$2,Poliductos!#REF!,2,0)","v":{"$error":"#REF!"}},"01010301","ALCOM",{"$f":"Plantilla!M11","v":0}]
[{"$f":"VLOOKUP(Plantilla!$A$2,Poliductos!#REF!,2,0)","v":{"$error":"#REF!"}},"01010302","ALCOM",{"$f":"Plantilla!M12","v":0}]
[{"$f":"VLOOKUP(Plantilla!$A$2,Poliductos!#REF!,2,0)","v":{"$error":"#REF!"}},"01010400","ALCOM",{"$f":"Plantilla!M13","v":0}]
[{"$f":"VLOOKUP(Plantilla!$A$2,Poliductos!#REF!,2,0)","v":{"$error":"#REF!"}},"01010500","ALCOM",{"$f":"Plantilla!M14","v":0}]
[{"$f":"VLOOKUP(Plantilla!$A$2,Poliductos!#REF!,2,0)","v":{"$error":"#REF!"}},"01010600","ALCOM",{"$f":"Plantilla!M15","v":0}]
[{"$f":"VLOOKUP(Plantilla!$A$2,Poliductos!#REF!,2,0)","v":{"$error":"#REF!"}},"01010700","ALCOM",{"$f":"Plantilla!M16","v":0}]
[{"$f":"VLOOKUP(Plantilla!$A$2,Poliductos!#REF!,2,0)","v":{"$error":"#REF!"}},"01010800","ALCOM",{"$f":"Plantilla!M17","v":0}]
[{"$f":"VLOOKUP(Plantilla!$A$2,Poliductos!#REF!,2,0)","v":{"$error":"#REF!"}},"01010900","ALCOM",{"$f":"Plantilla!M18","v":0}]
[{"$f":"VLOOKUP(Plantilla!$A$2,Poliductos!#REF!,2,0)","v":{"$error":"#REF!"}},"01011000","ALCOM",{"$f":"Plantilla!M19","v":0}]
[{"$f":"VLOOKUP(Plantilla!$A$2,Poliductos!#REF!,2,0)","v":{"$error":"#REF!"}},"01020000","ALCOM",{"$f":"Plantilla!M20","v":0}]
[{"$f":"VLOOKUP(Plantilla!$A$2,Poliductos!#REF!,2,0)","v":{"$error":"#REF!"}},"01020100","ALCOM",{"$f":"Plantilla!M21","v":0}]
[{"$f":"VLOOKUP(Plantilla!$A$2,Poliductos!#REF!,2,0)","v":{"$error":"#REF!"}},"01020200","ALCOM",{"$f":"Plantilla!M22","v":0}]
[{"$f":"VLOOKUP(Plantilla!$A$2,Poliductos!#REF!,2,0)","v":{"$error":"#REF!"}},"01020300","ALCOM",{"$f":"Plantilla!M23","v":0}]
[{"$f":"VLOOKUP(Plantilla!$A$2,Poliductos!#REF!,2,0)","v":{"$error":"#REF!"}},"01020400","ALCOM",{"$f":"Plantilla!M24","v":0}]
[{"$f":"VLOOKUP(Plantilla!$A$2,Poliductos!#REF!,2,0)","v":{"$error":"#REF!"}},"01020500","ALCOM",{"$f":"Plantilla!M25","v":0}]
[{"$f":"VLOOKUP(Plantilla!$A$2,Poliductos!#REF!,2,0)","v":{"$error":"#REF!"}},"01020600","ALCOM",{"$f":"Plantilla!M26","v":0}]
[{"$f":"VLOOKUP(Plantilla!$A$2,Poliductos!#REF!,2,0)","v":{"$error":"#REF!"}},"01020700","ALCOM",{"$f":"Plantilla!M27","v":0}]
[{"$f":"VLOOKUP(Plantilla!$A$2,Poliductos!#REF!,2,0)","v":{"$error":"#REF!"}},"01030000","ALCOM",{"$f":"Plantilla!M29","v":0}]
[{"$f":"VLOOKUP(Plantilla!$A$2,Poliductos!#REF!,2,0)","v":{"$error":"#REF!"}},"01030100","ALCOM",{"$f":"Plantilla!M30","v":0}]
[{"$f":"VLOOKUP(Plantilla!$A$2,Poliductos!#REF!,2,0)","v":{"$error":"#REF!"}},"01030200","ALCOM",{"$f":"Plantilla!M31","v":0}]
[{"$f":"VLOOKUP(Plantilla!$A$2,Poliductos!#REF!,2,0)","v":{"$error":"#REF!"}},"01030300","ALCOM",{"$f":"Plantilla!M32","v":0}]
[{"$f":"VLOOKUP(Plantilla!$A$2,Poliductos!#REF!,2,0)","v":{"$error":"#REF!"}},"01030400","ALCOM",{"$f":"Plantilla!M33","v":0}]
[{"$f":"VLOOKUP(Plantilla!$A$2,Poliductos!#REF!,2,0)","v":{"$error":"#REF!"}},"01030500","ALCOM",{"$f":"Plantilla!M34","v":0}]
[{"$f":"VLOOKUP(Plantilla!$A$2,Poliductos!#REF!,2,0)","v":{"$error":"#REF!"}},"01030600","ALCOM",{"$f":"Plantilla!M35","v":0}]
[{"$f":"VLOOKUP(Plantilla!$A$2,Poliductos!#REF!,2,0)","v":{"$error":"#REF!"}},"01030700","ALCOM",{"$f":"Plantilla!M36","v":0}]
[{"$f":"VLOOKUP(Plantilla!$A$2,Poliductos!#REF!,2,0)","v":{"$error":"#REF!"}},"01030800","ALCOM",{"$f":"Plantilla!M37","v":0}]
[{"$f":"VLOOKUP(Plantilla!$A$2,Poliductos!#REF!,2,0)","v":{"$error":"#REF!"}},"01030900","ALCOM",{"$f":"Plantilla!M38","v":0}]
[{"$f":"VLOOKUP(Plantilla!$A$2,Poliductos!#REF!,2,0)","v":{"$error":"#REF!"}},"01031000","ALCOM",{"$f":"Plantilla!M39","v":0}]
[{"$f":"VLOOKUP(Plantilla!$A$2,Poliductos!#REF!,2,0)","v":{"$error":"#REF!"}},"01031100","ALCOM",{"$f":"Plantilla!M40","v":0}]
[{"$f":"VLOOKUP(Plantilla!$A$2,Poliductos!#REF!,2,0)","v":{"$error":"#REF!"}},"01040000","ALCOM",{"$f":"Plantilla!M41","v":0}]
[{"$f":"VLOOKUP(Plantilla!$A$2,Poliductos!#REF!,2,0)","v":{"$error":"#REF!"}},"01050000","ALCOM",{"$f":"Plantilla!M42","v":0}]
[{"$f":"VLOOKUP(Plantilla!$A$2,Poliductos!#REF!,2,0)","v":{"$error":"#REF!"}},"01060000","ALCOM",{"$f":"Plantilla!M43","v":0}]
[{"$f":"VLOOKUP(Plantilla!$A$2,Poliductos!#REF!,2,0)","v":{"$error":"#REF!"}},"01060100","ALCOM",{"$f":"Plantilla!M44","v":0}]
[{"$f":"VLOOKUP(Plantilla!$A$2,Poliductos!#REF!,2,0)","v":{"$error":"#REF!"}},"01060200","ALCOM",{"$f":"Plantilla!M45","v":0}]
[{"$f":"VLOOKUP(Plantilla!$A$2,Poliductos!#REF!,2,0)","v":{"$error":"#REF!"}},"01060201","ALCOM",{"$f":"Plantilla!M46","v":0}]
[{"$f":"VLOOKUP(Plantilla!$A$2,Poliductos!#REF!,2,0)","v":{"$error":"#REF!"}},"01060202","ALCOM",{"$f":"Plantilla!M47","v":0}]
[{"$f":"VLOOKUP(Plantilla!$A$2,Poliductos!#REF!,2,0)","v":{"$error":"#REF!"}},"01060203","ALCOM",{"$f":"Plantilla!M48","v":0}]
[{"$f":"VLOOKUP(Plantilla!$A$2,Poliductos!#REF!,2,0)","v":{"$error":"#REF!"}},"01060300","ALCOM",{"$f":"Plantilla!M49","v":0}]
[{"$f":"VLOOKUP(Plantilla!$A$2,Poliductos!#REF!,2,0)","v":{"$error":"#REF!"}},"01060400","ALCOM",{"$f":"Plantilla!M50","v":0}]
[{"$f":"VLOOKUP(Plantilla!$A$2,Poliductos!#REF!,2,0)","v":{"$error":"#REF!"}},"01070000","ALCOM",{"$f":"Plantilla!M51","v":0}]
[{"$f":"VLOOKUP(Plantilla!$A$2,Poliductos!#REF!,2,0)","v":{"$error":"#REF!"}},"01070100","ALCOM",{"$f":"Plantilla!M52","v":0}]
[{"$f":"VLOOKUP(Plantilla!$A$2,Poliductos!#REF!,2,0)","v":{"$error":"#REF!"}},"01070200","ALCOM",{"$f":"Plantilla!M53","v":0}]
[{"$f":"VLOOKUP(Plantilla!$A$2,Poliductos!#REF!,2,0)","v":{"$error":"#REF!"}},"01070300","ALCOM",{"$f":"Plantilla!M54","v":0}]
[{"$f":"VLOOKUP(Plantilla!$A$2,Poliductos!#REF!,2,0)","v":{"$error":"#REF!"}},"01070400","ALCOM",{"$f":"Plantilla!M55","v":0}]
[{"$f":"VLOOKUP(Plantilla!$A$2,Poliductos!#REF!,2,0)","v":{"$error":"#REF!"}},"02000000","ALCOM",{"$f":"Plantilla!M56","v":0}]
[{"$f":"VLOOKUP(Plantilla!$A$2,Poliductos!#REF!,2,0)","v":{"$error":"#REF!"}},"02010000","ALCOM",{"$f":"Plantilla!M57","v":0}]
[{"$f":"VLOOKUP(Plantilla!$A$2,Poliductos!#REF!,2,0)","v":{"$error":"#REF!"}},"02010100","ALCOM",{"$f":"Plantilla!M58","v":0}]
[{"$f":"VLOOKUP(Plantilla!$A$2,Poliductos!#REF!,2,0)","v":{"$error":"#REF!"}},"02010200","ALCOM",{"$f":"Plantilla!M59","v":0}]
[{"$f":"VLOOKUP(Plantilla!$A$2,Poliductos!#REF!,2,0)","v":{"$error":"#REF!"}},"02010201","ALCOM",{"$f":"Plantilla!M60","v":0}]
[{"$f":"VLOOKUP(Plantilla!$A$2,Poliductos!#REF!,2,0)","v":{"$error":"#REF!"}},"02010202","ALCOM",{"$f":"Plantilla!M61","v":0}]
[{"$f":"VLOOKUP(Plantilla!$A$2,Poliductos!#REF!,2,0)","v":{"$error":"#REF!"}},"02010300","ALCOM",{"$f":"Plantilla!M62","v":0}]
[{"$f":"VLOOKUP(Plantilla!$A$2,Poliductos!#REF!,2,0)","v":{"$error":"#REF!"}},"02010301","ALCOM",{"$f":"Plantilla!M63","v":0}]
[{"$f":"VLOOKUP(Plantilla!$A$2,Poliductos!#REF!,2,0)","v":{"$error":"#REF!"}},"02010302","ALCOM",{"$f":"Plantilla!M64","v":0}]
[{"$f":"VLOOKUP(Plantilla!$A$2,Poliductos!#REF!,2,0)","v":{"$error":"#REF!"}},"02010400","ALCOM",{"$f":"Plantilla!M65","v":0}]
[{"$f":"VLOOKUP(Plantilla!$A$2,Poliductos!#REF!,2,0)","v":{"$error":"#REF!"}},"02010500","ALCOM",{"$f":"Plantilla!M66","v":0}]
[{"$f":"VLOOKUP(Plantilla!$A$2,Poliductos!#REF!,2,0)","v":{"$error":"#REF!"}},"02010600","ALCOM",{"$f":"Plantilla!M67","v":0}]
[{"$f":"VLOOKUP(Plantilla!$A$2,Poliductos!#REF!,2,0)","v":{"$error":"#REF!"}},"02010700","ALCOM",{"$f":"Plantilla!M68","v":0}]
[{"$f":"VLOOKUP(Plantilla!$A$2,Poliductos!#REF!,2,0)","v":{"$error":"#REF!"}},"02010800","ALCOM",{"$f":"Plantilla!M69","v":0}]
[{"$f":"VLOOKUP(Plantilla!$A$2,Poliductos!#REF!,2,0)","v":{"$error":"#REF!"}},"02010900","ALCOM",{"$f":"Plantilla!M70","v":0}]
[{"$f":"VLOOKUP(Plantilla!$A$2,Poliductos!#REF!,2,0)","v":{"$error":"#REF!"}},"02011000","ALCOM",{"$f":"Plantilla!M71","v":0}]
[{"$f":"VLOOKUP(Plantilla!$A$2,Poliductos!#REF!,2,0)","v":{"$error":"#REF!"}},"02020000","ALCOM",{"$f":"Plantilla!M72","v":0}]
[{"$f":"VLOOKUP(Plantilla!$A$2,Poliductos!#REF!,2,0)","v":{"$error":"#REF!"}},"02020100","ALCOM",{"$f":"Plantilla!M73","v":0}]
[{"$f":"VLOOKUP(Plantilla!$A$2,Poliductos!#REF!,2,0)","v":{"$error":"#REF!"}},"02020200","ALCOM",{"$f":"Plantilla!M74","v":0}]
[{"$f":"VLOOKUP(Plantilla!$A$2,Poliductos!#REF!,2,0)","v":{"$error":"#REF!"}},"02020300","ALCOM",{"$f":"Plantilla!M75","v":0}]
[{"$f":"VLOOKUP(Plantilla!$A$2,Poliductos!#REF!,2,0)","v":{"$error":"#REF!"}},"02020400","ALCOM",{"$f":"Plantilla!M76","v":0}]
[{"$f":"VLOOKUP(Plantilla!$A$2,Poliductos!#REF!,2,0)","v":{"$error":"#REF!"}},"02020500","ALCOM",{"$f":"Plantilla!M77","v":0}]
[{"$f":"VLOOKUP(Plantilla!$A$2,Poliductos!#REF!,2,0)","v":{"$error":"#REF!"}},"02020600","ALCOM",{"$f":"Plantilla!M78","v":0}]
[{"$f":"VLOOKUP(Plantilla!$A$2,Poliductos!#REF!,2,0)","v":{"$error":"#REF!"}},"02030000","ALCOM",{"$f":"Plantilla!M79","v":0}]
[{"$f":"VLOOKUP(Plantilla!$A$2,Poliductos!#REF!,2,0)","v":{"$error":"#REF!"}},"02030100","ALCOM",{"$f":"Plantilla!M80","v":0}]
[{"$f":"VLOOKUP(Plantilla!$A$2,Poliductos!#REF!,2,0)","v":{"$error":"#REF!"}},"02030200","ALCOM",{"$f":"Plantilla!M81","v":0}]
[{"$f":"VLOOKUP(Plantilla!$A$2,Poliductos!#REF!,2,0)","v":{"$error":"#REF!"}},"02030300","ALCOM",{"$f":"Plantilla!M82","v":0}]
[{"$f":"VLOOKUP(Plantilla!$A$2,Poliductos!#REF!,2,0)","v":{"$error":"#REF!"}},"02030400","ALCOM",{"$f":"Plantilla!M83","v":0}]
[{"$f":"VLOOKUP(Plantilla!$A$2,Poliductos!#REF!,2,0)","v":{"$error":"#REF!"}},"02040000","ALCOM",{"$f":"Plantilla!M84","v":0}]
[{"$f":"VLOOKUP(Plantilla!$A$2,Poliductos!#REF!,2,0)","v":{"$error":"#REF!"}},"02040100","ALCOM",{"$f":"Plantilla!M85","v":0}]
[{"$f":"VLOOKUP(Plantilla!$A$2,Poliductos!#REF!,2,0)","v":{"$error":"#REF!"}},"02040200","ALCOM",{"$f":"Plantilla!M86","v":0}]
[{"$f":"VLOOKUP(Plantilla!$A$2,Poliductos!#REF!,2,0)","v":{"$error":"#REF!"}},"02040300","ALCOM",{"$f":"Plantilla!M87","v":0}]
[{"$f":"VLOOKUP(Plantilla!$A$2,Poliductos!#REF!,2,0)","v":{"$error":"#REF!"}},"02050000","ALCOM",{"$f":"Plantilla!M88","v":0}]
[{"$f":"VLOOKUP(Plantilla!$A$2,Poliductos!#REF!,2,0)","v":{"$error":"#REF!"}},"02060000","ALCOM",{"$f":"Plantilla!M89","v":0}]
[{"$f":"VLOOKUP(Plantilla!$A$2,Poliductos!#REF!,2,0)","v":{"$error":"#REF!"}},"02060100","ALCOM",{"$f":"Plantilla!M90","v":0}]
[{"$f":"VLOOKUP(Plantilla!$A$2,Poliductos!#REF!,2,0)","v":{"$error":"#REF!"}},"02060200","ALCOM",{"$f":"Plantilla!M91","v":0}]
[{"$f":"VLOOKUP(Plantilla!$A$2,Poliductos!#REF!,2,0)","v":{"$error":"#REF!"}},"02060300","ALCOM",{"$f":"Plantilla!M92","v":0}]
[{"$f":"VLOOKUP(Plantilla!$A$2,Poliductos!#REF!,2,0)","v":{"$error":"#REF!"}},"02070000","ALCOM",{"$f":"Plantilla!M93","v":0}]
[{"$f":"VLOOKUP(Plantilla!$A$2,Poliductos!#REF!,2,0)","v":{"$error":"#REF!"}},"02080000","ALCOM",{"$f":"Plantilla!M94","v":0}]
[{"$f":"VLOOKUP(Plantilla!$A$2,Poliductos!#REF!,2,0)","v":{"$error":"#REF!"}},"02090000","ALCOM",{"$f":"Plantilla!M95","v":0}]
[{"$f":"VLOOKUP(Plantilla!$A$2,Poliductos!#REF!,2,0)","v":{"$error":"#REF!"}},"02090100","ALCOM",{"$f":"Plantilla!M96","v":0}]
[{"$f":"VLOOKUP(Plantilla!$A$2,Poliductos!#REF!,2,0)","v":{"$error":"#REF!"}},"02090200","ALCOM",{"$f":"Plantilla!M97","v":0}]
[{"$f":"VLOOKUP(Plantilla!$A$2,Poliductos!#REF!,2,0)","v":{"$error":"#REF!"}},"02090300","ALCOM",{"$f":"Plantilla!M98","v":0}]
[{"$f":"VLOOKUP(Plantilla!$A$2,Poliductos!#REF!,2,0)","v":{"$error":"#REF!"}},"02090400","ALCOM",{"$f":"Plantilla!M99","v":0}]
[{"$f":"VLOOKUP(Plantilla!$A$2,Poliductos!#REF!,2,0)","v":{"$error":"#REF!"}},"02090500","ALCOM",{"$f":"Plantilla!M100","v":0}]
[{"$f":"VLOOKUP(Plantilla!$A$2,Poliductos!#REF!,2,0)","v":{"$error":"#REF!"}},"02090600","ALCOM",{"$f":"Plantilla!M101","v":0}]
[{"$f":"VLOOKUP(Plantilla!$A$2,Poliductos!#REF!,2,0)","v":{"$error":"#REF!"}},"02100000","ALCOM",{"$f":"Plantilla!M102","v":0}]
[{"$f":"VLOOKUP(Plantilla!$A$2,Poliductos!#REF!,2,0)","v":{"$error":"#REF!"}},"02100100","ALCOM",{"$f":"Plantilla!M103","v":0}]
[{"$f":"VLOOKUP(Plantilla!$A$2,Poliductos!#REF!,2,0)","v":{"$error":"#REF!"}},"02100200","ALCOM",{"$f":"Plantilla!M104","v":0}]
[{"$f":"VLOOKUP(Plantilla!$A$2,Poliductos!#REF!,2,0)","v":{"$error":"#REF!"}},"02100300","ALCOM",{"$f":"Plantilla!M105","v":0}]
[{"$f":"VLOOKUP(Plantilla!$A$2,Poliductos!#REF!,2,0)","v":{"$error":"#REF!"}},"02100400","ALCOM",{"$f":"Plantilla!M106","v":0}]
[{"$f":"VLOOKUP(Plantilla!$A$2,Poliductos!#REF!,2,0)","v":{"$error":"#REF!"}},"02110000","ALCOM",{"$f":"Plantilla!M107","v":0}]
[{"$f":"VLOOKUP(Plantilla!$A$2,Poliductos!#REF!,2,0)","v":{"$error":"#REF!"}},"02110100","ALCOM",{"$f":"Plantilla!M108","v":0}]
[{"$f":"VLOOKUP(Plantilla!$A$2,Poliductos!#REF!,2,0)","v":{"$error":"#REF!"}},"02110200","ALCOM",{"$f":"Plantilla!M109","v":0}]
[{"$f":"VLOOKUP(Plantilla!$A$2,Poliductos!#REF!,2,0)","v":{"$error":"#REF!"}},"02110300","ALCOM",{"$f":"Plantilla!M110","v":0}]
[{"$f":"VLOOKUP(Plantilla!$A$2,Poliductos!#REF!,2,0)","v":{"$error":"#REF!"}},"02110400","ALCOM",{"$f":"Plantilla!M111","v":0}]
[{"$f":"VLOOKUP(Plantilla!$A$2,Poliductos!#REF!,2,0)","v":{"$error":"#REF!"}},"02110500","ALCOM",{"$f":"Plantilla!M112","v":0}]
[{"$f":"VLOOKUP(Plantilla!$A$2,Poliductos!#REF!,2,0)","v":{"$error":"#REF!"}},"02120000","ALCOM",{"$f":"Plantilla!M113","v":0}]
[{"$f":"VLOOKUP(Plantilla!$A$2,Poliductos!#REF!,2,0)","v":{"$error":"#REF!"}},"02130000","ALCOM",{"$f":"Plantilla!M114","v":0}]
[{"$f":"VLOOKUP(Plantilla!$A$2,Poliductos!#REF!,2,0)","v":{"$error":"#REF!"}},"02130100","ALCOM",{"$f":"Plantilla!M115","v":0}]
[{"$f":"VLOOKUP(Plantilla!$A$2,Poliductos!#REF!,2,0)","v":{"$error":"#REF!"}},"02130200","ALCOM",{"$f":"Plantilla!M116","v":0}]
[{"$f":"VLOOKUP(Plantilla!$A$2,Poliductos!#REF!,2,0)","v":{"$error":"#REF!"}},"02130300","ALCOM",{"$f":"Plantilla!M117","v":0}]
[{"$f":"VLOOKUP(Plantilla!$A$2,Poliductos!#REF!,2,0)","v":{"$error":"#REF!"}},"02130400","ALCOM",{"$f":"Plantilla!M118","v":0}]
[{"$f":"VLOOKUP(Plantilla!$A$2,Poliductos!#REF!,2,0)","v":{"$error":"#REF!"}},"02130500","ALCOM",{"$f":"Plantilla!M119","v":0}]
[{"$f":"VLOOKUP(Plantilla!$A$2,Poliductos!#REF!,2,0)","v":{"$error":"#REF!"}},"02130600","ALCOM",{"$f":"Plantilla!M120","v":0}]
[{"$f":"VLOOKUP(Plantilla!$A$2,Poliductos!#REF!,2,0)","v":{"$error":"#REF!"}},"02140000","ALCOM",{"$f":"Plantilla!M121","v":0}]
[{"$f":"VLOOKUP(Plantilla!$A$2,Poliductos!#REF!,2,0)","v":{"$error":"#REF!"}},"02140100","ALCOM",{"$f":"Plantilla!M122","v":0}]
[{"$f":"VLOOKUP(Plantilla!$A$2,Poliductos!#REF!,2,0)","v":{"$error":"#REF!"}},"02140200","ALCOM",{"$f":"Plantilla!M123","v":0}]
[{"$f":"VLOOKUP(Plantilla!$A$2,Poliductos!#REF!,2,0)","v":{"$error":"#REF!"}},"02150000","ALCOM",{"$f":"Plantilla!M124","v":0}]
[{"$f":"VLOOKUP(Plantilla!$A$2,Poliductos!#REF!,2,0)","v":{"$error":"#REF!"}},"02150100","ALCOM",{"$f":"Plantilla!M125","v":0}]
[{"$f":"VLOOKUP(Plantilla!$A$2,Poliductos!#REF!,2,0)","v":{"$error":"#REF!"}},"02150200","ALCOM",{"$f":"Plantilla!M126","v":0}]
[{"$f":"VLOOKUP(Plantilla!$A$2,Poliductos!#REF!,2,0)","v":{"$error":"#REF!"}},"02150300","ALCOM",{"$f":"Plantilla!M127","v":0}]
[{"$f":"VLOOKUP(Plantilla!$A$2,Poliductos!#REF!,2,0)","v":{"$error":"#REF!"}},"02150400","ALCOM",{"$f":"Plantilla!M128","v":0}]
[{"$f":"VLOOKUP(Plantilla!$A$2,Poliductos!#REF!,2,0)","v":{"$error":"#REF!"}},"02150500","ALCOM",{"$f":"Plantilla!M129","v":0}]
[{"$f":"VLOOKUP(Plantilla!$A$2,Poliductos!#REF!,2,0)","v":{"$error":"#REF!"}},"02150600","ALCOM",{"$f":"Plantilla!M130","v":0}]
[{"$f":"VLOOKUP(Plantilla!$A$2,Poliductos!#REF!,2,0)","v":{"$error":"#REF!"}},"02150700","ALCOM",{"$f":"Plantilla!M131","v":0}]
[{"$f":"VLOOKUP(Plantilla!$A$2,Poliductos!#REF!,2,0)","v":{"$error":"#REF!"}},"02150800","ALCOM",{"$f":"Plantilla!M132","v":0}]
[{"$f":"VLOOKUP(Plantilla!$A$2,Poliductos!#REF!,2,0)","v":{"$error":"#REF!"}},"02160000","ALCOM",{"$f":"Plantilla!M136","v":0}]
[{"$f":"VLOOKUP(Plantilla!$A$2,Poliductos!#REF!,2,0)","v":{"$error":"#REF!"}},"02160100","ALCOM",{"$f":"Plantilla!M137","v":0}]
[{"$f":"VLOOKUP(Plantilla!$A$2,Poliductos!#REF!,2,0)","v":{"$error":"#REF!"}},"02160200","ALCOM",{"$f":"Plantilla!M138","v":0}]
[{"$f":"VLOOKUP(Plantilla!$A$2,Poliductos!#REF!,2,0)","v":{"$error":"#REF!"}},"01000000","APMC",{"$f":"Plantilla!N4","v":0}]
[{"$f":"VLOOKUP(Plantilla!$A$2,Poliductos!#REF!,2,0)","v":{"$error":"#REF!"}},"01010000","APMC",{"$f":"Plantilla!N5","v":0}]
[{"$f":"VLOOKUP(Plantilla!$A$2,Poliductos!#REF!,2,0)","v":{"$error":"#REF!"}},"01010100","APMC",{"$f":"Plantilla!N6","v":0}]
[{"$f":"VLOOKUP(Plantilla!$A$2,Poliductos!#REF!,2,0)","v":{"$error":"#REF!"}},"01010200","APMC",{"$f":"Plantilla!N7","v":0}]
[{"$f":"VLOOKUP(Plantilla!$A$2,Poliductos!#REF!,2,0)","v":{"$error":"#REF!"}},"01010201","APMC",{"$f":"Plantilla!N8","v":0}]
[{"$f":"VLOOKUP(Plantilla!$A$2,Poliductos!#REF!,2,0)","v":{"$error":"#REF!"}},"01010202","APMC",{"$f":"Plantilla!N9","v":0}]
[{"$f":"VLOOKUP(Plantilla!$A$2,Poliductos!#REF!,2,0)","v":{"$error":"#REF!"}},"01010300","APMC",{"$f":"Plantilla!N10","v":0}]
[{"$f":"VLOOKUP(Plantilla!$A$2,Poliductos!#REF!,2,0)","v":{"$error":"#REF!"}},"01010301","APMC",{"$f":"Plantilla!N11","v":0}]
[{"$f":"VLOOKUP(Plantilla!$A$2,Poliductos!#REF!,2,0)","v":{"$error":"#REF!"}},"01010302","APMC",{"$f":"Plantilla!N12","v":0}]
[{"$f":"VLOOKUP(Plantilla!$A$2,Poliductos!#REF!,2,0)","v":{"$error":"#REF!"}},"01010400","APMC",{"$f":"Plantilla!N13","v":0}]
[{"$f":"VLOOKUP(Plantilla!$A$2,Poliductos!#REF!,2,0)","v":{"$error":"#REF!"}},"01010500","APMC",{"$f":"Plantilla!N14","v":0}]
[{"$f":"VLOOKUP(Plantilla!$A$2,Poliductos!#REF!,2,0)","v":{"$error":"#REF!"}},"01010600","APMC",{"$f":"Plantilla!N15","v":0}]
[{"$f":"VLOOKUP(Plantilla!$A$2,Poliductos!#REF!,2,0)","v":{"$error":"#REF!"}},"01010700","APMC",{"$f":"Plantilla!N16","v":0}]
[{"$f":"VLOOKUP(Plantilla!$A$2,Poliductos!#REF!,2,0)","v":{"$error":"#REF!"}},"01010800","APMC",{"$f":"Plantilla!N17","v":0}]
[{"$f":"VLOOKUP(Plantilla!$A$2,Poliductos!#REF!,2,0)","v":{"$error":"#REF!"}},"01010900","APMC",{"$f":"Plantilla!N18","v":0}]
[{"$f":"VLOOKUP(Plantilla!$A$2,Poliductos!#REF!,2,0)","v":{"$error":"#REF!"}},"01011000","APMC",{"$f":"Plantilla!N19","v":0}]
[{"$f":"VLOOKUP(Plantilla!$A$2,Poliductos!#REF!,2,0)","v":{"$error":"#REF!"}},"01020000","APMC",{"$f":"Plantilla!N20","v":0}]
[{"$f":"VLOOKUP(Plantilla!$A$2,Poliductos!#REF!,2,0)","v":{"$error":"#REF!"}},"01020100","APMC",{"$f":"Plantilla!N21","v":0}]
[{"$f":"VLOOKUP(Plantilla!$A$2,Poliductos!#REF!,2,0)","v":{"$error":"#REF!"}},"01020200","APMC",{"$f":"Plantilla!N22","v":0}]
[{"$f":"VLOOKUP(Plantilla!$A$2,Poliductos!#REF!,2,0)","v":{"$error":"#REF!"}},"01020300","APMC",{"$f":"Plantilla!N23","v":0}]
[{"$f":"VLOOKUP(Plantilla!$A$2,Poliductos!#REF!,2,0)","v":{"$error":"#REF!"}},"01020400","APMC",{"$f":"Plantilla!N24","v":0}]
[{"$f":"VLOOKUP(Plantilla!$A$2,Poliductos!#REF!,2,0)","v":{"$error":"#REF!"}},"01020500","APMC",{"$f":"Plantilla!N25","v":0}]
[{"$f":"VLOOKUP(Plantilla!$A$2,Poliductos!#REF!,2,0)","v":{"$error":"#REF!"}},"01020600","APMC",{"$f":"Plantilla!N26","v":0}]
[{"$f":"VLOOKUP(Plantilla!$A$2,Poliductos!#REF!,2,0)","v":{"$error":"#REF!"}},"01020700","APMC",{"$f":"Plantilla!N27","v":0}]
[{"$f":"VLOOKUP(Plantilla!$A$2,Poliductos!#REF!,2,0)","v":{"$error":"#REF!"}},"01030000","APMC",{"$f":"Plantilla!N29","v":0}]
[{"$f":"VLOOKUP(Plantilla!$A$2,Poliductos!#REF!,2,0)","v":{"$error":"#REF!"}},"01030100","APMC",{"$f":"Plantilla!N30","v":0}]
[{"$f":"VLOOKUP(Plantilla!$A$2,Poliductos!#REF!,2,0)","v":{"$error":"#REF!"}},"01030200","APMC",{"$f":"Plantilla!N31","v":0}]
[{"$f":"VLOOKUP(Plantilla!$A$2,Poliductos!#REF!,2,0)","v":{"$error":"#REF!"}},"01030300","APMC",{"$f":"Plantilla!N32","v":0}]
[{"$f":"VLOOKUP(Plantilla!$A$2,Poliductos!#REF!,2,0)","v":{"$error":"#REF!"}},"01030400","APMC",{"$f":"Plantilla!N33","v":0}]
[{"$f":"VLOOKUP(Plantilla!$A$2,Poliductos!#REF!,2,0)","v":{"$error":"#REF!"}},"01030500","APMC",{"$f":"Plantilla!N34","v":0}]
[{"$f":"VLOOKUP(Plantilla!$A$2,Poliductos!#REF!,2,0)","v":{"$error":"#REF!"}},"01030600","APMC",{"$f":"Plantilla!N35","v":0}]
[{"$f":"VLOOKUP(Plantilla!$A$2,Poliductos!#REF!,2,0)","v":{"$error":"#REF!"}},"01030700","APMC",{"$f":"Plantilla!N36","v":0}]
[{"$f":"VLOOKUP(Plantilla!$A$2,Poliductos!#REF!,2,0)","v":{"$error":"#REF!"}},"01030800","APMC",{"$f":"Plantilla!N37","v":0}]
[{"$f":"VLOOKUP(Plantilla!$A$2,Poliductos!#REF!,2,0)","v":{"$error":"#REF!"}},"01030900","APMC",{"$f":"Plantilla!N38","v":0}]
[{"$f":"VLOOKUP(Plantilla!$A$2,Poliductos!#REF!,2,0)","v":{"$error":"#REF!"}},"01031000","APMC",{"$f":"Plantilla!N39","v":0}]
[{"$f":"VLOOKUP(Plantilla!$A$2,Poliductos!#REF!,2,0)","v":{"$error":"#REF!"}},"01031100","APMC",{"$f":"Plantilla!N40","v":0}]
[{"$f":"VLOOKUP(Plantilla!$A$2,Poliductos!#REF!,2,0)","v":{"$error":"#REF!"}},"01040000","APMC",{"$f":"Plantilla!N41","v":0}]
[{"$f":"VLOOKUP(Plantilla!$A$2,Poliductos!#REF!,2,0)","v":{"$error":"#REF!"}},"01050000","APMC",{"$f":"Plantilla!N42","v":0}]
[{"$f":"VLOOKUP(Plantilla!$A$2,Poliductos!#REF!,2,0)","v":{"$error":"#REF!"}},"01060000","APMC",{"$f":"Plantilla!N43","v":0}]
[{"$f":"VLOOKUP(Plantilla!$A$2,Poliductos!#REF!,2,0)","v":{"$error":"#REF!"}},"01060100","APMC",{"$f":"Plantilla!N44","v":0}]
[{"$f":"VLOOKUP(Plantilla!$A$2,Poliductos!#REF!,2,0)","v":{"$error":"#REF!"}},"01060200","APMC",{"$f":"Plantilla!N45","v":0}]
[{"$f":"VLOOKUP(Plantilla!$A$2,Poliductos!#REF!,2,0)","v":{"$error":"#REF!"}},"01060201","APMC",{"$f":"Plantilla!N46","v":0}]
[{"$f":"VLOOKUP(Plantilla!$A$2,Poliductos!#REF!,2,0)","v":{"$error":"#REF!"}},"01060202","APMC",{"$f":"Plantilla!N47","v":0}]
[{"$f":"VLOOKUP(Plantilla!$A$2,Poliductos!#REF!,2,0)","v":{"$error":"#REF!"}},"01060203","APMC",{"$f":"Plantilla!N48","v":0}]
[{"$f":"VLOOKUP(Plantilla!$A$2,Poliductos!#REF!,2,0)","v":{"$error":"#REF!"}},"01060300","APMC",{"$f":"Plantilla!N49","v":0}]
[{"$f":"VLOOKUP(Plantilla!$A$2,Poliductos!#REF!,2,0)","v":{"$error":"#REF!"}},"01060400","APMC",{"$f":"Plantilla!N50","v":0}]
[{"$f":"VLOOKUP(Plantilla!$A$2,Poliductos!#REF!,2,0)","v":{"$error":"#REF!"}},"01070000","APMC",{"$f":"Plantilla!N51","v":0}]
[{"$f":"VLOOKUP(Plantilla!$A$2,Poliductos!#REF!,2,0)","v":{"$error":"#REF!"}},"01070100","APMC",{"$f":"Plantilla!N52","v":0}]
[{"$f":"VLOOKUP(Plantilla!$A$2,Poliductos!#REF!,2,0)","v":{"$error":"#REF!"}},"01070200","APMC",{"$f":"Plantilla!N53","v":0}]
[{"$f":"VLOOKUP(Plantilla!$A$2,Poliductos!#REF!,2,0)","v":{"$error":"#REF!"}},"01070300","APMC",{"$f":"Plantilla!N54","v":0}]
[{"$f":"VLOOKUP(Plantilla!$A$2,Poliductos!#REF!,2,0)","v":{"$error":"#REF!"}},"01070400","APMC",{"$f":"Plantilla!N55","v":0}]
[{"$f":"VLOOKUP(Plantilla!$A$2,Poliductos!#REF!,2,0)","v":{"$error":"#REF!"}},"02000000","APMC",{"$f":"Plantilla!N56","v":0}]
[{"$f":"VLOOKUP(Plantilla!$A$2,Poliductos!#REF!,2,0)","v":{"$error":"#REF!"}},"02010000","APMC",{"$f":"Plantilla!N57","v":0}]
[{"$f":"VLOOKUP(Plantilla!$A$2,Poliductos!#REF!,2,0)","v":{"$error":"#REF!"}},"02010100","APMC",{"$f":"Plantilla!N58","v":0}]
[{"$f":"VLOOKUP(Plantilla!$A$2,Poliductos!#REF!,2,0)","v":{"$error":"#REF!"}},"02010200","APMC",{"$f":"Plantilla!N59","v":0}]
[{"$f":"VLOOKUP(Plantilla!$A$2,Poliductos!#REF!,2,0)","v":{"$error":"#REF!"}},"02010201","APMC",{"$f":"Plantilla!N60","v":0}]
[{"$f":"VLOOKUP(Plantilla!$A$2,Poliductos!#REF!,2,0)","v":{"$error":"#REF!"}},"02010202","APMC",{"$f":"Plantilla!N61","v":0}]
[{"$f":"VLOOKUP(Plantilla!$A$2,Poliductos!#REF!,2,0)","v":{"$error":"#REF!"}},"02010300","APMC",{"$f":"Plantilla!N62","v":0}]
[{"$f":"VLOOKUP(Plantilla!$A$2,Poliductos!#REF!,2,0)","v":{"$error":"#REF!"}},"02010301","APMC",{"$f":"Plantilla!N63","v":0}]
[{"$f":"VLOOKUP(Plantilla!$A$2,Poliductos!#REF!,2,0)","v":{"$error":"#REF!"}},"02010302","APMC",{"$f":"Plantilla!N64","v":0}]
[{"$f":"VLOOKUP(Plantilla!$A$2,Poliductos!#REF!,2,0)","v":{"$error":"#REF!"}},"02010400","APMC",{"$f":"Plantilla!N65","v":0}]
[{"$f":"VLOOKUP(Plantilla!$A$2,Poliductos!#REF!,2,0)","v":{"$error":"#REF!"}},"02010500","APMC",{"$f":"Plantilla!N66","v":0}]
[{"$f":"VLOOKUP(Plantilla!$A$2,Poliductos!#REF!,2,0)","v":{"$error":"#REF!"}},"02010600","APMC",{"$f":"Plantilla!N67","v":0}]
[{"$f":"VLOOKUP(Plantilla!$A$2,Poliductos!#REF!,2,0)","v":{"$error":"#REF!"}},"02010700","APMC",{"$f":"Plantilla!N68","v":0}]
[{"$f":"VLOOKUP(Plantilla!$A$2,Poliductos!#REF!,2,0)","v":{"$error":"#REF!"}},"02010800","APMC",{"$f":"Plantilla!N69","v":0}]
[{"$f":"VLOOKUP(Plantilla!$A$2,Poliductos!#REF!,2,0)","v":{"$error":"#REF!"}},"02010900","APMC",{"$f":"Plantilla!N70","v":0}]
[{"$f":"VLOOKUP(Plantilla!$A$2,Poliductos!#REF!,2,0)","v":{"$error":"#REF!"}},"02011000","APMC",{"$f":"Plantilla!N71","v":0}]
[{"$f":"VLOOKUP(Plantilla!$A$2,Poliductos!#REF!,2,0)","v":{"$error":"#REF!"}},"02020000","APMC",{"$f":"Plantilla!N72","v":0}]
[{"$f":"VLOOKUP(Plantilla!$A$2,Poliductos!#REF!,2,0)","v":{"$error":"#REF!"}},"02020100","APMC",{"$f":"Plantilla!N73","v":0}]
[{"$f":"VLOOKUP(Plantilla!$A$2,Poliductos!#REF!,2,0)","v":{"$error":"#REF!"}},"02020200","APMC",{"$f":"Plantilla!N74","v":0}]
[{"$f":"VLOOKUP(Plantilla!$A$2,Poliductos!#REF!,2,0)","v":{"$error":"#REF!"}},"02020300","APMC",{"$f":"Plantilla!N75","v":0}]
[{"$f":"VLOOKUP(Plantilla!$A$2,Poliductos!#REF!,2,0)","v":{"$error":"#REF!"}},"02020400","APMC",{"$f":"Plantilla!N76","v":0}]
[{"$f":"VLOOKUP(Plantilla!$A$2,Poliductos!#REF!,2,0)","v":{"$error":"#REF!"}},"02020500","APMC",{"$f":"Plantilla!N77","v":0}]
[{"$f":"VLOOKUP(Plantilla!$A$2,Poliductos!#REF!,2,0)","v":{"$error":"#REF!"}},"02020600","APMC",{"$f":"Plantilla!N78","v":0}]
[{"$f":"VLOOKUP(Plantilla!$A$2,Poliductos!#REF!,2,0)","v":{"$error":"#REF!"}},"02030000","APMC",{"$f":"Plantilla!N79","v":0}]
[{"$f":"VLOOKUP(Plantilla!$A$2,Poliductos!#REF!,2,0)","v":{"$error":"#REF!"}},"02030100","APMC",{"$f":"Plantilla!N80","v":0}]
[{"$f":"VLOOKUP(Plantilla!$A$2,Poliductos!#REF!,2,0)","v":{"$error":"#REF!"}},"02030200","APMC",{"$f":"Plantilla!N81","v":0}]
[{"$f":"VLOOKUP(Plantilla!$A$2,Poliductos!#REF!,2,0)","v":{"$error":"#REF!"}},"02030300","APMC",{"$f":"Plantilla!N82","v":0}]
[{"$f":"VLOOKUP(Plantilla!$A$2,Poliductos!#REF!,2,0)","v":{"$error":"#REF!"}},"02030400","APMC",{"$f":"Plantilla!N83","v":0}]
[{"$f":"VLOOKUP(Plantilla!$A$2,Poliductos!#REF!,2,0)","v":{"$error":"#REF!"}},"02040000","APMC",{"$f":"Plantilla!N84","v":0}]
[{"$f":"VLOOKUP(Plantilla!$A$2,Poliductos!#REF!,2,0)","v":{"$error":"#REF!"}},"02040100","APMC",{"$f":"Plantilla!N85","v":0}]
[{"$f":"VLOOKUP(Plantilla!$A$2,Poliductos!#REF!,2,0)","v":{"$error":"#REF!"}},"02040200","APMC",{"$f":"Plantilla!N86","v":0}]
[{"$f":"VLOOKUP(Plantilla!$A$2,Poliductos!#REF!,2,0)","v":{"$error":"#REF!"}},"02040300","APMC",{"$f":"Plantilla!N87","v":0}]
[{"$f":"VLOOKUP(Plantilla!$A$2,Poliductos!#REF!,2,0)","v":{"$error":"#REF!"}},"02050000","APMC",{"$f":"Plantilla!N88","v":0}]
[{"$f":"VLOOKUP(Plantilla!$A$2,Poliductos!#REF!,2,0)","v":{"$error":"#REF!"}},"02060000","APMC",{"$f":"Plantilla!N89","v":0}]
[{"$f":"VLOOKUP(Plantilla!$A$2,Poliductos!#REF!,2,0)","v":{"$error":"#REF!"}},"02060100","APMC",{"$f":"Plantilla!N90","v":0}]
[{"$f":"VLOOKUP(Plantilla!$A$2,Poliductos!#REF!,2,0)","v":{"$error":"#REF!"}},"02060200","APMC",{"$f":"Plantilla!N91","v":0}]
[{"$f":"VLOOKUP(Plantilla!$A$2,Poliductos!#REF!,2,0)","v":{"$error":"#REF!"}},"02060300","APMC",{"$f":"Plantilla!N92","v":0}]
[{"$f":"VLOOKUP(Plantilla!$A$2,Poliductos!#REF!,2,0)","v":{"$error":"#REF!"}},"02070000","APMC",{"$f":"Plantilla!N93","v":0}]
[{"$f":"VLOOKUP(Plantilla!$A$2,Poliductos!#REF!,2,0)","v":{"$error":"#REF!"}},"02080000","APMC",{"$f":"Plantilla!N94","v":0}]
[{"$f":"VLOOKUP(Plantilla!$A$2,Poliductos!#REF!,2,0)","v":{"$error":"#REF!"}},"02090000","APMC",{"$f":"Plantilla!N95","v":0}]
[{"$f":"VLOOKUP(Plantilla!$A$2,Poliductos!#REF!,2,0)","v":{"$error":"#REF!"}},"02090100","APMC",{"$f":"Plantilla!N96","v":0}]
[{"$f":"VLOOKUP(Plantilla!$A$2,Poliductos!#REF!,2,0)","v":{"$error":"#REF!"}},"02090200","APMC",{"$f":"Plantilla!N97","v":0}]
[{"$f":"VLOOKUP(Plantilla!$A$2,Poliductos!#REF!,2,0)","v":{"$error":"#REF!"}},"02090300","APMC",{"$f":"Plantilla!N98","v":0}]
[{"$f":"VLOOKUP(Plantilla!$A$2,Poliductos!#REF!,2,0)","v":{"$error":"#REF!"}},"02090400","APMC",{"$f":"Plantilla!N99","v":0}]
[{"$f":"VLOOKUP(Plantilla!$A$2,Poliductos!#REF!,2,0)","v":{"$error":"#REF!"}},"02090500","APMC",{"$f":"Plantilla!N100","v":0}]
[{"$f":"VLOOKUP(Plantilla!$A$2,Poliductos!#REF!,2,0)","v":{"$error":"#REF!"}},"02090600","APMC",{"$f":"Plantilla!N101","v":0}]
[{"$f":"VLOOKUP(Plantilla!$A$2,Poliductos!#REF!,2,0)","v":{"$error":"#REF!"}},"02100000","APMC",{"$f":"Plantilla!N102","v":0}]
[{"$f":"VLOOKUP(Plantilla!$A$2,Poliductos!#REF!,2,0)","v":{"$error":"#REF!"}},"02100100","APMC",{"$f":"Plantilla!N103","v":0}]
[{"$f":"VLOOKUP(Plantilla!$A$2,Poliductos!#REF!,2,0)","v":{"$error":"#REF!"}},"02100200","APMC",{"$f":"Plantilla!N104","v":0}]
[{"$f":"VLOOKUP(Plantilla!$A$2,Poliductos!#REF!,2,0)","v":{"$error":"#REF!"}},"02100300","APMC",{"$f":"Plantilla!N105","v":0}]
[{"$f":"VLOOKUP(Plantilla!$A$2,Poliductos!#REF!,2,0)","v":{"$error":"#REF!"}},"02100400","APMC",{"$f":"Plantilla!N106","v":0}]
[{"$f":"VLOOKUP(Plantilla!$A$2,Poliductos!#REF!,2,0)","v":{"$error":"#REF!"}},"02110000","APMC",{"$f":"Plantilla!N107","v":0}]
[{"$f":"VLOOKUP(Plantilla!$A$2,Poliductos!#REF!,2,0)","v":{"$error":"#REF!"}},"02110100","APMC",{"$f":"Plantilla!N108","v":0}]
[{"$f":"VLOOKUP(Plantilla!$A$2,Poliductos!#REF!,2,0)","v":{"$error":"#REF!"}},"02110200","APMC",{"$f":"Plantilla!N109","v":0}]
[{"$f":"VLOOKUP(Plantilla!$A$2,Poliductos!#REF!,2,0)","v":{"$error":"#REF!"}},"02110300","APMC",{"$f":"Plantilla!N110","v":0}]
[{"$f":"VLOOKUP(Plantilla!$A$2,Poliductos!#REF!,2,0)","v":{"$error":"#REF!"}},"02110400","APMC",{"$f":"Plantilla!N111","v":0}]
[{"$f":"VLOOKUP(Plantilla!$A$2,Poliductos!#REF!,2,0)","v":{"$error":"#REF!"}},"02110500","APMC",{"$f":"Plantilla!N112","v":0}]
[{"$f":"VLOOKUP(Plantilla!$A$2,Poliductos!#REF!,2,0)","v":{"$error":"#REF!"}},"02120000","APMC",{"$f":"Plantilla!N113","v":0}]
[{"$f":"VLOOKUP(Plantilla!$A$2,Poliductos!#REF!,2,0)","v":{"$error":"#REF!"}},"02130000","APMC",{"$f":"Plantilla!N114","v":0}]
[{"$f":"VLOOKUP(Plantilla!$A$2,Poliductos!#REF!,2,0)","v":{"$error":"#REF!"}},"02130100","APMC",{"$f":"Plantilla!N115","v":0}]
[{"$f":"VLOOKUP(Plantilla!$A$2,Poliductos!#REF!,2,0)","v":{"$error":"#REF!"}},"02130200","APMC",{"$f":"Plantilla!N116","v":0}]
[{"$f":"VLOOKUP(Plantilla!$A$2,Poliductos!#REF!,2,0)","v":{"$error":"#REF!"}},"02130300","APMC",{"$f":"Plantilla!N117","v":0}]
[{"$f":"VLOOKUP(Plantilla!$A$2,Poliductos!#REF!,2,0)","v":{"$error":"#REF!"}},"02130400","APMC",{"$f":"Plantilla!N118","v":0}]
[{"$f":"VLOOKUP(Plantilla!$A$2,Poliductos!#REF!,2,0)","v":{"$error":"#REF!"}},"02130500","APMC",{"$f":"Plantilla!N119","v":0}]
[{"$f":"VLOOKUP(Plantilla!$A$2,Poliductos!#REF!,2,0)","v":{"$error":"#REF!"}},"02130600","APMC",{"$f":"Plantilla!N120","v":0}]
[{"$f":"VLOOKUP(Plantilla!$A$2,Poliductos!#REF!,2,0)","v":{"$error":"#REF!"}},"02140000","APMC",{"$f":"Plantilla!N121","v":0}]
[{"$f":"VLOOKUP(Plantilla!$A$2,Poliductos!#REF!,2,0)","v":{"$error":"#REF!"}},"02140100","APMC",{"$f":"Plantilla!N122","v":0}]
[{"$f":"VLOOKUP(Plantilla!$A$2,Poliductos!#REF!,2,0)","v":{"$error":"#REF!"}},"02140200","APMC",{"$f":"Plantilla!N123","v":0}]
[{"$f":"VLOOKUP(Plantilla!$A$2,Poliductos!#REF!,2,0)","v":{"$error":"#REF!"}},"02150000","APMC",{"$f":"Plantilla!N124","v":0}]
[{"$f":"VLOOKUP(Plantilla!$A$2,Poliductos!#REF!,2,0)","v":{"$error":"#REF!"}},"02150100","APMC",{"$f":"Plantilla!N125","v":0}]
[{"$f":"VLOOKUP(Plantilla!$A$2,Poliductos!#REF!,2,0)","v":{"$error":"#REF!"}},"02150200","APMC",{"$f":"Plantilla!N126","v":0}]
[{"$f":"VLOOKUP(Plantilla!$A$2,Poliductos!#REF!,2,0)","v":{"$error":"#REF!"}},"02150300","APMC",{"$f":"Plantilla!N127","v":0}]
[{"$f":"VLOOKUP(Plantilla!$A$2,Poliductos!#REF!,2,0)","v":{"$error":"#REF!"}},"02150400","APMC",{"$f":"Plantilla!N128","v":0}]
[{"$f":"VLOOKUP(Plantilla!$A$2,Poliductos!#REF!,2,0)","v":{"$error":"#REF!"}},"02150500","APMC",{"$f":"Plantilla!N129","v":0}]
[{"$f":"VLOOKUP(Plantilla!$A$2,Poliductos!#REF!,2,0)","v":{"$error":"#REF!"}},"02150600","APMC",{"$f":"Plantilla!N130","v":0}]
[{"$f":"VLOOKUP(Plantilla!$A$2,Poliductos!#REF!,2,0)","v":{"$error":"#REF!"}},"02150700","APMC",{"$f":"Plantilla!N131","v":0}]
[{"$f":"VLOOKUP(Plantilla!$A$2,Poliductos!#REF!,2,0)","v":{"$error":"#REF!"}},"02150800","APMC",{"$f":"Plantilla!N132","v":0}]
[{"$f":"VLOOKUP(Plantilla!$A$2,Poliductos!#REF!,2,0)","v":{"$error":"#REF!"}},"02160000","APMC",{"$f":"Plantilla!N136","v":0}]
[{"$f":"VLOOKUP(Plantilla!$A$2,Poliductos!#REF!,2,0)","v":{"$error":"#REF!"}},"02160100","APMC",{"$f":"Plantilla!N137","v":0}]
[{"$f":"VLOOKUP(Plantilla!$A$2,Poliductos!#REF!,2,0)","v":{"$error":"#REF!"}},"02160200","APMC",{"$f":"Plantilla!N138","v":0}]
[{"$f":"VLOOKUP(Plantilla!$A$2,Poliductos!#REF!,2,0)","v":{"$error":"#REF!"}},"01000000","ACOANBI",{"$f":"Plantilla!O4","v":0}]
[{"$f":"VLOOKUP(Plantilla!$A$2,Poliductos!#REF!,2,0)","v":{"$error":"#REF!"}},"01010000","ACOANBI",{"$f":"Plantilla!O5","v":0}]
[{"$f":"VLOOKUP(Plantilla!$A$2,Poliductos!#REF!,2,0)","v":{"$error":"#REF!"}},"01010100","ACOANBI",{"$f":"Plantilla!O6","v":0}]
[{"$f":"VLOOKUP(Plantilla!$A$2,Poliductos!#REF!,2,0)","v":{"$error":"#REF!"}},"01010200","ACOANBI",{"$f":"Plantilla!O7","v":0}]
[{"$f":"VLOOKUP(Plantilla!$A$2,Poliductos!#REF!,2,0)","v":{"$error":"#REF!"}},"01010201","ACOANBI",{"$f":"Plantilla!O8","v":0}]
[{"$f":"VLOOKUP(Plantilla!$A$2,Poliductos!#REF!,2,0)","v":{"$error":"#REF!"}},"01010202","ACOANBI",{"$f":"Plantilla!O9","v":0}]
[{"$f":"VLOOKUP(Plantilla!$A$2,Poliductos!#REF!,2,0)","v":{"$error":"#REF!"}},"01010300","ACOANBI",{"$f":"Plantilla!O10","v":0}]
[{"$f":"VLOOKUP(Plantilla!$A$2,Poliductos!#REF!,2,0)","v":{"$error":"#REF!"}},"01010301","ACOANBI",{"$f":"Plantilla!O11","v":0}]
[{"$f":"VLOOKUP(Plantilla!$A$2,Poliductos!#REF!,2,0)","v":{"$error":"#REF!"}},"01010302","ACOANBI",{"$f":"Plantilla!O12","v":0}]
[{"$f":"VLOOKUP(Plantilla!$A$2,Poliductos!#REF!,2,0)","v":{"$error":"#REF!"}},"01010400","ACOANBI",{"$f":"Plantilla!O13","v":0}]
[{"$f":"VLOOKUP(Plantilla!$A$2,Poliductos!#REF!,2,0)","v":{"$error":"#REF!"}},"01010500","ACOANBI",{"$f":"Plantilla!O14","v":0}]
[{"$f":"VLOOKUP(Plantilla!$A$2,Poliductos!#REF!,2,0)","v":{"$error":"#REF!"}},"01010600","ACOANBI",{"$f":"Plantilla!O15","v":0}]
[{"$f":"VLOOKUP(Plantilla!$A$2,Poliductos!#REF!,2,0)","v":{"$error":"#REF!"}},"01010700","ACOANBI",{"$f":"Plantilla!O16","v":0}]
[{"$f":"VLOOKUP(Plantilla!$A$2,Poliductos!#REF!,2,0)","v":{"$error":"#REF!"}},"01010800","ACOANBI",{"$f":"Plantilla!O17","v":0}]
[{"$f":"VLOOKUP(Plantilla!$A$2,Poliductos!#REF!,2,0)","v":{"$error":"#REF!"}},"01010900","ACOANBI",{"$f":"Plantilla!O18","v":0}]
[{"$f":"VLOOKUP(Plantilla!$A$2,Poliductos!#REF!,2,0)","v":{"$error":"#REF!"}},"01011000","ACOANBI",{"$f":"Plantilla!O19","v":0}]
[{"$f":"VLOOKUP(Plantilla!$A$2,Poliductos!#REF!,2,0)","v":{"$error":"#REF!"}},"01020000","ACOANBI",{"$f":"Plantilla!O20","v":0}]
[{"$f":"VLOOKUP(Plantilla!$A$2,Poliductos!#REF!,2,0)","v":{"$error":"#REF!"}},"01020100","ACOANBI",{"$f":"Plantilla!O21","v":0}]
[{"$f":"VLOOKUP(Plantilla!$A$2,Poliductos!#REF!,2,0)","v":{"$error":"#REF!"}},"01020200","ACOANBI",{"$f":"Plantilla!O22","v":0}]
[{"$f":"VLOOKUP(Plantilla!$A$2,Poliductos!#REF!,2,0)","v":{"$error":"#REF!"}},"01020300","ACOANBI",{"$f":"Plantilla!O23","v":0}]
[{"$f":"VLOOKUP(Plantilla!$A$2,Poliductos!#REF!,2,0)","v":{"$error":"#REF!"}},"01020400","ACOANBI",{"$f":"Plantilla!O24","v":0}]
[{"$f":"VLOOKUP(Plantilla!$A$2,Poliductos!#REF!,2,0)","v":{"$error":"#REF!"}},"01020500","ACOANBI",{"$f":"Plantilla!O25","v":0}]
[{"$f":"VLOOKUP(Plantilla!$A$2,Poliductos!#REF!,2,0)","v":{"$error":"#REF!"}},"01020600","ACOANBI",{"$f":"Plantilla!O26","v":0}]
[{"$f":"VLOOKUP(Plantilla!$A$2,Poliductos!#REF!,2,0)","v":{"$error":"#REF!"}},"01020700","ACOANBI",{"$f":"Plantilla!O27","v":0}]
[{"$f":"VLOOKUP(Plantilla!$A$2,Poliductos!#REF!,2,0)","v":{"$error":"#REF!"}},"01030000","ACOANBI",{"$f":"Plantilla!O29","v":0}]
[{"$f":"VLOOKUP(Plantilla!$A$2,Poliductos!#REF!,2,0)","v":{"$error":"#REF!"}},"01030100","ACOANBI",{"$f":"Plantilla!O30","v":0}]
[{"$f":"VLOOKUP(Plantilla!$A$2,Poliductos!#REF!,2,0)","v":{"$error":"#REF!"}},"01030200","ACOANBI",{"$f":"Plantilla!O31","v":0}]
[{"$f":"VLOOKUP(Plantilla!$A$2,Poliductos!#REF!,2,0)","v":{"$error":"#REF!"}},"01030300","ACOANBI",{"$f":"Plantilla!O32","v":0}]
[{"$f":"VLOOKUP(Plantilla!$A$2,Poliductos!#REF!,2,0)","v":{"$error":"#REF!"}},"01030400","ACOANBI",{"$f":"Plantilla!O33","v":0}]
[{"$f":"VLOOKUP(Plantilla!$A$2,Poliductos!#REF!,2,0)","v":{"$error":"#REF!"}},"01030500","ACOANBI",{"$f":"Plantilla!O34","v":0}]
[{"$f":"VLOOKUP(Plantilla!$A$2,Poliductos!#REF!,2,0)","v":{"$error":"#REF!"}},"01030600","ACOANBI",{"$f":"Plantilla!O35","v":0}]
[{"$f":"VLOOKUP(Plantilla!$A$2,Poliductos!#REF!,2,0)","v":{"$error":"#REF!"}},"01030700","ACOANBI",{"$f":"Plantilla!O36","v":0}]
[{"$f":"VLOOKUP(Plantilla!$A$2,Poliductos!#REF!,2,0)","v":{"$error":"#REF!"}},"01030800","ACOANBI",{"$f":"Plantilla!O37","v":0}]
[{"$f":"VLOOKUP(Plantilla!$A$2,Poliductos!#REF!,2,0)","v":{"$error":"#REF!"}},"01030900","ACOANBI",{"$f":"Plantilla!O38","v":0}]
[{"$f":"VLOOKUP(Plantilla!$A$2,Poliductos!#REF!,2,0)","v":{"$error":"#REF!"}},"01031000","ACOANBI",{"$f":"Plantilla!O39","v":0}]
[{"$f":"VLOOKUP(Plantilla!$A$2,Poliductos!#REF!,2,0)","v":{"$error":"#REF!"}},"01031100","ACOANBI",{"$f":"Plantilla!O40","v":0}]
[{"$f":"VLOOKUP(Plantilla!$A$2,Poliductos!#REF!,2,0)","v":{"$error":"#REF!"}},"01040000","ACOANBI",{"$f":"Plantilla!O41","v":0}]
[{"$f":"VLOOKUP(Plantilla!$A$2,Poliductos!#REF!,2,0)","v":{"$error":"#REF!"}},"01050000","ACOANBI",{"$f":"Plantilla!O42","v":0}]
[{"$f":"VLOOKUP(Plantilla!$A$2,Poliductos!#REF!,2,0)","v":{"$error":"#REF!"}},"01060000","ACOANBI",{"$f":"Plantilla!O43","v":0}]
[{"$f":"VLOOKUP(Plantilla!$A$2,Poliductos!#REF!,2,0)","v":{"$error":"#REF!"}},"01060100","ACOANBI",{"$f":"Plantilla!O44","v":0}]
[{"$f":"VLOOKUP(Plantilla!$A$2,Poliductos!#REF!,2,0)","v":{"$error":"#REF!"}},"01060200","ACOANBI",{"$f":"Plantilla!O45","v":0}]
[{"$f":"VLOOKUP(Plantilla!$A$2,Poliductos!#REF!,2,0)","v":{"$error":"#REF!"}},"01060201","ACOANBI",{"$f":"Plantilla!O46","v":0}]
[{"$f":"VLOOKUP(Plantilla!$A$2,Poliductos!#REF!,2,0)","v":{"$error":"#REF!"}},"01060202","ACOANBI",{"$f":"Plantilla!O47","v":0}]
[{"$f":"VLOOKUP(Plantilla!$A$2,Poliductos!#REF!,2,0)","v":{"$error":"#REF!"}},"01060203","ACOANBI",{"$f":"Plantilla!O48","v":0}]
[{"$f":"VLOOKUP(Plantilla!$A$2,Poliductos!#REF!,2,0)","v":{"$error":"#REF!"}},"01060300","ACOANBI",{"$f":"Plantilla!O49","v":0}]
[{"$f":"VLOOKUP(Plantilla!$A$2,Poliductos!#REF!,2,0)","v":{"$error":"#REF!"}},"01060400","ACOANBI",{"$f":"Plantilla!O50","v":0}]
[{"$f":"VLOOKUP(Plantilla!$A$2,Poliductos!#REF!,2,0)","v":{"$error":"#REF!"}},"01070000","ACOANBI",{"$f":"Plantilla!O51","v":0}]
[{"$f":"VLOOKUP(Plantilla!$A$2,Poliductos!#REF!,2,0)","v":{"$error":"#REF!"}},"01070100","ACOANBI",{"$f":"Plantilla!O52","v":0}]
[{"$f":"VLOOKUP(Plantilla!$A$2,Poliductos!#REF!,2,0)","v":{"$error":"#REF!"}},"01070200","ACOANBI",{"$f":"Plantilla!O53","v":0}]
[{"$f":"VLOOKUP(Plantilla!$A$2,Poliductos!#REF!,2,0)","v":{"$error":"#REF!"}},"01070300","ACOANBI",{"$f":"Plantilla!O54","v":0}]
[{"$f":"VLOOKUP(Plantilla!$A$2,Poliductos!#REF!,2,0)","v":{"$error":"#REF!"}},"01070400","ACOANBI",{"$f":"Plantilla!O55","v":0}]
[{"$f":"VLOOKUP(Plantilla!$A$2,Poliductos!#REF!,2,0)","v":{"$error":"#REF!"}},"02000000","ACOANBI",{"$f":"Plantilla!O56","v":0}]
[{"$f":"VLOOKUP(Plantilla!$A$2,Poliductos!#REF!,2,0)","v":{"$error":"#REF!"}},"02010000","ACOANBI",{"$f":"Plantilla!O57","v":0}]
[{"$f":"VLOOKUP(Plantilla!$A$2,Poliductos!#REF!,2,0)","v":{"$error":"#REF!"}},"02010100","ACOANBI",{"$f":"Plantilla!O58","v":0}]
[{"$f":"VLOOKUP(Plantilla!$A$2,Poliductos!#REF!,2,0)","v":{"$error":"#REF!"}},"02010200","ACOANBI",{"$f":"Plantilla!O59","v":0}]
[{"$f":"VLOOKUP(Plantilla!$A$2,Poliductos!#REF!,2,0)","v":{"$error":"#REF!"}},"02010201","ACOANBI",{"$f":"Plantilla!O60","v":0}]
[{"$f":"VLOOKUP(Plantilla!$A$2,Poliductos!#REF!,2,0)","v":{"$error":"#REF!"}},"02010202","ACOANBI",{"$f":"Plantilla!O61","v":0}]
[{"$f":"VLOOKUP(Plantilla!$A$2,Poliductos!#REF!,2,0)","v":{"$error":"#REF!"}},"02010300","ACOANBI",{"$f":"Plantilla!O62","v":0}]
[{"$f":"VLOOKUP(Plantilla!$A$2,Poliductos!#REF!,2,0)","v":{"$error":"#REF!"}},"02010301","ACOANBI",{"$f":"Plantilla!O63","v":0}]
[{"$f":"VLOOKUP(Plantilla!$A$2,Poliductos!#REF!,2,0)","v":{"$error":"#REF!"}},"02010302","ACOANBI",{"$f":"Plantilla!O64","v":0}]
[{"$f":"VLOOKUP(Plantilla!$A$2,Poliductos!#REF!,2,0)","v":{"$error":"#REF!"}},"02010400","ACOANBI",{"$f":"Plantilla!O65","v":0}]
[{"$f":"VLOOKUP(Plantilla!$A$2,Poliductos!#REF!,2,0)","v":{"$error":"#REF!"}},"02010500","ACOANBI",{"$f":"Plantilla!O66","v":0}]
[{"$f":"VLOOKUP(Plantilla!$A$2,Poliductos!#REF!,2,0)","v":{"$error":"#REF!"}},"02010600","ACOANBI",{"$f":"Plantilla!O67","v":0}]
[{"$f":"VLOOKUP(Plantilla!$A$2,Poliductos!#REF!,2,0)","v":{"$error":"#REF!"}},"02010700","ACOANBI",{"$f":"Plantilla!O68","v":0}]
[{"$f":"VLOOKUP(Plantilla!$A$2,Poliductos!#REF!,2,0)","v":{"$error":"#REF!"}},"02010800","ACOANBI",{"$f":"Plantilla!O69","v":0}]
[{"$f":"VLOOKUP(Plantilla!$A$2,Poliductos!#REF!,2,0)","v":{"$error":"#REF!"}},"02010900","ACOANBI",{"$f":"Plantilla!O70","v":0}]
[{"$f":"VLOOKUP(Plantilla!$A$2,Poliductos!#REF!,2,0)","v":{"$error":"#REF!"}},"02011000","ACOANBI",{"$f":"Plantilla!O71","v":0}]
[{"$f":"VLOOKUP(Plantilla!$A$2,Poliductos!#REF!,2,0)","v":{"$error":"#REF!"}},"02020000","ACOANBI",{"$f":"Plantilla!O72","v":0}]
[{"$f":"VLOOKUP(Plantilla!$A$2,Poliductos!#REF!,2,0)","v":{"$error":"#REF!"}},"02020100","ACOANBI",{"$f":"Plantilla!O73","v":0}]
[{"$f":"VLOOKUP(Plantilla!$A$2,Poliductos!#REF!,2,0)","v":{"$error":"#REF!"}},"02020200","ACOANBI",{"$f":"Plantilla!O74","v":0}]
[{"$f":"VLOOKUP(Plantilla!$A$2,Poliductos!#REF!,2,0)","v":{"$error":"#REF!"}},"02020300","ACOANBI",{"$f":"Plantilla!O75","v":0}]
[{"$f":"VLOOKUP(Plantilla!$A$2,Poliductos!#REF!,2,0)","v":{"$error":"#REF!"}},"02020400","ACOANBI",{"$f":"Plantilla!O76","v":0}]
[{"$f":"VLOOKUP(Plantilla!$A$2,Poliductos!#REF!,2,0)","v":{"$error":"#REF!"}},"02020500","ACOANBI",{"$f":"Plantilla!O77","v":0}]
[{"$f":"VLOOKUP(Plantilla!$A$2,Poliductos!#REF!,2,0)","v":{"$error":"#REF!"}},"02020600","ACOANBI",{"$f":"Plantilla!O78","v":0}]
[{"$f":"VLOOKUP(Plantilla!$A$2,Poliductos!#REF!,2,0)","v":{"$error":"#REF!"}},"02030000","ACOANBI",{"$f":"Plantilla!O79","v":0}]
[{"$f":"VLOOKUP(Plantilla!$A$2,Poliductos!#REF!,2,0)","v":{"$error":"#REF!"}},"02030100","ACOANBI",{"$f":"Plantilla!O80","v":0}]
[{"$f":"VLOOKUP(Plantilla!$A$2,Poliductos!#REF!,2,0)","v":{"$error":"#REF!"}},"02030200","ACOANBI",{"$f":"Plantilla!O81","v":0}]
[{"$f":"VLOOKUP(Plantilla!$A$2,Poliductos!#REF!,2,0)","v":{"$error":"#REF!"}},"02030300","ACOANBI",{"$f":"Plantilla!O82","v":0}]
[{"$f":"VLOOKUP(Plantilla!$A$2,Poliductos!#REF!,2,0)","v":{"$error":"#REF!"}},"02030400","ACOANBI",{"$f":"Plantilla!O83","v":0}]
[{"$f":"VLOOKUP(Plantilla!$A$2,Poliductos!#REF!,2,0)","v":{"$error":"#REF!"}},"02040000","ACOANBI",{"$f":"Plantilla!O84","v":0}]
[{"$f":"VLOOKUP(Plantilla!$A$2,Poliductos!#REF!,2,0)","v":{"$error":"#REF!"}},"02040100","ACOANBI",{"$f":"Plantilla!O85","v":0}]
[{"$f":"VLOOKUP(Plantilla!$A$2,Poliductos!#REF!,2,0)","v":{"$error":"#REF!"}},"02040200","ACOANBI",{"$f":"Plantilla!O86","v":0}]
[{"$f":"VLOOKUP(Plantilla!$A$2,Poliductos!#REF!,2,0)","v":{"$error":"#REF!"}},"02040300","ACOANBI",{"$f":"Plantilla!O87","v":0}]
[{"$f":"VLOOKUP(Plantilla!$A$2,Poliductos!#REF!,2,0)","v":{"$error":"#REF!"}},"02050000","ACOANBI",{"$f":"Plantilla!O88","v":0}]
[{"$f":"VLOOKUP(Plantilla!$A$2,Poliductos!#REF!,2,0)","v":{"$error":"#REF!"}},"02060000","ACOANBI",{"$f":"Plantilla!O89","v":0}]
[{"$f":"VLOOKUP(Plantilla!$A$2,Poliductos!#REF!,2,0)","v":{"$error":"#REF!"}},"02060100","ACOANBI",{"$f":"Plantilla!O90","v":0}]
[{"$f":"VLOOKUP(Plantilla!$A$2,Poliductos!#REF!,2,0)","v":{"$error":"#REF!"}},"02060200","ACOANBI",{"$f":"Plantilla!O91","v":0}]
[{"$f":"VLOOKUP(Plantilla!$A$2,Poliductos!#REF!,2,0)","v":{"$error":"#REF!"}},"02060300","ACOANBI",{"$f":"Plantilla!O92","v":0}]
[{"$f":"VLOOKUP(Plantilla!$A$2,Poliductos!#REF!,2,0)","v":{"$error":"#REF!"}},"02070000","ACOANBI",{"$f":"Plantilla!O93","v":0}]
[{"$f":"VLOOKUP(Plantilla!$A$2,Poliductos!#REF!,2,0)","v":{"$error":"#REF!"}},"02080000","ACOANBI",{"$f":"Plantilla!O94","v":0}]
[{"$f":"VLOOKUP(Plantilla!$A$2,Poliductos!#REF!,2,0)","v":{"$error":"#REF!"}},"02090000","ACOANBI",{"$f":"Plantilla!O95","v":0}]
[{"$f":"VLOOKUP(Plantilla!$A$2,Poliductos!#REF!,2,0)","v":{"$error":"#REF!"}},"02090100","ACOANBI",{"$f":"Plantilla!O96","v":0}]
[{"$f":"VLOOKUP(Plantilla!$A$2,Poliductos!#REF!,2,0)","v":{"$error":"#REF!"}},"02090200","ACOANBI",{"$f":"Plantilla!O97","v":0}]
[{"$f":"VLOOKUP(Plantilla!$A$2,Poliductos!#REF!,2,0)","v":{"$error":"#REF!"}},"02090300","ACOANBI",{"$f":"Plantilla!O98","v":0}]
[{"$f":"VLOOKUP(Plantilla!$A$2,Poliductos!#REF!,2,0)","v":{"$error":"#REF!"}},"02090400","ACOANBI",{"$f":"Plantilla!O99","v":0}]
[{"$f":"VLOOKUP(Plantilla!$A$2,Poliductos!#REF!,2,0)","v":{"$error":"#REF!"}},"02090500","ACOANBI",{"$f":"Plantilla!O100","v":0}]
[{"$f":"VLOOKUP(Plantilla!$A$2,Poliductos!#REF!,2,0)","v":{"$error":"#REF!"}},"02090600","ACOANBI",{"$f":"Plantilla!O101","v":0}]
[{"$f":"VLOOKUP(Plantilla!$A$2,Poliductos!#REF!,2,0)","v":{"$error":"#REF!"}},"02100000","ACOANBI",{"$f":"Plantilla!O102","v":0}]
[{"$f":"VLOOKUP(Plantilla!$A$2,Poliductos!#REF!,2,0)","v":{"$error":"#REF!"}},"02100100","ACOANBI",{"$f":"Plantilla!O103","v":0}]
[{"$f":"VLOOKUP(Plantilla!$A$2,Poliductos!#REF!,2,0)","v":{"$error":"#REF!"}},"02100200","ACOANBI",{"$f":"Plantilla!O104","v":0}]
[{"$f":"VLOOKUP(Plantilla!$A$2,Poliductos!#REF!,2,0)","v":{"$error":"#REF!"}},"02100300","ACOANBI",{"$f":"Plantilla!O105","v":0}]
[{"$f":"VLOOKUP(Plantilla!$A$2,Poliductos!#REF!,2,0)","v":{"$error":"#REF!"}},"02100400","ACOANBI",{"$f":"Plantilla!O106","v":0}]
[{"$f":"VLOOKUP(Plantilla!$A$2,Poliductos!#REF!,2,0)","v":{"$error":"#REF!"}},"02110000","ACOANBI",{"$f":"Plantilla!O107","v":0}]
[{"$f":"VLOOKUP(Plantilla!$A$2,Poliductos!#REF!,2,0)","v":{"$error":"#REF!"}},"02110100","ACOANBI",{"$f":"Plantilla!O108","v":0}]
[{"$f":"VLOOKUP(Plantilla!$A$2,Poliductos!#REF!,2,0)","v":{"$error":"#REF!"}},"02110200","ACOANBI",{"$f":"Plantilla!O109","v":0}]
[{"$f":"VLOOKUP(Plantilla!$A$2,Poliductos!#REF!,2,0)","v":{"$error":"#REF!"}},"02110300","ACOANBI",{"$f":"Plantilla!O110","v":0}]
[{"$f":"VLOOKUP(Plantilla!$A$2,Poliductos!#REF!,2,0)","v":{"$error":"#REF!"}},"02110400","ACOANBI",{"$f":"Plantilla!O111","v":0}]
[{"$f":"VLOOKUP(Plantilla!$A$2,Poliductos!#REF!,2,0)","v":{"$error":"#REF!"}},"02110500","ACOANBI",{"$f":"Plantilla!O112","v":0}]
[{"$f":"VLOOKUP(Plantilla!$A$2,Poliductos!#REF!,2,0)","v":{"$error":"#REF!"}},"02120000","ACOANBI",{"$f":"Plantilla!O113","v":0}]
[{"$f":"VLOOKUP(Plantilla!$A$2,Poliductos!#REF!,2,0)","v":{"$error":"#REF!"}},"02130000","ACOANBI",{"$f":"Plantilla!O114","v":0}]
[{"$f":"VLOOKUP(Plantilla!$A$2,Poliductos!#REF!,2,0)","v":{"$error":"#REF!"}},"02130100","ACOANBI",{"$f":"Plantilla!O115","v":0}]
[{"$f":"VLOOKUP(Plantilla!$A$2,Poliductos!#REF!,2,0)","v":{"$error":"#REF!"}},"02130200","ACOANBI",{"$f":"Plantilla!O116","v":0}]
[{"$f":"VLOOKUP(Plantilla!$A$2,Poliductos!#REF!,2,0)","v":{"$error":"#REF!"}},"02130300","ACOANBI",{"$f":"Plantilla!O117","v":0}]
[{"$f":"VLOOKUP(Plantilla!$A$2,Poliductos!#REF!,2,0)","v":{"$error":"#REF!"}},"02130400","ACOANBI",{"$f":"Plantilla!O118","v":0}]
[{"$f":"VLOOKUP(Plantilla!$A$2,Poliductos!#REF!,2,0)","v":{"$error":"#REF!"}},"02130500","ACOANBI",{"$f":"Plantilla!O119","v":0}]
[{"$f":"VLOOKUP(Plantilla!$A$2,Poliductos!#REF!,2,0)","v":{"$error":"#REF!"}},"02130600","ACOANBI",{"$f":"Plantilla!O120","v":0}]
[{"$f":"VLOOKUP(Plantilla!$A$2,Poliductos!#REF!,2,0)","v":{"$error":"#REF!"}},"02140000","ACOANBI",{"$f":"Plantilla!O121","v":0}]
[{"$f":"VLOOKUP(Plantilla!$A$2,Poliductos!#REF!,2,0)","v":{"$error":"#REF!"}},"02140100","ACOANBI",{"$f":"Plantilla!O122","v":0}]
[{"$f":"VLOOKUP(Plantilla!$A$2,Poliductos!#REF!,2,0)","v":{"$error":"#REF!"}},"02140200","ACOANBI",{"$f":"Plantilla!O123","v":0}]
[{"$f":"VLOOKUP(Plantilla!$A$2,Poliductos!#REF!,2,0)","v":{"$error":"#REF!"}},"02150000","ACOANBI",{"$f":"Plantilla!O124","v":0}]
[{"$f":"VLOOKUP(Plantilla!$A$2,Poliductos!#REF!,2,0)","v":{"$error":"#REF!"}},"02150100","ACOANBI",{"$f":"Plantilla!O125","v":0}]
[{"$f":"VLOOKUP(Plantilla!$A$2,Poliductos!#REF!,2,0)","v":{"$error":"#REF!"}},"02150200","ACOANBI",{"$f":"Plantilla!O126","v":0}]
[{"$f":"VLOOKUP(Plantilla!$A$2,Poliductos!#REF!,2,0)","v":{"$error":"#REF!"}},"02150300","ACOANBI",{"$f":"Plantilla!O127","v":0}]
[{"$f":"VLOOKUP(Plantilla!$A$2,Poliductos!#REF!,2,0)","v":{"$error":"#REF!"}},"02150400","ACOANBI",{"$f":"Plantilla!O128","v":0}]
[{"$f":"VLOOKUP(Plantilla!$A$2,Poliductos!#REF!,2,0)","v":{"$error":"#REF!"}},"02150500","ACOANBI",{"$f":"Plantilla!O129","v":0}]
[{"$f":"VLOOKUP(Plantilla!$A$2,Poliductos!#REF!,2,0)","v":{"$error":"#REF!"}},"02150600","ACOANBI",{"$f":"Plantilla!O130","v":0}]
[{"$f":"VLOOKUP(Plantilla!$A$2,Poliductos!#REF!,2,0)","v":{"$error":"#REF!"}},"02150700","ACOANBI",{"$f":"Plantilla!O131","v":0}]
[{"$f":"VLOOKUP(Plantilla!$A$2,Poliductos!#REF!,2,0)","v":{"$error":"#REF!"}},"02150800","ACOANBI",{"$f":"Plantilla!O132","v":0}]
[{"$f":"VLOOKUP(Plantilla!$A$2,Poliductos!#REF!,2,0)","v":{"$error":"#REF!"}},"02160000","ACOANBI",{"$f":"Plantilla!O136","v":0}]
[{"$f":"VLOOKUP(Plantilla!$A$2,Poliductos!#REF!,2,0)","v":{"$error":"#REF!"}},"02160100","ACOANBI",{"$f":"Plantilla!O137","v":0}]
[{"$f":"VLOOKUP(Plantilla!$A$2,Poliductos!#REF!,2,0)","v":{"$error":"#REF!"}},"02160200","ACOANBI",{"$f":"Plantilla!O138","v":0}]
[{"$f":"VLOOKUP(Plantilla!$A$2,Poliductos!#REF!,2,0)","v":{"$error":"#REF!"}},"01000000","REPAC",{"$f":"Plantilla!P4","v":0}]
[{"$f":"VLOOKUP(Plantilla!$A$2,Poliductos!#REF!,2,0)","v":{"$error":"#REF!"}},"01010000","REPAC",{"$f":"Plantilla!P5","v":0}]
[{"$f":"VLOOKUP(Plantilla!$A$2,Poliductos!#REF!,2,0)","v":{"$error":"#REF!"}},"01010100","REPAC",{"$f":"Plantilla!P6","v":0}]
[{"$f":"VLOOKUP(Plantilla!$A$2,Poliductos!#REF!,2,0)","v":{"$error":"#REF!"}},"01010200","REPAC",{"$f":"Plantilla!P7","v":0}]
[{"$f":"VLOOKUP(Plantilla!$A$2,Poliductos!#REF!,2,0)","v":{"$error":"#REF!"}},"01010201","REPAC",{"$f":"Plantilla!P8","v":0}]
[{"$f":"VLOOKUP(Plantilla!$A$2,Poliductos!#REF!,2,0)","v":{"$error":"#REF!"}},"01010202","REPAC",{"$f":"Plantilla!P9","v":0}]
[{"$f":"VLOOKUP(Plantilla!$A$2,Poliductos!#REF!,2,0)","v":{"$error":"#REF!"}},"01010300","REPAC",{"$f":"Plantilla!P10","v":0}]
[{"$f":"VLOOKUP(Plantilla!$A$2,Poliductos!#REF!,2,0)","v":{"$error":"#REF!"}},"01010301","REPAC",{"$f":"Plantilla!P11","v":0}]
[{"$f":"VLOOKUP(Plantilla!$A$2,Poliductos!#REF!,2,0)","v":{"$error":"#REF!"}},"01010302","REPAC",{"$f":"Plantilla!P12","v":0}]
[{"$f":"VLOOKUP(Plantilla!$A$2,Poliductos!#REF!,2,0)","v":{"$error":"#REF!"}},"01010400","REPAC",{"$f":"Plantilla!P13","v":0}]
[{"$f":"VLOOKUP(Plantilla!$A$2,Poliductos!#REF!,2,0)","v":{"$error":"#REF!"}},"01010500","REPAC",{"$f":"Plantilla!P14","v":0}]
[{"$f":"VLOOKUP(Plantilla!$A$2,Poliductos!#REF!,2,0)","v":{"$error":"#REF!"}},"01010600","REPAC",{"$f":"Plantilla!P15","v":0}]
[{"$f":"VLOOKUP(Plantilla!$A$2,Poliductos!#REF!,2,0)","v":{"$error":"#REF!"}},"01010700","REPAC",{"$f":"Plantilla!P16","v":0}]
[{"$f":"VLOOKUP(Plantilla!$A$2,Poliductos!#REF!,2,0)","v":{"$error":"#REF!"}},"01010800","REPAC",{"$f":"Plantilla!P17","v":0}]
[{"$f":"VLOOKUP(Plantilla!$A$2,Poliductos!#REF!,2,0)","v":{"$error":"#REF!"}},"01010900","REPAC",{"$f":"Plantilla!P18","v":0}]
[{"$f":"VLOOKUP(Plantilla!$A$2,Poliductos!#REF!,2,0)","v":{"$error":"#REF!"}},"01011000","REPAC",{"$f":"Plantilla!P19","v":0}]
[{"$f":"VLOOKUP(Plantilla!$A$2,Poliductos!#REF!,2,0)","v":{"$error":"#REF!"}},"01020000","REPAC",{"$f":"Plantilla!P20","v":0}]
[{"$f":"VLOOKUP(Plantilla!$A$2,Poliductos!#REF!,2,0)","v":{"$error":"#REF!"}},"01020100","REPAC",{"$f":"Plantilla!P21","v":0}]
[{"$f":"VLOOKUP(Plantilla!$A$2,Poliductos!#REF!,2,0)","v":{"$error":"#REF!"}},"01020200","REPAC",{"$f":"Plantilla!P22","v":0}]
[{"$f":"VLOOKUP(Plantilla!$A$2,Poliductos!#REF!,2,0)","v":{"$error":"#REF!"}},"01020300","REPAC",{"$f":"Plantilla!P23","v":0}]
[{"$f":"VLOOKUP(Plantilla!$A$2,Poliductos!#REF!,2,0)","v":{"$error":"#REF!"}},"01020400","REPAC",{"$f":"Plantilla!P24","v":0}]
[{"$f":"VLOOKUP(Plantilla!$A$2,Poliductos!#REF!,2,0)","v":{"$error":"#REF!"}},"01020500","REPAC",{"$f":"Plantilla!P25","v":0}]
[{"$f":"VLOOKUP(Plantilla!$A$2,Poliductos!#REF!,2,0)","v":{"$error":"#REF!"}},"01020600","REPAC",{"$f":"Plantilla!P26","v":0}]
[{"$f":"VLOOKUP(Plantilla!$A$2,Poliductos!#REF!,2,0)","v":{"$error":"#REF!"}},"01020700","REPAC",{"$f":"Plantilla!P27","v":0}]
[{"$f":"VLOOKUP(Plantilla!$A$2,Poliductos!#REF!,2,0)","v":{"$error":"#REF!"}},"01030000","REPAC",{"$f":"Plantilla!P29","v":0}]
[{"$f":"VLOOKUP(Plantilla!$A$2,Poliductos!#REF!,2,0)","v":{"$error":"#REF!"}},"01030100","REPAC",{"$f":"Plantilla!P30","v":0}]
[{"$f":"VLOOKUP(Plantilla!$A$2,Poliductos!#REF!,2,0)","v":{"$error":"#REF!"}},"01030200","REPAC",{"$f":"Plantilla!P31","v":0}]
[{"$f":"VLOOKUP(Plantilla!$A$2,Poliductos!#REF!,2,0)","v":{"$error":"#REF!"}},"01030300","REPAC",{"$f":"Plantilla!P32","v":0}]
[{"$f":"VLOOKUP(Plantilla!$A$2,Poliductos!#REF!,2,0)","v":{"$error":"#REF!"}},"01030400","REPAC",{"$f":"Plantilla!P33","v":0}]
[{"$f":"VLOOKUP(Plantilla!$A$2,Poliductos!#REF!,2,0)","v":{"$error":"#REF!"}},"01030500","REPAC",{"$f":"Plantilla!P34","v":0}]
[{"$f":"VLOOKUP(Plantilla!$A$2,Poliductos!#REF!,2,0)","v":{"$error":"#REF!"}},"01030600","REPAC",{"$f":"Plantilla!P35","v":0}]
[{"$f":"VLOOKUP(Plantilla!$A$2,Poliductos!#REF!,2,0)","v":{"$error":"#REF!"}},"01030700","REPAC",{"$f":"Plantilla!P36","v":0}]
[{"$f":"VLOOKUP(Plantilla!$A$2,Poliductos!#REF!,2,0)","v":{"$error":"#REF!"}},"01030800","REPAC",{"$f":"Plantilla!P37","v":0}]
[{"$f":"VLOOKUP(Plantilla!$A$2,Poliductos!#REF!,2,0)","v":{"$error":"#REF!"}},"01030900","REPAC",{"$f":"Plantilla!P38","v":0}]
[{"$f":"VLOOKUP(Plantilla!$A$2,Poliductos!#REF!,2,0)","v":{"$error":"#REF!"}},"01031000","REPAC",{"$f":"Plantilla!P39","v":0}]
[{"$f":"VLOOKUP(Plantilla!$A$2,Poliductos!#REF!,2,0)","v":{"$error":"#REF!"}},"01031100","REPAC",{"$f":"Plantilla!P40","v":0}]
[{"$f":"VLOOKUP(Plantilla!$A$2,Poliductos!#REF!,2,0)","v":{"$error":"#REF!"}},"01040000","REPAC",{"$f":"Plantilla!P41","v":0}]
[{"$f":"VLOOKUP(Plantilla!$A$2,Poliductos!#REF!,2,0)","v":{"$error":"#REF!"}},"01050000","REPAC",{"$f":"Plantilla!P42","v":0}]
[{"$f":"VLOOKUP(Plantilla!$A$2,Poliductos!#REF!,2,0)","v":{"$error":"#REF!"}},"01060000","REPAC",{"$f":"Plantilla!P43","v":0}]
[{"$f":"VLOOKUP(Plantilla!$A$2,Poliductos!#REF!,2,0)","v":{"$error":"#REF!"}},"01060100","REPAC",{"$f":"Plantilla!P44","v":0}]
[{"$f":"VLOOKUP(Plantilla!$A$2,Poliductos!#REF!,2,0)","v":{"$error":"#REF!"}},"01060200","REPAC",{"$f":"Plantilla!P45","v":0}]
[{"$f":"VLOOKUP(Plantilla!$A$2,Poliductos!#REF!,2,0)","v":{"$error":"#REF!"}},"01060201","REPAC",{"$f":"Plantilla!P46","v":0}]
[{"$f":"VLOOKUP(Plantilla!$A$2,Poliductos!#REF!,2,0)","v":{"$error":"#REF!"}},"01060202","REPAC",{"$f":"Plantilla!P47","v":0}]
[{"$f":"VLOOKUP(Plantilla!$A$2,Poliductos!#REF!,2,0)","v":{"$error":"#REF!"}},"01060203","REPAC",{"$f":"Plantilla!P48","v":0}]
[{"$f":"VLOOKUP(Plantilla!$A$2,Poliductos!#REF!,2,0)","v":{"$error":"#REF!"}},"01060300","REPAC",{"$f":"Plantilla!P49","v":0}]
[{"$f":"VLOOKUP(Plantilla!$A$2,Poliductos!#REF!,2,0)","v":{"$error":"#REF!"}},"01060400","REPAC",{"$f":"Plantilla!P50","v":0}]
[{"$f":"VLOOKUP(Plantilla!$A$2,Poliductos!#REF!,2,0)","v":{"$error":"#REF!"}},"01070000","REPAC",{"$f":"Plantilla!P51","v":0}]
[{"$f":"VLOOKUP(Plantilla!$A$2,Poliductos!#REF!,2,0)","v":{"$error":"#REF!"}},"01070100","REPAC",{"$f":"Plantilla!P52","v":0}]
[{"$f":"VLOOKUP(Plantilla!$A$2,Poliductos!#REF!,2,0)","v":{"$error":"#REF!"}},"01070200","REPAC",{"$f":"Plantilla!P53","v":0}]
[{"$f":"VLOOKUP(Plantilla!$A$2,Poliductos!#REF!,2,0)","v":{"$error":"#REF!"}},"01070300","REPAC",{"$f":"Plantilla!P54","v":0}]
[{"$f":"VLOOKUP(Plantilla!$A$2,Poliductos!#REF!,2,0)","v":{"$error":"#REF!"}},"01070400","REPAC",{"$f":"Plantilla!P55","v":0}]
[{"$f":"VLOOKUP(Plantilla!$A$2,Poliductos!#REF!,2,0)","v":{"$error":"#REF!"}},"02000000","REPAC",{"$f":"Plantilla!P56","v":0}]
[{"$f":"VLOOKUP(Plantilla!$A$2,Poliductos!#REF!,2,0)","v":{"$error":"#REF!"}},"02010000","REPAC",{"$f":"Plantilla!P57","v":0}]
[{"$f":"VLOOKUP(Plantilla!$A$2,Poliductos!#REF!,2,0)","v":{"$error":"#REF!"}},"02010100","REPAC",{"$f":"Plantilla!P58","v":0}]
[{"$f":"VLOOKUP(Plantilla!$A$2,Poliductos!#REF!,2,0)","v":{"$error":"#REF!"}},"02010200","REPAC",{"$f":"Plantilla!P59","v":0}]
[{"$f":"VLOOKUP(Plantilla!$A$2,Poliductos!#REF!,2,0)","v":{"$error":"#REF!"}},"02010201","REPAC",{"$f":"Plantilla!P60","v":0}]
[{"$f":"VLOOKUP(Plantilla!$A$2,Poliductos!#REF!,2,0)","v":{"$error":"#REF!"}},"02010202","REPAC",{"$f":"Plantilla!P61","v":0}]
[{"$f":"VLOOKUP(Plantilla!$A$2,Poliductos!#REF!,2,0)","v":{"$error":"#REF!"}},"02010300","REPAC",{"$f":"Plantilla!P62","v":0}]
[{"$f":"VLOOKUP(Plantilla!$A$2,Poliductos!#REF!,2,0)","v":{"$error":"#REF!"}},"02010301","REPAC",{"$f":"Plantilla!P63","v":0}]
[{"$f":"VLOOKUP(Plantilla!$A$2,Poliductos!#REF!,2,0)","v":{"$error":"#REF!"}},"02010302","REPAC",{"$f":"Plantilla!P64","v":0}]
[{"$f":"VLOOKUP(Plantilla!$A$2,Poliductos!#REF!,2,0)","v":{"$error":"#REF!"}},"02010400","REPAC",{"$f":"Plantilla!P65","v":0}]
[{"$f":"VLOOKUP(Plantilla!$A$2,Poliductos!#REF!,2,0)","v":{"$error":"#REF!"}},"02010500","REPAC",{"$f":"Plantilla!P66","v":0}]
[{"$f":"VLOOKUP(Plantilla!$A$2,Poliductos!#REF!,2,0)","v":{"$error":"#REF!"}},"02010600","REPAC",{"$f":"Plantilla!P67","v":0}]
[{"$f":"VLOOKUP(Plantilla!$A$2,Poliductos!#REF!,2,0)","v":{"$error":"#REF!"}},"02010700","REPAC",{"$f":"Plantilla!P68","v":0}]
[{"$f":"VLOOKUP(Plantilla!$A$2,Poliductos!#REF!,2,0)","v":{"$error":"#REF!"}},"02010800","REPAC",{"$f":"Plantilla!P69","v":0}]
[{"$f":"VLOOKUP(Plantilla!$A$2,Poliductos!#REF!,2,0)","v":{"$error":"#REF!"}},"02010900","REPAC",{"$f":"Plantilla!P70","v":0}]
[{"$f":"VLOOKUP(Plantilla!$A$2,Poliductos!#REF!,2,0)","v":{"$error":"#REF!"}},"02011000","REPAC",{"$f":"Plantilla!P71","v":0}]
[{"$f":"VLOOKUP(Plantilla!$A$2,Poliductos!#REF!,2,0)","v":{"$error":"#REF!"}},"02020000","REPAC",{"$f":"Plantilla!P72","v":0}]
[{"$f":"VLOOKUP(Plantilla!$A$2,Poliductos!#REF!,2,0)","v":{"$error":"#REF!"}},"02020100","REPAC",{"$f":"Plantilla!P73","v":0}]
[{"$f":"VLOOKUP(Plantilla!$A$2,Poliductos!#REF!,2,0)","v":{"$error":"#REF!"}},"02020200","REPAC",{"$f":"Plantilla!P74","v":0}]
[{"$f":"VLOOKUP(Plantilla!$A$2,Poliductos!#REF!,2,0)","v":{"$error":"#REF!"}},"02020300","REPAC",{"$f":"Plantilla!P75","v":0}]
[{"$f":"VLOOKUP(Plantilla!$A$2,Poliductos!#REF!,2,0)","v":{"$error":"#REF!"}},"02020400","REPAC",{"$f":"Plantilla!P76","v":0}]
[{"$f":"VLOOKUP(Plantilla!$A$2,Poliductos!#REF!,2,0)","v":{"$error":"#REF!"}},"02020500","REPAC",{"$f":"Plantilla!P77","v":0}]
[{"$f":"VLOOKUP(Plantilla!$A$2,Poliductos!#REF!,2,0)","v":{"$error":"#REF!"}},"02020600","REPAC",{"$f":"Plantilla!P78","v":0}]
[{"$f":"VLOOKUP(Plantilla!$A$2,Poliductos!#REF!,2,0)","v":{"$error":"#REF!"}},"02030000","REPAC",{"$f":"Plantilla!P79","v":0}]
[{"$f":"VLOOKUP(Plantilla!$A$2,Poliductos!#REF!,2,0)","v":{"$error":"#REF!"}},"02030100","REPAC",{"$f":"Plantilla!P80","v":0}]
[{"$f":"VLOOKUP(Plantilla!$A$2,Poliductos!#REF!,2,0)","v":{"$error":"#REF!"}},"02030200","REPAC",{"$f":"Plantilla!P81","v":0}]
[{"$f":"VLOOKUP(Plantilla!$A$2,Poliductos!#REF!,2,0)","v":{"$error":"#REF!"}},"02030300","REPAC",{"$f":"Plantilla!P82","v":0}]
[{"$f":"VLOOKUP(Plantilla!$A$2,Poliductos!#REF!,2,0)","v":{"$error":"#REF!"}},"02030400","REPAC",{"$f":"Plantilla!P83","v":0}]
[{"$f":"VLOOKUP(Plantilla!$A$2,Poliductos!#REF!,2,0)","v":{"$error":"#REF!"}},"02040000","REPAC",{"$f":"Plantilla!P84","v":0}]
[{"$f":"VLOOKUP(Plantilla!$A$2,Poliductos!#REF!,2,0)","v":{"$error":"#REF!"}},"02040100","REPAC",{"$f":"Plantilla!P85","v":0}]
[{"$f":"VLOOKUP(Plantilla!$A$2,Poliductos!#REF!,2,0)","v":{"$error":"#REF!"}},"02040200","REPAC",{"$f":"Plantilla!P86","v":0}]
[{"$f":"VLOOKUP(Plantilla!$A$2,Poliductos!#REF!,2,0)","v":{"$error":"#REF!"}},"02040300","REPAC",{"$f":"Plantilla!P87","v":0}]
[{"$f":"VLOOKUP(Plantilla!$A$2,Poliductos!#REF!,2,0)","v":{"$error":"#REF!"}},"02050000","REPAC",{"$f":"Plantilla!P88","v":0}]
[{"$f":"VLOOKUP(Plantilla!$A$2,Poliductos!#REF!,2,0)","v":{"$error":"#REF!"}},"02060000","REPAC",{"$f":"Plantilla!P89","v":0}]
[{"$f":"VLOOKUP(Plantilla!$A$2,Poliductos!#REF!,2,0)","v":{"$error":"#REF!"}},"02060100","REPAC",{"$f":"Plantilla!P90","v":0}]
[{"$f":"VLOOKUP(Plantilla!$A$2,Poliductos!#REF!,2,0)","v":{"$error":"#REF!"}},"02060200","REPAC",{"$f":"Plantilla!P91","v":0}]
[{"$f":"VLOOKUP(Plantilla!$A$2,Poliductos!#REF!,2,0)","v":{"$error":"#REF!"}},"02060300","REPAC",{"$f":"Plantilla!P92","v":0}]
[{"$f":"VLOOKUP(Plantilla!$A$2,Poliductos!#REF!,2,0)","v":{"$error":"#REF!"}},"02070000","REPAC",{"$f":"Plantilla!P93","v":0}]
[{"$f":"VLOOKUP(Plantilla!$A$2,Poliductos!#REF!,2,0)","v":{"$error":"#REF!"}},"02080000","REPAC",{"$f":"Plantilla!P94","v":0}]
[{"$f":"VLOOKUP(Plantilla!$A$2,Poliductos!#REF!,2,0)","v":{"$error":"#REF!"}},"02090000","REPAC",{"$f":"Plantilla!P95","v":0}]
[{"$f":"VLOOKUP(Plantilla!$A$2,Poliductos!#REF!,2,0)","v":{"$error":"#REF!"}},"02090100","REPAC",{"$f":"Plantilla!P96","v":0}]
[{"$f":"VLOOKUP(Plantilla!$A$2,Poliductos!#REF!,2,0)","v":{"$error":"#REF!"}},"02090200","REPAC",{"$f":"Plantilla!P97","v":0}]
[{"$f":"VLOOKUP(Plantilla!$A$2,Poliductos!#REF!,2,0)","v":{"$error":"#REF!"}},"02090300","REPAC",{"$f":"Plantilla!P98","v":0}]
[{"$f":"VLOOKUP(Plantilla!$A$2,Poliductos!#REF!,2,0)","v":{"$error":"#REF!"}},"02090400","REPAC",{"$f":"Plantilla!P99","v":0}]
[{"$f":"VLOOKUP(Plantilla!$A$2,Poliductos!#REF!,2,0)","v":{"$error":"#REF!"}},"02090500","REPAC",{"$f":"Plantilla!P100","v":0}]
[{"$f":"VLOOKUP(Plantilla!$A$2,Poliductos!#REF!,2,0)","v":{"$error":"#REF!"}},"02090600","REPAC",{"$f":"Plantilla!P101","v":0}]
[{"$f":"VLOOKUP(Plantilla!$A$2,Poliductos!#REF!,2,0)","v":{"$error":"#REF!"}},"02100000","REPAC",{"$f":"Plantilla!P102","v":0}]
[{"$f":"VLOOKUP(Plantilla!$A$2,Poliductos!#REF!,2,0)","v":{"$error":"#REF!"}},"02100100","REPAC",{"$f":"Plantilla!P103","v":0}]
[{"$f":"VLOOKUP(Plantilla!$A$2,Poliductos!#REF!,2,0)","v":{"$error":"#REF!"}},"02100200","REPAC",{"$f":"Plantilla!P104","v":0}]
[{"$f":"VLOOKUP(Plantilla!$A$2,Poliductos!#REF!,2,0)","v":{"$error":"#REF!"}},"02100300","REPAC",{"$f":"Plantilla!P105","v":0}]
[{"$f":"VLOOKUP(Plantilla!$A$2,Poliductos!#REF!,2,0)","v":{"$error":"#REF!"}},"02100400","REPAC",{"$f":"Plantilla!P106","v":0}]
[{"$f":"VLOOKUP(Plantilla!$A$2,Poliductos!#REF!,2,0)","v":{"$error":"#REF!"}},"02110000","REPAC",{"$f":"Plantilla!P107","v":0}]
[{"$f":"VLOOKUP(Plantilla!$A$2,Poliductos!#REF!,2,0)","v":{"$error":"#REF!"}},"02110100","REPAC",{"$f":"Plantilla!P108","v":0}]
[{"$f":"VLOOKUP(Plantilla!$A$2,Poliductos!#REF!,2,0)","v":{"$error":"#REF!"}},"02110200","REPAC",{"$f":"Plantilla!P109","v":0}]
[{"$f":"VLOOKUP(Plantilla!$A$2,Poliductos!#REF!,2,0)","v":{"$error":"#REF!"}},"02110300","REPAC",{"$f":"Plantilla!P110","v":0}]
[{"$f":"VLOOKUP(Plantilla!$A$2,Poliductos!#REF!,2,0)","v":{"$error":"#REF!"}},"02110400","REPAC",{"$f":"Plantilla!P111","v":0}]
[{"$f":"VLOOKUP(Plantilla!$A$2,Poliductos!#REF!,2,0)","v":{"$error":"#REF!"}},"02110500","REPAC",{"$f":"Plantilla!P112","v":0}]
[{"$f":"VLOOKUP(Plantilla!$A$2,Poliductos!#REF!,2,0)","v":{"$error":"#REF!"}},"02120000","REPAC",{"$f":"Plantilla!P113","v":0}]
[{"$f":"VLOOKUP(Plantilla!$A$2,Poliductos!#REF!,2,0)","v":{"$error":"#REF!"}},"02130000","REPAC",{"$f":"Plantilla!P114","v":0}]
[{"$f":"VLOOKUP(Plantilla!$A$2,Poliductos!#REF!,2,0)","v":{"$error":"#REF!"}},"02130100","REPAC",{"$f":"Plantilla!P115","v":0}]
[{"$f":"VLOOKUP(Plantilla!$A$2,Poliductos!#REF!,2,0)","v":{"$error":"#REF!"}},"02130200","REPAC",{"$f":"Plantilla!P116","v":0}]
[{"$f":"VLOOKUP(Plantilla!$A$2,Poliductos!#REF!,2,0)","v":{"$error":"#REF!"}},"02130300","REPAC",{"$f":"Plantilla!P117","v":0}]
[{"$f":"VLOOKUP(Plantilla!$A$2,Poliductos!#REF!,2,0)","v":{"$error":"#REF!"}},"02130400","REPAC",{"$f":"Plantilla!P118","v":0}]
[{"$f":"VLOOKUP(Plantilla!$A$2,Poliductos!#REF!,2,0)","v":{"$error":"#REF!"}},"02130500","REPAC",{"$f":"Plantilla!P119","v":0}]
[{"$f":"VLOOKUP(Plantilla!$A$2,Poliductos!#REF!,2,0)","v":{"$error":"#REF!"}},"02130600","REPAC",{"$f":"Plantilla!P120","v":0}]
[{"$f":"VLOOKUP(Plantilla!$A$2,Poliductos!#REF!,2,0)","v":{"$error":"#REF!"}},"02140000","REPAC",{"$f":"Plantilla!P121","v":0}]
[{"$f":"VLOOKUP(Plantilla!$A$2,Poliductos!#REF!,2,0)","v":{"$error":"#REF!"}},"02140100","REPAC",{"$f":"Plantilla!P122","v":0}]
[{"$f":"VLOOKUP(Plantilla!$A$2,Poliductos!#REF!,2,0)","v":{"$error":"#REF!"}},"02140200","REPAC",{"$f":"Plantilla!P123","v":0}]
[{"$f":"VLOOKUP(Plantilla!$A$2,Poliductos!#REF!,2,0)","v":{"$error":"#REF!"}},"02150000","REPAC",{"$f":"Plantilla!P124","v":0}]
[{"$f":"VLOOKUP(Plantilla!$A$2,Poliductos!#REF!,2,0)","v":{"$error":"#REF!"}},"02150100","REPAC",{"$f":"Plantilla!P125","v":0}]
[{"$f":"VLOOKUP(Plantilla!$A$2,Poliductos!#REF!,2,0)","v":{"$error":"#REF!"}},"02150200","REPAC",{"$f":"Plantilla!P126","v":0}]
[{"$f":"VLOOKUP(Plantilla!$A$2,Poliductos!#REF!,2,0)","v":{"$error":"#REF!"}},"02150300","REPAC",{"$f":"Plantilla!P127","v":0}]
[{"$f":"VLOOKUP(Plantilla!$A$2,Poliductos!#REF!,2,0)","v":{"$error":"#REF!"}},"02150400","REPAC",{"$f":"Plantilla!P128","v":0}]
[{"$f":"VLOOKUP(Plantilla!$A$2,Poliductos!#REF!,2,0)","v":{"$error":"#REF!"}},"02150500","REPAC",{"$f":"Plantilla!P129","v":0}]
[{"$f":"VLOOKUP(Plantilla!$A$2,Poliductos!#REF!,2,0)","v":{"$error":"#REF!"}},"02150600","REPAC",{"$f":"Plantilla!P130","v":0}]
[{"$f":"VLOOKUP(Plantilla!$A$2,Poliductos!#REF!,2,0)","v":{"$error":"#REF!"}},"02150700","REPAC",{"$f":"Plantilla!P131","v":0}]
[{"$f":"VLOOKUP(Plantilla!$A$2,Poliductos!#REF!,2,0)","v":{"$error":"#REF!"}},"02150800","REPAC",{"$f":"Plantilla!P132","v":0}]
[{"$f":"VLOOKUP(Plantilla!$A$2,Poliductos!#REF!,2,0)","v":{"$error":"#REF!"}},"02160000","REPAC",{"$f":"Plantilla!P136","v":0}]
[{"$f":"VLOOKUP(Plantilla!$A$2,Poliductos!#REF!,2,0)","v":{"$error":"#REF!"}},"02160100","REPAC",{"$f":"Plantilla!P137","v":0}]
[{"$f":"VLOOKUP(Plantilla!$A$2,Poliductos!#REF!,2,0)","v":{"$error":"#REF!"}},"02160200","REPAC",{"$f":"Plantilla!P138","v":0}]
[{"$f":"VLOOKUP(Plantilla!$A$2,Poliductos!#REF!,2,0)","v":{"$error":"#REF!"}},"01000000","CII",{"$f":"Plantilla!Q4","v":0}]
[{"$f":"VLOOKUP(Plantilla!$A$2,Poliductos!#REF!,2,0)","v":{"$error":"#REF!"}},"01010000","CII",{"$f":"Plantilla!Q5","v":0}]
[{"$f":"VLOOKUP(Plantilla!$A$2,Poliductos!#REF!,2,0)","v":{"$error":"#REF!"}},"01010100","CII",{"$f":"Plantilla!Q6","v":0}]
[{"$f":"VLOOKUP(Plantilla!$A$2,Poliductos!#REF!,2,0)","v":{"$error":"#REF!"}},"01010200","CII",{"$f":"Plantilla!Q7","v":0}]
[{"$f":"VLOOKUP(Plantilla!$A$2,Poliductos!#REF!,2,0)","v":{"$error":"#REF!"}},"01010201","CII",{"$f":"Plantilla!Q8","v":0}]
[{"$f":"VLOOKUP(Plantilla!$A$2,Poliductos!#REF!,2,0)","v":{"$error":"#REF!"}},"01010202","CII",{"$f":"Plantilla!Q9","v":0}]
[{"$f":"VLOOKUP(Plantilla!$A$2,Poliductos!#REF!,2,0)","v":{"$error":"#REF!"}},"01010300","CII",{"$f":"Plantilla!Q10","v":0}]
[{"$f":"VLOOKUP(Plantilla!$A$2,Poliductos!#REF!,2,0)","v":{"$error":"#REF!"}},"01010301","CII",{"$f":"Plantilla!Q11","v":0}]
[{"$f":"VLOOKUP(Plantilla!$A$2,Poliductos!#REF!,2,0)","v":{"$error":"#REF!"}},"01010302","CII",{"$f":"Plantilla!Q12","v":0}]
[{"$f":"VLOOKUP(Plantilla!$A$2,Poliductos!#REF!,2,0)","v":{"$error":"#REF!"}},"01010400","CII",{"$f":"Plantilla!Q13","v":0}]
[{"$f":"VLOOKUP(Plantilla!$A$2,Poliductos!#REF!,2,0)","v":{"$error":"#REF!"}},"01010500","CII",{"$f":"Plantilla!Q14","v":0}]
[{"$f":"VLOOKUP(Plantilla!$A$2,Poliductos!#REF!,2,0)","v":{"$error":"#REF!"}},"01010600","CII",{"$f":"Plantilla!Q15","v":0}]
[{"$f":"VLOOKUP(Plantilla!$A$2,Poliductos!#REF!,2,0)","v":{"$error":"#REF!"}},"01010700","CII",{"$f":"Plantilla!Q16","v":0}]
[{"$f":"VLOOKUP(Plantilla!$A$2,Poliductos!#REF!,2,0)","v":{"$error":"#REF!"}},"01010800","CII",{"$f":"Plantilla!Q17","v":0}]
[{"$f":"VLOOKUP(Plantilla!$A$2,Poliductos!#REF!,2,0)","v":{"$error":"#REF!"}},"01010900","CII",{"$f":"Plantilla!Q18","v":0}]
[{"$f":"VLOOKUP(Plantilla!$A$2,Poliductos!#REF!,2,0)","v":{"$error":"#REF!"}},"01011000","CII",{"$f":"Plantilla!Q19","v":0}]
[{"$f":"VLOOKUP(Plantilla!$A$2,Poliductos!#REF!,2,0)","v":{"$error":"#REF!"}},"01020000","CII",{"$f":"Plantilla!Q20","v":0}]
[{"$f":"VLOOKUP(Plantilla!$A$2,Poliductos!#REF!,2,0)","v":{"$error":"#REF!"}},"01020100","CII",{"$f":"Plantilla!Q21","v":0}]
[{"$f":"VLOOKUP(Plantilla!$A$2,Poliductos!#REF!,2,0)","v":{"$error":"#REF!"}},"01020200","CII",{"$f":"Plantilla!Q22","v":0}]
[{"$f":"VLOOKUP(Plantilla!$A$2,Poliductos!#REF!,2,0)","v":{"$error":"#REF!"}},"01020300","CII",{"$f":"Plantilla!Q23","v":0}]
[{"$f":"VLOOKUP(Plantilla!$A$2,Poliductos!#REF!,2,0)","v":{"$error":"#REF!"}},"01020400","CII",{"$f":"Plantilla!Q24","v":0}]
[{"$f":"VLOOKUP(Plantilla!$A$2,Poliductos!#REF!,2,0)","v":{"$error":"#REF!"}},"01020500","CII",{"$f":"Plantilla!Q25","v":0}]
[{"$f":"VLOOKUP(Plantilla!$A$2,Poliductos!#REF!,2,0)","v":{"$error":"#REF!"}},"01020600","CII",{"$f":"Plantilla!Q26","v":0}]
[{"$f":"VLOOKUP(Plantilla!$A$2,Poliductos!#REF!,2,0)","v":{"$error":"#REF!"}},"01020700","CII",{"$f":"Plantilla!Q27","v":0}]
[{"$f":"VLOOKUP(Plantilla!$A$2,Poliductos!#REF!,2,0)","v":{"$error":"#REF!"}},"01030000","CII",{"$f":"Plantilla!Q29","v":0}]
[{"$f":"VLOOKUP(Plantilla!$A$2,Poliductos!#REF!,2,0)","v":{"$error":"#REF!"}},"01030100","CII",{"$f":"Plantilla!Q30","v":0}]
[{"$f":"VLOOKUP(Plantilla!$A$2,Poliductos!#REF!,2,0)","v":{"$error":"#REF!"}},"01030200","CII",{"$f":"Plantilla!Q31","v":0}]
[{"$f":"VLOOKUP(Plantilla!$A$2,Poliductos!#REF!,2,0)","v":{"$error":"#REF!"}},"01030300","CII",{"$f":"Plantilla!Q32","v":0}]
[{"$f":"VLOOKUP(Plantilla!$A$2,Poliductos!#REF!,2,0)","v":{"$error":"#REF!"}},"01030400","CII",{"$f":"Plantilla!Q33","v":0}]
[{"$f":"VLOOKUP(Plantilla!$A$2,Poliductos!#REF!,2,0)","v":{"$error":"#REF!"}},"01030500","CII",{"$f":"Plantilla!Q34","v":0}]
[{"$f":"VLOOKUP(Plantilla!$A$2,Poliductos!#REF!,2,0)","v":{"$error":"#REF!"}},"01030600","CII",{"$f":"Plantilla!Q35","v":0}]
[{"$f":"VLOOKUP(Plantilla!$A$2,Poliductos!#REF!,2,0)","v":{"$error":"#REF!"}},"01030700","CII",{"$f":"Plantilla!Q36","v":0}]
[{"$f":"VLOOKUP(Plantilla!$A$2,Poliductos!#REF!,2,0)","v":{"$error":"#REF!"}},"01030800","CII",{"$f":"Plantilla!Q37","v":0}]
[{"$f":"VLOOKUP(Plantilla!$A$2,Poliductos!#REF!,2,0)","v":{"$error":"#REF!"}},"01030900","CII",{"$f":"Plantilla!Q38","v":0}]
[{"$f":"VLOOKUP(Plantilla!$A$2,Poliductos!#REF!,2,0)","v":{"$error":"#REF!"}},"01031000","CII",{"$f":"Plantilla!Q39","v":0}]
[{"$f":"VLOOKUP(Plantilla!$A$2,Poliductos!#REF!,2,0)","v":{"$error":"#REF!"}},"01031100","CII",{"$f":"Plantilla!Q40","v":0}]
[{"$f":"VLOOKUP(Plantilla!$A$2,Poliductos!#REF!,2,0)","v":{"$error":"#REF!"}},"01040000","CII",{"$f":"Plantilla!Q41","v":0}]
[{"$f":"VLOOKUP(Plantilla!$A$2,Poliductos!#REF!,2,0)","v":{"$error":"#REF!"}},"01050000","CII",{"$f":"Plantilla!Q42","v":0}]
[{"$f":"VLOOKUP(Plantilla!$A$2,Poliductos!#REF!,2,0)","v":{"$error":"#REF!"}},"01060000","CII",{"$f":"Plantilla!Q43","v":0}]
[{"$f":"VLOOKUP(Plantilla!$A$2,Poliductos!#REF!,2,0)","v":{"$error":"#REF!"}},"01060100","CII",{"$f":"Plantilla!Q44","v":0}]
[{"$f":"VLOOKUP(Plantilla!$A$2,Poliductos!#REF!,2,0)","v":{"$error":"#REF!"}},"01060200","CII",{"$f":"Plantilla!Q45","v":0}]
[{"$f":"VLOOKUP(Plantilla!$A$2,Poliductos!#REF!,2,0)","v":{"$error":"#REF!"}},"01060201","CII",{"$f":"Plantilla!Q46","v":0}]
[{"$f":"VLOOKUP(Plantilla!$A$2,Poliductos!#REF!,2,0)","v":{"$error":"#REF!"}},"01060202","CII",{"$f":"Plantilla!Q47","v":0}]
[{"$f":"VLOOKUP(Plantilla!$A$2,Poliductos!#REF!,2,0)","v":{"$error":"#REF!"}},"01060203","CII",{"$f":"Plantilla!Q48","v":0}]
[{"$f":"VLOOKUP(Plantilla!$A$2,Poliductos!#REF!,2,0)","v":{"$error":"#REF!"}},"01060300","CII",{"$f":"Plantilla!Q49","v":0}]
[{"$f":"VLOOKUP(Plantilla!$A$2,Poliductos!#REF!,2,0)","v":{"$error":"#REF!"}},"01060400","CII",{"$f":"Plantilla!Q50","v":0}]
[{"$f":"VLOOKUP(Plantilla!$A$2,Poliductos!#REF!,2,0)","v":{"$error":"#REF!"}},"01070000","CII",{"$f":"Plantilla!Q51","v":0}]
[{"$f":"VLOOKUP(Plantilla!$A$2,Poliductos!#REF!,2,0)","v":{"$error":"#REF!"}},"01070100","CII",{"$f":"Plantilla!Q52","v":0}]
[{"$f":"VLOOKUP(Plantilla!$A$2,Poliductos!#REF!,2,0)","v":{"$error":"#REF!"}},"01070200","CII",{"$f":"Plantilla!Q53","v":0}]
[{"$f":"VLOOKUP(Plantilla!$A$2,Poliductos!#REF!,2,0)","v":{"$error":"#REF!"}},"01070300","CII",{"$f":"Plantilla!Q54","v":0}]
[{"$f":"VLOOKUP(Plantilla!$A$2,Poliductos!#REF!,2,0)","v":{"$error":"#REF!"}},"01070400","CII",{"$f":"Plantilla!Q55","v":0}]
[{"$f":"VLOOKUP(Plantilla!$A$2,Poliductos!#REF!,2,0)","v":{"$error":"#REF!"}},"02000000","CII",{"$f":"Plantilla!Q56","v":0}]
[{"$f":"VLOOKUP(Plantilla!$A$2,Poliductos!#REF!,2,0)","v":{"$error":"#REF!"}},"02010000","CII",{"$f":"Plantilla!Q57","v":0}]
[{"$f":"VLOOKUP(Plantilla!$A$2,Poliductos!#REF!,2,0)","v":{"$error":"#REF!"}},"02010100","CII",{"$f":"Plantilla!Q58","v":0}]
[{"$f":"VLOOKUP(Plantilla!$A$2,Poliductos!#REF!,2,0)","v":{"$error":"#REF!"}},"02010200","CII",{"$f":"Plantilla!Q59","v":0}]
[{"$f":"VLOOKUP(Plantilla!$A$2,Poliductos!#REF!,2,0)","v":{"$error":"#REF!"}},"02010201","CII",{"$f":"Plantilla!Q60","v":0}]
[{"$f":"VLOOKUP(Plantilla!$A$2,Poliductos!#REF!,2,0)","v":{"$error":"#REF!"}},"02010202","CII",{"$f":"Plantilla!Q61","v":0}]
[{"$f":"VLOOKUP(Plantilla!$A$2,Poliductos!#REF!,2,0)","v":{"$error":"#REF!"}},"02010300","CII",{"$f":"Plantilla!Q62","v":0}]
[{"$f":"VLOOKUP(Plantilla!$A$2,Poliductos!#REF!,2,0)","v":{"$error":"#REF!"}},"02010301","CII",{"$f":"Plantilla!Q63","v":0}]
[{"$f":"VLOOKUP(Plantilla!$A$2,Poliductos!#REF!,2,0)","v":{"$error":"#REF!"}},"02010302","CII",{"$f":"Plantilla!Q64","v":0}]
[{"$f":"VLOOKUP(Plantilla!$A$2,Poliductos!#REF!,2,0)","v":{"$error":"#REF!"}},"02010400","CII",{"$f":"Plantilla!Q65","v":0}]
[{"$f":"VLOOKUP(Plantilla!$A$2,Poliductos!#REF!,2,0)","v":{"$error":"#REF!"}},"02010500","CII",{"$f":"Plantilla!Q66","v":0}]
[{"$f":"VLOOKUP(Plantilla!$A$2,Poliductos!#REF!,2,0)","v":{"$error":"#REF!"}},"02010600","CII",{"$f":"Plantilla!Q67","v":0}]
[{"$f":"VLOOKUP(Plantilla!$A$2,Poliductos!#REF!,2,0)","v":{"$error":"#REF!"}},"02010700","CII",{"$f":"Plantilla!Q68","v":0}]
[{"$f":"VLOOKUP(Plantilla!$A$2,Poliductos!#REF!,2,0)","v":{"$error":"#REF!"}},"02010800","CII",{"$f":"Plantilla!Q69","v":0}]
[{"$f":"VLOOKUP(Plantilla!$A$2,Poliductos!#REF!,2,0)","v":{"$error":"#REF!"}},"02010900","CII",{"$f":"Plantilla!Q70","v":0}]
[{"$f":"VLOOKUP(Plantilla!$A$2,Poliductos!#REF!,2,0)","v":{"$error":"#REF!"}},"02011000","CII",{"$f":"Plantilla!Q71","v":0}]
[{"$f":"VLOOKUP(Plantilla!$A$2,Poliductos!#REF!,2,0)","v":{"$error":"#REF!"}},"02020000","CII",{"$f":"Plantilla!Q72","v":0}]
[{"$f":"VLOOKUP(Plantilla!$A$2,Poliductos!#REF!,2,0)","v":{"$error":"#REF!"}},"02020100","CII",{"$f":"Plantilla!Q73","v":0}]
[{"$f":"VLOOKUP(Plantilla!$A$2,Poliductos!#REF!,2,0)","v":{"$error":"#REF!"}},"02020200","CII",{"$f":"Plantilla!Q74","v":0}]
[{"$f":"VLOOKUP(Plantilla!$A$2,Poliductos!#REF!,2,0)","v":{"$error":"#REF!"}},"02020300","CII",{"$f":"Plantilla!Q75","v":0}]
[{"$f":"VLOOKUP(Plantilla!$A$2,Poliductos!#REF!,2,0)","v":{"$error":"#REF!"}},"02020400","CII",{"$f":"Plantilla!Q76","v":0}]
[{"$f":"VLOOKUP(Plantilla!$A$2,Poliductos!#REF!,2,0)","v":{"$error":"#REF!"}},"02020500","CII",{"$f":"Plantilla!Q77","v":0}]
[{"$f":"VLOOKUP(Plantilla!$A$2,Poliductos!#REF!,2,0)","v":{"$error":"#REF!"}},"02020600","CII",{"$f":"Plantilla!Q78","v":0}]
[{"$f":"VLOOKUP(Plantilla!$A$2,Poliductos!#REF!,2,0)","v":{"$error":"#REF!"}},"02030000","CII",{"$f":"Plantilla!Q79","v":0}]
[{"$f":"VLOOKUP(Plantilla!$A$2,Poliductos!#REF!,2,0)","v":{"$error":"#REF!"}},"02030100","CII",{"$f":"Plantilla!Q80","v":0}]
[{"$f":"VLOOKUP(Plantilla!$A$2,Poliductos!#REF!,2,0)","v":{"$error":"#REF!"}},"02030200","CII",{"$f":"Plantilla!Q81","v":0}]
[{"$f":"VLOOKUP(Plantilla!$A$2,Poliductos!#REF!,2,0)","v":{"$error":"#REF!"}},"02030300","CII",{"$f":"Plantilla!Q82","v":0}]
[{"$f":"VLOOKUP(Plantilla!$A$2,Poliductos!#REF!,2,0)","v":{"$error":"#REF!"}},"02030400","CII",{"$f":"Plantilla!Q83","v":0}]
[{"$f":"VLOOKUP(Plantilla!$A$2,Poliductos!#REF!,2,0)","v":{"$error":"#REF!"}},"02040000","CII",{"$f":"Plantilla!Q84","v":0}]
[{"$f":"VLOOKUP(Plantilla!$A$2,Poliductos!#REF!,2,0)","v":{"$error":"#REF!"}},"02040100","CII",{"$f":"Plantilla!Q85","v":0}]
[{"$f":"VLOOKUP(Plantilla!$A$2,Poliductos!#REF!,2,0)","v":{"$error":"#REF!"}},"02040200","CII",{"$f":"Plantilla!Q86","v":0}]
[{"$f":"VLOOKUP(Plantilla!$A$2,Poliductos!#REF!,2,0)","v":{"$error":"#REF!"}},"02040300","CII",{"$f":"Plantilla!Q87","v":0}]
[{"$f":"VLOOKUP(Plantilla!$A$2,Poliductos!#REF!,2,0)","v":{"$error":"#REF!"}},"02050000","CII",{"$f":"Plantilla!Q88","v":0}]
[{"$f":"VLOOKUP(Plantilla!$A$2,Poliductos!#REF!,2,0)","v":{"$error":"#REF!"}},"02060000","CII",{"$f":"Plantilla!Q89","v":0}]
[{"$f":"VLOOKUP(Plantilla!$A$2,Poliductos!#REF!,2,0)","v":{"$error":"#REF!"}},"02060100","CII",{"$f":"Plantilla!Q90","v":0}]
[{"$f":"VLOOKUP(Plantilla!$A$2,Poliductos!#REF!,2,0)","v":{"$error":"#REF!"}},"02060200","CII",{"$f":"Plantilla!Q91","v":0}]
[{"$f":"VLOOKUP(Plantilla!$A$2,Poliductos!#REF!,2,0)","v":{"$error":"#REF!"}},"02060300","CII",{"$f":"Plantilla!Q92","v":0}]
[{"$f":"VLOOKUP(Plantilla!$A$2,Poliductos!#REF!,2,0)","v":{"$error":"#REF!"}},"02070000","CII",{"$f":"Plantilla!Q93","v":0}]
[{"$f":"VLOOKUP(Plantilla!$A$2,Poliductos!#REF!,2,0)","v":{"$error":"#REF!"}},"02080000","CII",{"$f":"Plantilla!Q94","v":0}]
[{"$f":"VLOOKUP(Plantilla!$A$2,Poliductos!#REF!,2,0)","v":{"$error":"#REF!"}},"02090000","CII",{"$f":"Plantilla!Q95","v":0}]
[{"$f":"VLOOKUP(Plantilla!$A$2,Poliductos!#REF!,2,0)","v":{"$error":"#REF!"}},"02090100","CII",{"$f":"Plantilla!Q96","v":0}]
[{"$f":"VLOOKUP(Plantilla!$A$2,Poliductos!#REF!,2,0)","v":{"$error":"#REF!"}},"02090200","CII",{"$f":"Plantilla!Q97","v":0}]
[{"$f":"VLOOKUP(Plantilla!$A$2,Poliductos!#REF!,2,0)","v":{"$error":"#REF!"}},"02090300","CII",{"$f":"Plantilla!Q98","v":0}]
[{"$f":"VLOOKUP(Plantilla!$A$2,Poliductos!#REF!,2,0)","v":{"$error":"#REF!"}},"02090400","CII",{"$f":"Plantilla!Q99","v":0}]
[{"$f":"VLOOKUP(Plantilla!$A$2,Poliductos!#REF!,2,0)","v":{"$error":"#REF!"}},"02090500","CII",{"$f":"Plantilla!Q100","v":0}]
[{"$f":"VLOOKUP(Plantilla!$A$2,Poliductos!#REF!,2,0)","v":{"$error":"#REF!"}},"02090600","CII",{"$f":"Plantilla!Q101","v":0}]
[{"$f":"VLOOKUP(Plantilla!$A$2,Poliductos!#REF!,2,0)","v":{"$error":"#REF!"}},"02100000","CII",{"$f":"Plantilla!Q102","v":0}]
[{"$f":"VLOOKUP(Plantilla!$A$2,Poliductos!#REF!,2,0)","v":{"$error":"#REF!"}},"02100100","CII",{"$f":"Plantilla!Q103","v":0}]
[{"$f":"VLOOKUP(Plantilla!$A$2,Poliductos!#REF!,2,0)","v":{"$error":"#REF!"}},"02100200","CII",{"$f":"Plantilla!Q104","v":0}]
[{"$f":"VLOOKUP(Plantilla!$A$2,Poliductos!#REF!,2,0)","v":{"$error":"#REF!"}},"02100300","CII",{"$f":"Plantilla!Q105","v":0}]
[{"$f":"VLOOKUP(Plantilla!$A$2,Poliductos!#REF!,2,0)","v":{"$error":"#REF!"}},"02100400","CII",{"$f":"Plantilla!Q106","v":0}]
[{"$f":"VLOOKUP(Plantilla!$A$2,Poliductos!#REF!,2,0)","v":{"$error":"#REF!"}},"02110000","CII",{"$f":"Plantilla!Q107","v":0}]
[{"$f":"VLOOKUP(Plantilla!$A$2,Poliductos!#REF!,2,0)","v":{"$error":"#REF!"}},"02110100","CII",{"$f":"Plantilla!Q108","v":0}]
[{"$f":"VLOOKUP(Plantilla!$A$2,Poliductos!#REF!,2,0)","v":{"$error":"#REF!"}},"02110200","CII",{"$f":"Plantilla!Q109","v":0}]
[{"$f":"VLOOKUP(Plantilla!$A$2,Poliductos!#REF!,2,0)","v":{"$error":"#REF!"}},"02110300","CII",{"$f":"Plantilla!Q110","v":0}]
[{"$f":"VLOOKUP(Plantilla!$A$2,Poliductos!#REF!,2,0)","v":{"$error":"#REF!"}},"02110400","CII",{"$f":"Plantilla!Q111","v":0}]
[{"$f":"VLOOKUP(Plantilla!$A$2,Poliductos!#REF!,2,0)","v":{"$error":"#REF!"}},"02110500","CII",{"$f":"Plantilla!Q112","v":0}]
[{"$f":"VLOOKUP(Plantilla!$A$2,Poliductos!#REF!,2,0)","v":{"$error":"#REF!"}},"02120000","CII",{"$f":"Plantilla!Q113","v":0}]
[{"$f":"VLOOKUP(Plantilla!$A$2,Poliductos!#REF!,2,0)","v":{"$error":"#REF!"}},"02130000","CII",{"$f":"Plantilla!Q114","v":0}]
[{"$f":"VLOOKUP(Plantilla!$A$2,Poliductos!#REF!,2,0)","v":{"$error":"#REF!"}},"02130100","CII",{"$f":"Plantilla!Q115","v":0}]
[{"$f":"VLOOKUP(Plantilla!$A$2,Poliductos!#REF!,2,0)","v":{"$error":"#REF!"}},"02130200","CII",{"$f":"Plantilla!Q116","v":0}]
[{"$f":"VLOOKUP(Plantilla!$A$2,Poliductos!#REF!,2,0)","v":{"$error":"#REF!"}},"02130300","CII",{"$f":"Plantilla!Q117","v":0}]
[{"$f":"VLOOKUP(Plantilla!$A$2,Poliductos!#REF!,2,0)","v":{"$error":"#REF!"}},"02130400","CII",{"$f":"Plantilla!Q118","v":0}]
[{"$f":"VLOOKUP(Plantilla!$A$2,Poliductos!#REF!,2,0)","v":{"$error":"#REF!"}},"02130500","CII",{"$f":"Plantilla!Q119","v":0}]
[{"$f":"VLOOKUP(Plantilla!$A$2,Poliductos!#REF!,2,0)","v":{"$error":"#REF!"}},"02130600","CII",{"$f":"Plantilla!Q120","v":0}]
[{"$f":"VLOOKUP(Plantilla!$A$2,Poliductos!#REF!,2,0)","v":{"$error":"#REF!"}},"02140000","CII",{"$f":"Plantilla!Q121","v":0}]
[{"$f":"VLOOKUP(Plantilla!$A$2,Poliductos!#REF!,2,0)","v":{"$error":"#REF!"}},"02140100","CII",{"$f":"Plantilla!Q122","v":0}]
[{"$f":"VLOOKUP(Plantilla!$A$2,Poliductos!#REF!,2,0)","v":{"$error":"#REF!"}},"02140200","CII",{"$f":"Plantilla!Q123","v":0}]
[{"$f":"VLOOKUP(Plantilla!$A$2,Poliductos!#REF!,2,0)","v":{"$error":"#REF!"}},"02150000","CII",{"$f":"Plantilla!Q124","v":0}]
[{"$f":"VLOOKUP(Plantilla!$A$2,Poliductos!#REF!,2,0)","v":{"$error":"#REF!"}},"02150100","CII",{"$f":"Plantilla!Q125","v":0}]
[{"$f":"VLOOKUP(Plantilla!$A$2,Poliductos!#REF!,2,0)","v":{"$error":"#REF!"}},"02150200","CII",{"$f":"Plantilla!Q126","v":0}]
[{"$f":"VLOOKUP(Plantilla!$A$2,Poliductos!#REF!,2,0)","v":{"$error":"#REF!"}},"02150300","CII",{"$f":"Plantilla!Q127","v":0}]
[{"$f":"VLOOKUP(Plantilla!$A$2,Poliductos!#REF!,2,0)","v":{"$error":"#REF!"}},"02150400","CII",{"$f":"Plantilla!Q128","v":0}]
[{"$f":"VLOOKUP(Plantilla!$A$2,Poliductos!#REF!,2,0)","v":{"$error":"#REF!"}},"02150500","CII",{"$f":"Plantilla!Q129","v":0}]
[{"$f":"VLOOKUP(Plantilla!$A$2,Poliductos!#REF!,2,0)","v":{"$error":"#REF!"}},"02150600","CII",{"$f":"Plantilla!Q130","v":0}]
[{"$f":"VLOOKUP(Plantilla!$A$2,Poliductos!#REF!,2,0)","v":{"$error":"#REF!"}},"02150700","CII",{"$f":"Plantilla!Q131","v":0}]
[{"$f":"VLOOKUP(Plantilla!$A$2,Poliductos!#REF!,2,0)","v":{"$error":"#REF!"}},"02150800","CII",{"$f":"Plantilla!Q132","v":0}]
[{"$f":"VLOOKUP(Plantilla!$A$2,Poliductos!#REF!,2,0)","v":{"$error":"#REF!"}},"02160000","CII",{"$f":"Plantilla!Q136","v":0}]
[{"$f":"VLOOKUP(Plantilla!$A$2,Poliductos!#REF!,2,0)","v":{"$error":"#REF!"}},"02160100","CII",{"$f":"Plantilla!Q137","v":0}]
[{"$f":"VLOOKUP(Plantilla!$A$2,Poliductos!#REF!,2,0)","v":{"$error":"#REF!"}},"02160200","CII",{"$f":"Plantilla!Q138","v":0}]
[{"$f":"VLOOKUP(Plantilla!$A$2,Poliductos!#REF!,2,0)","v":{"$error":"#REF!"}},"01000000","OAN",{"$f":"Plantilla!R4","v":0}]
[{"$f":"VLOOKUP(Plantilla!$A$2,Poliductos!#REF!,2,0)","v":{"$error":"#REF!"}},"01010000","OAN",{"$f":"Plantilla!R5","v":0}]
[{"$f":"VLOOKUP(Plantilla!$A$2,Poliductos!#REF!,2,0)","v":{"$error":"#REF!"}},"01010100","OAN",{"$f":"Plantilla!R6","v":0}]
[{"$f":"VLOOKUP(Plantilla!$A$2,Poliductos!#REF!,2,0)","v":{"$error":"#REF!"}},"01010200","OAN",{"$f":"Plantilla!R7","v":0}]
[{"$f":"VLOOKUP(Plantilla!$A$2,Poliductos!#REF!,2,0)","v":{"$error":"#REF!"}},"01010201","OAN",{"$f":"Plantilla!R8","v":0}]
[{"$f":"VLOOKUP(Plantilla!$A$2,Poliductos!#REF!,2,0)","v":{"$error":"#REF!"}},"01010202","OAN",{"$f":"Plantilla!R9","v":0}]
[{"$f":"VLOOKUP(Plantilla!$A$2,Poliductos!#REF!,2,0)","v":{"$error":"#REF!"}},"01010300","OAN",{"$f":"Plantilla!R10","v":0}]
[{"$f":"VLOOKUP(Plantilla!$A$2,Poliductos!#REF!,2,0)","v":{"$error":"#REF!"}},"01010301","OAN",{"$f":"Plantilla!R11","v":0}]
[{"$f":"VLOOKUP(Plantilla!$A$2,Poliductos!#REF!,2,0)","v":{"$error":"#REF!"}},"01010302","OAN",{"$f":"Plantilla!R12","v":0}]
[{"$f":"VLOOKUP(Plantilla!$A$2,Poliductos!#REF!,2,0)","v":{"$error":"#REF!"}},"01010400","OAN",{"$f":"Plantilla!R13","v":0}]
[{"$f":"VLOOKUP(Plantilla!$A$2,Poliductos!#REF!,2,0)","v":{"$error":"#REF!"}},"01010500","OAN",{"$f":"Plantilla!R14","v":0}]
[{"$f":"VLOOKUP(Plantilla!$A$2,Poliductos!#REF!,2,0)","v":{"$error":"#REF!"}},"01010600","OAN",{"$f":"Plantilla!R15","v":0}]
[{"$f":"VLOOKUP(Plantilla!$A$2,Poliductos!#REF!,2,0)","v":{"$error":"#REF!"}},"01010700","OAN",{"$f":"Plantilla!R16","v":0}]
[{"$f":"VLOOKUP(Plantilla!$A$2,Poliductos!#REF!,2,0)","v":{"$error":"#REF!"}},"01010800","OAN",{"$f":"Plantilla!R17","v":0}]
[{"$f":"VLOOKUP(Plantilla!$A$2,Poliductos!#REF!,2,0)","v":{"$error":"#REF!"}},"01010900","OAN",{"$f":"Plantilla!R18","v":0}]
[{"$f":"VLOOKUP(Plantilla!$A$2,Poliductos!#REF!,2,0)","v":{"$error":"#REF!"}},"01011000","OAN",{"$f":"Plantilla!R19","v":0}]
[{"$f":"VLOOKUP(Plantilla!$A$2,Poliductos!#REF!,2,0)","v":{"$error":"#REF!"}},"01020000","OAN",{"$f":"Plantilla!R20","v":0}]
[{"$f":"VLOOKUP(Plantilla!$A$2,Poliductos!#REF!,2,0)","v":{"$error":"#REF!"}},"01020100","OAN",{"$f":"Plantilla!R21","v":0}]
[{"$f":"VLOOKUP(Plantilla!$A$2,Poliductos!#REF!,2,0)","v":{"$error":"#REF!"}},"01020200","OAN",{"$f":"Plantilla!R22","v":0}]
[{"$f":"VLOOKUP(Plantilla!$A$2,Poliductos!#REF!,2,0)","v":{"$error":"#REF!"}},"01020300","OAN",{"$f":"Plantilla!R23","v":0}]
[{"$f":"VLOOKUP(Plantilla!$A$2,Poliductos!#REF!,2,0)","v":{"$error":"#REF!"}},"01020400","OAN",{"$f":"Plantilla!R24","v":0}]
[{"$f":"VLOOKUP(Plantilla!$A$2,Poliductos!#REF!,2,0)","v":{"$error":"#REF!"}},"01020500","OAN",{"$f":"Plantilla!R25","v":0}]
[{"$f":"VLOOKUP(Plantilla!$A$2,Poliductos!#REF!,2,0)","v":{"$error":"#REF!"}},"01020600","OAN",{"$f":"Plantilla!R26","v":0}]
[{"$f":"VLOOKUP(Plantilla!$A$2,Poliductos!#REF!,2,0)","v":{"$error":"#REF!"}},"01020700","OAN",{"$f":"Plantilla!R27","v":0}]
[{"$f":"VLOOKUP(Plantilla!$A$2,Poliductos!#REF!,2,0)","v":{"$error":"#REF!"}},"01030000","OAN",{"$f":"Plantilla!R29","v":0}]
[{"$f":"VLOOKUP(Plantilla!$A$2,Poliductos!#REF!,2,0)","v":{"$error":"#REF!"}},"01030100","OAN",{"$f":"Plantilla!R30","v":0}]
[{"$f":"VLOOKUP(Plantilla!$A$2,Poliductos!#REF!,2,0)","v":{"$error":"#REF!"}},"01030200","OAN",{"$f":"Plantilla!R31","v":0}]
[{"$f":"VLOOKUP(Plantilla!$A$2,Poliductos!#REF!,2,0)","v":{"$error":"#REF!"}},"01030300","OAN",{"$f":"Plantilla!R32","v":0}]
[{"$f":"VLOOKUP(Plantilla!$A$2,Poliductos!#REF!,2,0)","v":{"$error":"#REF!"}},"01030400","OAN",{"$f":"Plantilla!R33","v":0}]
[{"$f":"VLOOKUP(Plantilla!$A$2,Poliductos!#REF!,2,0)","v":{"$error":"#REF!"}},"01030500","OAN",{"$f":"Plantilla!R34","v":0}]
[{"$f":"VLOOKUP(Plantilla!$A$2,Poliductos!#REF!,2,0)","v":{"$error":"#REF!"}},"01030600","OAN",{"$f":"Plantilla!R35","v":0}]
[{"$f":"VLOOKUP(Plantilla!$A$2,Poliductos!#REF!,2,0)","v":{"$error":"#REF!"}},"01030700","OAN",{"$f":"Plantilla!R36","v":0}]
[{"$f":"VLOOKUP(Plantilla!$A$2,Poliductos!#REF!,2,0)","v":{"$error":"#REF!"}},"01030800","OAN",{"$f":"Plantilla!R37","v":0}]
[{"$f":"VLOOKUP(Plantilla!$A$2,Poliductos!#REF!,2,0)","v":{"$error":"#REF!"}},"01030900","OAN",{"$f":"Plantilla!R38","v":0}]
[{"$f":"VLOOKUP(Plantilla!$A$2,Poliductos!#REF!,2,0)","v":{"$error":"#REF!"}},"01031000","OAN",{"$f":"Plantilla!R39","v":0}]
[{"$f":"VLOOKUP(Plantilla!$A$2,Poliductos!#REF!,2,0)","v":{"$error":"#REF!"}},"01031100","OAN",{"$f":"Plantilla!R40","v":0}]
[{"$f":"VLOOKUP(Plantilla!$A$2,Poliductos!#REF!,2,0)","v":{"$error":"#REF!"}},"01040000","OAN",{"$f":"Plantilla!R41","v":0}]
[{"$f":"VLOOKUP(Plantilla!$A$2,Poliductos!#REF!,2,0)","v":{"$error":"#REF!"}},"01050000","OAN",{"$f":"Plantilla!R42","v":0}]
[{"$f":"VLOOKUP(Plantilla!$A$2,Poliductos!#REF!,2,0)","v":{"$error":"#REF!"}},"01060000","OAN",{"$f":"Plantilla!R43","v":0}]
[{"$f":"VLOOKUP(Plantilla!$A$2,Poliductos!#REF!,2,0)","v":{"$error":"#REF!"}},"01060100","OAN",{"$f":"Plantilla!R44","v":0}]
[{"$f":"VLOOKUP(Plantilla!$A$2,Poliductos!#REF!,2,0)","v":{"$error":"#REF!"}},"01060200","OAN",{"$f":"Plantilla!R45","v":0}]
[{"$f":"VLOOKUP(Plantilla!$A$2,Poliductos!#REF!,2,0)","v":{"$error":"#REF!"}},"01060201","OAN",{"$f":"Plantilla!R46","v":0}]
[{"$f":"VLOOKUP(Plantilla!$A$2,Poliductos!#REF!,2,0)","v":{"$error":"#REF!"}},"01060202","OAN",{"$f":"Plantilla!R47","v":0}]
[{"$f":"VLOOKUP(Plantilla!$A$2,Poliductos!#REF!,2,0)","v":{"$error":"#REF!"}},"01060203","OAN",{"$f":"Plantilla!R48","v":0}]
[{"$f":"VLOOKUP(Plantilla!$A$2,Poliductos!#REF!,2,0)","v":{"$error":"#REF!"}},"01060300","OAN",{"$f":"Plantilla!R49","v":0}]
[{"$f":"VLOOKUP(Plantilla!$A$2,Poliductos!#REF!,2,0)","v":{"$error":"#REF!"}},"01060400","OAN",{"$f":"Plantilla!R50","v":0}]
[{"$f":"VLOOKUP(Plantilla!$A$2,Poliductos!#REF!,2,0)","v":{"$error":"#REF!"}},"01070000","OAN",{"$f":"Plantilla!R51","v":0}]
[{"$f":"VLOOKUP(Plantilla!$A$2,Poliductos!#REF!,2,0)","v":{"$error":"#REF!"}},"01070100","OAN",{"$f":"Plantilla!R52","v":0}]
[{"$f":"VLOOKUP(Plantilla!$A$2,Poliductos!#REF!,2,0)","v":{"$error":"#REF!"}},"01070200","OAN",{"$f":"Plantilla!R53","v":0}]
[{"$f":"VLOOKUP(Plantilla!$A$2,Poliductos!#REF!,2,0)","v":{"$error":"#REF!"}},"01070300","OAN",{"$f":"Plantilla!R54","v":0}]
[{"$f":"VLOOKUP(Plantilla!$A$2,Poliductos!#REF!,2,0)","v":{"$error":"#REF!"}},"01070400","OAN",{"$f":"Plantilla!R55","v":0}]
[{"$f":"VLOOKUP(Plantilla!$A$2,Poliductos!#REF!,2,0)","v":{"$error":"#REF!"}},"02000000","OAN",{"$f":"Plantilla!R56","v":0}]
[{"$f":"VLOOKUP(Plantilla!$A$2,Poliductos!#REF!,2,0)","v":{"$error":"#REF!"}},"02010000","OAN",{"$f":"Plantilla!R57","v":0}]
[{"$f":"VLOOKUP(Plantilla!$A$2,Poliductos!#REF!,2,0)","v":{"$error":"#REF!"}},"02010100","OAN",{"$f":"Plantilla!R58","v":0}]
[{"$f":"VLOOKUP(Plantilla!$A$2,Poliductos!#REF!,2,0)","v":{"$error":"#REF!"}},"02010200","OAN",{"$f":"Plantilla!R59","v":0}]
[{"$f":"VLOOKUP(Plantilla!$A$2,Poliductos!#REF!,2,0)","v":{"$error":"#REF!"}},"02010201","OAN",{"$f":"Plantilla!R60","v":0}]
[{"$f":"VLOOKUP(Plantilla!$A$2,Poliductos!#REF!,2,0)","v":{"$error":"#REF!"}},"02010202","OAN",{"$f":"Plantilla!R61","v":0}]
[{"$f":"VLOOKUP(Plantilla!$A$2,Poliductos!#REF!,2,0)","v":{"$error":"#REF!"}},"02010300","OAN",{"$f":"Plantilla!R62","v":0}]
[{"$f":"VLOOKUP(Plantilla!$A$2,Poliductos!#REF!,2,0)","v":{"$error":"#REF!"}},"02010301","OAN",{"$f":"Plantilla!R63","v":0}]
[{"$f":"VLOOKUP(Plantilla!$A$2,Poliductos!#REF!,2,0)","v":{"$error":"#REF!"}},"02010302","OAN",{"$f":"Plantilla!R64","v":0}]
[{"$f":"VLOOKUP(Plantilla!$A$2,Poliductos!#REF!,2,0)","v":{"$error":"#REF!"}},"02010400","OAN",{"$f":"Plantilla!R65","v":0}]
[{"$f":"VLOOKUP(Plantilla!$A$2,Poliductos!#REF!,2,0)","v":{"$error":"#REF!"}},"02010500","OAN",{"$f":"Plantilla!R66","v":0}]
[{"$f":"VLOOKUP(Plantilla!$A$2,Poliductos!#REF!,2,0)","v":{"$error":"#REF!"}},"02010600","OAN",{"$f":"Plantilla!R67","v":0}]
[{"$f":"VLOOKUP(Plantilla!$A$2,Poliductos!#REF!,2,0)","v":{"$error":"#REF!"}},"02010700","OAN",{"$f":"Plantilla!R68","v":0}]
[{"$f":"VLOOKUP(Plantilla!$A$2,Poliductos!#REF!,2,0)","v":{"$error":"#REF!"}},"02010800","OAN",{"$f":"Plantilla!R69","v":0}]
[{"$f":"VLOOKUP(Plantilla!$A$2,Poliductos!#REF!,2,0)","v":{"$error":"#REF!"}},"02010900","OAN",{"$f":"Plantilla!R70","v":0}]
[{"$f":"VLOOKUP(Plantilla!$A$2,Poliductos!#REF!,2,0)","v":{"$error":"#REF!"}},"02011000","OAN",{"$f":"Plantilla!R71","v":0}]
[{"$f":"VLOOKUP(Plantilla!$A$2,Poliductos!#REF!,2,0)","v":{"$error":"#REF!"}},"02020000","OAN",{"$f":"Plantilla!R72","v":0}]
[{"$f":"VLOOKUP(Plantilla!$A$2,Poliductos!#REF!,2,0)","v":{"$error":"#REF!"}},"02020100","OAN",{"$f":"Plantilla!R73","v":0}]
[{"$f":"VLOOKUP(Plantilla!$A$2,Poliductos!#REF!,2,0)","v":{"$error":"#REF!"}},"02020200","OAN",{"$f":"Plantilla!R74","v":0}]
[{"$f":"VLOOKUP(Plantilla!$A$2,Poliductos!#REF!,2,0)","v":{"$error":"#REF!"}},"02020300","OAN",{"$f":"Plantilla!R75","v":0}]
[{"$f":"VLOOKUP(Plantilla!$A$2,Poliductos!#REF!,2,0)","v":{"$error":"#REF!"}},"02020400","OAN",{"$f":"Plantilla!R76","v":0}]
[{"$f":"VLOOKUP(Plantilla!$A$2,Poliductos!#REF!,2,0)","v":{"$error":"#REF!"}},"02020500","OAN",{"$f":"Plantilla!R77","v":0}]
[{"$f":"VLOOKUP(Plantilla!$A$2,Poliductos!#REF!,2,0)","v":{"$error":"#REF!"}},"02020600","OAN",{"$f":"Plantilla!R78","v":0}]
[{"$f":"VLOOKUP(Plantilla!$A$2,Poliductos!#REF!,2,0)","v":{"$error":"#REF!"}},"02030000","OAN",{"$f":"Plantilla!R79","v":0}]
[{"$f":"VLOOKUP(Plantilla!$A$2,Poliductos!#REF!,2,0)","v":{"$error":"#REF!"}},"02030100","OAN",{"$f":"Plantilla!R80","v":0}]
[{"$f":"VLOOKUP(Plantilla!$A$2,Poliductos!#REF!,2,0)","v":{"$error":"#REF!"}},"02030200","OAN",{"$f":"Plantilla!R81","v":0}]
[{"$f":"VLOOKUP(Plantilla!$A$2,Poliductos!#REF!,2,0)","v":{"$error":"#REF!"}},"02030300","OAN",{"$f":"Plantilla!R82","v":0}]
[{"$f":"VLOOKUP(Plantilla!$A$2,Poliductos!#REF!,2,0)","v":{"$error":"#REF!"}},"02030400","OAN",{"$f":"Plantilla!R83","v":0}]
[{"$f":"VLOOKUP(Plantilla!$A$2,Poliductos!#REF!,2,0)","v":{"$error":"#REF!"}},"02040000","OAN",{"$f":"Plantilla!R84","v":0}]
[{"$f":"VLOOKUP(Plantilla!$A$2,Poliductos!#REF!,2,0)","v":{"$error":"#REF!"}},"02040100","OAN",{"$f":"Plantilla!R85","v":0}]
[{"$f":"VLOOKUP(Plantilla!$A$2,Poliductos!#REF!,2,0)","v":{"$error":"#REF!"}},"02040200","OAN",{"$f":"Plantilla!R86","v":0}]
[{"$f":"VLOOKUP(Plantilla!$A$2,Poliductos!#REF!,2,0)","v":{"$error":"#REF!"}},"02040300","OAN",{"$f":"Plantilla!R87","v":0}]
[{"$f":"VLOOKUP(Plantilla!$A$2,Poliductos!#REF!,2,0)","v":{"$error":"#REF!"}},"02050000","OAN",{"$f":"Plantilla!R88","v":0}]
[{"$f":"VLOOKUP(Plantilla!$A$2,Poliductos!#REF!,2,0)","v":{"$error":"#REF!"}},"02060000","OAN",{"$f":"Plantilla!R89","v":0}]
[{"$f":"VLOOKUP(Plantilla!$A$2,Poliductos!#REF!,2,0)","v":{"$error":"#REF!"}},"02060100","OAN",{"$f":"Plantilla!R90","v":0}]
[{"$f":"VLOOKUP(Plantilla!$A$2,Poliductos!#REF!,2,0)","v":{"$error":"#REF!"}},"02060200","OAN",{"$f":"Plantilla!R91","v":0}]
[{"$f":"VLOOKUP(Plantilla!$A$2,Poliductos!#REF!,2,0)","v":{"$error":"#REF!"}},"02060300","OAN",{"$f":"Plantilla!R92","v":0}]
[{"$f":"VLOOKUP(Plantilla!$A$2,Poliductos!#REF!,2,0)","v":{"$error":"#REF!"}},"02070000","OAN",{"$f":"Plantilla!R93","v":0}]
[{"$f":"VLOOKUP(Plantilla!$A$2,Poliductos!#REF!,2,0)","v":{"$error":"#REF!"}},"02080000","OAN",{"$f":"Plantilla!R94","v":0}]
[{"$f":"VLOOKUP(Plantilla!$A$2,Poliductos!#REF!,2,0)","v":{"$error":"#REF!"}},"02090000","OAN",{"$f":"Plantilla!R95","v":0}]
[{"$f":"VLOOKUP(Plantilla!$A$2,Poliductos!#REF!,2,0)","v":{"$error":"#REF!"}},"02090100","OAN",{"$f":"Plantilla!R96","v":0}]
[{"$f":"VLOOKUP(Plantilla!$A$2,Poliductos!#REF!,2,0)","v":{"$error":"#REF!"}},"02090200","OAN",{"$f":"Plantilla!R97","v":0}]
[{"$f":"VLOOKUP(Plantilla!$A$2,Poliductos!#REF!,2,0)","v":{"$error":"#REF!"}},"02090300","OAN",{"$f":"Plantilla!R98","v":0}]
[{"$f":"VLOOKUP(Plantilla!$A$2,Poliductos!#REF!,2,0)","v":{"$error":"#REF!"}},"02090400","OAN",{"$f":"Plantilla!R99","v":0}]
[{"$f":"VLOOKUP(Plantilla!$A$2,Poliductos!#REF!,2,0)","v":{"$error":"#REF!"}},"02090500","OAN",{"$f":"Plantilla!R100","v":0}]
[{"$f":"VLOOKUP(Plantilla!$A$2,Poliductos!#REF!,2,0)","v":{"$error":"#REF!"}},"02090600","OAN",{"$f":"Plantilla!R101","v":0}]
[{"$f":"VLOOKUP(Plantilla!$A$2,Poliductos!#REF!,2,0)","v":{"$error":"#REF!"}},"02100000","OAN",{"$f":"Plantilla!R102","v":0}]
[{"$f":"VLOOKUP(Plantilla!$A$2,Poliductos!#REF!,2,0)","v":{"$error":"#REF!"}},"02100100","OAN",{"$f":"Plantilla!R103","v":0}]
[{"$f":"VLOOKUP(Plantilla!$A$2,Poliductos!#REF!,2,0)","v":{"$error":"#REF!"}},"02100200","OAN",{"$f":"Plantilla!R104","v":0}]
[{"$f":"VLOOKUP(Plantilla!$A$2,Poliductos!#REF!,2,0)","v":{"$error":"#REF!"}},"02100300","OAN",{"$f":"Plantilla!R105","v":0}]
[{"$f":"VLOOKUP(Plantilla!$A$2,Poliductos!#REF!,2,0)","v":{"$error":"#REF!"}},"02100400","OAN",{"$f":"Plantilla!R106","v":0}]
[{"$f":"VLOOKUP(Plantilla!$A$2,Poliductos!#REF!,2,0)","v":{"$error":"#REF!"}},"02110000","OAN",{"$f":"Plantilla!R107","v":0}]
[{"$f":"VLOOKUP(Plantilla!$A$2,Poliductos!#REF!,2,0)","v":{"$error":"#REF!"}},"02110100","OAN",{"$f":"Plantilla!R108","v":0}]
[{"$f":"VLOOKUP(Plantilla!$A$2,Poliductos!#REF!,2,0)","v":{"$error":"#REF!"}},"02110200","OAN",{"$f":"Plantilla!R109","v":0}]
[{"$f":"VLOOKUP(Plantilla!$A$2,Poliductos!#REF!,2,0)","v":{"$error":"#REF!"}},"02110300","OAN",{"$f":"Plantilla!R110","v":0}]
[{"$f":"VLOOKUP(Plantilla!$A$2,Poliductos!#REF!,2,0)","v":{"$error":"#REF!"}},"02110400","OAN",{"$f":"Plantilla!R111","v":0}]
[{"$f":"VLOOKUP(Plantilla!$A$2,Poliductos!#REF!,2,0)","v":{"$error":"#REF!"}},"02110500","OAN",{"$f":"Plantilla!R112","v":0}]
[{"$f":"VLOOKUP(Plantilla!$A$2,Poliductos!#REF!,2,0)","v":{"$error":"#REF!"}},"02120000","OAN",{"$f":"Plantilla!R113","v":0}]
[{"$f":"VLOOKUP(Plantilla!$A$2,Poliductos!#REF!,2,0)","v":{"$error":"#REF!"}},"02130000","OAN",{"$f":"Plantilla!R114","v":0}]
[{"$f":"VLOOKUP(Plantilla!$A$2,Poliductos!#REF!,2,0)","v":{"$error":"#REF!"}},"02130100","OAN",{"$f":"Plantilla!R115","v":0}]
[{"$f":"VLOOKUP(Plantilla!$A$2,Poliductos!#REF!,2,0)","v":{"$error":"#REF!"}},"02130200","OAN",{"$f":"Plantilla!R116","v":0}]
[{"$f":"VLOOKUP(Plantilla!$A$2,Poliductos!#REF!,2,0)","v":{"$error":"#REF!"}},"02130300","OAN",{"$f":"Plantilla!R117","v":0}]
[{"$f":"VLOOKUP(Plantilla!$A$2,Poliductos!#REF!,2,0)","v":{"$error":"#REF!"}},"02130400","OAN",{"$f":"Plantilla!R118","v":0}]
[{"$f":"VLOOKUP(Plantilla!$A$2,Poliductos!#REF!,2,0)","v":{"$error":"#REF!"}},"02130500","OAN",{"$f":"Plantilla!R119","v":0}]
[{"$f":"VLOOKUP(Plantilla!$A$2,Poliductos!#REF!,2,0)","v":{"$error":"#REF!"}},"02130600","OAN",{"$f":"Plantilla!R120","v":0}]
[{"$f":"VLOOKUP(Plantilla!$A$2,Poliductos!#REF!,2,0)","v":{"$error":"#REF!"}},"02140000","OAN",{"$f":"Plantilla!R121","v":0}]
[{"$f":"VLOOKUP(Plantilla!$A$2,Poliductos!#REF!,2,0)","v":{"$error":"#REF!"}},"02140100","OAN",{"$f":"Plantilla!R122","v":0}]
[{"$f":"VLOOKUP(Plantilla!$A$2,Poliductos!#REF!,2,0)","v":{"$error":"#REF!"}},"02140200","OAN",{"$f":"Plantilla!R123","v":0}]
[{"$f":"VLOOKUP(Plantilla!$A$2,Poliductos!#REF!,2,0)","v":{"$error":"#REF!"}},"02150000","OAN",{"$f":"Plantilla!R124","v":0}]
[{"$f":"VLOOKUP(Plantilla!$A$2,Poliductos!#REF!,2,0)","v":{"$error":"#REF!"}},"02150100","OAN",{"$f":"Plantilla!R125","v":0}]
[{"$f":"VLOOKUP(Plantilla!$A$2,Poliductos!#REF!,2,0)","v":{"$error":"#REF!"}},"02150200","OAN",{"$f":"Plantilla!R126","v":0}]
[{"$f":"VLOOKUP(Plantilla!$A$2,Poliductos!#REF!,2,0)","v":{"$error":"#REF!"}},"02150300","OAN",{"$f":"Plantilla!R127","v":0}]
[{"$f":"VLOOKUP(Plantilla!$A$2,Poliductos!#REF!,2,0)","v":{"$error":"#REF!"}},"02150400","OAN",{"$f":"Plantilla!R128","v":0}]
[{"$f":"VLOOKUP(Plantilla!$A$2,Poliductos!#REF!,2,0)","v":{"$error":"#REF!"}},"02150500","OAN",{"$f":"Plantilla!R129","v":0}]
[{"$f":"VLOOKUP(Plantilla!$A$2,Poliductos!#REF!,2,0)","v":{"$error":"#REF!"}},"02150600","OAN",{"$f":"Plantilla!R130","v":0}]
[{"$f":"VLOOKUP(Plantilla!$A$2,Poliductos!#REF!,2,0)","v":{"$error":"#REF!"}},"02150700","OAN",{"$f":"Plantilla!R131","v":0}]
[{"$f":"VLOOKUP(Plantilla!$A$2,Poliductos!#REF!,2,0)","v":{"$error":"#REF!"}},"02150800","OAN",{"$f":"Plantilla!R132","v":0}]
[{"$f":"VLOOKUP(Plantilla!$A$2,Poliductos!#REF!,2,0)","v":{"$error":"#REF!"}},"02160000","OAN",{"$f":"Plantilla!R136","v":0}]
[{"$f":"VLOOKUP(Plantilla!$A$2,Poliductos!#REF!,2,0)","v":{"$error":"#REF!"}},"02160100","OAN",{"$f":"Plantilla!R137","v":0}]
[{"$f":"VLOOKUP(Plantilla!$A$2,Poliductos!#REF!,2,0)","v":{"$error":"#REF!"}},"02160200","OAN",{"$f":"Plantilla!R138","v":0}]
[{"$f":"VLOOKUP(Plantilla!$A$2,Poliductos!#REF!,2,0)","v":{"$error":"#REF!"}},"01000000","TOTAL",{"$f":"Plantilla!S4","v":0}]
[{"$f":"VLOOKUP(Plantilla!$A$2,Poliductos!#REF!,2,0)","v":{"$error":"#REF!"}},"01010000","TOTAL",{"$f":"Plantilla!S5","v":0}]
[{"$f":"VLOOKUP(Plantilla!$A$2,Poliductos!#REF!,2,0)","v":{"$error":"#REF!"}},"01010100","TOTAL",{"$f":"Plantilla!S6","v":0}]
[{"$f":"VLOOKUP(Plantilla!$A$2,Poliductos!#REF!,2,0)","v":{"$error":"#REF!"}},"01010200","TOTAL",{"$f":"Plantilla!S7","v":0}]
[{"$f":"VLOOKUP(Plantilla!$A$2,Poliductos!#REF!,2,0)","v":{"$error":"#REF!"}},"01010201","TOTAL",{"$f":"Plantilla!S8","v":0}]
[{"$f":"VLOOKUP(Plantilla!$A$2,Poliductos!#REF!,2,0)","v":{"$error":"#REF!"}},"01010202","TOTAL",{"$f":"Plantilla!S9","v":0}]
[{"$f":"VLOOKUP(Plantilla!$A$2,Poliductos!#REF!,2,0)","v":{"$error":"#REF!"}},"01010300","TOTAL",{"$f":"Plantilla!S10","v":0}]
[{"$f":"VLOOKUP(Plantilla!$A$2,Poliductos!#REF!,2,0)","v":{"$error":"#REF!"}},"01010301","TOTAL",{"$f":"Plantilla!S11","v":0}]
[{"$f":"VLOOKUP(Plantilla!$A$2,Poliductos!#REF!,2,0)","v":{"$error":"#REF!"}},"01010302","TOTAL",{"$f":"Plantilla!S12","v":0}]
[{"$f":"VLOOKUP(Plantilla!$A$2,Poliductos!#REF!,2,0)","v":{"$error":"#REF!"}},"01010400","TOTAL",{"$f":"Plantilla!S13","v":0}]
[{"$f":"VLOOKUP(Plantilla!$A$2,Poliductos!#REF!,2,0)","v":{"$error":"#REF!"}},"01010500","TOTAL",{"$f":"Plantilla!S14","v":0}]
[{"$f":"VLOOKUP(Plantilla!$A$2,Poliductos!#REF!,2,0)","v":{"$error":"#REF!"}},"01010600","TOTAL",{"$f":"Plantilla!S15","v":0}]
[{"$f":"VLOOKUP(Plantilla!$A$2,Poliductos!#REF!,2,0)","v":{"$error":"#REF!"}},"01010700","TOTAL",{"$f":"Plantilla!S16","v":0}]
[{"$f":"VLOOKUP(Plantilla!$A$2,Poliductos!#REF!,2,0)","v":{"$error":"#REF!"}},"01010800","TOTAL",{"$f":"Plantilla!S17","v":0}]
[{"$f":"VLOOKUP(Plantilla!$A$2,Poliductos!#REF!,2,0)","v":{"$error":"#REF!"}},"01010900","TOTAL",{"$f":"Plantilla!S18","v":0}]
[{"$f":"VLOOKUP(Plantilla!$A$2,Poliductos!#REF!,2,0)","v":{"$error":"#REF!"}},"01011000","TOTAL",{"$f":"Plantilla!S19","v":0}]
[{"$f":"VLOOKUP(Plantilla!$A$2,Poliductos!#REF!,2,0)","v":{"$error":"#REF!"}},"01020000","TOTAL",{"$f":"Plantilla!S20","v":0}]
[{"$f":"VLOOKUP(Plantilla!$A$2,Poliductos!#REF!,2,0)","v":{"$error":"#REF!"}},"01020100","TOTAL",{"$f":"Plantilla!S21","v":0}]
[{"$f":"VLOOKUP(Plantilla!$A$2,Poliductos!#REF!,2,0)","v":{"$error":"#REF!"}},"01020200","TOTAL",{"$f":"Plantilla!S22","v":0}]
[{"$f":"VLOOKUP(Plantilla!$A$2,Poliductos!#REF!,2,0)","v":{"$error":"#REF!"}},"01020300","TOTAL",{"$f":"Plantilla!S23","v":0}]
[{"$f":"VLOOKUP(Plantilla!$A$2,Poliductos!#REF!,2,0)","v":{"$error":"#REF!"}},"01020400","TOTAL",{"$f":"Plantilla!S24","v":0}]
[{"$f":"VLOOKUP(Plantilla!$A$2,Poliductos!#REF!,2,0)","v":{"$error":"#REF!"}},"01020500","TOTAL",{"$f":"Plantilla!S25","v":0}]
[{"$f":"VLOOKUP(Plantilla!$A$2,Poliductos!#REF!,2,0)","v":{"$error":"#REF!"}},"01020600","TOTAL",{"$f":"Plantilla!S26","v":0}]
[{"$f":"VLOOKUP(Plantilla!$A$2,Poliductos!#REF!,2,0)","v":{"$error":"#REF!"}},"01020700","TOTAL",{"$f":"Plantilla!S27","v":0}]
[{"$f":"VLOOKUP(Plantilla!$A$2,Poliductos!#REF!,2,0)","v":{"$error":"#REF!"}},"01030000","TOTAL",{"$f":"Plantilla!S29","v":0}]
[{"$f":"VLOOKUP(Plantilla!$A$2,Poliductos!#REF!,2,0)","v":{"$error":"#REF!"}},"01030100","TOTAL",{"$f":"Plantilla!S30","v":0}]
[{"$f":"VLOOKUP(Plantilla!$A$2,Poliductos!#REF!,2,0)","v":{"$error":"#REF!"}},"01030200","TOTAL",{"$f":"Plantilla!S31","v":0}]
[{"$f":"VLOOKUP(Plantilla!$A$2,Poliductos!#REF!,2,0)","v":{"$error":"#REF!"}},"01030300","TOTAL",{"$f":"Plantilla!S32","v":0}]
[{"$f":"VLOOKUP(Plantilla!$A$2,Poliductos!#REF!,2,0)","v":{"$error":"#REF!"}},"01030400","TOTAL",{"$f":"Plantilla!S33","v":0}]
[{"$f":"VLOOKUP(Plantilla!$A$2,Poliductos!#REF!,2,0)","v":{"$error":"#REF!"}},"01030500","TOTAL",{"$f":"Plantilla!S34","v":0}]
[{"$f":"VLOOKUP(Plantilla!$A$2,Poliductos!#REF!,2,0)","v":{"$error":"#REF!"}},"01030600","TOTAL",{"$f":"Plantilla!S35","v":0}]
[{"$f":"VLOOKUP(Plantilla!$A$2,Poliductos!#REF!,2,0)","v":{"$error":"#REF!"}},"01030700","TOTAL",{"$f":"Plantilla!S36","v":0}]
[{"$f":"VLOOKUP(Plantilla!$A$2,Poliductos!#REF!,2,0)","v":{"$error":"#REF!"}},"01030800","TOTAL",{"$f":"Plantilla!S37","v":0}]
[{"$f":"VLOOKUP(Plantilla!$A$2,Poliductos!#REF!,2,0)","v":{"$error":"#REF!"}},"01030900","TOTAL",{"$f":"Plantilla!S38","v":0}]
[{"$f":"VLOOKUP(Plantilla!$A$2,Poliductos!#REF!,2,0)","v":{"$error":"#REF!"}},"01031000","TOTAL",{"$f":"Plantilla!S39","v":0}]
[{"$f":"VLOOKUP(Plantilla!$A$2,Poliductos!#REF!,2,0)","v":{"$error":"#REF!"}},"01031100","TOTAL",{"$f":"Plantilla!S40","v":0}]
[{"$f":"VLOOKUP(Plantilla!$A$2,Poliductos!#REF!,2,0)","v":{"$error":"#REF!"}},"01040000","TOTAL",{"$f":"Plantilla!S41","v":0}]
[{"$f":"VLOOKUP(Plantilla!$A$2,Poliductos!#REF!,2,0)","v":{"$error":"#REF!"}},"01050000","TOTAL",{"$f":"Plantilla!S42","v":0}]
[{"$f":"VLOOKUP(Plantilla!$A$2,Poliductos!#REF!,2,0)","v":{"$error":"#REF!"}},"01060000","TOTAL",{"$f":"Plantilla!S43","v":0}]
[{"$f":"VLOOKUP(Plantilla!$A$2,Poliductos!#REF!,2,0)","v":{"$error":"#REF!"}},"01060100","TOTAL",{"$f":"Plantilla!S44","v":0}]
[{"$f":"VLOOKUP(Plantilla!$A$2,Poliductos!#REF!,2,0)","v":{"$error":"#REF!"}},"01060200","TOTAL",{"$f":"Plantilla!S45","v":0}]
[{"$f":"VLOOKUP(Plantilla!$A$2,Poliductos!#REF!,2,0)","v":{"$error":"#REF!"}},"01060201","TOTAL",{"$f":"Plantilla!S46","v":0}]
[{"$f":"VLOOKUP(Plantilla!$A$2,Poliductos!#REF!,2,0)","v":{"$error":"#REF!"}},"01060202","TOTAL",{"$f":"Plantilla!S47","v":0}]
[{"$f":"VLOOKUP(Plantilla!$A$2,Poliductos!#REF!,2,0)","v":{"$error":"#REF!"}},"01060203","TOTAL",{"$f":"Plantilla!S48","v":0}]
[{"$f":"VLOOKUP(Plantilla!$A$2,Poliductos!#REF!,2,0)","v":{"$error":"#REF!"}},"01060300","TOTAL",{"$f":"Plantilla!S49","v":0}]
[{"$f":"VLOOKUP(Plantilla!$A$2,Poliductos!#REF!,2,0)","v":{"$error":"#REF!"}},"01060400","TOTAL",{"$f":"Plantilla!S50","v":0}]
[{"$f":"VLOOKUP(Plantilla!$A$2,Poliductos!#REF!,2,0)","v":{"$error":"#REF!"}},"01070000","TOTAL",{"$f":"Plantilla!S51","v":0}]
[{"$f":"VLOOKUP(Plantilla!$A$2,Poliductos!#REF!,2,0)","v":{"$error":"#REF!"}},"01070100","TOTAL",{"$f":"Plantilla!S52","v":0}]
[{"$f":"VLOOKUP(Plantilla!$A$2,Poliductos!#REF!,2,0)","v":{"$error":"#REF!"}},"01070200","TOTAL",{"$f":"Plantilla!S53","v":0}]
[{"$f":"VLOOKUP(Plantilla!$A$2,Poliductos!#REF!,2,0)","v":{"$error":"#REF!"}},"01070300","TOTAL",{"$f":"Plantilla!S54","v":0}]
[{"$f":"VLOOKUP(Plantilla!$A$2,Poliductos!#REF!,2,0)","v":{"$error":"#REF!"}},"01070400","TOTAL",{"$f":"Plantilla!S55","v":0}]
[{"$f":"VLOOKUP(Plantilla!$A$2,Poliductos!#REF!,2,0)","v":{"$error":"#REF!"}},"02000000","TOTAL",{"$f":"Plantilla!S56","v":0}]
[{"$f":"VLOOKUP(Plantilla!$A$2,Poliductos!#REF!,2,0)","v":{"$error":"#REF!"}},"02010000","TOTAL",{"$f":"Plantilla!S57","v":0}]
[{"$f":"VLOOKUP(Plantilla!$A$2,Poliductos!#REF!,2,0)","v":{"$error":"#REF!"}},"02010100","TOTAL",{"$f":"Plantilla!S58","v":0}]
[{"$f":"VLOOKUP(Plantilla!$A$2,Poliductos!#REF!,2,0)","v":{"$error":"#REF!"}},"02010200","TOTAL",{"$f":"Plantilla!S59","v":0}]
[{"$f":"VLOOKUP(Plantilla!$A$2,Poliductos!#REF!,2,0)","v":{"$error":"#REF!"}},"02010201","TOTAL",{"$f":"Plantilla!S60","v":0}]
[{"$f":"VLOOKUP(Plantilla!$A$2,Poliductos!#REF!,2,0)","v":{"$error":"#REF!"}},"02010202","TOTAL",{"$f":"Plantilla!S61","v":0}]
[{"$f":"VLOOKUP(Plantilla!$A$2,Poliductos!#REF!,2,0)","v":{"$error":"#REF!"}},"02010300","TOTAL",{"$f":"Plantilla!S62","v":0}]
[{"$f":"VLOOKUP(Plantilla!$A$2,Poliductos!#REF!,2,0)","v":{"$error":"#REF!"}},"02010301","TOTAL",{"$f":"Plantilla!S63","v":0}]
[{"$f":"VLOOKUP(Plantilla!$A$2,Poliductos!#REF!,2,0)","v":{"$error":"#REF!"}},"02010302","TOTAL",{"$f":"Plantilla!S64","v":0}]
[{"$f":"VLOOKUP(Plantilla!$A$2,Poliductos!#REF!,2,0)","v":{"$error":"#REF!"}},"02010400","TOTAL",{"$f":"Plantilla!S65","v":0}]
[{"$f":"VLOOKUP(Plantilla!$A$2,Poliductos!#REF!,2,0)","v":{"$error":"#REF!"}},"02010500","TOTAL",{"$f":"Plantilla!S66","v":0}]
[{"$f":"VLOOKUP(Plantilla!$A$2,Poliductos!#REF!,2,0)","v":{"$error":"#REF!"}},"02010600","TOTAL",{"$f":"Plantilla!S67","v":0}]
[{"$f":"VLOOKUP(Plantilla!$A$2,Poliductos!#REF!,2,0)","v":{"$error":"#REF!"}},"02010700","TOTAL",{"$f":"Plantilla!S68","v":0}]
[{"$f":"VLOOKUP(Plantilla!$A$2,Poliductos!#REF!,2,0)","v":{"$error":"#REF!"}},"02010800","TOTAL",{"$f":"Plantilla!S69","v":0}]
[{"$f":"VLOOKUP(Plantilla!$A$2,Poliductos!#REF!,2,0)","v":{"$error":"#REF!"}},"02010900","TOTAL",{"$f":"Plantilla!S70","v":0}]
[{"$f":"VLOOKUP(Plantilla!$A$2,Poliductos!#REF!,2,0)","v":{"$error":"#REF!"}},"02011000","TOTAL",{"$f":"Plantilla!S71","v":0}]
[{"$f":"VLOOKUP(Plantilla!$A$2,Poliductos!#REF!,2,0)","v":{"$error":"#REF!"}},"02020000","TOTAL",{"$f":"Plantilla!S72","v":0}]
[{"$f":"VLOOKUP(Plantilla!$A$2,Poliductos!#REF!,2,0)","v":{"$error":"#REF!"}},"02020100","TOTAL",{"$f":"Plantilla!S73","v":0}]
[{"$f":"VLOOKUP(Plantilla!$A$2,Poliductos!#REF!,2,0)","v":{"$error":"#REF!"}},"02020200","TOTAL",{"$f":"Plantilla!S74","v":0}]
[{"$f":"VLOOKUP(Plantilla!$A$2,Poliductos!#REF!,2,0)","v":{"$error":"#REF!"}},"02020300","TOTAL",{"$f":"Plantilla!S75","v":0}]
[{"$f":"VLOOKUP(Plantilla!$A$2,Poliductos!#REF!,2,0)","v":{"$error":"#REF!"}},"02020400","TOTAL",{"$f":"Plantilla!S76","v":0}]
[{"$f":"VLOOKUP(Plantilla!$A$2,Poliductos!#REF!,2,0)","v":{"$error":"#REF!"}},"02020500","TOTAL",{"$f":"Plantilla!S77","v":0}]
[{"$f":"VLOOKUP(Plantilla!$A$2,Poliductos!#REF!,2,0)","v":{"$error":"#REF!"}},"02020600","TOTAL",{"$f":"Plantilla!S78","v":0}]
[{"$f":"VLOOKUP(Plantilla!$A$2,Poliductos!#REF!,2,0)","v":{"$error":"#REF!"}},"02030000","TOTAL",{"$f":"Plantilla!S79","v":0}]
[{"$f":"VLOOKUP(Plantilla!$A$2,Poliductos!#REF!,2,0)","v":{"$error":"#REF!"}},"02030100","TOTAL",{"$f":"Plantilla!S80","v":0}]
[{"$f":"VLOOKUP(Plantilla!$A$2,Poliductos!#REF!,2,0)","v":{"$error":"#REF!"}},"02030200","TOTAL",{"$f":"Plantilla!S81","v":0}]
[{"$f":"VLOOKUP(Plantilla!$A$2,Poliductos!#REF!,2,0)","v":{"$error":"#REF!"}},"02030300","TOTAL",{"$f":"Plantilla!S82","v":0}]
[{"$f":"VLOOKUP(Plantilla!$A$2,Poliductos!#REF!,2,0)","v":{"$error":"#REF!"}},"02030400","TOTAL",{"$f":"Plantilla!S83","v":0}]
[{"$f":"VLOOKUP(Plantilla!$A$2,Poliductos!#REF!,2,0)","v":{"$error":"#REF!"}},"02040000","TOTAL",{"$f":"Plantilla!S84","v":0}]
[{"$f":"VLOOKUP(Plantilla!$A$2,Poliductos!#REF!,2,0)","v":{"$error":"#REF!"}},"02040100","TOTAL",{"$f":"Plantilla!S85","v":0}]
[{"$f":"VLOOKUP(Plantilla!$A$2,Poliductos!#REF!,2,0)","v":{"$error":"#REF!"}},"02040200","TOTAL",{"$f":"Plantilla!S86","v":0}]
[{"$f":"VLOOKUP(Plantilla!$A$2,Poliductos!#REF!,2,0)","v":{"$error":"#REF!"}},"02040300","TOTAL",{"$f":"Plantilla!S87","v":0}]
[{"$f":"VLOOKUP(Plantilla!$A$2,Poliductos!#REF!,2,0)","v":{"$error":"#REF!"}},"02050000","TOTAL",{"$f":"Plantilla!S88","v":0}]
[{"$f":"VLOOKUP(Plantilla!$A$2,Poliductos!#REF!,2,0)","v":{"$error":"#REF!"}},"02060000","TOTAL",{"$f":"Plantilla!S89","v":0}]
[{"$f":"VLOOKUP(Plantilla!$A$2,Poliductos!#REF!,2,0)","v":{"$error":"#REF!"}},"02060100","TOTAL",{"$f":"Plantilla!S90","v":0}]
[{"$f":"VLOOKUP(Plantilla!$A$2,Poliductos!#REF!,2,0)","v":{"$error":"#REF!"}},"02060200","TOTAL",{"$f":"Plantilla!S91","v":0}]
[{"$f":"VLOOKUP(Plantilla!$A$2,Poliductos!#REF!,2,0)","v":{"$error":"#REF!"}},"02060300","TOTAL",{"$f":"Plantilla!S92","v":0}]
[{"$f":"VLOOKUP(Plantilla!$A$2,Poliductos!#REF!,2,0)","v":{"$error":"#REF!"}},"02070000","TOTAL",{"$f":"Plantilla!S93","v":0}]
[{"$f":"VLOOKUP(Plantilla!$A$2,Poliductos!#REF!,2,0)","v":{"$error":"#REF!"}},"02080000","TOTAL",{"$f":"Plantilla!S94","v":0}]
[{"$f":"VLOOKUP(Plantilla!$A$2,Poliductos!#REF!,2,0)","v":{"$error":"#REF!"}},"02090000","TOTAL",{"$f":"Plantilla!S95","v":0}]
[{"$f":"VLOOKUP(Plantilla!$A$2,Poliductos!#REF!,2,0)","v":{"$error":"#REF!"}},"02090100","TOTAL",{"$f":"Plantilla!S96","v":0}]
[{"$f":"VLOOKUP(Plantilla!$A$2,Poliductos!#REF!,2,0)","v":{"$error":"#REF!"}},"02090200","TOTAL",{"$f":"Plantilla!S97","v":0}]
[{"$f":"VLOOKUP(Plantilla!$A$2,Poliductos!#REF!,2,0)","v":{"$error":"#REF!"}},"02090300","TOTAL",{"$f":"Plantilla!S98","v":0}]
[{"$f":"VLOOKUP(Plantilla!$A$2,Poliductos!#REF!,2,0)","v":{"$error":"#REF!"}},"02090400","TOTAL",{"$f":"Plantilla!S99","v":0}]
[{"$f":"VLOOKUP(Plantilla!$A$2,Poliductos!#REF!,2,0)","v":{"$error":"#REF!"}},"02090500","TOTAL",{"$f":"Plantilla!S100","v":0}]
[{"$f":"VLOOKUP(Plantilla!$A$2,Poliductos!#REF!,2,0)","v":{"$error":"#REF!"}},"02090600","TOTAL",{"$f":"Plantilla!S101","v":0}]
[{"$f":"VLOOKUP(Plantilla!$A$2,Poliductos!#REF!,2,0)","v":{"$error":"#REF!"}},"02100000","TOTAL",{"$f":"Plantilla!S102","v":0}]
[{"$f":"VLOOKUP(Plantilla!$A$2,Poliductos!#REF!,2,0)","v":{"$error":"#REF!"}},"02100100","TOTAL",{"$f":"Plantilla!S103","v":0}]
[{"$f":"VLOOKUP(Plantilla!$A$2,Poliductos!#REF!,2,0)","v":{"$error":"#REF!"}},"02100200","TOTAL",{"$f":"Plantilla!S104","v":0}]
[{"$f":"VLOOKUP(Plantilla!$A$2,Poliductos!#REF!,2,0)","v":{"$error":"#REF!"}},"02100300","TOTAL",{"$f":"Plantilla!S105","v":0}]
[{"$f":"VLOOKUP(Plantilla!$A$2,Poliductos!#REF!,2,0)","v":{"$error":"#REF!"}},"02100400","TOTAL",{"$f":"Plantilla!S106","v":0}]
[{"$f":"VLOOKUP(Plantilla!$A$2,Poliductos!#REF!,2,0)","v":{"$error":"#REF!"}},"02110000","TOTAL",{"$f":"Plantilla!S107","v":0}]
[{"$f":"VLOOKUP(Plantilla!$A$2,Poliductos!#REF!,2,0)","v":{"$error":"#REF!"}},"02110100","TOTAL",{"$f":"Plantilla!S108","v":0}]
[{"$f":"VLOOKUP(Plantilla!$A$2,Poliductos!#REF!,2,0)","v":{"$error":"#REF!"}},"02110200","TOTAL",{"$f":"Plantilla!S109","v":0}]
[{"$f":"VLOOKUP(Plantilla!$A$2,Poliductos!#REF!,2,0)","v":{"$error":"#REF!"}},"02110300","TOTAL",{"$f":"Plantilla!S110","v":0}]
[{"$f":"VLOOKUP(Plantilla!$A$2,Poliductos!#REF!,2,0)","v":{"$error":"#REF!"}},"02110400","TOTAL",{"$f":"Plantilla!S111","v":0}]
[{"$f":"VLOOKUP(Plantilla!$A$2,Poliductos!#REF!,2,0)","v":{"$error":"#REF!"}},"02110500","TOTAL",{"$f":"Plantilla!S112","v":0}]
[{"$f":"VLOOKUP(Plantilla!$A$2,Poliductos!#REF!,2,0)","v":{"$error":"#REF!"}},"02120000","TOTAL",{"$f":"Plantilla!S113","v":0}]
[{"$f":"VLOOKUP(Plantilla!$A$2,Poliductos!#REF!,2,0)","v":{"$error":"#REF!"}},"02130000","TOTAL",{"$f":"Plantilla!S114","v":0}]
[{"$f":"VLOOKUP(Plantilla!$A$2,Poliductos!#REF!,2,0)","v":{"$error":"#REF!"}},"02130100","TOTAL",{"$f":"Plantilla!S115","v":0}]
[{"$f":"VLOOKUP(Plantilla!$A$2,Poliductos!#REF!,2,0)","v":{"$error":"#REF!"}},"02130200","TOTAL",{"$f":"Plantilla!S116","v":0}]
[{"$f":"VLOOKUP(Plantilla!$A$2,Poliductos!#REF!,2,0)","v":{"$error":"#REF!"}},"02130300","TOTAL",{"$f":"Plantilla!S117","v":0}]
[{"$f":"VLOOKUP(Plantilla!$A$2,Poliductos!#REF!,2,0)","v":{"$error":"#REF!"}},"02130400","TOTAL",{"$f":"Plantilla!S118","v":0}]
[{"$f":"VLOOKUP(Plantilla!$A$2,Poliductos!#REF!,2,0)","v":{"$error":"#REF!"}},"02130500","TOTAL",{"$f":"Plantilla!S119","v":0}]
[{"$f":"VLOOKUP(Plantilla!$A$2,Poliductos!#REF!,2,0)","v":{"$error":"#REF!"}},"02130600","TOTAL",{"$f":"Plantilla!S120","v":0}]
[{"$f":"VLOOKUP(Plantilla!$A$2,Poliductos!#REF!,2,0)","v":{"$error":"#REF!"}},"02140000","TOTAL",{"$f":"Plantilla!S121","v":0}]
[{"$f":"VLOOKUP(Plantilla!$A$2,Poliductos!#REF!,2,0)","v":{"$error":"#REF!"}},"02140100","TOTAL",{"$f":"Plantilla!S122","v":0}]
[{"$f":"VLOOKUP(Plantilla!$A$2,Poliductos!#REF!,2,0)","v":{"$error":"#REF!"}},"02140200","TOTAL",{"$f":"Plantilla!S123","v":0}]
[{"$f":"VLOOKUP(Plantilla!$A$2,Poliductos!#REF!,2,0)","v":{"$error":"#REF!"}},"02150000","TOTAL",{"$f":"Plantilla!S124","v":0}]
[{"$f":"VLOOKUP(Plantilla!$A$2,Poliductos!#REF!,2,0)","v":{"$error":"#REF!"}},"02150100","TOTAL",{"$f":"Plantilla!S125","v":0}]
[{"$f":"VLOOKUP(Plantilla!$A$2,Poliductos!#REF!,2,0)","v":{"$error":"#REF!"}},"02150200","TOTAL",{"$f":"Plantilla!S126","v":0}]
[{"$f":"VLOOKUP(Plantilla!$A$2,Poliductos!#REF!,2,0)","v":{"$error":"#REF!"}},"02150300","TOTAL",{"$f":"Plantilla!S127","v":0}]
[{"$f":"VLOOKUP(Plantilla!$A$2,Poliductos!#REF!,2,0)","v":{"$error":"#REF!"}},"02150400","TOTAL",{"$f":"Plantilla!S128","v":0}]
[{"$f":"VLOOKUP(Plantilla!$A$2,Poliductos!#REF!,2,0)","v":{"$error":"#REF!"}},"02150500","TOTAL",{"$f":"Plantilla!S129","v":0}]
[{"$f":"VLOOKUP(Plantilla!$A$2,Poliductos!#REF!,2,0)","v":{"$error":"#REF!"}},"02150600","TOTAL",{"$f":"Plantilla!S130","v":0}]
[{"$f":"VLOOKUP(Plantilla!$A$2,Poliductos!#REF!,2,0)","v":{"$error":"#REF!"}},"02150700","TOTAL",{"$f":"Plantilla!S131","v":0}]
[{"$f":"VLOOKUP(Plantilla!$A$2,Poliductos!#REF!,2,0)","v":{"$error":"#REF!"}},"02150800","TOTAL",{"$f":"Plantilla!S132","v":0}]
[{"$f":"VLOOKUP(Plantilla!$A$2,Poliductos!#REF!,2,0)","v":{"$error":"#REF!"}},"02160000","TOTAL",{"$f":"Plantilla!S136","v":0}]
[{"$f":"VLOOKUP(Plantilla!$A$2,Poliductos!#REF!,2,0)","v":{"$error":"#REF!"}},"02160100","TOTAL",{"$f":"Plantilla!S137","v":0}]
[{"$f":"VLOOKUP(Plantilla!$A$2,Poliductos!#REF!,2,0)","v":{"$error":"#REF!"}},"02160200","TOTAL",{"$f":"Plantilla!S138","v":0}]
[{"$f":"VLOOKUP(Plantilla!$A$2,Poliductos!#REF!,2,0)","v":{"$error":"#REF!"}},"01000000","OBS",{"$f":"Plantilla!T4","v":0}]
[{"$f":"VLOOKUP(Plantilla!$A$2,Poliductos!#REF!,2,0)","v":{"$error":"#REF!"}},"01010000","OBS",{"$f":"Plantilla!T5","v":0}]
[{"$f":"VLOOKUP(Plantilla!$A$2,Poliductos!#REF!,2,0)","v":{"$error":"#REF!"}},"01010100","OBS",{"$f":"Plantilla!T6","v":0}]
[{"$f":"VLOOKUP(Plantilla!$A$2,Poliductos!#REF!,2,0)","v":{"$error":"#REF!"}},"01010200","OBS",{"$f":"Plantilla!T7","v":0}]
[{"$f":"VLOOKUP(Plantilla!$A$2,Poliductos!#REF!,2,0)","v":{"$error":"#REF!"}},"01010201","OBS",{"$f":"Plantilla!T8","v":0}]
[{"$f":"VLOOKUP(Plantilla!$A$2,Poliductos!#REF!,2,0)","v":{"$error":"#REF!"}},"01010202","OBS",{"$f":"Plantilla!T9","v":0}]
[{"$f":"VLOOKUP(Plantilla!$A$2,Poliductos!#REF!,2,0)","v":{"$error":"#REF!"}},"01010300","OBS",{"$f":"Plantilla!T10","v":0}]
[{"$f":"VLOOKUP(Plantilla!$A$2,Poliductos!#REF!,2,0)","v":{"$error":"#REF!"}},"01010301","OBS",{"$f":"Plantilla!T11","v":0}]
[{"$f":"VLOOKUP(Plantilla!$A$2,Poliductos!#REF!,2,0)","v":{"$error":"#REF!"}},"01010302","OBS",{"$f":"Plantilla!T12","v":0}]
[{"$f":"VLOOKUP(Plantilla!$A$2,Poliductos!#REF!,2,0)","v":{"$error":"#REF!"}},"01010400","OBS",{"$f":"Plantilla!T13","v":0}]
[{"$f":"VLOOKUP(Plantilla!$A$2,Poliductos!#REF!,2,0)","v":{"$error":"#REF!"}},"01010500","OBS",{"$f":"Plantilla!T14","v":0}]
[{"$f":"VLOOKUP(Plantilla!$A$2,Poliductos!#REF!,2,0)","v":{"$error":"#REF!"}},"01010600","OBS",{"$f":"Plantilla!T15","v":0}]
[{"$f":"VLOOKUP(Plantilla!$A$2,Poliductos!#REF!,2,0)","v":{"$error":"#REF!"}},"01010700","OBS",{"$f":"Plantilla!T16","v":0}]
[{"$f":"VLOOKUP(Plantilla!$A$2,Poliductos!#REF!,2,0)","v":{"$error":"#REF!"}},"01010800","OBS",{"$f":"Plantilla!T17","v":0}]
[{"$f":"VLOOKUP(Plantilla!$A$2,Poliductos!#REF!,2,0)","v":{"$error":"#REF!"}},"01010900","OBS",{"$f":"Plantilla!T18","v":0}]
[{"$f":"VLOOKUP(Plantilla!$A$2,Poliductos!#REF!,2,0)","v":{"$error":"#REF!"}},"01011000","OBS",{"$f":"Plantilla!T19","v":0}]
[{"$f":"VLOOKUP(Plantilla!$A$2,Poliductos!#REF!,2,0)","v":{"$error":"#REF!"}},"01020000","OBS",{"$f":"Plantilla!T20","v":0}]
[{"$f":"VLOOKUP(Plantilla!$A$2,Poliductos!#REF!,2,0)","v":{"$error":"#REF!"}},"01020100","OBS",{"$f":"Plantilla!T21","v":0}]
[{"$f":"VLOOKUP(Plantilla!$A$2,Poliductos!#REF!,2,0)","v":{"$error":"#REF!"}},"01020200","OBS",{"$f":"Plantilla!T22","v":0}]
[{"$f":"VLOOKUP(Plantilla!$A$2,Poliductos!#REF!,2,0)","v":{"$error":"#REF!"}},"01020300","OBS",{"$f":"Plantilla!T23","v":0}]
[{"$f":"VLOOKUP(Plantilla!$A$2,Poliductos!#REF!,2,0)","v":{"$error":"#REF!"}},"01020400","OBS",{"$f":"Plantilla!T24","v":0}]
[{"$f":"VLOOKUP(Plantilla!$A$2,Poliductos!#REF!,2,0)","v":{"$error":"#REF!"}},"01020500","OBS",{"$f":"Plantilla!T25","v":0}]
[{"$f":"VLOOKUP(Plantilla!$A$2,Poliductos!#REF!,2,0)","v":{"$error":"#REF!"}},"01020600","OBS",{"$f":"Plantilla!T26","v":0}]
[{"$f":"VLOOKUP(Plantilla!$A$2,Poliductos!#REF!,2,0)","v":{"$error":"#REF!"}},"01020700","OBS",{"$f":"Plantilla!T27","v":0}]
[{"$f":"VLOOKUP(Plantilla!$A$2,Poliductos!#REF!,2,0)","v":{"$error":"#REF!"}},"01030000","OBS",{"$f":"Plantilla!T29","v":0}]
[{"$f":"VLOOKUP(Plantilla!$A$2,Poliductos!#REF!,2,0)","v":{"$error":"#REF!"}},"01030100","OBS",{"$f":"Plantilla!T30","v":0}]
[{"$f":"VLOOKUP(Plantilla!$A$2,Poliductos!#REF!,2,0)","v":{"$error":"#REF!"}},"01030200","OBS",{"$f":"Plantilla!T31","v":0}]
[{"$f":"VLOOKUP(Plantilla!$A$2,Poliductos!#REF!,2,0)","v":{"$error":"#REF!"}},"01030300","OBS",{"$f":"Plantilla!T32","v":0}]
[{"$f":"VLOOKUP(Plantilla!$A$2,Poliductos!#REF!,2,0)","v":{"$error":"#REF!"}},"01030400","OBS",{"$f":"Plantilla!T33","v":0}]
[{"$f":"VLOOKUP(Plantilla!$A$2,Poliductos!#REF!,2,0)","v":{"$error":"#REF!"}},"01030500","OBS",{"$f":"Plantilla!T34","v":0}]
[{"$f":"VLOOKUP(Plantilla!$A$2,Poliductos!#REF!,2,0)","v":{"$error":"#REF!"}},"01030600","OBS",{"$f":"Plantilla!T35","v":0}]
[{"$f":"VLOOKUP(Plantilla!$A$2,Poliductos!#REF!,2,0)","v":{"$error":"#REF!"}},"01030700","OBS",{"$f":"Plantilla!T36","v":0}]
[{"$f":"VLOOKUP(Plantilla!$A$2,Poliductos!#REF!,2,0)","v":{"$error":"#REF!"}},"01030800","OBS",{"$f":"Plantilla!T37","v":0}]
[{"$f":"VLOOKUP(Plantilla!$A$2,Poliductos!#REF!,2,0)","v":{"$error":"#REF!"}},"01030900","OBS",{"$f":"Plantilla!T38","v":0}]
[{"$f":"VLOOKUP(Plantilla!$A$2,Poliductos!#REF!,2,0)","v":{"$error":"#REF!"}},"01031000","OBS",{"$f":"Plantilla!T39","v":0}]
[{"$f":"VLOOKUP(Plantilla!$A$2,Poliductos!#REF!,2,0)","v":{"$error":"#REF!"}},"01031100","OBS",{"$f":"Plantilla!T40","v":0}]
[{"$f":"VLOOKUP(Plantilla!$A$2,Poliductos!#REF!,2,0)","v":{"$error":"#REF!"}},"01040000","OBS",{"$f":"Plantilla!T41","v":0}]
[{"$f":"VLOOKUP(Plantilla!$A$2,Poliductos!#REF!,2,0)","v":{"$error":"#REF!"}},"01050000","OBS",{"$f":"Plantilla!T42","v":0}]
[{"$f":"VLOOKUP(Plantilla!$A$2,Poliductos!#REF!,2,0)","v":{"$error":"#REF!"}},"01060000","OBS",{"$f":"Plantilla!T43","v":0}]
[{"$f":"VLOOKUP(Plantilla!$A$2,Poliductos!#REF!,2,0)","v":{"$error":"#REF!"}},"01060100","OBS",{"$f":"Plantilla!T44","v":0}]
[{"$f":"VLOOKUP(Plantilla!$A$2,Poliductos!#REF!,2,0)","v":{"$error":"#REF!"}},"01060200","OBS",{"$f":"Plantilla!T45","v":0}]
[{"$f":"VLOOKUP(Plantilla!$A$2,Poliductos!#REF!,2,0)","v":{"$error":"#REF!"}},"01060201","OBS",{"$f":"Plantilla!T46","v":0}]
[{"$f":"VLOOKUP(Plantilla!$A$2,Poliductos!#REF!,2,0)","v":{"$error":"#REF!"}},"01060202","OBS",{"$f":"Plantilla!T47","v":0}]
[{"$f":"VLOOKUP(Plantilla!$A$2,Poliductos!#REF!,2,0)","v":{"$error":"#REF!"}},"01060203","OBS",{"$f":"Plantilla!T48","v":0}]
[{"$f":"VLOOKUP(Plantilla!$A$2,Poliductos!#REF!,2,0)","v":{"$error":"#REF!"}},"01060300","OBS",{"$f":"Plantilla!T49","v":0}]
[{"$f":"VLOOKUP(Plantilla!$A$2,Poliductos!#REF!,2,0)","v":{"$error":"#REF!"}},"01060400","OBS",{"$f":"Plantilla!T50","v":0}]
[{"$f":"VLOOKUP(Plantilla!$A$2,Poliductos!#REF!,2,0)","v":{"$error":"#REF!"}},"01070000","OBS",{"$f":"Plantilla!T51","v":0}]
[{"$f":"VLOOKUP(Plantilla!$A$2,Poliductos!#REF!,2,0)","v":{"$error":"#REF!"}},"01070100","OBS",{"$f":"Plantilla!T52","v":0}]
[{"$f":"VLOOKUP(Plantilla!$A$2,Poliductos!#REF!,2,0)","v":{"$error":"#REF!"}},"01070200","OBS",{"$f":"Plantilla!T53","v":0}]
[{"$f":"VLOOKUP(Plantilla!$A$2,Poliductos!#REF!,2,0)","v":{"$error":"#REF!"}},"01070300","OBS",{"$f":"Plantilla!T54","v":0}]
[{"$f":"VLOOKUP(Plantilla!$A$2,Poliductos!#REF!,2,0)","v":{"$error":"#REF!"}},"01070400","OBS",{"$f":"Plantilla!T55","v":0}]
[{"$f":"VLOOKUP(Plantilla!$A$2,Poliductos!#REF!,2,0)","v":{"$error":"#REF!"}},"02000000","OBS",{"$f":"Plantilla!T56","v":0}]
[{"$f":"VLOOKUP(Plantilla!$A$2,Poliductos!#REF!,2,0)","v":{"$error":"#REF!"}},"02010000","OBS",{"$f":"Plantilla!T57","v":0}]
[{"$f":"VLOOKUP(Plantilla!$A$2,Poliductos!#REF!,2,0)","v":{"$error":"#REF!"}},"02010100","OBS",{"$f":"Plantilla!T58","v":0}]
[{"$f":"VLOOKUP(Plantilla!$A$2,Poliductos!#REF!,2,0)","v":{"$error":"#REF!"}},"02010200","OBS",{"$f":"Plantilla!T59","v":0}]
[{"$f":"VLOOKUP(Plantilla!$A$2,Poliductos!#REF!,2,0)","v":{"$error":"#REF!"}},"02010201","OBS",{"$f":"Plantilla!T60","v":0}]
[{"$f":"VLOOKUP(Plantilla!$A$2,Poliductos!#REF!,2,0)","v":{"$error":"#REF!"}},"02010202","OBS",{"$f":"Plantilla!T61","v":0}]
[{"$f":"VLOOKUP(Plantilla!$A$2,Poliductos!#REF!,2,0)","v":{"$error":"#REF!"}},"02010300","OBS",{"$f":"Plantilla!T62","v":0}]
[{"$f":"VLOOKUP(Plantilla!$A$2,Poliductos!#REF!,2,0)","v":{"$error":"#REF!"}},"02010301","OBS",{"$f":"Plantilla!T63","v":0}]
[{"$f":"VLOOKUP(Plantilla!$A$2,Poliductos!#REF!,2,0)","v":{"$error":"#REF!"}},"02010302","OBS",{"$f":"Plantilla!T64","v":0}]
[{"$f":"VLOOKUP(Plantilla!$A$2,Poliductos!#REF!,2,0)","v":{"$error":"#REF!"}},"02010400","OBS",{"$f":"Plantilla!T65","v":0}]
[{"$f":"VLOOKUP(Plantilla!$A$2,Poliductos!#REF!,2,0)","v":{"$error":"#REF!"}},"02010500","OBS",{"$f":"Plantilla!T66","v":0}]
[{"$f":"VLOOKUP(Plantilla!$A$2,Poliductos!#REF!,2,0)","v":{"$error":"#REF!"}},"02010600","OBS",{"$f":"Plantilla!T67","v":0}]
[{"$f":"VLOOKUP(Plantilla!$A$2,Poliductos!#REF!,2,0)","v":{"$error":"#REF!"}},"02010700","OBS",{"$f":"Plantilla!T68","v":0}]
[{"$f":"VLOOKUP(Plantilla!$A$2,Poliductos!#REF!,2,0)","v":{"$error":"#REF!"}},"02010800","OBS",{"$f":"Plantilla!T69","v":0}]
[{"$f":"VLOOKUP(Plantilla!$A$2,Poliductos!#REF!,2,0)","v":{"$error":"#REF!"}},"02010900","OBS",{"$f":"Plantilla!T70","v":0}]
[{"$f":"VLOOKUP(Plantilla!$A$2,Poliductos!#REF!,2,0)","v":{"$error":"#REF!"}},"02011000","OBS",{"$f":"Plantilla!T71","v":0}]
[{"$f":"VLOOKUP(Plantilla!$A$2,Poliductos!#REF!,2,0)","v":{"$error":"#REF!"}},"02020000","OBS",{"$f":"Plantilla!T72","v":0}]
[{"$f":"VLOOKUP(Plantilla!$A$2,Poliductos!#REF!,2,0)","v":{"$error":"#REF!"}},"02020100","OBS",{"$f":"Plantilla!T73","v":0}]
[{"$f":"VLOOKUP(Plantilla!$A$2,Poliductos!#REF!,2,0)","v":{"$error":"#REF!"}},"02020200","OBS",{"$f":"Plantilla!T74","v":0}]
[{"$f":"VLOOKUP(Plantilla!$A$2,Poliductos!#REF!,2,0)","v":{"$error":"#REF!"}},"02020300","OBS",{"$f":"Plantilla!T75","v":0}]
[{"$f":"VLOOKUP(Plantilla!$A$2,Poliductos!#REF!,2,0)","v":{"$error":"#REF!"}},"02020400","OBS",{"$f":"Plantilla!T76","v":0}]
[{"$f":"VLOOKUP(Plantilla!$A$2,Poliductos!#REF!,2,0)","v":{"$error":"#REF!"}},"02020500","OBS",{"$f":"Plantilla!T77","v":0}]
[{"$f":"VLOOKUP(Plantilla!$A$2,Poliductos!#REF!,2,0)","v":{"$error":"#REF!"}},"02020600","OBS",{"$f":"Plantilla!T78","v":0}]
[{"$f":"VLOOKUP(Plantilla!$A$2,Poliductos!#REF!,2,0)","v":{"$error":"#REF!"}},"02030000","OBS",{"$f":"Plantilla!T79","v":0}]
[{"$f":"VLOOKUP(Plantilla!$A$2,Poliductos!#REF!,2,0)","v":{"$error":"#REF!"}},"02030100","OBS",{"$f":"Plantilla!T80","v":0}]
[{"$f":"VLOOKUP(Plantilla!$A$2,Poliductos!#REF!,2,0)","v":{"$error":"#REF!"}},"02030200","OBS",{"$f":"Plantilla!T81","v":0}]
[{"$f":"VLOOKUP(Plantilla!$A$2,Poliductos!#REF!,2,0)","v":{"$error":"#REF!"}},"02030300","OBS",{"$f":"Plantilla!T82","v":0}]
[{"$f":"VLOOKUP(Plantilla!$A$2,Poliductos!#REF!,2,0)","v":{"$error":"#REF!"}},"02030400","OBS",{"$f":"Plantilla!T83","v":0}]
[{"$f":"VLOOKUP(Plantilla!$A$2,Poliductos!#REF!,2,0)","v":{"$error":"#REF!"}},"02040000","OBS",{"$f":"Plantilla!T84","v":0}]
[{"$f":"VLOOKUP(Plantilla!$A$2,Poliductos!#REF!,2,0)","v":{"$error":"#REF!"}},"02040100","OBS",{"$f":"Plantilla!T85","v":0}]
[{"$f":"VLOOKUP(Plantilla!$A$2,Poliductos!#REF!,2,0)","v":{"$error":"#REF!"}},"02040200","OBS",{"$f":"Plantilla!T86","v":0}]
[{"$f":"VLOOKUP(Plantilla!$A$2,Poliductos!#REF!,2,0)","v":{"$error":"#REF!"}},"02040300","OBS",{"$f":"Plantilla!T87","v":0}]
[{"$f":"VLOOKUP(Plantilla!$A$2,Poliductos!#REF!,2,0)","v":{"$error":"#REF!"}},"02050000","OBS",{"$f":"Plantilla!T88","v":0}]
[{"$f":"VLOOKUP(Plantilla!$A$2,Poliductos!#REF!,2,0)","v":{"$error":"#REF!"}},"02060000","OBS",{"$f":"Plantilla!T89","v":0}]
[{"$f":"VLOOKUP(Plantilla!$A$2,Poliductos!#REF!,2,0)","v":{"$error":"#REF!"}},"02060100","OBS",{"$f":"Plantilla!T90","v":0}]
[{"$f":"VLOOKUP(Plantilla!$A$2,Poliductos!#REF!,2,0)","v":{"$error":"#REF!"}},"02060200","OBS",{"$f":"Plantilla!T91","v":0}]
[{"$f":"VLOOKUP(Plantilla!$A$2,Poliductos!#REF!,2,0)","v":{"$error":"#REF!"}},"02060300","OBS",{"$f":"Plantilla!T92","v":0}]
[{"$f":"VLOOKUP(Plantilla!$A$2,Poliductos!#REF!,2,0)","v":{"$error":"#REF!"}},"02070000","OBS",{"$f":"Plantilla!T93","v":0}]
[{"$f":"VLOOKUP(Plantilla!$A$2,Poliductos!#REF!,2,0)","v":{"$error":"#REF!"}},"02080000","OBS",{"$f":"Plantilla!T94","v":0}]
[{"$f":"VLOOKUP(Plantilla!$A$2,Poliductos!#REF!,2,0)","v":{"$error":"#REF!"}},"02090000","OBS",{"$f":"Plantilla!T95","v":0}]
[{"$f":"VLOOKUP(Plantilla!$A$2,Poliductos!#REF!,2,0)","v":{"$error":"#REF!"}},"02090100","OBS",{"$f":"Plantilla!T96","v":0}]
[{"$f":"VLOOKUP(Plantilla!$A$2,Poliductos!#REF!,2,0)","v":{"$error":"#REF!"}},"02090200","OBS",{"$f":"Plantilla!T97","v":0}]
[{"$f":"VLOOKUP(Plantilla!$A$2,Poliductos!#REF!,2,0)","v":{"$error":"#REF!"}},"02090300","OBS",{"$f":"Plantilla!T98","v":0}]
[{"$f":"VLOOKUP(Plantilla!$A$2,Poliductos!#REF!,2,0)","v":{"$error":"#REF!"}},"02090400","OBS",{"$f":"Plantilla!T99","v":0}]
[{"$f":"VLOOKUP(Plantilla!$A$2,Poliductos!#REF!,2,0)","v":{"$error":"#REF!"}},"02090500","OBS",{"$f":"Plantilla!T100","v":0}]
[{"$f":"VLOOKUP(Plantilla!$A$2,Poliductos!#REF!,2,0)","v":{"$error":"#REF!"}},"02090600","OBS",{"$f":"Plantilla!T101","v":0}]
[{"$f":"VLOOKUP(Plantilla!$A$2,Poliductos!#REF!,2,0)","v":{"$error":"#REF!"}},"02100000","OBS",{"$f":"Plantilla!T102","v":0}]
[{"$f":"VLOOKUP(Plantilla!$A$2,Poliductos!#REF!,2,0)","v":{"$error":"#REF!"}},"02100100","OBS",{"$f":"Plantilla!T103","v":0}]
[{"$f":"VLOOKUP(Plantilla!$A$2,Poliductos!#REF!,2,0)","v":{"$error":"#REF!"}},"02100200","OBS",{"$f":"Plantilla!T104","v":0}]
[{"$f":"VLOOKUP(Plantilla!$A$2,Poliductos!#REF!,2,0)","v":{"$error":"#REF!"}},"02100300","OBS",{"$f":"Plantilla!T105","v":0}]
[{"$f":"VLOOKUP(Plantilla!$A$2,Poliductos!#REF!,2,0)","v":{"$error":"#REF!"}},"02100400","OBS",{"$f":"Plantilla!T106","v":0}]
[{"$f":"VLOOKUP(Plantilla!$A$2,Poliductos!#REF!,2,0)","v":{"$error":"#REF!"}},"02110000","OBS",{"$f":"Plantilla!T107","v":0}]
[{"$f":"VLOOKUP(Plantilla!$A$2,Poliductos!#REF!,2,0)","v":{"$error":"#REF!"}},"02110100","OBS",{"$f":"Plantilla!T108","v":0}]
[{"$f":"VLOOKUP(Plantilla!$A$2,Poliductos!#REF!,2,0)","v":{"$error":"#REF!"}},"02110200","OBS",{"$f":"Plantilla!T109","v":0}]
[{"$f":"VLOOKUP(Plantilla!$A$2,Poliductos!#REF!,2,0)","v":{"$error":"#REF!"}},"02110300","OBS",{"$f":"Plantilla!T110","v":0}]
[{"$f":"VLOOKUP(Plantilla!$A$2,Poliductos!#REF!,2,0)","v":{"$error":"#REF!"}},"02110400","OBS",{"$f":"Plantilla!T111","v":0}]
[{"$f":"VLOOKUP(Plantilla!$A$2,Poliductos!#REF!,2,0)","v":{"$error":"#REF!"}},"02110500","OBS",{"$f":"Plantilla!T112","v":0}]
[{"$f":"VLOOKUP(Plantilla!$A$2,Poliductos!#REF!,2,0)","v":{"$error":"#REF!"}},"02120000","OBS",{"$f":"Plantilla!T113","v":0}]
[{"$f":"VLOOKUP(Plantilla!$A$2,Poliductos!#REF!,2,0)","v":{"$error":"#REF!"}},"02130000","OBS",{"$f":"Plantilla!T114","v":0}]
[{"$f":"VLOOKUP(Plantilla!$A$2,Poliductos!#REF!,2,0)","v":{"$error":"#REF!"}},"02130100","OBS",{"$f":"Plantilla!T115","v":0}]
[{"$f":"VLOOKUP(Plantilla!$A$2,Poliductos!#REF!,2,0)","v":{"$error":"#REF!"}},"02130200","OBS",{"$f":"Plantilla!T116","v":0}]
[{"$f":"VLOOKUP(Plantilla!$A$2,Poliductos!#REF!,2,0)","v":{"$error":"#REF!"}},"02130300","OBS",{"$f":"Plantilla!T117","v":0}]
[{"$f":"VLOOKUP(Plantilla!$A$2,Poliductos!#REF!,2,0)","v":{"$error":"#REF!"}},"02130400","OBS",{"$f":"Plantilla!T118","v":0}]
[{"$f":"VLOOKUP(Plantilla!$A$2,Poliductos!#REF!,2,0)","v":{"$error":"#REF!"}},"02130500","OBS",{"$f":"Plantilla!T119","v":0}]
[{"$f":"VLOOKUP(Plantilla!$A$2,Poliductos!#REF!,2,0)","v":{"$error":"#REF!"}},"02130600","OBS",{"$f":"Plantilla!T120","v":0}]
[{"$f":"VLOOKUP(Plantilla!$A$2,Poliductos!#REF!,2,0)","v":{"$error":"#REF!"}},"02140000","OBS",{"$f":"Plantilla!T121","v":0}]
[{"$f":"VLOOKUP(Plantilla!$A$2,Poliductos!#REF!,2,0)","v":{"$error":"#REF!"}},"02140100","OBS",{"$f":"Plantilla!T122","v":0}]
[{"$f":"VLOOKUP(Plantilla!$A$2,Poliductos!#REF!,2,0)","v":{"$error":"#REF!"}},"02140200","OBS",{"$f":"Plantilla!T123","v":0}]
[{"$f":"VLOOKUP(Plantilla!$A$2,Poliductos!#REF!,2,0)","v":{"$error":"#REF!"}},"02150000","OBS",{"$f":"Plantilla!T124","v":0}]
[{"$f":"VLOOKUP(Plantilla!$A$2,Poliductos!#REF!,2,0)","v":{"$error":"#REF!"}},"02150100","OBS",{"$f":"Plantilla!T125","v":0}]
[{"$f":"VLOOKUP(Plantilla!$A$2,Poliductos!#REF!,2,0)","v":{"$error":"#REF!"}},"02150200","OBS",{"$f":"Plantilla!T126","v":0}]
[{"$f":"VLOOKUP(Plantilla!$A$2,Poliductos!#REF!,2,0)","v":{"$error":"#REF!"}},"02150300","OBS",{"$f":"Plantilla!T127","v":0}]
[{"$f":"VLOOKUP(Plantilla!$A$2,Poliductos!#REF!,2,0)","v":{"$error":"#REF!"}},"02150400","OBS",{"$f":"Plantilla!T128","v":0}]
[{"$f":"VLOOKUP(Plantilla!$A$2,Poliductos!#REF!,2,0)","v":{"$error":"#REF!"}},"02150500","OBS",{"$f":"Plantilla!T129","v":0}]
[{"$f":"VLOOKUP(Plantilla!$A$2,Poliductos!#REF!,2,0)","v":{"$error":"#REF!"}},"02150600","OBS",{"$f":"Plantilla!T130","v":0}]
[{"$f":"VLOOKUP(Plantilla!$A$2,Poliductos!#REF!,2,0)","v":{"$error":"#REF!"}},"02150700","OBS",{"$f":"Plantilla!T131","v":0}]
[{"$f":"VLOOKUP(Plantilla!$A$2,Poliductos!#REF!,2,0)","v":{"$error":"#REF!"}},"02150800","OBS",{"$f":"Plantilla!T132","v":0}]
[{"$f":"VLOOKUP(Plantilla!$A$2,Poliductos!#REF!,2,0)","v":{"$error":"#REF!"}},"02160000","OBS",{"$f":"Plantilla!T136","v":0}]
[{"$f":"VLOOKUP(Plantilla!$A$2,Poliductos!#REF!,2,0)","v":{"$error":"#REF!"}},"02160100","OBS",{"$f":"Plantilla!T137","v":0}]
[{"$f":"VLOOKUP(Plantilla!$A$2,Poliductos!#REF!,2,0)","v":{"$error":"#REF!"}},"02160200","OBS",{"$f":"Plantilla!T138","v":0}]

{"sheet":"Plantilla","index":1,"n_rows":138,"n_cols":20,"rows_kept":138,"cut":false,"hidden":false,"merged":[[0,19,2,19],[0,0,0,1],[0,2,2,2],[1,0,1,1],[0,3,0,17],[0,18,2,18]]}
["FORMATO AOM-802\nREPORTE DE INFORMACIÓN DE COSTOS PARA LA REGULACIÓN\nTransporte de Combustibles Líquidos",null,"RN","EDC - ESTRUCTURA DE COSTOS - SUBACTIVIDADES",null,null,null,null,null,null,null,null,null,null,null,null,null,null,"TOTAL AOM DE TRANSPORTE DE COMBUSTIBLES LÍQUIDOS","Observaciones"]
["-Seleccione el poliducto a reportar-",null,null,"Asociados al Transporte de Combustibles Líquidos por Poliducto","Asociados al lleno de línea","Por concepto de corridas con raspador inteligente","Por concepto de compresión asociada al sistema de transporte.","Asociados al mantenimiento de estaciones de bombeo","Asociados a puntos de entrada y salida","Asociados a Oleoductos","Asociados a Puertos, Llenaderos, Cargaderos y Descargaderos","Asociados con servicios prestados a terceros -Servicios industriales","Asociados al almacenamiento comercial","Asociados al plan margen de continuidad","Asociados a activos de conexión de otro agente o activos de conexión de usuarios siempre y cuando estos activos no estén en la base de inversión.","Asociados con la reposición de activos","Asociados con los costos de la inversión en infraestructura","Asociados a otras actividades no relacionadas anteriormente"]
["Código Concepto","Descripción concepto CREG",null,"ATCLXP","LLL","CRI","CCT","MAOEB","APES","AOLEO","APLCD","ASPATSI","ALCOM","APMC","ACOANBI","REPAC","CII","OAN"]
["01000000","GASTOS","X",{"$f":"SUM(D5,D20,D29,D41,D42,D43,D51)","v":0},{"$f":"SUM(E5,E20,E29,E41,E42,E43,E51)","v":0},0,0,0,0,0,0,0,0,0,0,0,0,0,{"$f":"SUM(D4:R4)","v":0}]
["01010000","BENEFICIOS A EMPLEADOS","X",{"$f":"SUM(D6,D7,D10,D13:D19)","v":0},{"$f":"SUM(E6,E7,E10,E13:E19)","v":0},0,0,0,0,0,0,0,0,0,0,0,0,0,0]
["01010100","Sueldos y salarios",null,null,null,null,null,null,null,null,null,null,null,null,null,null,null,null,0]
["01010200","Primas y prestaciones sociales",null,{"$f":"SUM(D8:D9)","v":0},{"$f":"SUM(E8:E9)","v":0},0,0,0,0,0,0,0,0,0,0,0,0,0,0]
["01010201","Establecidas en el código sustantivo de trabajo (CST) o régimen del empleado público (REP)",null,null,null,null,null,null,null,null,null,null,null,null,null,null,null,null,0]
["01010202","Adicionales o no establecidas en el código sustantivo de trabajo o régimen del empleado público",null,null,null,null,null,null,null,null,null,null,null,null,null,null,null,null,0]
["01010300","Aportes a seguridad social y aportes a la nómina",null,{"$f":"SUM(D11:D12)","v":0},{"$f":"SUM(E11:E12)","v":0},0,0,0,0,0,0,0,0,0,0,0,0,0,0]
["01010301","Establecidas en el código sustantivo de trabajo (CST) o régimen del empleado público (REP)",null,null,null,null,null,null,null,null,null,null,null,null,null,null,null,null,0]
["01010302","Adicionales o no establecidas en el código sustantivo de trabajo o régimen del empleado público",null,null,null,null,null,null,null,null,null,null,null,null,null,null,null,null,0]
["01010400","Otros pagos laborales",null,null,null,null,null,null,null,null,null,null,null,null,null,null,null,null,0]
["01010500","Medicina prepagada",null,null,null,null,null,null,null,null,null,null,null,null,null,null,null,null,0]
["01010600","Terminación del vínculo laboral",null,null,null,null,null,null,null,null,null,null,null,null,null,null,null,null,0]
["01010700","Beneficios a empleados a largo plazo",null,null,null,null,null,null,null,null,null,null,null,null,null,null,null,null,0]
["01010800","Beneficios posempleo",null,null,null,null,null,null,null,null,null,null,null,null,null,null,null,null,0]
["01010900","Cálculo actuarial y pensiones de jubilación",null,null,null,null,null,null,null,null,null,null,null,null,null,null,null,null,0]
["01011000","Gastos de personal sin vínculo laboral",null,null,null,null,null,null,null,null,null,null,null,null,null,null,null,null,0]
["01020000","GENERALES","X",{"$f":"SUM(D21:D28)","v":0},{"$f":"SUM(E21:E28)","v":0},0,0,0,0,0,0,0,0,0,0,0,0,0,0]
["01020100","Gastos de organización y puesta en marcha","X",null,null,null,null,null,null,null,null,null,null,null,null,null,null,null,0]
["01020200","Estudios y proyectos","X",null,null,null,null,null,null,null,null,null,null,null,null,null,null,null,0]
["01020300","Publicidad y propaganda",null,null,null,null,null,null,null,null,null,null,null,null,null,null,null,null,0]
["01020400","Gastos de exploración y desarrollo","X",null,null,null,null,null,null,null,null,null,null,null,null,null,null,null,0]
["01020500","Gastos de administración y funcionamiento ",null,null,null,null,null,null,null,null,null,null,null,null,null,null,null,null,0]
["01020600","Arrendamiento operativo",null,null,null,null,null,null,null,null,null,null,null,null,null,null,null,null,0]
["01020700","Otros gastos de administración y funcionamiento",null,null,null,null,null,null,null,null,null,null,null,null,null,null,null,null,0]
["01020800","Mantenimiento",null,null,null,null,null,null,null,null,null,null,null,null,null,null,null,null,{"$f":"SUM(D28:R28)","v":0}]
["01030000","IMPUESTOS, CONTRIBUCIONES Y TASAS","X",{"$f":"SUM(D30:D40)","v":0},{"$f":"SUM(E30:E40)","v":0},0,0,0,0,0,0,0,0,0,0,0,0,0,0]
["01030100","Impuestos municipales y de operación",null,null,null,null,null,null,null,null,null,null,null,null,null,null,null,null,0]
["01030200","Impuesto predial unificado",null,null,null,null,null,null,null,null,null,null,null,null,null,null,null,null,0]
["01030300","Impuesto de industria y comercio",null,null,null,null,null,null,null,null,null,null,null,null,null,null,null,null,0]
["01030400","Impuesto sobre vehículos automotores",null,null,null,null,null,null,null,null,null,null,null,null,null,null,null,null,0]
["01030500","Impuesto a las ventas, IVA no descontable",null,null,null,null,null,null,null,null,null,null,null,null,null,null,null,null,0]
["01030600","Gravamen a los movimientos financieros",null,null,null,null,null,null,null,null,null,null,null,null,null,null,null,null,0]
["01030700","Impuesto a la riqueza",null,null,null,null,null,null,null,null,null,null,null,null,null,null,null,null,0]
["01030800","Licencias y contribuciones",null,null,null,null,null,null,null,null,null,null,null,null,null,null,null,null,{"$f":"SUM(D37:R37)","v":0}]
["01030900","Multas, sanciones e intereses de mora",null,null,null,null,null,null,null,null,null,null,null,null,null,null,null,null,0]
["01031000","Impuesto de alumbrado público",null,null,null,null,null,null,null,null,null,null,null,null,null,null,null,null,0]
["01031100","Otros impuestos",null,null,null,null,null,null,null,null,null,null,null,null,null,null,null,null,0]
["01040000","IMPUESTO A LAS GANANCIAS CORRIENTE","X",null,null,null,null,null,null,null,null,null,null,null,null,null,null,null,0]
["01050000","IMPUESTO A LAS GANANCIAS DIFERIDO","X",null,null,null,null,null,null,null,null,null,null,null,null,null,null,null,0]
["01060000","DETERIORO, DEPRECIACIONES, AMORTIZACIONES Y PROVISIONES","X",{"$f":"SUM(D44,D45,D49:D50)","v":0},{"$f":"SUM(E44,E45,E49:E50)","v":0},0,0,0,0,0,0,0,0,0,0,0,0,0,0]
["01060100","Depreciación","X",null,null,null,null,null,null,null,null,null,null,null,null,null,null,null,0]
["01060200","Amortización","X",{"$f":"SUM(D46:D48)","v":0},{"$f":"SUM(E46:E48)","v":0},0,0,0,0,0,0,0,0,0,0,0,0,0,0]
["01060201","Amortización licencias y software","X",null,null,null,null,null,null,null,null,null,null,null,null,null,null,null,0]
["01060202","Amortización arriendos","X",null,null,null,null,null,null,null,null,null,null,null,null,null,null,null,0]
["01060203","Otras amortizaciones",null,null,null,null,null,null,null,null,null,null,null,null,null,null,null,null,0]
["01060300","Deterioro","X",null,null,null,null,null,null,null,null,null,null,null,null,null,null,null,0]
["01060400","Provisiones","X",null,null,null,null,null,null,null,null,null,null,null,null,null,null,null,0]
["01070000","OTROS GASTOS","X",{"$f":"SUM(D52:D55)","v":0},{"$f":"SUM(E52:E55)","v":0},0,0,0,0,0,0,0,0,0,0,0,0,0,0]
["01070100","Financieros y comisiones","X",null,null,null,null,null,null,null,null,null,null,null,null,null,null,null,0]
["01070200","Pérdidas por la aplicación del método de participación patrimonial","X",null,null,null,null,null,null,null,null,null,null,null,null,null,null,null,0]
["01070300","Gastos diversos ","X",null,null,null,null,null,null,null,null,null,null,null,null,null,null,null,0]
["01070400","Ajuste por diferencia en cambio","X",null,null,null,null,null,null,null,null,null,null,null,null,null,null,null,0]
["02000000","COSTOS","X",{"$f":"SUM(D57,D72,D79,D84,D88,D89,D93,D94,D95,D102,D107,D113,D114,D121,D124,D136)","v":0},{"$f":"SUM(E57,E72,E79,E84,E88,E89,E93,E94,E95,E102,E107,E113,E114,E121,E124,E136)","v":0},0,0,0,0,0,0,0,0,0,0,0,0,0,0]
["02010000","BENEFICIOS A EMPLEADOS","X",{"$f":"SUM(D58,D59,D62,D65:D71)","v":0},{"$f":"SUM(E58,E59,E62,E65:E71)","v":0},0,0,0,0,0,0,0,0,0,0,0,0,0,0]
["02010100","Sueldos y salarios",null,null,null,null,null,null,null,null,null,null,null,null,null,null,null,null,0]
["02010200","Primas y prestaciones sociales",null,{"$f":"SUM(D60:D61)","v":0},{"$f":"SUM(E60:E61)","v":0},0,0,0,0,0,0,0,0,0,0,0,0,0,0]
["02010201","Establecidas en el código sustantivo de trabajo (CST) o régimen del empleado público (REP)",null,null,null,null,null,null,null,null,null,null,null,null,null,null,null,null,0]
["02010202","Adicionales o no establecidas en el código sustantivo de trabajo o régimen del empleado público",null,null,null,null,null,null,null,null,null,null,null,null,null,null,null,null,0]
["02010300","Aportes a seguridad social y aportes a la nómina",null,{"$f":"SUM(D63:D64)","v":0},{"$f":"SUM(E63:E64)","v":0},0,0,0,0,0,0,0,0,0,0,0,0,0,0]
["02010301","Establecidas en el código sustantivo de trabajo (CST) o régimen del empleado público (REP)",null,null,null,null,null,null,null,null,null,null,null,null,null,null,null,null,0]
["02010302","Adicionales o no establecidas en el código sustantivo de trabajo o régimen del empleado público",null,null,null,null,null,null,null,null,null,null,null,null,null,null,null,null,0]
["02010400","Otros pagos laborales",null,null,null,null,null,null,null,null,null,null,null,null,null,null,null,null,0]
["02010500","Medicina prepagada",null,null,null,null,null,null,null,null,null,null,null,null,null,null,null,null,0]
["02010600","Terminación del vínculo laboral",null,null,null,null,null,null,null,null,null,null,null,null,null,null,null,null,0]
["02010700","Beneficios a empleados a largo plazo",null,null,null,null,null,null,null,null,null,null,null,null,null,null,null,null,0]
["02010800","Beneficios pospempleo",null,null,null,null,null,null,null,null,null,null,null,null,null,null,null,null,{"$f":"SUM(D69:R69)","v":0}]
["02010900","Cálculo actuarial y pensiones de jubilación",null,null,null,null,null,null,null,null,null,null,null,null,null,null,null,null,0]
["02011000","Gastos de personal sin vínculo laboral",null,null,null,null,null,null,null,null,null,null,null,null,null,null,null,null,0]
["02020000","GENERALES","X",{"$f":"SUM(D73:D78)","v":0},{"$f":"SUM(E73:E78)","v":0},0,0,0,0,0,0,0,0,0,0,0,0,0,0]
["02020100","Estudios y proyectos","X",null,null,null,null,null,null,null,null,null,null,null,null,null,null,null,0]
["02020200","Publicidad y propaganda",null,null,null,null,null,null,null,null,null,null,null,null,null,null,null,null,0]
["02020300","Promoción y divulgación",null,null,null,null,null,null,null,null,null,null,null,null,null,null,null,null,0]
["02020400","Transporte, fletes y acarreos",null,null,null,null,null,null,null,null,null,null,null,null,null,null,null,null,0]
["02020500","Gastos de operación",null,null,null,null,null,null,null,null,null,null,null,null,null,null,null,null,0]
["02020600","Otros gastos de operación",null,null,null,null,null,null,null,null,null,null,null,null,null,null,null,null,0]
["02030000","IMPUESTOS, CONTRIBUCIONES Y TASAS","X",{"$f":"SUM(D80:D83)","v":0},{"$f":"SUM(E80:E83)","v":0},0,0,0,0,0,0,0,0,0,0,0,0,0,0]
["02030100","Impuestos municipales y de operación",null,null,null,null,null,null,null,null,null,null,null,null,null,null,null,null,0]
["02030200","Impuesto predial unificado",null,null,null,null,null,null,null,null,null,null,null,null,null,null,null,null,0]
["02030300","Impuesto sobre vehículos automotores",null,null,null,null,null,null,null,null,null,null,null,null,null,null,null,null,0]
["02030400","Otros Impuestos",null,null,null,null,null,null,null,null,null,null,null,null,null,null,null,null,0]
["02040000","ARRENDAMIENTOS","X",{"$f":"SUM(D85:D87)","v":0},{"$f":"SUM(E85:E87)","v":0},0,0,0,0,0,0,0,0,0,0,0,0,0,0]
["02040100","Terrenos",null,null,null,null,null,null,null,null,null,null,null,null,null,null,null,null,0]
["02040200","Construcciones y edificaciones",null,null,null,null,null,null,null,null,null,null,null,null,null,null,null,null,0]
["02040300","Otros arrendamientos",null,null,null,null,null,null,null,null,null,null,null,null,null,null,null,null,0]
["02050000","DEPRECIACIONES","X",null,null,null,null,null,null,null,null,null,null,null,null,null,null,null,0]
["02060000","AMORTIZACIONES","X",{"$f":"SUM(D90:D92)","v":0},{"$f":"SUM(E90:E92)","v":0},0,0,0,0,0,0,0,0,0,0,0,0,0,0]
["02060100","Amortización licencias y software",null,null,null,null,null,null,null,null,null,null,null,null,null,null,null,null,0]
["02060200","Amortización arriendos","X",null,null,null,null,null,null,null,null,null,null,null,null,null,null,null,0]
["02060300","Otras amortizaciones",null,null,null,null,null,null,null,null,null,null,null,null,null,null,null,null,0]
["02070000","DETERIORO","X",null,null,null,null,null,null,null,null,null,null,null,null,null,null,null,0]
["02080000","COSTO DE BIENES Y SERVICIOS PÚBLICOS PARA LA VENTA","X",null,null,null,null,null,null,null,null,null,null,null,null,null,null,null,0]
["02090000","LICENCIAS,  CONTRIBUCIONES Y REGALÍAS","X",{"$f":"SUM(D96:D101)","v":0},{"$f":"SUM(E96:E101)","v":0},0,0,0,0,0,0,0,0,0,0,0,0,0,0]
["02090100","Departamento administrativo del medio ambiente \"DAMA\"",null,null,null,null,null,null,null,null,null,null,null,null,null,null,null,null,0]
["02090200","Regalías",null,null,null,null,null,null,null,null,null,null,null,null,null,null,null,null,0]
["02090300","Cuota de fomento de gas",null,null,null,null,null,null,null,null,null,null,null,null,null,null,null,null,0]
["02090400","Comité de estratificación –Ley 505 De 1999",null,null,null,null,null,null,null,null,null,null,null,null,null,null,null,null,0]
["02090500","Otros fondos y licencias",null,null,null,null,null,null,null,null,null,null,null,null,null,null,null,null,0]
["02090600","Otras contribuciones",null,null,null,null,null,null,null,null,null,null,null,null,null,null,null,null,{"$f":"SUM(D101:R101)","v":0}]
["02100000","CONSUMO DE INSUMOS DIRECTOS","X",{"$f":"SUM(D103:D106)","v":0},{"$f":"SUM(E103:E106)","v":0},0,0,0,0,0,0,0,0,0,0,0,0,0,0]
["02100100","Energético utilizado para el transporte de gas natural",null,null,null,null,null,null,null,null,null,null,null,null,null,null,null,null,0]
["02100200","Energético utilizado para el transporte de combustibles líquidos",null,null,null,null,null,null,null,null,null,null,null,null,null,null,null,null,0]
["02100300","GLP utilizado para el transporte de cilindros",null,null,null,null,null,null,null,null,null,null,null,null,null,null,null,null,0]
["02100400","Otros elementos de consumo de insumos directos",null,null,null,null,null,null,null,null,null,null,null,null,null,null,null,null,0]
["02110000","ÓRDENES Y CONTRATOS DE MANTENIMIENTO Y REPARACIONES","X",{"$f":"SUM(D108:D112)","v":0},{"$f":"SUM(E108:E112)","v":0},0,0,0,0,0,0,0,0,0,0,0,0,0,0]
["02110100","Mantenimiento de otros activos",null,null,null,null,null,null,null,null,null,null,null,null,null,null,null,null,0]
["02110200","Mantenimiento de activos asociados a la actividad",null,null,null,null,null,null,null,null,null,null,null,null,null,null,null,null,0]
["02110300","Reparación de otros activos",null,null,null,null,null,null,null,null,null,null,null,null,null,null,null,null,0]
["02110400","Reparación de activos asociados a la actividad",null,null,null,null,null,null,null,null,null,null,null,null,null,null,null,null,0]
["02110500","Otros contratos de mantenimiento y reparaciones",null,null,null,null,null,null,null,null,null,null,null,null,null,null,null,null,0]
["02120000","SERVICIOS PÚBLICOS","X",null,null,null,null,null,null,null,null,null,null,null,null,null,null,null,0]
["02130000","MATERIALES Y OTROS COSTOS DE OPERACIÓN","X",{"$f":"SUM(D115:D120)","v":0},{"$f":"SUM(E115:E120)","v":0},0,0,0,0,0,0,0,0,0,0,0,0,0,0]
["02130100","Repuestos para vehículos",null,null,null,null,null,null,null,null,null,null,null,null,null,null,null,null,0]
["02130200","Combustibles y lubricantes",null,null,null,null,null,null,null,null,null,null,null,null,null,null,null,null,0]
["02130300","Materiales",null,null,null,null,null,null,null,null,null,null,null,null,null,null,null,null,0]
["02130400","Elementos y accesorios de gas combustible",null,null,null,null,null,null,null,null,null,null,null,null,null,null,null,null,0]
["02130500","Costos de gestión ambiental",null,null,null,null,null,null,null,null,null,null,null,null,null,null,null,null,0]
["02130600","Otros elementos y materiales",null,null,null,null,null,null,null,null,null,null,null,null,null,null,null,null,0]
["02140000","SEGUROS","X",{"$f":"SUM(D122:D123)","v":0},{"$f":"SUM(E122:E123)","v":0},0,0,0,0,0,0,0,0,0,0,0,0,0,0]
["02140100","De terrorismo   ",null,null,null,null,null,null,null,null,null,null,null,null,null,null,null,null,0]
["02140200","Otros Seguros Generales",null,null,null,null,null,null,null,null,null,null,null,null,null,null,null,null,0]
["02150000","ÓRDENES Y CONTRATOS POR OTROS SERVICIOS","X",{"$f":"SUM(D125:D135)","v":0},{"$f":"SUM(E125:E135)","v":0},{"$f":"SUM(F125:F135)","v":0},{"$f":"SUM(G125:G135)","v":0},{"$f":"SUM(H125:H135)","v":0},{"$f":"SUM(I125:I135)","v":0},0,0,0,0,0,0,{"$f":"SUM(P125:P135)","v":0},{"$f":"SUM(Q125:Q135)","v":0},{"$f":"SUM(R125:R135)","v":0},0]
["02150100","Servicio de aseo y vigilancia",null,null,null,null,null,null,null,null,null,null,null,null,null,null,null,null,0]
["02150200","Casino y cafetería",null,null,null,null,null,null,null,null,null,null,null,null,null,null,null,null,0]
["02150300","Toma de lectura",null,null,null,null,null,null,null,null,null,null,null,null,null,null,null,null,0]
["02150400","Entrega de facturas",null,null,null,null,null,null,null,null,null,null,null,null,null,null,null,null,0]
["02150500","Venta de derechos por comisión",null,null,null,null,null,null,null,null,null,null,null,null,null,null,null,null,0]
["02150600","Servicios informáticos",null,null,null,null,null,null,null,null,null,null,null,null,null,null,null,null,0]
["02150700","Servicio de instalación y desinstalación",null,null,null,null,null,null,null,null,null,null,null,null,null,null,null,null,0]
["02150800","Otros contratos",null,null,null,null,null,null,null,null,null,null,null,null,null,null,null,null,0]
["02150900","Centros de atención ",null,null,null,null,null,null,null,null,null,null,null,null,null,null,null,null,{"$f":"SUM(D133:R133)","v":0}]
["02151000","Comisiones de recaudo",null,null,null,null,null,null,null,null,null,null,null,null,null,null,null,null,{"$f":"SUM(D134:R134)","v":0}]
["02151100","Cobranza",null,null,null,null,null,null,null,null,null,null,null,null,null,null,null,null,{"$f":"SUM(D135:R135)","v":0}]
["02160000","HONORARIOS",null,{"$f":"SUM(D137:D138)","v":0},{"$f":"SUM(E137:E138)","v":0},0,0,0,0,0,0,0,0,0,0,0,0,0,0]
["02160100","Asesoría técnica",null,null,null,null,null,null,null,null,null,null,null,null,null,null,null,null,0]
["02160200","Otros honorarios",null,null,null,null,null,null,null,null,null,null,null,null,null,null,null,null,0]

{"sheet":"Referencias Normativas","index":2,"n_rows":40,"n_cols":5,"rows_kept":40,"cut":false,"hidden":false,"merged":[]}
["Código Concepto","Descripción concepto","Referencia Normativa Grupo 1","Referencia Normativa  Grupo 2","Referencia Res. 414/14"]
["01000000","GASTOS","NIIF Plenas. Marco Conceptual. Párrafos 4.2, 4.21, 4.24, 4.25, 4.28, 4.33 a 4.35, 4.49 a 4.53","NIIF Pymes Sección 2, Párrafos 26 a 28;  Párrafo 42; Sección 5 Párrafo 5 (b), 11","Resolución 414 Marco conceptual Num. 6.1.5., 6.2.4"]
["01010000","BENEFICIOS A EMPLEADOS","NIC 1.102 Ejemplo, NIC 1.104 Información a revelar, NIC 1.99 Información a revelar\nNIC 19.  Párrrafo 1, 11, 18, 37, 50, 51, 55, 56, 72, 103, 141, 158, 165, 170","NIIF Pymes Sección 28, Párrrafo 1, 3 (b)\nNIIF Pymes Sección 28, Párrafos 4 a 38","Cap. 2 Pasivos - 5.  Beneficios a empleados."]
["01020000","GENERALES","NIC 1.103 Ejemplo, NIC 1.99 Información a revelar, NIC 26.35 b (vi) Información a revelar","NIIF Pymes Sección 2, Párrafos 26 a 28;  Párrafo 42; Sección 5 Párrafo 5 (b), 11","Resolución 414 Marco conceptual Num. 6.1.5., 6.2.4, "]
["01020100","Gastos de organización y puesta en marcha","NIC 38.  Párrafo 8. Inciso 5 y 8.  Párrafo 34.  Fase de investigación Párrafo 54 a 56 Fase de desarrollo Párrafo 57 a 64\n68 a 71\n"," ","Cap.I - Activos. 12.  Activos intangibles. Párrafo 22"]
["01020200","Estudios y proyectos","NIC 38.  Párrafo 8. Inciso 5 y 8.  Párrafo 34.  Fase de investigación Párrafo 54 a 56 Fase de desarrollo Párrafo 57 a 64\n68 a 71\n"," ","Cap.I - Activos. 12.  Activos intangibles. Párrafo 22"]
["01020400","Gastos de exploración y desarrollo","NIC 38.  Párrafo 8. Inciso 5 y 8.  Párrafo 34.  Fase de investigación Párrafo 54 a 56 Fase de desarrollo Párrafo 57 a 64\n68 a 71\n"," ","Cap.I - Activos. 12.  Activos intangibles. Párrafo 22"]
["01030000","IMPUESTOS, CONTRIBUCIONES Y TASAS","NIIF Plenas. Marco Conceptual. Párrafos 4.2, 4.21, 4.24, 4.25, 4.28, 4.33 a 4.35, 4.49 a 4.53","NIIF Pymes Sección 2, Párrafos 26 a 28;  Párrafo 42; Sección 5 Párrafo 5 (b), 11","Resolución 414 Marco conceptual Num. 6.1.5., 6.2.4, "]
["01040000","IMPUESTO A LAS GANANCIAS CORRIENTE","NIC 12. Párrafo 5, 6,  21, 22, 58, 77","NIIF Pymes Sección 29, Párrrafos 4 a 6 y  32 y 33","Cap. II. Pasivos.  2.  Impuesto a las ganancias"]
["01050000","IMPUESTO A LAS GANANCIAS DIFERIDO","NIC 12. Párrafo 5, 6,  21, 22, 58, 77","NIIF Pymes Sección 29, Párrrafo 7 a 33","Cap. II. Pasivos.  2.  Impuesto a las ganancias"]
["01060000","DETERIORO, DEPRECIACIONES, AMORTIZACIONES Y PROVISIONES","IAS 1 99, IFRS 8 23 e, IAS 1 102, IAS 1 104, IFRS 8 28 e, IFRS 12 B13 d"]
["01060100","Depreciación","IAS 1 112 c\nNIC 1.102 Ejemplo, NIC 1.104 Información a revelar, NIC 1.99 Información a revelar, NIIF 12.B13 d Información a revelar, NIIF 8.23 e Información a revelar, NIIF 8.28 e Información a revelar\nNIC 7.20 b Práctica común","NIIF Pymes Sección 17, Párrafos 16 a 23","Cap. I - Activos - 10. Propiedad, planta y equipo.  Párrafos 19 a 29"]
["01060200","Amortización","IAS 1 112 c\nNIC 1.102 Ejemplo, NIC 1.104 Información a revelar, NIC 1.99 Información a revelar, NIIF 12.B13 d Información a revelar, NIIF 8.23 e Información a revelar, NIIF 8.28 e Información a revelar\nNIC 7.20 b Práctica común","NIIF Pymes Sección 18. Párrafos 21 y 22","Cap.I - Activos. 12.  Activos intangibles. Párrafo 27 a 36\nCapitulo II Pasivos. 2. Emisión de títulos dde deuda. Párrafo "]
["01060201","Amortización licencias y software","IAS 38, 8, 66,74,75, 89, 97-106, 107, 118 e vi, IAS 38 119"]
["01060202","Amortización arriendos","NIIF 16 IN11, Párrafo 31, 32, 49, 62"]
["01060300","Deterioro","NIC 7.20 b Práctica común\nNIC 36. Párrafo 60, 61, 119, 120","NIIF Pymes Sección 27\nSección 11, Párrafos 21 a 26, 48.  Sección 17 Párrafos 24 a 26 ","Cap.I - Activos. 16. Deterioro del valor de los activos. Párrafo 50\n1. Inversiones de administración de liquidez. Párrafo 17, 18, 21, 24, 26\n2. Cuentas por cobrar \nPárrafo 8\n9. Inventarios Párrafo 5, 27\nPropiedad, planta y equipo.  Párrafo 30\n12.  Activos Intangibles.  Párrafo 37"]
["01060400","Provisiones","NIC 7.20 b Práctica común\nNIC 37 1, 11 a 26","NIIF Pymes Sección 21, Párrafo 1 al 6. Apéndice.\nSección 32. Párrafo 5","Cap. II Pasivos. 6. Provisiones."]
["01070000","OTROS GASTOS","NIC 1.103 Ejemplo, NIC 1.99 Información a revelar, NIC 26.35 b (vii) Información a revelar","NIIF Pymes Sección 2, Párrafos 26 a 28;  Párrafo 42; Sección 5 Párrafo 5 (b), 11","Resolución 414 Marco conceptual Num. 6.1.5., 6.2.4, "]
["01070100","Financieros y comisiones","NIC 17. Párrafo 27\nNIC 23. Párrafo 1, 8","NIIF Pymes Sección 25 Párrafo 2","Cap.I. Activos - 9. Inventarios Párrafo 5\n10. Propiedades, planta y Equipo.  Párrafo 10\n12.  Activo Intangibles - Párrafo 17\n15.  Costos de financiación.  Párrafo 2, 11 y 12\n"]
["01070200","Pérdidas por la aplicación del método de participación patrimonial","NIC 24, NIC 28. 10 a 39","NIIF Pymes Sección 14","Cap.I. Activos.  5. Inversiones en controladas\n6.  Inversiones en asociadas"]
["01070300","Gastos diversos ","NIIF Plenas. Marco Conceptual. Párrafos 4.2, 4.21, 4.24, 4.25, 4.28, 4.33 a 4.35, 4.49 a 4.53","NIIF Pymes Sección 2, Párrafos 26 a 28;  Párrafo 42; Sección 5 Párrafo 5 (b), 11","Resolución 414 Marco conceptual Num. 6.1.5., 6.2.4, "]
["01070400","Ajuste por diferencia en cambio","NIC 21","NIIF Pymes Sección 30, Párrrafos 9 al 23","Cap. V. Otras normas.  1.  Efectos en las variaciones en las tasas de cambio."]
["02000000","COSTOS","NIIF Plenas. Marco Conceptual. Párrafos 4.2, 4.21, 4.24, 4.25, 4.28, 4.33 a 4.35, 4.49 a 4.53","NIIF Pymes Sección 2, Párrafos 26 a 28;  Párrafo 42; Sección 5 Párrafo 5 (b), 11","Resolución 414 Marco conceptual Num. 6.1.6., 6.2.4"]
["02010000","BENEFICIOS A EMPLEADOS","NIC 1.102 Ejemplo, NIC 1.104 Información a revelar, NIC 1.99 Información a revelar\nNIC 19.  Párrrafo 1, 11, 18, 37, 50, 51, 55, 56, 72, 103, 141, 158, 165, 170","NIIF Pymes Sección 28, Párrrafo 1, 3 (b)\nNIIF Pymes Sección 28, Párrafos 4 a 38","Cap. 2 Pasivos - 5.  Beneficios a empleados."]
["02020000","GENERALES","NIIF Plenas. Marco Conceptual. Párrafos 4.2, 4.21, 4.24, 4.25, 4.28, 4.33 a 4.35, 4.49 a 4.53","NIIF Pymes Sección 2, Párrafos 26 a 28;  Párrafo 42; Sección 5 Párrafo 5 (b), 11","Resolución 414 Marco conceptual Num. 6.1.5., 6.2.4, "]
["02020100","Estudios y proyectos","NIC 38.  Párrafo 8. Inciso 5 y 8.  Párrafo 34.  Fase de investigación Párrafo 54 a 56\nFase de desarrollo Párrafo 57 a 64\n68 a 71\n",null,"Cap.I - Activos. 12.  Activos intangibles. Párrafo 22"]
["02030000","IMPUESTOS, CONTRIBUCIONES Y TASAS","NIIF Plenas. Marco Conceptual. Párrafos 4.2, 4.21, 4.24, 4.25, 4.28, 4.33 a 4.35, 4.49 a 4.53","NIIF Pymes Sección 2, Párrafos 26 a 28;  Párrafo 42; Sección 5 Párrafo 5 (b), 11","Resolución 414 Marco conceptual Num. 6.1.5., 6.2.4, "]
["02040000","ARRENDAMIENTOS","NIC 17. Párrafo 33, 34","Sección 20. Párrafos 15 y 16.  22","Cap. I Activos - 13. Arrendamientos. Párrafo 42, 47"]
["02050000","DEPRECIACIONES","IAS 1 112 c\nNIC 1.102 Ejemplo, NIC 1.104 Información a revelar, NIC 1.99 Información a revelar, NIIF 12.B13 d Información a revelar, NIIF 8.23 e Información a revelar, NIIF 8.28 e Información a revelar\nNIC 7.20 b Práctica común","NIIF Pymes Sección 17, Párrafos 16 a 23","Cap. I - Activos - 10. Propiedad, planta y equipo.  Párrafos 19 a 29"]
["02060000","AMORTIZACIONES","IAS 1 112 c\nNIC 1.102 Ejemplo, NIC 1.104 Información a revelar, NIC 1.99 Información a revelar, NIIF 12.B13 d Información a revelar, NIIF 8.23 e Información a revelar, NIIF 8.28 e Información a revelar\nNIC 7.20 b Práctica común","NIIF Pymes Sección 18. Párrafos 21 y 22","Cap.I - Activos. 12.  Activos intangibles. Párrafo 27 a 36\nCapitulo II Pasivos. 2. Emisión de títulos dde deuda. Párrafo "]
["02060200","Amortización arriendos","NIIF 16 IN11, Párrafo 31, 32, 49, 62"]
["02070000","DETERIORO","NIC 7.20 b Práctica común\nNIC 36. Párrafo 60, 61, 119, 120","NIIF Pymes Sección 27\nSección 11, Párrafos 21 a 26, 48.  Sección 17 Párrafos 24 a 26 ","Cap.I - Activos. 16. Deterioro del valor de los activos. Párrafo 50\n1. Inversiones de administración de liquidez. Párrafo 17, 18, 21, 24, 26\n2. Cuentas por cobrar\nPárrafo 8\n9. Inventarios Párrafo 5, 27\nPropiedad, planta y equipo.  Párrafo 30\n12.  Activos Intangibles.  Párrafo 37"]
["02080000","COSTO DE BIENES Y SERVICIOS PÚBLICOS PARA LA VENTA","NIIF Plenas. Marco Conceptual. Párrafos 4.2, 4.21, 4.24, 4.25, 4.28, 4.33 a 4.35, 4.49 a 4.53","NIIF Pymes Sección 2, Párrafos 26 a 28;  Párrafo 42; Sección 5 Párrafo 5 (b), 11","Resolución 414 Marco conceptual Num. 6.1.5., 6.2.4, "]
["02090000","LICENCIAS,  CONTRIBUCIONES Y REGALÍAS","NIIF Plenas. Marco Conceptual. Párrafos 4.2, 4.21, 4.24, 4.25, 4.28, 4.33 a 4.35, 4.49 a 4.53","NIIF Pymes Sección 2, Párrafos 26 a 28;  Párrafo 42; Sección 5 Párrafo 5 (b), 11","Resolución 414 Marco conceptual Num. 6.1.5., 6.2.4, "]
["02100000","CONSUMO DE INSUMOS DIRECTOS","NIIF Plenas. Marco Conceptual. Párrafos 4.2, 4.21, 4.24, 4.25, 4.28, 4.33 a 4.35, 4.49 a 4.53","NIIF Pymes Sección 2, Párrafos 26 a 28;  Párrafo 42; Sección 5 Párrafo 5 (b), 11","Resolución 414 Marco conceptual Num. 6.1.5., 6.2.4, "]
["02110000","ÓRDENES Y CONTRATOS DE MANTENIMIENTO Y REPARACIONES","NIIF Plenas. Marco Conceptual. Párrafos 4.2, 4.21, 4.24, 4.25, 4.28, 4.33 a 4.35, 4.49 a 4.53","NIIF Pymes Sección 2, Párrafos 26 a 28;  Párrafo 42; Sección 5 Párrafo 5 (b), 11","Resolución 414 Marco conceptual Num. 6.1.5., 6.2.4, "]
["02120000","SERVICIOS PÚBLICOS","NIIF Plenas. Marco Conceptual. Párrafos 4.2, 4.21, 4.24, 4.25, 4.28, 4.33 a 4.35, 4.49 a 4.53","NIIF Pymes Sección 2, Párrafos 26 a 28;  Párrafo 42; Sección 5 Párrafo 5 (b), 11","Resolución 414 Marco conceptual Num. 6.1.5., 6.2.4, "]
["02130000","MATERIALES Y OTROS COSTOS DE OPERACIÓN","NIIF Plenas. Marco Conceptual. Párrafos 4.2, 4.21, 4.24, 4.25, 4.28, 4.33 a 4.35, 4.49 a 4.53","NIIF Pymes Sección 2, Párrafos 26 a 28;  Párrafo 42; Sección 5 Párrafo 5 (b), 11","Resolución 414 Marco conceptual Num. 6.1.5., 6.2.4, "]
["02140000","SEGUROS","NIIF Plenas. Marco Conceptual. Párrafos 4.2, 4.21, 4.24, 4.25, 4.28, 4.33 a 4.35, 4.49 a 4.53","NIIF Pymes Sección 2, Párrafos 26 a 28;  Párrafo 42; Sección 5 Párrafo 5 (b), 11","Resolución 414 Marco conceptual Num. 6.1.5., 6.2.4, "]
["02150000","ÓRDENES Y CONTRATOS POR OTROS SERVICIOS","NIIF Plenas. Marco Conceptual. Párrafos 4.2, 4.21, 4.24, 4.25, 4.28, 4.33 a 4.35, 4.49 a 4.53","NIIF Pymes Sección 2, Párrafos 26 a 28;  Párrafo 42; Sección 5 Párrafo 5 (b), 11","Resolución 414 Marco conceptual Num. 6.1.5., 6.2.4, "]

{"sheet":"Matriz de Conciliación","index":3,"n_rows":520,"n_cols":4,"rows_kept":520,"cut":false,"hidden":false,"merged":[]}
["Código SSPD PUC","Código CGN PUC","Código CREG ICR","Nombre Concepto CREG ICR / Cuenta PUC"]
["","","01000000","GASTOS"]
["","","01010000","BENEFICIOS A EMPLEADOS"]
["","","01010100","Sueldos y salarios"]
["510101","510101","","← Sueldos"]
["510102","510102","","← Jornales"]
["510103","510103","","← Horas extras y festivos"]
["510201","510201","","← Incapacidades"]
["510108","510108","","← Sueldos por comisiones al exterior"]
["510123","510123","","← Auxilio de transporte"]
["510145","510145","","← Salario integral"]
["","","01010200","Primas y prestaciones sociales"]
["","","01010201","Establecidas en el código sustantivo de trabajo (CST) o régimen del empleado público (REP)"]
["510117","510701","","← Vacaciones"]
["510124","510702","","← Cesantías"]
["510125","510703","","← Intereses a las cesantías"]
["510113","510704","","← Prima de vacaciones"]
["510114","510705","","← Prima de navidad"]
["510152","510706","","← Prima de servicios"]
["510110","510110","","← Primas técnicas"]
["510111","510111","","← Prima de dirección"]
["510112","510112","","← Prima especial de servicios"]
["510156"," ","","← Prima de coordinación"]
["510160","510160","","← Subsidio de alimentación"]
["510118","","","← Bonificación especial de recreación"]
["510131","510804","","← Dotación y suministro a trabajadores"]
["510121","","","← Prima de costos de vida"]
["510153","","","← Prima de actividad"]
["510158","","","← Prima de instalación y alojamiento"]
["","","01010202","Adicionales o no establecidas en el código sustantivo de trabajo o régimen del empleado público"]
["510115"," ","","← Primas extralegales"]
["510116"," ","","← Primas extraordinarias"]
["","510790","","← Otras primas"]
["","510795","","← Otras prestaciones sociales"]
["","","01010300","Aportes a seguridad social y aportes a la nómina"]
["","","01010301","Establecidas en el código sustantivo de trabajo (CST) o régimen del empleado público (REP)"]
["510302","510302","","← Aportes a cajas de compensación familiar"]
["","510401","","← Aportes al ICBF"]
["510303","510303","","← Cotizaciones a seguridad social en salud"]
["","510402","","← Aportes al SENA"]
["","510403","","← Aportes a la ESAP"]
["","510404","","← Aportes a escuelas industriales e institutos técnicos"]
["510304","510304","","← Aportes sindicales"]
["510305","510305","","← Cotizaciones a riesgos laborales"]
["510306","510306","","← Cotizaciones a entidades administradoras del régimen de prima media"]
["510307","510307","","← Cotizaciones a entidades administradoras del régimen de ahorro individual"]
["510147","510810","","← Viáticos"]
["510148","510807","","← Gastos de viaje"]
["","510808","","← Remuneración electoral"]
["510130","510803","","← Capacitación, bienestar social y estímulos"]
["","","01010302","Adicionales o no establecidas en el código sustantivo de trabajo o régimen del empleado público"]
["510151","","","← Estímulo a la eficiencia"]
["510163","","","← Aporte fondos mutuos de inversión"]
["","","01010400","Otros pagos laborales"]
["510105","510809","","← Gastos de representación"]
["510119","510119","","← Bonificaciones"]
["510150","","","← Bonificación por servicios prestados"]
["510133","510805","","← Gastos deportivos y de recreación"]
["510204","510204","","← Gastos médicos y drogas"]
["510205","510205","","← Auxilios y servicios funerarios"]
["510202","510202","","← Subsidio familiar"]
["510159","510159","","← Subsidio de vivienda"]
["510162","","","← Subsidio de carestía"]
["510301","510301","","← Seguros de vida"]
["510390","510390","","← Otras contribuciones efectivas"]
["510190","510890","","← Otros gastos de personal diversos"]
["510215","510215","","← Subsidio por dependiente"]
["510290","510290","","← Otras contribuciones imputadas"]
["","","01010500","Medicina prepagada"]
["510308","510308","","← Medicina prepagada"]
["","","01010600","Terminación del vínculo laboral"]
["510203","510203","","← Indemnizaciones"]
["","","01010700","Beneficios a empleados a largo plazo"]
["510161","","","← Prima especial de quinquenio"]
["","","01010800","Beneficios posempleo"]
["","510811","","← Ajuste beneficios posempleo"]
["","510812","","← Ajuste beneficios a los empleados a largo plazo"]
["","","01010900","Cálculo actuarial y pensiones de jubilación"]
["510206","510206","","← Pensiones de jubilación patronales"]
["510207","510207","","← Cuotas partes de pensiones"]
["510208","510208","","← Indemnizaciones sustitutivas"]
["510209","510209","","← Amortización cálculo actuarial pensiones actuales"]
["510210","510210","","← Amortización cálculo actuarial de futuras pensiones"]
["510211","510211","","← Amortización cálculo actuarial de futuras cuotas partes de pensiones"]
["510212","510212","","← Amortización liquidación provisional de cuotas partes de bonos pensionales"]
["510214","510213","","← Cuotas partes de bonos pensionales emitidos"]
["","","01011000","Gastos de personal sin vínculo laboral"]
["510107","","","← Personal supernumerario"]
["510106","510801","","← Remuneración por servicios técnicos"]
["510109","510802","","← Honorarios"]
["510146","510806","","← Contratos de personal temporal"]
["510149","","","← Comisiones"]
["","","01020000","GENERALES"]
["","","01020100","Gastos de organización y puesta en marcha"]
["","511105","","← Gastos de organización y puesta en marcha"]
["","","01020200","Estudios y proyectos"]
["","511106","","← Estudios y proyectos"]
["","","01020300","Publicidad y propaganda"]
["","511120","","← Publicidad y propaganda"]
["","","01020400","Gastos de exploración y desarrollo"]
["","511109","","← Gastos de desarrollo"]
["","","01020500","Gastos de administración y funcionamiento "]
["","511121","","← Impresos, publicaciones, suscripciones y afiliaciones"]
["","511119","","← Viáticos y gastos de viaje"]
["","511122","","← Fotocopias"]
["","511123","","← Comunicaciones y transporte"]
["","511133","","← Seguridad industrial"]
["","511136","","← Implementos deportivos"]
["","511140","","← Contratos de administración"]
["","511151","","← Gastos por control de calidad"]
["","511155","","← Elementos de aseo, lavandería y cafetería"]
["","511158","","← Videos"]
["","511159","","← Licencias y salvoconductos"]
["","511163","","← Contratos de aprendizaje"]
["","511111","","← Comisiones, honorarios y servicios"]
["","511113","","← Vigilancia y seguridad"]
["","511114","","← Materiales y suministros"]
["","511116","","← Reparaciones"]
["","511117","","← Servicios públicos"]
["","511125","","← Seguros generales"]
["","511127","","← Promoción y divulgación"]
["","511139","","← Participaciones y compensaciones"]
["","511146","","← Combustibles y lubricantes"]
["","511149","","← Servicios de aseo, cafetería, restaurante y lavandería"]
["","511150","","← Procesamiento de información"]
["","511156","","← Bodegaje"]
["","511157","","← Concursos y licitaciones"]
["","511162","","← Equipo de seguridad industrial"]
["",511164,"","← Gastos legales"]
["","","01020600","Arrendamiento operativo"]
["","511118","","← Arrendamiento operativo"]
["","","01020700","Otros gastos de administración y funcionamiento"]
["","511101","","← Moldes y troqueles"]
["","511102","","← Material quirúrgico"]
["","511104","","← Loza y cristalería"]
["","511110","","← Gastos de asociación"]
["","511103","","← Elementos de lencería y ropería"]
["","511112","","← Obras y mejoras en propiedad ajena"]
["","511126","","← Imprevistos"]
["","511132","","← Diseños y estudios"]
["","511137","","← Eventos culturales"]
["","511141","","← Sostenimiento de semovientes"]
["","511142","","← Gastos de operación aduanera"]
["","511147","","← Servicios portuarios y aeroportuarios"]
["","511154","","← Organización de eventos"]
["","511161","","← Relaciones públicas"]
["","511190","","← Otros gastos generales"]
["","","01020800","Mantenimiento"]
["","511115","","← Mantenimiento"]
["","","01030000","IMPUESTOS, CONTRIBUCIONES Y TASAS"]
["","","01030100","Impuestos municipales y de operación"]
["","512002","","← Cuota de fiscalización y auditaje"]
["","512006","","← Valorización"]
["","512010","","← Tasas"]
["","512012","","← Impuesto de registro"]
["","512025","","← Impuesto de timbre"]
["","","01030200","Impuesto predial unificado"]
["","512001","","← Impuesto predial unificado"]
["","","01030300","Impuesto de industria y comercio"]
["","512009","","← Impuesto de industria y comercio"]
["","","01030400","Impuesto sobre vehículos automotores"]
["","512011","","← Impuesto sobre vehículos automotores"]
["","","01030500","Impuesto a las ventas, IVA no descontable"]
["","512018","","← Impuesto a las ventas, IVA no descontable"]
["","","01030600","Gravamen a los movimientos financieros"]
["","512024","","← Gravamen a los movimientos financieros"]
["","","01030700","Impuesto a la riqueza"]
["","512021","","← Impuesto para preservar la seguridad democrática"]
["","512023","","← Impuesto al patrimonio"]
[" ","512032","","← Impuesto a la riqueza"]
["","","01030800","Licencias y contribuciones"]
["512004-05","512026","","← Contribuciones"]
["","512027","","← Licencias"]
["","512022","","← Peajes"]
["","","01030900","Multas, sanciones e intereses de mora"]
["","512007","","← Multas"]
["","512008","","← Sanciones"]
["","512017","","← Intereses de mora"]
["","","01031000","Impuesto de alumbrado público"]
["","","","← Impuesto de alumbrado público"]
["","","01031100","Otros impuestos"]
["","512013","","← Regalías y compensaciones monetarias"]
["","512019","","← Registro y salvoconducto"]
["512026","512034","","← Notariales"]
["","512028","","← Impuestos sobre aduana y recargos"]
["","512029","","← Impuestos, contribuciones y tasas en el exterior"]
["","512033","","← Impuesto complementario de normalización tributaria al impuesto a la riqueza"]
["","512090","","← Otros impuestos"]
["","","01040000","IMPUESTO A LAS GANANCIAS CORRIENTE"]
["","5821","","← Impuesto a las ganancias corriente"]
["","","01050000","IMPUESTO A LAS GANANCIAS DIFERIDO"]
["","5822","","← Impuesto a las ganancias diferido"]
["","","01060000","DETERIORO, DEPRECIACIONES, AMORTIZACIONES Y PROVISIONES"]
["","","01060100","Depreciación"]
["","5330","","← Depreciación de propiedades, planta y equipo"]
["","5331","","← Depreciación de bienes adquiridos en \"Leasing Financiero\""]
["","","01060200","Amortización"]
["","","01060201","Amortización licencias y software"]
["","534507","","← Licencias"]
["","534508","","← Software"]
["","","01060202","Amortización arriendos"]
["","","","← Arriendos"]
["","","01060203","Otras amortizaciones"]
["","53","","← Otras amortizaciones "]
["","","01060300","Deterioro"]
["","53","","← Deterioro"]
["","","01060400","Provisiones"]
["","5302","","← Provisión para protección de inversiones"]
["","5304","","← Provisión para deudores"]
["","5306","","← Provisión para protección de inventarios"]
["","5307","","← Provisión para protección de propiedades, planta y equipo"]
["","5309","","← Provisión para responsabilidades"]
["","5311","","← Provisión bienes de arte y cultura"]
["","5312","","← Provisión para bienes y derechos en investigación administrativa"]
["","5313","","← Provisión para obligaciones fiscales"]
["","5314","","← Provisión para contingencias"]
["","5317","","← Provisiones diversas"]
["","","01070000","OTROS GASTOS"]
["","","01070100","Financieros y comisiones"]
["","5801","","← Intereses"]
["","5802","","← Comisiones"]
["","5805","","← Financieros     "]
["","","01070200","Pérdidas por la aplicación del método de participación patrimonial"]
["","5806","","← Pérdida por el método de la participación patrimonial"]
["","","01070300","Gastos diversos "]
["","5810","","← Extraordinarios"]
["","5815","","← Ajuste de ejercicios anteriores"]
["","","01070400","Ajuste por diferencia en cambio"]
["","5803","","← Ajuste por diferencia en cambio"]
["","","02000000","COSTOS"]
["","","02010000","BENEFICIOS A EMPLEADOS"]
["","","02010100","Sueldos y salarios"]
["","750501","","← Sueldos de personal"]
["","750502","","← Jornales"]
["","750503","","← Horas extras y festivos"]
["","750504","","← Incapacidades"]
["","750508","","← Sueldos por comisiones al exterior"]
["","750523","","← Auxilio de transporte"]
["","750545","","← Salario integral"]
["","","02010200","Primas y prestaciones sociales"]
["","","02010201","Establecidas en el código sustantivo de trabajo (CST) o régimen del empleado público (REP)"]
["","750518","","← Vacaciones"]
["","750524","","← Cesantías"]
["","750525","","← Intereses a las cesantías"]
["","750513","","← Prima de vacaciones"]
["","750514","","← Prima de navidad"]
["","750552","","← Prima de servicios"]
["","750510","","← Primas técnicas"]
["","750511","","← Prima de dirección"]
["","750512","","← Prima especial de servicios"]
["","750575","","← Prima de coordinación"]
["","750522","","← Subsidio de alimentación"]
["","750519","","← Bonificación especial de recreación"]
["","750531","","← Dotación y suministro a trabajadores"]
["","750571","","← Prima de costos de vida"]
["","750574","","← Prima de actividad"]
["","","02010202","Adicionales o no establecidas en el código sustantivo de trabajo o régimen del empleado público"]
["","750515","","← Primas extralegales"]
["","750516","","← Primas extraordinarias"]
["","750517","","← Otras primas"]
["","","02010300","Aportes a seguridad social y aportes a la nómina"]
["","","02010301","Establecidas en el código sustantivo de trabajo (CST) o régimen del empleado público (REP)"]
["","750535","","← Aportes a cajas de compensación familiar"]
["","750536","","← Aportes al ICBF"]
["","750537","","← Aportes a seguridad social"]
["","750538","","← Aportes al SENA"]
["","750581","","← Aportes a la ESAP"]
["","750582","","← Aportes a escuelas industriales e institutos técnicos"]
["","750539","","← Aportes sindicales"]
["","750544","","← Riesgos profesionales"]
["","750567","","← Cotizaciones a entidades administradoras del régimen de prima media"]
["","750568","","← Cotización a sociedades administradoras del régimen de ahorro individual"]
["","750547","","← Viáticos"]
["","750548","","← Gastos de viaje"]
["","750530","","← Capacitación, bienestar social y estímulos"]
["","","02010302","Adicionales o no establecidas en el código sustantivo de trabajo o régimen del empleado público"]
["","750573","","← Estímulo a la eficiencia"]
["","750579","","← Aporte fondos mutuos de inversión"]
["","","02010400","Otros pagos laborales"]
["","750505","","← Costos de representación"]
["","750520","","← Bonificaciones"]
["","750572","","← Bonificación por servicios prestados"]
["","750533","","← Costos deportivos y de recreación"]
["","750541","","← Costos médicos y drogas"]
["","750570","","← Auxilios y servicios funerarios"]
["","750521","","← Subsidio familiar"]
["","750576","","← Subsidio de vivienda"]
["","750578","","← Subsidio de carestía"]
["","750540","","← Otros aportes"]
["","750590","","← Otros servicios personales"]
["","750543","","← Otros auxilios"]
["","","02010500","Medicina prepagada"]
["","750580","","← Medicina prepagada"]
["","","02010600","Terminación del vínculo laboral"]
["","750529","","← Indemnizaciones"]
["","","02010700","Beneficios a empleados a largo plazo"]
["","","","← Beneficios a empelados a largo plazo"]
["","","02010800","Beneficios pospempleo"]
["","750577","","← Prima especial de quinquenio"]
["","","02010900","Cálculo actuarial y pensiones de jubilación"]
["","750562","","← Amortización del cálculo actuarial de futuras pensiones"]
["","750569","","← Indemnizaciones sustitutivas"]
["","","02011000","Gastos de personal sin vínculo laboral"]
["","750549","","← Comisiones"]
["","750546","","← Contratos personal temporal"]
["","750506","","← Remuneración servicios técnicos"]
["","750507","","← Personal supernumerario"]
["","","02020000","GENERALES"]
["","","02020100","Estudios y proyectos"]
["","751006","","← Estudios y proyectos"]
["","","02020200","Publicidad y propaganda"]
["","751023","","← Publicidad y propaganda"]
["","","02020300","Promoción y divulgación"]
["","751027","","← Promoción y divulgación"]
["","","02020400","Transporte, fletes y acarreos"]
["","751037","","← Transporte, fletes y acarreos"]
["","","02020500","Gastos de operación"]
["","751013","","← Suscripciones y afiliaciones"]
["","751019","","← Viáticos y gastos de viaje"]
["","751024","","← Impresos y publicaciones"]
["","751025","","← Fotocopias, útiles de escritorio y papelería"]
["","751026","","← Comunicaciones"]
["","751036","","← Seguridad industrial"]
["","751039","","← Implementos deportivos"]
["","751041","","← Contratos de administración"]
["","751045","","← Costos por control de calidad"]
["","751046","","← Elementos de aseo, lavandería, y cafetería"]
["","751047","","← Videos"]
["","751048","","← Licencias y salvoconductos"]
["","751050","","← Contratos de aprendizaje"]
["","","02020600","Otros gastos de operación"]
["","751001","","← Moldes y troqueles"]
["","751003","","← Material quirúrgico"]
["","751004","","← Loza y cristalería"]
["","751015","","← Obras y mejoras en propiedad ajena"]
["","751038","","← Imprevistos"]
["","751040","","← Eventos culturales"]
["","751042","","← Sostenimiento de semovientes"]
["","751043","","← Gastos de operación aduanera"]
["","751044","","← Servicios portuarios y aeroportuarios"]
["","751049","","← Relaciones públicas"]
["","751090","","← Otros Costos generales"]
["","","02030000","IMPUESTOS, CONTRIBUCIONES Y TASAS"]
["","","02030100","Impuestos municipales y de operación"]
["","756502","","← De timbre"]
["","756504","","← De valorización"]
["","","02030200","Impuesto predial unificado"]
["","756503","","← Predial"]
["","","02030300","Impuesto sobre vehículos automotores"]
["","756505","","← De vehículos"]
["","","02030400","Otros Impuestos"]
["","756506","","← Registro"]
["","756507","","← Tasa por utilización de recursos naturales"]
["","756508","","← Tasa por contaminación de recursos naturales"]
["","756510","","← Peajes de carreteras"]
["","756590","","← Otros impuestos"]
["","","02040000","ARRENDAMIENTOS"]
["","","02040100","Terrenos"]
["","751701","","← Terrenos"]
["","","02040200","Construcciones y edificaciones"]
["","751702","","← Construcciones y edificaciones"]
["","","02040300","Otros arrendamientos"]
["","751703","","← Maquinaria y equipo"]
["","751704","","← Equipo de oficina"]
["","751705","","← Equipo de computación y comunicación"]
["","751706","","← Equipo científico"]
["","751707","","← Flota y equipo de transporte"]
["","751790","","← Otros"]
["","","02050000","DEPRECIACIONES"]
["","7515","","← Depreciaciones"]
["","","02060000","AMORTIZACIONES"]
["","","02060100","Amortización licencias y software"]
["","752006","","← Amortización intangibles"]
["","","02060200","Amortización arriendos"]
[""," ","","← Arriendos"]
["","","02060300","Otras amortizaciones"]
["","752090","","← Otras amortizaciones"]
["","","02070000","DETERIORO"]
["","75","","← Deterioro"]
["","","02080000","COSTO DE BIENES Y SERVICIOS PÚBLICOS PARA LA VENTA"]
["","753001","","← Compras en bloque o a largo plazo"]
["","753002","","← Compras en bolsa  o a corto plazo"]
["","753003","","← Cargos de acceso e interconexión servicio de telecomunicaciones"]
["","753004","","← Costo por conexión"]
["","753005","","← Uso de líneas, redes y ductos"]
["","753006","","← Costo de distribución o comercialización de gas natural"]
["","753007","","← Manejo comercial y financiero del servicio"]
["","753008","","← Costo de distribución o comercialización de gas licuado de petróleo – GLP"]
["","753009","","← Contrato de explotación"]
["","753010","","← Contrato de concesión"]
["","753011","","← Costos asociados a las transacciones en el mercado mayorista "]
["","753090","","← Otros"]
["","","02090000","LICENCIAS,  CONTRIBUCIONES Y REGALÍAS"]
["","","02090100","Departamento administrativo del medio ambiente \"DAMA\""]
["","753504","","← Departamento administrativo del medio ambiente DAMA"]
["","","02090200","Regalías"]
["","753507","","← Regalías"]
["","","02090300","Cuota de fomento de gas"]
["","753511","","← Cuota de fomento de gas"]
["","","02090400","Comité de estratificación –Ley 505 De 1999"]
["","753513","","← Comité de estratificación, ley 505 de 1999"]
["","","02090500","Otros fondos y licencias"]
["","753505","","← Ley 56 de 1981"]
["","753506","","← Medio ambiente, ley 99 de 1993"]
["","753508","","← Licencia de operación del servicio"]
["","753509","","← FAZNI"]
["","753510","","← FAER"]
["","753512","","← Ministerio de comunicaciones o fondo de comunicaciones"]
["","","02090600","Otras contribuciones"]
["","753590","","← Otras contribuciones"]
["","","02100000","CONSUMO DE INSUMOS DIRECTOS"]
["","","02100100","Energético utilizado para el transporte de gas natural"]
["","753702","","← Gas combustible"]
["","753704","","← Energía"]
["","753705","","← ACPM, fuel oil"]
["","","02100200","Energético utilizado para el transporte de combustibles líquidos"]
["","753702","","← Gas combustible"]
["","753704","","← Energía"]
["","753705","","← ACPM, fuel oil"]
["","","02100300","GLP utilizado para el transporte de cilindros"]
["","","","← Gas licuado de petróleo - GLP"]
["","","02100400","Otros elementos de consumo de insumos directos"]
["","753701","","← Productos químicos"]
["","753703","","← Carbón mineral"]
["","753790","","← Otros elementos de consumo de insumos directos"]
["","","02110000","ÓRDENES Y CONTRATOS DE MANTENIMIENTO Y REPARACIONES"]
["","","02110100","Mantenimiento de otros activos"]
["","754001","","← Mantenimiento de construcciones y edificaciones"]
["","754003","","← Mantenimiento de equipo de oficina"]
["","754004","","← Mantenimiento de equipo computación y comunicación"]
["","754005","","← Mantenimiento equipo de transporte, tracción y elevación"]
["","754006","","← Mantenimiento terrenos"]
["","","02110200","Mantenimiento de activos asociados a la actividad"]
["","754002","","← Mantenimiento maquinaria y equipo"]
["","754007","","← Mantenimiento líneas, redes y ductos"]
["","754008","","← Mantenimiento de plantas"]
["","","02110300","Reparación de otros activos"]
["","754009","","← Reparaciones de construcciones y edificaciones"]
["","754011","","← Reparaciones de equipo de oficina"]
["","754012","","← Reparaciones de equipo de computación y comunicación"]
["","754013","","← Reparaciones de equipo de transporte, tracción y elevación"]
["","","02110400","Reparación de activos asociados a la actividad"]
["","754010","","← Reparaciones de maquinaria y equipo"]
["","754014","","← Reparación de líneas, redes, y ductos"]
["","754015","","← Reparación de plantas"]
["","","02110500","Otros contratos de mantenimiento y reparaciones"]
["","754090","","← Otros contratos de mantenimiento y reparaciones"]
["","","02120000","SERVICIOS PÚBLICOS"]
["","7545","","← Servicios públicos"]
["","","02130000","MATERIALES Y OTROS COSTOS DE OPERACIÓN"]
["","","02130100","Repuestos para vehículos"]
["","755001","","← Repuestos para vehículos"]
["","755002","","← Llantas y neumáticos"]
["","755003","","← Rodamientos"]
["","","02130200","Combustibles y lubricantes"]
["","755004","","← Combustibles y lubricantes"]
["","","02130300","Materiales"]
["","755005","","← Materiales para construcción"]
["","755006","","← Materiales para laboratorio"]
["","755007","","← Materiales eléctricos"]
["","","02130400","Elementos y accesorios de gas combustible"]
["","755008","","← Elementos y accesorios de gas combustible"]
["","","02130500","Costos de gestión ambiental"]
["","755015","","← Costos de gestión ambiental"]
["","","02130600","Otros elementos y materiales"]
["","755009","","← Elementos y accesorios de telecomunicaciones"]
["","755010","","← Elementos y accesorios de acueducto"]
["","755011","","← Elementos y accesorios de alcantarillado"]
["","755012","","← Elementos y accesorios de aseo"]
["","755013","","← Otros elementos y materiales"]
["","755014","","← Otros repuestos"]
["","755090","","← Otros elementos"]
["","","02140000","SEGUROS"]
["","","02140100","De terrorismo   "]
["","756012","","← De terrorismo"]
["","","02140200","Otros Seguros Generales"]
["","756001","","← De manejo"]
["","756002","","← De cumplimiento"]
["","756003","","← De corriente débil"]
["","756004","","← De vida colectiva"]
["","756005","","← De incendio"]
["","756006","","← De terremoto"]
["","756007","","← De sustracción y hurto"]
["","756008","","← De flota y equipo de transporte"]
["","756009","","← De responsabilidad civil y extracontractual"]
["","756010","","← De rotura de maquinaria"]
["","756011","","← De equipo fluvial y marítimo"]
["","756090","","← Otros seguros"]
["","","02150000","ÓRDENES Y CONTRATOS POR OTROS SERVICIOS"]
["","","02150100","Servicio de aseo y vigilancia"]
["","757001","","← Aseo"]
["","757002","","← Vigilancia"]
["","","02150200","Casino y cafetería"]
["","757003","","← Casino y cafetería"]
["","","02150300","Toma de lectura"]
["","757004","","← Toma de lectura"]
["","","02150400","Entrega de facturas"]
["","757005","","← Entrega de facturas"]
["","","02150500","Venta de derechos por comisión"]
["","757006","","← Venta de derechos por comisión"]
["","","02150600","Servicios informáticos"]
["","757007","","← Administración de infraestructura informática"]
["","757008","","← Suministro y servicios informáticos"]
["","","02150700","Servicio de instalación y desinstalación"]
["","757009","","← Servicio de instalación y desinstalación"]
["","","02150800","Otros contratos"]
["","757090","","← Otros contratos"]
["","",{"$f":"CONCATENATE(\"0\",\"2150900\")","v":"02150900"},"Centro de atención telefónica"]
["",null,"","← Centro de atención telefónica"]
["","",{"$f":"CONCATENATE(\"0\",\"2151000\")","v":"02151000"},"Comisiones no bancarias"]
["",null,"","← Comisiones no bancarias"]
["","",{"$f":"CONCATENATE(\"0\",\"2151100\")","v":"02151100"},"Recaudo"]
["",null,"","← Recaudo"]
[null,"","02160000","HONORARIOS"]
["","","02160100","Asesoría técnica"]
["","754207","","← Asesoría técnica"]
["","","02160200","Otros honorarios"]
["","754204","","← Avalúos"]
["","754208","","← Diseños y estudios"]
["","754290","","← Otros"]

{"sheet":"Poliductos","index":4,"n_rows":25,"n_cols":4,"rows_kept":25,"cut":false,"hidden":false,"merged":[]}
["NOMBRE POLIDUCTO","CODIGO","EMPRESA","SIGLA"]
["GALÁN - SALGAR 8","POLID01","CENIT TRANSPORTE Y LOGISTICA DE HIDROCARBUROS S.A.S","CENIT"]
["GALÁN - SALGAR 12","POLID02","CENIT TRANSPORTE Y LOGISTICA DE HIDROCARBUROS S.A.S","CENIT"]
["GALÁN - SALGAR 16","POLID03","CENIT TRANSPORTE Y LOGISTICA DE HIDROCARBUROS S.A.S","CENIT"]
["JETDUCTO PUENTE ARANDA","POLID04","CENIT TRANSPORTE Y LOGISTICA DE HIDROCARBUROS S.A.S","CENIT"]
["SALGAR - CARTAGO 6","POLID05","CENIT TRANSPORTE Y LOGISTICA DE HIDROCARBUROS S.A.S","CENIT"]
["CARTAGO - YUMBO 6","POLID06","CENIT TRANSPORTE Y LOGISTICA DE HIDROCARBUROS S.A.S","CENIT"]
["SALGAR - BASE PALANQUERO","POLID07","CENIT TRANSPORTE Y LOGISTICA DE HIDROCARBUROS S.A.S","CENIT"]
["SALGAR - GUALANDAY","POLID08","CENIT TRANSPORTE Y LOGISTICA DE HIDROCARBUROS S.A.S","CENIT"]
["GUALANDAY - NEIVA","POLID09","CENIT TRANSPORTE Y LOGISTICA DE HIDROCARBUROS S.A.S","CENIT"]
["SALGAR - LA DORADA EXXON MOBIL","POLID10","CENIT TRANSPORTE Y LOGISTICA DE HIDROCARBUROS S.A.S","CENIT"]
["SALGAR MANSILLA","POLID11","CENIT TRANSPORTE Y LOGISTICA DE HIDROCARBUROS S.A.S","CENIT"]
["MANSILLA - PUENTE ARANDA","POLID12","CENIT TRANSPORTE Y LOGISTICA DE HIDROCARBUROS S.A.S","CENIT"]
["MEDELLÍN - CARTAGO","POLID13","CENIT TRANSPORTE Y LOGISTICA DE HIDROCARBUROS S.A.S","CENIT"]
["CARTAGO - YUMBO 10","POLID14","CENIT TRANSPORTE Y LOGISTICA DE HIDROCARBUROS S.A.S","CENIT"]
["SEBASTOPOL - MEDELLÍN","POLID15","CENIT TRANSPORTE Y LOGISTICA DE HIDROCARBUROS S.A.S","CENIT"]
["BUENAVENTURA - YUMBO","POLID16","CENIT TRANSPORTE Y LOGISTICA DE HIDROCARBUROS S.A.S","CENIT"]
["SALGAR - VISTA HERMOSA","POLID17","CENIT TRANSPORTE Y LOGISTICA DE HIDROCARBUROS S.A.S","CENIT"]
["CARTAGENA - BARANOA","POLID18","CENIT TRANSPORTE Y LOGISTICA DE HIDROCARBUROS S.A.S","CENIT"]
["GALÁN - CHIMITÁ","POLID19","CENIT TRANSPORTE Y LOGISTICA DE HIDROCARBUROS S.A.S","CENIT"]
["POLIANDINO","POLID20","CENIT TRANSPORTE Y LOGISTICA DE HIDROCARBUROS S.A.S","CENIT"]
["SEBASTOPOL - SUTAMARCHÁN","POLID21","CENIT TRANSPORTE Y LOGISTICA DE HIDROCARBUROS S.A.S","CENIT"]
["SUTAMARCHÁN - TOCANCIPÁ","POLID22","CENIT TRANSPORTE Y LOGISTICA DE HIDROCARBUROS S.A.S","CENIT"]
["POZOS COLORADOS - AYACUCHO - GALÁN","POLID23","CENIT TRANSPORTE Y LOGISTICA DE HIDROCARBUROS S.A.S","CENIT"]
["OTRAS ACTIVIDADES","POLID24","CENIT TRANSPORTE Y LOGISTICA DE HIDROCARBUROS S.A.S","CENIT"]

{"sheet":"ESRI_MAPINFO_SHEET","index":5,"n_rows":0,"n_cols":0,"rows_kept":0,"cut":false,"hidden":true,"merged":[]}