{"text_format":"1","workbook":"xlsx","n_sheets":7,"sheets":["METADATO","RESUMEN","COSTO CIRCUITOS","REDES MUESTRA","TRAFOS MUESTRA","COSTO ELEMENTOS N1","TRANSFORMADORES"],"not_rendered":{"charts":1,"images":0,"macros":1,"external_links":1,"defined_names":31,"comments":1,"pivot_tables":0},"unopened":[],"bounds":{"document_bytes":16777216,"sheet_cells":100000,"rows_first":2000,"rows_last":500,"rows_between":2000,"halvings":0,"cell_chars":16384,"cell_head_chars":4096},"cells_cut":0,"cells_raw":0,"read":"whole","date_system":"1900"}

{"sheet":"METADATO","index":0,"n_rows":12,"n_cols":1,"rows_kept":12,"cut":false,"hidden":false,"merged":[[11,0,11,10],[5,0,5,10],[7,0,7,10],[9,0,9,10]]}
["EJERCICIO DE REFERENCIA DE APLICACIÓN DE LA METODOLOGÍA DE VALORACIÓN DE LAS INVERSIONES DE ACTIVOS DE NIVEL DE TENSIÓN 1"]
[]
[]
["NOTAS"]
[]
["LAS CELDAS DE COLOR VERDE CONTIENEN LOS VALORES DE LOS PARÁMETROS GENERALES DE APLICACIÓN DE LA METODOLOGÍA DE VALORACIÓN DE INVERSIONES EN EL NIVEL DE TENSIÓN 1 (TASA DE DESCUENTO, VIDA ÚTIL, ETC.), ASÍ COMO LOS VALORES PROPIOS DE CADA EMPRESA (NÚMERO DE TRANSFORMADORES, VENTAS, PÉRDIDAS, ETC.)"]
[]
["EN ESTE ARCHIVO LOS VALORES QUE APARECEN EN LAS CELDAS DE COLOR VERDE SE UTILIZAN COMO EJEMPLO PARA EL EJERCICIO DE APLICACIÓN Y NO CORRESPONDEN A VALORES ADOPTADOS POR LA COMISIÓN O A VALORES PROPIOS DE ALGUNA EMPRESA."]
[]
["PARA OBTENER EL CARGO MÁXIMO DE CADA EMPRESA SE DEBEN REEMPLAZAR LOS DATOS ACTUALES DE LAS CELDAS DE COLOR VERDE POR LOS PROPIOS DE CADA EMPRESA EN LAS HOJAS DE CÁLCULO \"RESUMEN\", \"REDES MUESTRA\", \"TRAFOS MUESTRA\" Y \"TRANSFORMADORES\"  "]
[]
["EL COSTO DE LOS POSTES CORRESPONDE A LA PONDERACIÓN DEL COSTO DE LOS POSTES DE SUSPENSIÓN (510 kg) EN UN 70% Y LOS DE RETENCIÓN (750 kg, 1050 kg) EN UN 30% "]

{"sheet":"RESUMEN","index":1,"n_rows":37,"n_cols":8,"rows_kept":37,"cut":false,"hidden":false,"merged":[]}
[]
["PARÁMETROS DE CÁLCULO"]
["TASA DE DESCUENTO",0.16]
[]
["VIDA ÚTIL [Años]",20]
[]
["VENTAS NIVEL DE TENSIÓN 1 [kWh-año] (Ventasj,1)",90000000]
[]
["PÉRDIDAS NO RECONOCIDAS [kWh-año] (PNTj,nr)",15000000]
[]
["CARGO MÁXIMO VIGENTE [$/kWh]",30]
[]
["OTROS INGRESOS [$] (OIj)",50000]
[]
["NIVELES DE TENSIÓN (NSj)",4]
[]
["CARGO MÁXIMO NIVEL DE TENSIÓN 1 [$/kWh]"]
["CARGO MÁXIMO [$/kWh] (CDIj,1)",{"$f":"B23/(B7+B9)","v":36.35993120475699}]
[]
["ANUALIDAD DE LAS INVERSIONES ESTIMADAS EN REDES DE NIVEL DE TENSIÓN 1"]
["INVERSIÓN TOTAL [$] (Inv_Tj,1) ",{"$f":"$F$32","v":22635160069.836807}]
["ANUALIDAD INVERSIÓN TOTAL [$]",{"$f":"PMT(TASA_DESCUENTO,VIDA_ÚTIL,-$B$21)","v":3817805276.4994841}]
["COSTO ANUAL EQUIVALENTE [$] (CAj,1)",{"$f":"B22-(B13/B15)","v":3817792776.4994841}]
[]
["ESTIMACIÓN DEL COSTO DE LAS REDES DE NIVEL DE TENSIÓN 1"]
[null,{"$f":"'COSTO CIRCUITOS'!$A$4","v":2},null,null,{"$f":"'COSTO CIRCUITOS'!$A$7","v":5},null,{"$f":"'COSTO CIRCUITOS'!$A$5","v":3},{"$f":"'COSTO CIRCUITOS'!$A$6","v":4}]
["GRUPO DE CALIDAD","TRANSFORMADORES MUESTRA","CANTIDAD TRANSFORMADORES SISTEMA ","FACTOR DE PONDERACIÓN","COSTO TOTAL MUESTRA","COSTO TOTAL SISTEMA ESTIMADO"]
[1,{"$f":"HLOOKUP($A28,'COSTO CIRCUITOS'!$C$3:$F$8,$B$26,FALSE)","v":11},{"$f":"VLOOKUP(A28,TRANSFORMADORES,2,FALSE)","v":150},{"$f":"IFERROR(C28/B28,0)","v":13.636363636363637},{"$f":"HLOOKUP($A28,'COSTO CIRCUITOS'!$C$3:$F$7,$E$26,FALSE)","v":151811941.31393039},{"$f":"E28*D28","v":2070162836.0990508}]
[2,{"$f":"HLOOKUP($A29,'COSTO CIRCUITOS'!$C$3:$F$8,$B$26,FALSE)","v":14},{"$f":"VLOOKUP(A29,TRANSFORMADORES,2,FALSE)","v":400},{"$f":"IFERROR(C29/B29,0)","v":28.571428571428573},{"$f":"HLOOKUP($A29,'COSTO CIRCUITOS'!$C$3:$F$7,$E$26,FALSE)","v":238329497.49207994},{"$f":"E29*D29","v":6809414214.0594273}]
[3,{"$f":"HLOOKUP($A30,'COSTO CIRCUITOS'!$C$3:$F$8,$B$26,FALSE)","v":10},{"$f":"VLOOKUP(A30,TRANSFORMADORES,2,FALSE)","v":350},{"$f":"IFERROR(C30/B30,0)","v":35},{"$f":"HLOOKUP($A30,'COSTO CIRCUITOS'!$C$3:$F$7,$E$26,FALSE)","v":123485709.67955716},4321999838.7845001]
[4,{"$f":"HLOOKUP($A31,'COSTO CIRCUITOS'!$C$3:$F$8,$B$26,FALSE)","v":5},{"$f":"VLOOKUP(A31,TRANSFORMADORES,2,FALSE)","v":1500},{"$f":"IFERROR(C31/B31,0)","v":300},{"$f":"HLOOKUP($A31,'COSTO CIRCUITOS'!$C$3:$F$7,$E$26,FALSE)","v":31445277.269646101},9433583180.8938293]
["TOTAL ",{"$f":"SUM(B28:B31)","v":40},{"$f":"SUM(C28:C31)","v":2400},null,{"$f":"SUM(E28:E31)","v":545072425.75521362},22635160069.836807]
[]
["COMPARACIÓN "]
[null,"[$/kWh]"]
["CARGO ACTUAL",{"$f":"$B$11","v":30}]
["CARGO PROPUESTO",{"$f":"$B$18","v":36.35993120475699}]

{"sheet":"COSTO CIRCUITOS","index":2,"n_rows":1660,"n_cols":8,"rows_kept":1660,"cut":false,"hidden":false,"merged":[]}
["INVERSIONES POR GRUPO DE CALIDAD"]
[null,null,"GRUPO CALIDAD","GRUPO CALIDAD","GRUPO CALIDAD","GRUPO CALIDAD"]
[1,null,1,2,3,4]
[{"$f":"A3+1","v":2},"CIRCUITOS MUESTRA",{"$f":"DCOUNT(INFORMACION_ESTRATOS_GRUPO_CALIDAD,$C$10,C$2:C$3)","v":11},{"$f":"DCOUNT(INFORMACION_ESTRATOS_GRUPO_CALIDAD,$C$10,D$2:D$3)","v":14},{"$f":"DCOUNT(INFORMACION_ESTRATOS_GRUPO_CALIDAD,$C$10,E$2:E$3)","v":10},{"$f":"DCOUNT(INFORMACION_ESTRATOS_GRUPO_CALIDAD,$C$10,F$2:F$3)","v":5}]
[{"$f":"A4+1","v":3},"INVERSION TOTAL REDES",{"$f":"DSUM(CIRCUITOS,$D$10,C$2:C$3)+DSUM(CIRCUITOS,$E$10,C$2:C$3)","v":58627475.101378843},{"$f":"DSUM(CIRCUITOS,$D$10,D$2:D$3)+DSUM(CIRCUITOS,$E$10,D$2:D$3)","v":11703494.08923763},{"$f":"DSUM(CIRCUITOS,$D$10,E$2:E$3)+DSUM(CIRCUITOS,$E$10,E$2:E$3)","v":28041626.945652384},{"$f":"DSUM(CIRCUITOS,$D$10,F$2:F$3)+DSUM(CIRCUITOS,$E$10,F$2:F$3)","v":8109948.7519021574}]
[4,"INVERSION TOTAL TRANSFORMADORES",{"$f":"DSUM(CIRCUITOS,$F$10,C$2:C$3)","v":93184466.212551549},{"$f":"DSUM(CIRCUITOS,$F$10,D$2:D$3)","v":226626003.40284231},{"$f":"DSUM(CIRCUITOS,$F$10,E$2:E$3)","v":95444082.733904779},{"$f":"DSUM(CIRCUITOS,$F$10,F$2:F$3)","v":23335328.517743941}]
[5,"INVERSION TOTAL ",{"$f":"SUM(C5:C6)","v":151811941.31393039},{"$f":"SUM(D5:D6)","v":238329497.49207994},{"$f":"SUM(E5:E6)","v":123485709.67955716},{"$f":"SUM(F5:F6)","v":31445277.269646101}]
[]
["COSTO TOTAL POR CIRCUITO"]
["No.","CÓDIGO TRANSFORMADOR","GRUPO CALIDAD","COSTO CONDUCTORES  (INCLUYE INSTALACIÓN)","COSTO APOYOS (INCLUYE INSTALACIÓN)","COSTO TRANSFORMADORES (INCLUYE INSTALACIÓN)","COSTO TOTAL CIRCUITO (INCLUYE INSTALACIÓN)","CAPACIDAD TRANSFORMADOR [KVA]"]
[1,{"$f":"'TRAFOS MUESTRA'!B3","v":50501502},{"$f":"IFERROR(VLOOKUP(B11,TRAFOS,3,FALSE),0)","v":3},{"$f":"IFERROR(SUMIF(CODIGO_TRAFOS_REDES,$B11,COSTO_CONDUCTOR_TRAMO),0)","v":8238974.9097334445},{"$f":"IFERROR(SUMIF(CODIGO_TRAFOS_REDES,$B11,COSTO_APOYOS_TRAMO),0)","v":16303989.75271195},{"$f":"IFERROR(IF(H11>15,VLOOKUP(H11,COSTO_TRAFOS_3F,6,FALSE),VLOOKUP(H11,COSTO_TRAFOS_1F,6,FALSE)),0)","v":3624197.448975197},{"$f":"SUM(D11:F11)","v":28167162.111420594},{"$f":"IFERROR(VLOOKUP(VLOOKUP(B11,TRAFOS,4,FALSE),'COSTO ELEMENTOS N1'!$C$321:$C$350,1),0)","v":15}]
[{"$f":"A11+1","v":2},{"$f":"'TRAFOS MUESTRA'!B4","v":10500518},1,6096654.5931066507,22975121.222689047,4570907.8805189626,{"$f":"SUM(D12:F12)","v":33642683.696314663},{"$f":"IFERROR(VLOOKUP(VLOOKUP(B12,TRAFOS,4,FALSE),'COSTO ELEMENTOS N1'!$C$321:$C$350,1),0)","v":20}]
[{"$f":"A12+1","v":3},{"$f":"'TRAFOS MUESTRA'!B5","v":20101201},4,1129434.7284737327,285634.21524932067,3624197.448975197,5039266.3926982507,{"$f":"IFERROR(VLOOKUP(VLOOKUP(B13,TRAFOS,4,FALSE),'COSTO ELEMENTOS N1'!$C$321:$C$350,1),0)","v":15}]
[4,{"$f":"'TRAFOS MUESTRA'!B6","v":50501703},3,0,95211.405083106889,3624197.448975197,3719408.8540583039,{"$f":"IFERROR(VLOOKUP(VLOOKUP(B14,TRAFOS,4,FALSE),'COSTO ELEMENTOS N1'!$C$321:$C$350,1),0)","v":15}]
[5,{"$f":"'TRAFOS MUESTRA'!B7","v":50501707},3,0,95211.405083106889,3426511.3883882416,3521722.7934713485,{"$f":"IFERROR(VLOOKUP(VLOOKUP(B15,TRAFOS,4,FALSE),'COSTO ELEMENTOS N1'!$C$321:$C$350,1),0)","v":10}]
[6,{"$f":"'TRAFOS MUESTRA'!B8","v":50100208},3,768939.39088995382,1215075.1660030182,3624197.448975197,5608212.0058681685,{"$f":"IFERROR(VLOOKUP(VLOOKUP(B16,TRAFOS,4,FALSE),'COSTO ELEMENTOS N1'!$C$321:$C$350,1),0)","v":15}]
[7,{"$f":"'TRAFOS MUESTRA'!B9","v":50501705},3,0,95211.405083106889,3624197.448975197,3719408.8540583039,{"$f":"IFERROR(VLOOKUP(VLOOKUP(B17,TRAFOS,4,FALSE),'COSTO ELEMENTOS N1'!$C$321:$C$350,1),0)","v":15}]
[8,{"$f":"'TRAFOS MUESTRA'!B10","v":10201013},2,86444.68739417984,595478.64294669882,12056834.220393665,12738757.550734544,{"$f":"IFERROR(VLOOKUP(VLOOKUP(B18,TRAFOS,4,FALSE),'COSTO ELEMENTOS N1'!$C$321:$C$350,1),0)","v":150}]
[9,{"$f":"'TRAFOS MUESTRA'!B11","v":20100101},3,376478.24282457755,95211.405083106889,12056834.220393665,12528523.868301349,{"$f":"IFERROR(VLOOKUP(VLOOKUP(B19,TRAFOS,4,FALSE),'COSTO ELEMENTOS N1'!$C$321:$C$350,1),0)","v":150}]
[10,{"$f":"'TRAFOS MUESTRA'!B12","v":10200801},2,86444.68739417984,595478.64294669882,23807821.792276278,24489745.122617155,{"$f":"IFERROR(VLOOKUP(VLOOKUP(B20,TRAFOS,4,FALSE),'COSTO ELEMENTOS N1'!$C$321:$C$350,1),0)","v":300}]
[11,{"$f":"'TRAFOS MUESTRA'!B13","v":10500301},1,125117.3107021024,595478.64294669882,10603466.389162153,11324062.342810955,{"$f":"IFERROR(VLOOKUP(VLOOKUP(B21,TRAFOS,4,FALSE),'COSTO ELEMENTOS N1'!$C$321:$C$350,1),0)","v":112.5}]
[12,{"$f":"'TRAFOS MUESTRA'!B14","v":10301606},2,59146.365059175681,595478.64294669882,12056834.220393665,12711459.228399539,{"$f":"IFERROR(VLOOKUP(VLOOKUP(B22,TRAFOS,4,FALSE),'COSTO ELEMENTOS N1'!$C$321:$C$350,1),0)","v":150}]
[13,{"$f":"'TRAFOS MUESTRA'!B15","v":10300011},2,100093.84856168192,595478.64294669882,12056834.220393665,12752406.711902047,{"$f":"IFERROR(VLOOKUP(VLOOKUP(B23,TRAFOS,4,FALSE),'COSTO ELEMENTOS N1'!$C$321:$C$350,1),0)","v":150}]
[14,{"$f":"'TRAFOS MUESTRA'!B16","v":10400601},1,59146.365059175681,595478.64294669882,6711444.9332485115,7366069.9412543857,{"$f":"IFERROR(VLOOKUP(VLOOKUP(B24,TRAFOS,4,FALSE),'COSTO ELEMENTOS N1'!$C$321:$C$350,1),0)","v":45}]
[15,{"$f":"'TRAFOS MUESTRA'!B17","v":10500011},2,125117.3107021024,595478.64294669882,23807821.792276278,24528417.74592508,{"$f":"IFERROR(VLOOKUP(VLOOKUP(B25,TRAFOS,4,FALSE),'COSTO ELEMENTOS N1'!$C$321:$C$350,1),0)","v":300}]
[16,{"$f":"'TRAFOS MUESTRA'!B18","v":10100006},2,766627.88557470031,595478.64294669882,12056834.220393665,13418940.748915065,{"$f":"IFERROR(VLOOKUP(VLOOKUP(B26,TRAFOS,4,FALSE),'COSTO ELEMENTOS N1'!$C$321:$C$350,1),0)","v":150}]
[17,{"$f":"'TRAFOS MUESTRA'!B19","v":30100701},3,376478.24282457755,95211.405083106889,6711444.9332485115,7183134.5811561961,{"$f":"IFERROR(VLOOKUP(VLOOKUP(B27,TRAFOS,4,FALSE),'COSTO ELEMENTOS N1'!$C$321:$C$350,1),0)","v":45}]
[18,{"$f":"'TRAFOS MUESTRA'!B20","v":10301607},1,59146.365059175681,595478.64294669882,10603466.389162153,11258091.397168027,{"$f":"IFERROR(VLOOKUP(VLOOKUP(B28,TRAFOS,4,FALSE),'COSTO ELEMENTOS N1'!$C$321:$C$350,1),0)","v":112.5}]
[19,{"$f":"'TRAFOS MUESTRA'!B21","v":10200421},2,86444.68739417984,595478.64294669882,23807821.792276278,24489745.122617155,{"$f":"IFERROR(VLOOKUP(VLOOKUP(B29,TRAFOS,4,FALSE),'COSTO ELEMENTOS N1'!$C$321:$C$350,1),0)","v":300}]
[20,{"$f":"'TRAFOS MUESTRA'!B22","v":10201510},2,100093.84856168192,595478.64294669882,12056834.220393665,12752406.711902047,{"$f":"IFERROR(VLOOKUP(VLOOKUP(B30,TRAFOS,4,FALSE),'COSTO ELEMENTOS N1'!$C$321:$C$350,1),0)","v":150}]
[21,{"$f":"'TRAFOS MUESTRA'!B23","v":30200601},3,0,95211.405083106889,12056834.220393665,12152045.625476772,{"$f":"IFERROR(VLOOKUP(VLOOKUP(B31,TRAFOS,4,FALSE),'COSTO ELEMENTOS N1'!$C$321:$C$350,1),0)","v":150}]
[22,{"$f":"'TRAFOS MUESTRA'!B24","v":10202702},1,100093.84856168192,595478.64294669882,12056834.220393665,12752406.711902047,{"$f":"IFERROR(VLOOKUP(VLOOKUP(B32,TRAFOS,4,FALSE),'COSTO ELEMENTOS N1'!$C$321:$C$350,1),0)","v":150}]
[23,{"$f":"'TRAFOS MUESTRA'!B25","v":40200105},1,0,95211.405083106889,10603466.389162153,10698677.79424526,{"$f":"IFERROR(VLOOKUP(VLOOKUP(B33,TRAFOS,4,FALSE),'COSTO ELEMENTOS N1'!$C$321:$C$350,1),0)","v":112.5}]
[24,{"$f":"'TRAFOS MUESTRA'!B26","v":50200010},3,0,95211.405083106889,34638833.955186233,34734045.360269338,{"$f":"IFERROR(VLOOKUP(VLOOKUP(B34,TRAFOS,4,FALSE),'COSTO ELEMENTOS N1'!$C$321:$C$350,1),0)","v":500}]
[25,{"$f":"'TRAFOS MUESTRA'!B27","v":10300806},2,86444.68739417984,595478.64294669882,23807821.792276278,24489745.122617155,{"$f":"IFERROR(VLOOKUP(VLOOKUP(B35,TRAFOS,4,FALSE),'COSTO ELEMENTOS N1'!$C$321:$C$350,1),0)","v":300}]
[26,{"$f":"'TRAFOS MUESTRA'!B28","v":10200408},2,766627.88557470031,595478.64294669882,8202435.5216891449,9564542.050210543,{"$f":"IFERROR(VLOOKUP(VLOOKUP(B36,TRAFOS,4,FALSE),'COSTO ELEMENTOS N1'!$C$321:$C$350,1),0)","v":75}]
[27,{"$f":"'TRAFOS MUESTRA'!B29","v":30200801},3,0,95211.405083106889,12056834.220393665,12152045.625476772,{"$f":"IFERROR(VLOOKUP(VLOOKUP(B37,TRAFOS,4,FALSE),'COSTO ELEMENTOS N1'!$C$321:$C$350,1),0)","v":150}]
[28,{"$f":"'TRAFOS MUESTRA'!B30","v":10401301},2,125117.3107021024,595478.64294669882,29644342.611361735,30364938.565010536,{"$f":"IFERROR(VLOOKUP(VLOOKUP(B38,TRAFOS,4,FALSE),'COSTO ELEMENTOS N1'!$C$321:$C$350,1),0)","v":400}]
[29,{"$f":"'TRAFOS MUESTRA'!B31","v":10500511},2,125117.3107021024,595478.64294669882,10603466.389162153,11324062.342810955,{"$f":"IFERROR(VLOOKUP(VLOOKUP(B39,TRAFOS,4,FALSE),'COSTO ELEMENTOS N1'!$C$321:$C$350,1),0)","v":112.5}]
[30,{"$f":"'TRAFOS MUESTRA'!B32","v":10300201},1,86444.68739417984,595478.64294669882,8202435.5216891449,8884358.8520300239,{"$f":"IFERROR(VLOOKUP(VLOOKUP(B40,TRAFOS,4,FALSE),'COSTO ELEMENTOS N1'!$C$321:$C$350,1),0)","v":75}]
[31,{"$f":"'TRAFOS MUESTRA'!B33","v":10100107},2,766627.88557470031,595478.64294669882,10603466.389162153,11965572.917683553,{"$f":"IFERROR(VLOOKUP(VLOOKUP(B41,TRAFOS,4,FALSE),'COSTO ELEMENTOS N1'!$C$321:$C$350,1),0)","v":112.5}]
[32,{"$f":"'TRAFOS MUESTRA'!B34","v":10501108},1,0,95211.405083106889,12056834.220393665,12152045.625476772,{"$f":"IFERROR(VLOOKUP(VLOOKUP(B42,TRAFOS,4,FALSE),'COSTO ELEMENTOS N1'!$C$321:$C$350,1),0)","v":150}]
[33,{"$f":"'TRAFOS MUESTRA'!B35","v":10301107},2,86444.68739417984,595478.64294669882,12056834.220393665,12738757.550734544,{"$f":"IFERROR(VLOOKUP(VLOOKUP(B43,TRAFOS,4,FALSE),'COSTO ELEMENTOS N1'!$C$321:$C$350,1),0)","v":150}]
[34,{"$f":"'TRAFOS MUESTRA'!B36","v":30100105},1,5756850.4221459553,5959919.2232269226,5948977.2981567932,17665746.943529673,{"$f":"IFERROR(VLOOKUP(VLOOKUP(B44,TRAFOS,4,FALSE),'COSTO ELEMENTOS N1'!$C$321:$C$350,1),0)","v":30}]
[35,{"$f":"'TRAFOS MUESTRA'!B37","v":20200508},4,376478.24282457755,95211.405083106889,3426511.3883882416,3898201.0362959262,{"$f":"IFERROR(VLOOKUP(VLOOKUP(B45,TRAFOS,4,FALSE),'COSTO ELEMENTOS N1'!$C$321:$C$350,1),0)","v":10}]
[36,{"$f":"'TRAFOS MUESTRA'!B38","v":20205902},4,376478.24282457755,95211.405083106889,5948977.2981567932,6420666.9460644778,{"$f":"IFERROR(VLOOKUP(VLOOKUP(B46,TRAFOS,4,FALSE),'COSTO ELEMENTOS N1'!$C$321:$C$350,1),0)","v":30}]
[37,{"$f":"'TRAFOS MUESTRA'!B39","v":30201516},4,3070497.8765433077,2585791.2307373211,6711444.9332485115,12367734.040529139,{"$f":"IFERROR(VLOOKUP(VLOOKUP(B47,TRAFOS,4,FALSE),'COSTO ELEMENTOS N1'!$C$321:$C$350,1),0)","v":50}]
[38,{"$f":"'TRAFOS MUESTRA'!B40","v":50301305},1,109193.28934001665,95211.405083106889,8202435.5216891449,8406840.2161122691,{"$f":"IFERROR(VLOOKUP(VLOOKUP(B48,TRAFOS,4,FALSE),'COSTO ELEMENTOS N1'!$C$321:$C$350,1),0)","v":75}]
[39,{"$f":"'TRAFOS MUESTRA'!B41","v":20300701},4,0,95211.405083106889,3624197.448975197,3719408.8540583039,{"$f":"IFERROR(VLOOKUP(VLOOKUP(B49,TRAFOS,4,FALSE),'COSTO ELEMENTOS N1'!$C$321:$C$350,1),0)","v":15}]
[40,{"$f":"'TRAFOS MUESTRA'!B42","v":30102205},1,7076306.6451570187,6960453.6989541063,3624197.448975197,17660957.793086324,{"$f":"IFERROR(VLOOKUP(VLOOKUP(B50,TRAFOS,4,FALSE),'COSTO ELEMENTOS N1'!$C$321:$C$350,1),0)","v":15}]
[41,{"$f":"'TRAFOS MUESTRA'!B43","v":0},0,0,0,0,0,{"$f":"IFERROR(VLOOKUP(VLOOKUP(B51,TRAFOS,4,FALSE),'COSTO ELEMENTOS N1'!$C$321:$C$350,1),0)","v":0}]
[42,{"$f":"'TRAFOS MUESTRA'!B44","v":0},0,0,0,0,0,{"$f":"IFERROR(VLOOKUP(VLOOKUP(B52,TRAFOS,4,FALSE),'COSTO ELEMENTOS N1'!$C$321:$C$350,1),0)","v":0}]
[43,{"$f":"'TRAFOS MUESTRA'!B45","v":0},0,0,0,0,0,{"$f":"IFERROR(VLOOKUP(VLOOKUP(B53,TRAFOS,4,FALSE),'COSTO ELEMENTOS N1'!$C$321:$C$350,1),0)","v":0}]
[44,{"$f":"'TRAFOS MUESTRA'!B46","v":0},0,0,0,0,0,{"$f":"IFERROR(VLOOKUP(VLOOKUP(B54,TRAFOS,4,FALSE),'COSTO ELEMENTOS N1'!$C$321:$C$350,1),0)","v":0}]
[45,{"$f":"'TRAFOS MUESTRA'!B47","v":0},0,0,0,0,0,{"$f":"IFERROR(VLOOKUP(VLOOKUP(B55,TRAFOS,4,FALSE),'COSTO ELEMENTOS N1'!$C$321:$C$350,1),0)","v":0}]
[46,{"$f":"'TRAFOS MUESTRA'!B48","v":0},0,0,0,0,0,{"$f":"IFERROR(VLOOKUP(VLOOKUP(B56,TRAFOS,4,FALSE),'COSTO ELEMENTOS N1'!$C$321:$C$350,1),0)","v":0}]
[47,{"$f":"'TRAFOS MUESTRA'!B49","v":0},0,0,0,0,0,{"$f":"IFERROR(VLOOKUP(VLOOKUP(B57,TRAFOS,4,FALSE),'COSTO ELEMENTOS N1'!$C$321:$C$350,1),0)","v":0}]
[48,{"$f":"'TRAFOS MUESTRA'!B50","v":0},0,0,0,0,0,{"$f":"IFERROR(VLOOKUP(VLOOKUP(B58,TRAFOS,4,FALSE),'COSTO ELEMENTOS N1'!$C$321:$C$350,1),0)","v":0}]
[49,{"$f":"'TRAFOS MUESTRA'!B51","v":0},0,0,0,0,0,{"$f":"IFERROR(VLOOKUP(VLOOKUP(B59,TRAFOS,4,FALSE),'COSTO ELEMENTOS N1'!$C$321:$C$350,1),0)","v":0}]
[50,{"$f":"'TRAFOS MUESTRA'!B52","v":0},0,0,0,0,0,{"$f":"IFERROR(VLOOKUP(VLOOKUP(B60,TRAFOS,4,FALSE),'COSTO ELEMENTOS N1'!$C$321:$C$350,1),0)","v":0}]
[51,{"$f":"'TRAFOS MUESTRA'!B53","v":0},0,0,0,0,0,{"$f":"IFERROR(VLOOKUP(VLOOKUP(B61,TRAFOS,4,FALSE),'COSTO ELEMENTOS N1'!$C$321:$C$350,1),0)","v":0}]
[52,{"$f":"'TRAFOS MUESTRA'!B54","v":0},0,0,0,0,0,{"$f":"IFERROR(VLOOKUP(VLOOKUP(B62,TRAFOS,4,FALSE),'COSTO ELEMENTOS N1'!$C$321:$C$350,1),0)","v":0}]
[53,{"$f":"'TRAFOS MUESTRA'!B55","v":0},0,0,0,0,0,{"$f":"IFERROR(VLOOKUP(VLOOKUP(B63,TRAFOS,4,FALSE),'COSTO ELEMENTOS N1'!$C$321:$C$350,1),0)","v":0}]
[54,{"$f":"'TRAFOS MUESTRA'!B56","v":0},0,0,0,0,0,{"$f":"IFERROR(VLOOKUP(VLOOKUP(B64,TRAFOS,4,FALSE),'COSTO ELEMENTOS N1'!$C$321:$C$350,1),0)","v":0}]
[55,{"$f":"'TRAFOS MUESTRA'!B57","v":0},0,0,0,0,0,{"$f":"IFERROR(VLOOKUP(VLOOKUP(B65,TRAFOS,4,FALSE),'COSTO ELEMENTOS N1'!$C$321:$C$350,1),0)","v":0}]
[56,{"$f":"'TRAFOS MUESTRA'!B58","v":0},0,0,0,0,0,{"$f":"IFERROR(VLOOKUP(VLOOKUP(B66,TRAFOS,4,FALSE),'COSTO ELEMENTOS N1'!$C$321:$C$350,1),0)","v":0}]
[57,{"$f":"'TRAFOS MUESTRA'!B59","v":0},0,0,0,0,0,{"$f":"IFERROR(VLOOKUP(VLOOKUP(B67,TRAFOS,4,FALSE),'COSTO ELEMENTOS N1'!$C$321:$C$350,1),0)","v":0}]
[58,{"$f":"'TRAFOS MUESTRA'!B60","v":0},0,0,0,0,0,{"$f":"IFERROR(VLOOKUP(VLOOKUP(B68,TRAFOS,4,FALSE),'COSTO ELEMENTOS N1'!$C$321:$C$350,1),0)","v":0}]
[59,{"$f":"'TRAFOS MUESTRA'!B61","v":0},0,0,0,0,0,{"$f":"IFERROR(VLOOKUP(VLOOKUP(B69,TRAFOS,4,FALSE),'COSTO ELEMENTOS N1'!$C$321:$C$350,1),0)","v":0}]
[60,{"$f":"'TRAFOS MUESTRA'!B62","v":0},0,0,0,0,0,{"$f":"IFERROR(VLOOKUP(VLOOKUP(B70,TRAFOS,4,FALSE),'COSTO ELEMENTOS N1'!$C$321:$C$350,1),0)","v":0}]
[61,{"$f":"'TRAFOS MUESTRA'!B63","v":0},0,0,0,0,0,{"$f":"IFERROR(VLOOKUP(VLOOKUP(B71,TRAFOS,4,FALSE),'COSTO ELEMENTOS N1'!$C$321:$C$350,1),0)","v":0}]
[62,{"$f":"'TRAFOS MUESTRA'!B64","v":0},0,0,0,0,0,{"$f":"IFERROR(VLOOKUP(VLOOKUP(B72,TRAFOS,4,FALSE),'COSTO ELEMENTOS N1'!$C$321:$C$350,1),0)","v":0}]
[63,{"$f":"'TRAFOS MUESTRA'!B65","v":0},0,0,0,0,0,{"$f":"IFERROR(VLOOKUP(VLOOKUP(B73,TRAFOS,4,FALSE),'COSTO ELEMENTOS N1'!$C$321:$C$350,1),0)","v":0}]
[64,{"$f":"'TRAFOS MUESTRA'!B66","v":0},0,0,0,0,0,{"$f":"IFERROR(VLOOKUP(VLOOKUP(B74,TRAFOS,4,FALSE),'COSTO ELEMENTOS N1'!$C$321:$C$350,1),0)","v":0}]
[65,{"$f":"'TRAFOS MUESTRA'!B67","v":0},{"$f":"IFERROR(VLOOKUP(B75,TRAFOS,3,FALSE),0)","v":0},{"$f":"IFERROR(SUMIF(CODIGO_TRAFOS_REDES,$B75,COSTO_CONDUCTOR_TRAMO),0)","v":0},{"$f":"IFERROR(SUMIF(CODIGO_TRAFOS_REDES,$B75,COSTO_APOYOS_TRAMO),0)","v":0},{"$f":"IFERROR(IF(H75>15,VLOOKUP(H75,COSTO_TRAFOS_3F,6,FALSE),VLOOKUP(H75,COSTO_TRAFOS_1F,6,FALSE)),0)","v":0},0,{"$f":"IFERROR(VLOOKUP(VLOOKUP(B75,TRAFOS,4,FALSE),'COSTO ELEMENTOS N1'!$C$321:$C$350,1),0)","v":0}]
[66,{"$f":"'TRAFOS MUESTRA'!B68","v":0},0,0,0,0,{"$f":"SUM(D76:F76)","v":0},{"$f":"IFERROR(VLOOKUP(VLOOKUP(B76,TRAFOS,4,FALSE),'COSTO ELEMENTOS N1'!$C$321:$C$350,1),0)","v":0}]
[{"$f":"A76+1","v":67},{"$f":"'TRAFOS MUESTRA'!B69","v":0},0,0,0,0,0,{"$f":"IFERROR(VLOOKUP(VLOOKUP(B77,TRAFOS,4,FALSE),'COSTO ELEMENTOS N1'!$C$321:$C$350,1),0)","v":0}]
[68,{"$f":"'TRAFOS MUESTRA'!B70","v":0},0,0,0,0,0,{"$f":"IFERROR(VLOOKUP(VLOOKUP(B78,TRAFOS,4,FALSE),'COSTO ELEMENTOS N1'!$C$321:$C$350,1),0)","v":0}]
[69,{"$f":"'TRAFOS MUESTRA'!B71","v":0},0,0,0,0,0,{"$f":"IFERROR(VLOOKUP(VLOOKUP(B79,TRAFOS,4,FALSE),'COSTO ELEMENTOS N1'!$C$321:$C$350,1),0)","v":0}]
[70,{"$f":"'TRAFOS MUESTRA'!B72","v":0},0,0,0,0,0,{"$f":"IFERROR(VLOOKUP(VLOOKUP(B80,TRAFOS,4,FALSE),'COSTO ELEMENTOS N1'!$C$321:$C$350,1),0)","v":0}]
[71,{"$f":"'TRAFOS MUESTRA'!B73","v":0},0,0,0,0,0,{"$f":"IFERROR(VLOOKUP(VLOOKUP(B81,TRAFOS,4,FALSE),'COSTO ELEMENTOS N1'!$C$321:$C$350,1),0)","v":0}]
[72,{"$f":"'TRAFOS MUESTRA'!B74","v":0},0,0,0,0,0,{"$f":"IFERROR(VLOOKUP(VLOOKUP(B82,TRAFOS,4,FALSE),'COSTO ELEMENTOS N1'!$C$321:$C$350,1),0)","v":0}]
[73,{"$f":"'TRAFOS MUESTRA'!B75","v":0},0,0,0,0,0,{"$f":"IFERROR(VLOOKUP(VLOOKUP(B83,TRAFOS,4,FALSE),'COSTO ELEMENTOS N1'!$C$321:$C$350,1),0)","v":0}]
[74,{"$f":"'TRAFOS MUESTRA'!B76","v":0},0,0,0,0,0,{"$f":"IFERROR(VLOOKUP(VLOOKUP(B84,TRAFOS,4,FALSE),'COSTO ELEMENTOS N1'!$C$321:$C$350,1),0)","v":0}]
[75,{"$f":"'TRAFOS MUESTRA'!B77","v":0},0,0,0,0,0,{"$f":"IFERROR(VLOOKUP(VLOOKUP(B85,TRAFOS,4,FALSE),'COSTO ELEMENTOS N1'!$C$321:$C$350,1),0)","v":0}]
[76,{"$f":"'TRAFOS MUESTRA'!B78","v":0},0,0,0,0,0,{"$f":"IFERROR(VLOOKUP(VLOOKUP(B86,TRAFOS,4,FALSE),'COSTO ELEMENTOS N1'!$C$321:$C$350,1),0)","v":0}]
[77,{"$f":"'TRAFOS MUESTRA'!B79","v":0},0,0,0,0,0,{"$f":"IFERROR(VLOOKUP(VLOOKUP(B87,TRAFOS,4,FALSE),'COSTO ELEMENTOS N1'!$C$321:$C$350,1),0)","v":0}]
[78,{"$f":"'TRAFOS MUESTRA'!B80","v":0},0,0,0,0,0,{"$f":"IFERROR(VLOOKUP(VLOOKUP(B88,TRAFOS,4,FALSE),'COSTO ELEMENTOS N1'!$C$321:$C$350,1),0)","v":0}]
[79,{"$f":"'TRAFOS MUESTRA'!B81","v":0},0,0,0,0,0,{"$f":"IFERROR(VLOOKUP(VLOOKUP(B89,TRAFOS,4,FALSE),'COSTO ELEMENTOS N1'!$C$321:$C$350,1),0)","v":0}]
[80,{"$f":"'TRAFOS MUESTRA'!B82","v":0},0,0,0,0,0,{"$f":"IFERROR(VLOOKUP(VLOOKUP(B90,TRAFOS,4,FALSE),'COSTO ELEMENTOS N1'!$C$321:$C$350,1),0)","v":0}]
[81,{"$f":"'TRAFOS MUESTRA'!B83","v":0},0,0,0,0,0,{"$f":"IFERROR(VLOOKUP(VLOOKUP(B91,TRAFOS,4,FALSE),'COSTO ELEMENTOS N1'!$C$321:$C$350,1),0)","v":0}]
[82,{"$f":"'TRAFOS MUESTRA'!B84","v":0},0,0,0,0,0,{"$f":"IFERROR(VLOOKUP(VLOOKUP(B92,TRAFOS,4,FALSE),'COSTO ELEMENTOS N1'!$C$321:$C$350,1),0)","v":0}]
[83,{"$f":"'TRAFOS MUESTRA'!B85","v":0},0,0,0,0,0,{"$f":"IFERROR(VLOOKUP(VLOOKUP(B93,TRAFOS,4,FALSE),'COSTO ELEMENTOS N1'!$C$321:$C$350,1),0)","v":0}]
[84,{"$f":"'TRAFOS MUESTRA'!B86","v":0},0,0,0,0,0,{"$f":"IFERROR(VLOOKUP(VLOOKUP(B94,TRAFOS,4,FALSE),'COSTO ELEMENTOS N1'!$C$321:$C$350,1),0)","v":0}]
[85,{"$f":"'TRAFOS MUESTRA'!B87","v":0},0,0,0,0,0,{"$f":"IFERROR(VLOOKUP(VLOOKUP(B95,TRAFOS,4,FALSE),'COSTO ELEMENTOS N1'!$C$321:$C$350,1),0)","v":0}]
[86,{"$f":"'TRAFOS MUESTRA'!B88","v":0},0,0,0,0,0,{"$f":"IFERROR(VLOOKUP(VLOOKUP(B96,TRAFOS,4,FALSE),'COSTO ELEMENTOS N1'!$C$321:$C$350,1),0)","v":0}]
[87,{"$f":"'TRAFOS MUESTRA'!B89","v":0},0,0,0,0,0,{"$f":"IFERROR(VLOOKUP(VLOOKUP(B97,TRAFOS,4,FALSE),'COSTO ELEMENTOS N1'!$C$321:$C$350,1),0)","v":0}]
[88,{"$f":"'TRAFOS MUESTRA'!B90","v":0},0,0,0,0,0,{"$f":"IFERROR(VLOOKUP(VLOOKUP(B98,TRAFOS,4,FALSE),'COSTO ELEMENTOS N1'!$C$321:$C$350,1),0)","v":0}]
[89,{"$f":"'TRAFOS MUESTRA'!B91","v":0},0,0,0,0,0,{"$f":"IFERROR(VLOOKUP(VLOOKUP(B99,TRAFOS,4,FALSE),'COSTO ELEMENTOS N1'!$C$321:$C$350,1),0)","v":0}]
[90,{"$f":"'TRAFOS MUESTRA'!B92","v":0},0,0,0,0,0,{"$f":"IFERROR(VLOOKUP(VLOOKUP(B100,TRAFOS,4,FALSE),'COSTO ELEMENTOS N1'!$C$321:$C$350,1),0)","v":0}]
[91,{"$f":"'TRAFOS MUESTRA'!B93","v":0},0,0,0,0,0,{"$f":"IFERROR(VLOOKUP(VLOOKUP(B101,TRAFOS,4,FALSE),'COSTO ELEMENTOS N1'!$C$321:$C$350,1),0)","v":0}]
[92,{"$f":"'TRAFOS MUESTRA'!B94","v":0},0,0,0,0,0,{"$f":"IFERROR(VLOOKUP(VLOOKUP(B102,TRAFOS,4,FALSE),'COSTO ELEMENTOS N1'!$C$321:$C$350,1),0)","v":0}]
[93,{"$f":"'TRAFOS MUESTRA'!B95","v":0},0,0,0,0,0,{"$f":"IFERROR(VLOOKUP(VLOOKUP(B103,TRAFOS,4,FALSE),'COSTO ELEMENTOS N1'!$C$321:$C$350,1),0)","v":0}]
[94,{"$f":"'TRAFOS MUESTRA'!B96","v":0},0,0,0,0,0,{"$f":"IFERROR(VLOOKUP(VLOOKUP(B104,TRAFOS,4,FALSE),'COSTO ELEMENTOS N1'!$C$321:$C$350,1),0)","v":0}]
[95,{"$f":"'TRAFOS MUESTRA'!B97","v":0},0,0,0,0,0,{"$f":"IFERROR(VLOOKUP(VLOOKUP(B105,TRAFOS,4,FALSE),'COSTO ELEMENTOS N1'!$C$321:$C$350,1),0)","v":0}]
[96,{"$f":"'TRAFOS MUESTRA'!B98","v":0},0,0,0,0,0,{"$f":"IFERROR(VLOOKUP(VLOOKUP(B106,TRAFOS,4,FALSE),'COSTO ELEMENTOS N1'!$C$321:$C$350,1),0)","v":0}]
[97,{"$f":"'TRAFOS MUESTRA'!B99","v":0},0,0,0,0,0,{"$f":"IFERROR(VLOOKUP(VLOOKUP(B107,TRAFOS,4,FALSE),'COSTO ELEMENTOS N1'!$C$321:$C$350,1),0)","v":0}]
[98,{"$f":"'TRAFOS MUESTRA'!B100","v":0},0,0,0,0,0,{"$f":"IFERROR(VLOOKUP(VLOOKUP(B108,TRAFOS,4,FALSE),'COSTO ELEMENTOS N1'!$C$321:$C$350,1),0)","v":0}]
[99,{"$f":"'TRAFOS MUESTRA'!B101","v":0},0,0,0,0,0,{"$f":"IFERROR(VLOOKUP(VLOOKUP(B109,TRAFOS,4,FALSE),'COSTO ELEMENTOS N1'!$C$321:$C$350,1),0)","v":0}]
[100,{"$f":"'TRAFOS MUESTRA'!B102","v":0},0,0,0,0,0,{"$f":"IFERROR(VLOOKUP(VLOOKUP(B110,TRAFOS,4,FALSE),'COSTO ELEMENTOS N1'!$C$321:$C$350,1),0)","v":0}]
[101,{"$f":"'TRAFOS MUESTRA'!B103","v":0},0,0,0,0,0,{"$f":"IFERROR(VLOOKUP(VLOOKUP(B111,TRAFOS,4,FALSE),'COSTO ELEMENTOS N1'!$C$321:$C$350,1),0)","v":0}]
[102,{"$f":"'TRAFOS MUESTRA'!B104","v":0},0,0,0,0,0,{"$f":"IFERROR(VLOOKUP(VLOOKUP(B112,TRAFOS,4,FALSE),'COSTO ELEMENTOS N1'!$C$321:$C$350,1),0)","v":0}]
[103,{"$f":"'TRAFOS MUESTRA'!B105","v":0},0,0,0,0,0,{"$f":"IFERROR(VLOOKUP(VLOOKUP(B113,TRAFOS,4,FALSE),'COSTO ELEMENTOS N1'!$C$321:$C$350,1),0)","v":0}]
[104,{"$f":"'TRAFOS MUESTRA'!B106","v":0},0,0,0,0,0,{"$f":"IFERROR(VLOOKUP(VLOOKUP(B114,TRAFOS,4,FALSE),'COSTO ELEMENTOS N1'!$C$321:$C$350,1),0)","v":0}]
[105,{"$f":"'TRAFOS MUESTRA'!B107","v":0},0,0,0,0,0,{"$f":"IFERROR(VLOOKUP(VLOOKUP(B115,TRAFOS,4,FALSE),'COSTO ELEMENTOS N1'!$C$321:$C$350,1),0)","v":0}]
[106,{"$f":"'TRAFOS MUESTRA'!B108","v":0},0,0,0,0,0,{"$f":"IFERROR(VLOOKUP(VLOOKUP(B116,TRAFOS,4,FALSE),'COSTO ELEMENTOS N1'!$C$321:$C$350,1),0)","v":0}]
[107,{"$f":"'TRAFOS MUESTRA'!B109","v":0},0,0,0,0,0,{"$f":"IFERROR(VLOOKUP(VLOOKUP(B117,TRAFOS,4,FALSE),'COSTO ELEMENTOS N1'!$C$321:$C$350,1),0)","v":0}]
[108,{"$f":"'TRAFOS MUESTRA'!B110","v":0},0,0,0,0,0,{"$f":"IFERROR(VLOOKUP(VLOOKUP(B118,TRAFOS,4,FALSE),'COSTO ELEMENTOS N1'!$C$321:$C$350,1),0)","v":0}]
[109,{"$f":"'TRAFOS MUESTRA'!B111","v":0},0,0,0,0,0,{"$f":"IFERROR(VLOOKUP(VLOOKUP(B119,TRAFOS,4,FALSE),'COSTO ELEMENTOS N1'!$C$321:$C$350,1),0)","v":0}]
[110,{"$f":"'TRAFOS MUESTRA'!B112","v":0},0,0,0,0,0,{"$f":"IFERROR(VLOOKUP(VLOOKUP(B120,TRAFOS,4,FALSE),'COSTO ELEMENTOS N1'!$C$321:$C$350,1),0)","v":0}]
[111,{"$f":"'TRAFOS MUESTRA'!B113","v":0},0,0,0,0,0,{"$f":"IFERROR(VLOOKUP(VLOOKUP(B121,TRAFOS,4,FALSE),'COSTO ELEMENTOS N1'!$C$321:$C$350,1),0)","v":0}]
[112,{"$f":"'TRAFOS MUESTRA'!B114","v":0},0,0,0,0,0,{"$f":"IFERROR(VLOOKUP(VLOOKUP(B122,TRAFOS,4,FALSE),'COSTO ELEMENTOS N1'!$C$321:$C$350,1),0)","v":0}]
[113,{"$f":"'TRAFOS MUESTRA'!B115","v":0},0,0,0,0,0,{"$f":"IFERROR(VLOOKUP(VLOOKUP(B123,TRAFOS,4,FALSE),'COSTO ELEMENTOS N1'!$C$321:$C$350,1),0)","v":0}]
[114,{"$f":"'TRAFOS MUESTRA'!B116","v":0},0,0,0,0,0,{"$f":"IFERROR(VLOOKUP(VLOOKUP(B124,TRAFOS,4,FALSE),'COSTO ELEMENTOS N1'!$C$321:$C$350,1),0)","v":0}]
[115,{"$f":"'TRAFOS MUESTRA'!B117","v":0},0,0,0,0,0,{"$f":"IFERROR(VLOOKUP(VLOOKUP(B125,TRAFOS,4,FALSE),'COSTO ELEMENTOS N1'!$C$321:$C$350,1),0)","v":0}]
[116,{"$f":"'TRAFOS MUESTRA'!B118","v":0},0,0,0,0,0,{"$f":"IFERROR(VLOOKUP(VLOOKUP(B126,TRAFOS,4,FALSE),'COSTO ELEMENTOS N1'!$C$321:$C$350,1),0)","v":0}]
[117,{"$f":"'TRAFOS MUESTRA'!B119","v":0},0,0,0,0,0,{"$f":"IFERROR(VLOOKUP(VLOOKUP(B127,TRAFOS,4,FALSE),'COSTO ELEMENTOS N1'!$C$321:$C$350,1),0)","v":0}]
[118,{"$f":"'TRAFOS MUESTRA'!B120","v":0},0,0,0,0,0,{"$f":"IFERROR(VLOOKUP(VLOOKUP(B128,TRAFOS,4,FALSE),'COSTO ELEMENTOS N1'!$C$321:$C$350,1),0)","v":0}]
[119,{"$f":"'TRAFOS MUESTRA'!B121","v":0},0,0,0,0,0,{"$f":"IFERROR(VLOOKUP(VLOOKUP(B129,TRAFOS,4,FALSE),'COSTO ELEMENTOS N1'!$C$321:$C$350,1),0)","v":0}]
[120,{"$f":"'TRAFOS MUESTRA'!B122","v":0},0,0,0,0,0,{"$f":"IFERROR(VLOOKUP(VLOOKUP(B130,TRAFOS,4,FALSE),'COSTO ELEMENTOS N1'!$C$321:$C$350,1),0)","v":0}]
[121,{"$f":"'TRAFOS MUESTRA'!B123","v":0},0,0,0,0,0,{"$f":"IFERROR(VLOOKUP(VLOOKUP(B131,TRAFOS,4,FALSE),'COSTO ELEMENTOS N1'!$C$321:$C$350,1),0)","v":0}]
[122,{"$f":"'TRAFOS MUESTRA'!B124","v":0},0,0,0,0,0,{"$f":"IFERROR(VLOOKUP(VLOOKUP(B132,TRAFOS,4,FALSE),'COSTO ELEMENTOS N1'!$C$321:$C$350,1),0)","v":0}]
[123,{"$f":"'TRAFOS MUESTRA'!B125","v":0},0,0,0,0,0,{"$f":"IFERROR(VLOOKUP(VLOOKUP(B133,TRAFOS,4,FALSE),'COSTO ELEMENTOS N1'!$C$321:$C$350,1),0)","v":0}]
[124,{"$f":"'TRAFOS MUESTRA'!B126","v":0},0,0,0,0,0,{"$f":"IFERROR(VLOOKUP(VLOOKUP(B134,TRAFOS,4,FALSE),'COSTO ELEMENTOS N1'!$C$321:$C$350,1),0)","v":0}]
[125,{"$f":"'TRAFOS MUESTRA'!B127","v":0},0,0,0,0,0,{"$f":"IFERROR(VLOOKUP(VLOOKUP(B135,TRAFOS,4,FALSE),'COSTO ELEMENTOS N1'!$C$321:$C$350,1),0)","v":0}]
[126,{"$f":"'TRAFOS MUESTRA'!B128","v":0},0,0,0,0,0,{"$f":"IFERROR(VLOOKUP(VLOOKUP(B136,TRAFOS,4,FALSE),'COSTO ELEMENTOS N1'!$C$321:$C$350,1),0)","v":0}]
[127,{"$f":"'TRAFOS MUESTRA'!B129","v":0},0,0,0,0,0,{"$f":"IFERROR(VLOOKUP(VLOOKUP(B137,TRAFOS,4,FALSE),'COSTO ELEMENTOS N1'!$C$321:$C$350,1),0)","v":0}]
[128,{"$f":"'TRAFOS MUESTRA'!B130","v":0},0,0,0,0,0,{"$f":"IFERROR(VLOOKUP(VLOOKUP(B138,TRAFOS,4,FALSE),'COSTO ELEMENTOS N1'!$C$321:$C$350,1),0)","v":0}]
[129,{"$f":"'TRAFOS MUESTRA'!B131","v":0},{"$f":"IFERROR(VLOOKUP(B139,TRAFOS,3,FALSE),0)","v":0},{"$f":"IFERROR(SUMIF(CODIGO_TRAFOS_REDES,$B139,COSTO_CONDUCTOR_TRAMO),0)","v":0},{"$f":"IFERROR(SUMIF(CODIGO_TRAFOS_REDES,$B139,COSTO_APOYOS_TRAMO),0)","v":0},{"$f":"IFERROR(IF(H139>15,VLOOKUP(H139,COSTO_TRAFOS_3F,6,FALSE),VLOOKUP(H139,COSTO_TRAFOS_1F,6,FALSE)),0)","v":0},0,{"$f":"IFERROR(VLOOKUP(VLOOKUP(B139,TRAFOS,4,FALSE),'COSTO ELEMENTOS N1'!$C$321:$C$350,1),0)","v":0}]
[130,{"$f":"'TRAFOS MUESTRA'!B132","v":0},0,0,0,0,{"$f":"SUM(D140:F140)","v":0},{"$f":"IFERROR(VLOOKUP(VLOOKUP(B140,TRAFOS,4,FALSE),'COSTO ELEMENTOS N1'!$C$321:$C$350,1),0)","v":0}]
[{"$f":"A140+1","v":131},{"$f":"'TRAFOS MUESTRA'!B133","v":0},0,0,0,0,0,{"$f":"IFERROR(VLOOKUP(VLOOKUP(B141,TRAFOS,4,FALSE),'COSTO ELEMENTOS N1'!$C$321:$C$350,1),0)","v":0}]
[132,{"$f":"'TRAFOS MUESTRA'!B134","v":0},0,0,0,0,0,{"$f":"IFERROR(VLOOKUP(VLOOKUP(B142,TRAFOS,4,FALSE),'COSTO ELEMENTOS N1'!$C$321:$C$350,1),0)","v":0}]
[133,{"$f":"'TRAFOS MUESTRA'!B135","v":0},0,0,0,0,0,{"$f":"IFERROR(VLOOKUP(VLOOKUP(B143,TRAFOS,4,FALSE),'COSTO ELEMENTOS N1'!$C$321:$C$350,1),0)","v":0}]
[134,{"$f":"'TRAFOS MUESTRA'!B136","v":0},0,0,0,0,0,{"$f":"IFERROR(VLOOKUP(VLOOKUP(B144,TRAFOS,4,FALSE),'COSTO ELEMENTOS N1'!$C$321:$C$350,1),0)","v":0}]
[135,{"$f":"'TRAFOS MUESTRA'!B137","v":0},0,0,0,0,0,{"$f":"IFERROR(VLOOKUP(VLOOKUP(B145,TRAFOS,4,FALSE),'COSTO ELEMENTOS N1'!$C$321:$C$350,1),0)","v":0}]
[136,{"$f":"'TRAFOS MUESTRA'!B138","v":0},0,0,0,0,0,{"$f":"IFERROR(VLOOKUP(VLOOKUP(B146,TRAFOS,4,FALSE),'COSTO ELEMENTOS N1'!$C$321:$C$350,1),0)","v":0}]
[137,{"$f":"'TRAFOS MUESTRA'!B139","v":0},0,0,0,0,0,{"$f":"IFERROR(VLOOKUP(VLOOKUP(B147,TRAFOS,4,FALSE),'COSTO ELEMENTOS N1'!$C$321:$C$350,1),0)","v":0}]
[138,{"$f":"'TRAFOS MUESTRA'!B140","v":0},0,0,0,0,0,{"$f":"IFERROR(VLOOKUP(VLOOKUP(B148,TRAFOS,4,FALSE),'COSTO ELEMENTOS N1'!$C$321:$C$350,1),0)","v":0}]
[139,{"$f":"'TRAFOS MUESTRA'!B141","v":0},0,0,0,0,0,{"$f":"IFERROR(VLOOKUP(VLOOKUP(B149,TRAFOS,4,FALSE),'COSTO ELEMENTOS N1'!$C$321:$C$350,1),0)","v":0}]
[140,{"$f":"'TRAFOS MUESTRA'!B142","v":0},0,0,0,0,0,{"$f":"IFERROR(VLOOKUP(VLOOKUP(B150,TRAFOS,4,FALSE),'COSTO ELEMENTOS N1'!$C$321:$C$350,1),0)","v":0}]
[141,{"$f":"'TRAFOS MUESTRA'!B143","v":0},0,0,0,0,0,{"$f":"IFERROR(VLOOKUP(VLOOKUP(B151,TRAFOS,4,FALSE),'COSTO ELEMENTOS N1'!$C$321:$C$350,1),0)","v":0}]
[142,{"$f":"'TRAFOS MUESTRA'!B144","v":0},0,0,0,0,0,{"$f":"IFERROR(VLOOKUP(VLOOKUP(B152,TRAFOS,4,FALSE),'COSTO ELEMENTOS N1'!$C$321:$C$350,1),0)","v":0}]
[143,{"$f":"'TRAFOS MUESTRA'!B145","v":0},0,0,0,0,0,{"$f":"IFERROR(VLOOKUP(VLOOKUP(B153,TRAFOS,4,FALSE),'COSTO ELEMENTOS N1'!$C$321:$C$350,1),0)","v":0}]
[144,{"$f":"'TRAFOS MUESTRA'!B146","v":0},0,0,0,0,0,{"$f":"IFERROR(VLOOKUP(VLOOKUP(B154,TRAFOS,4,FALSE),'COSTO ELEMENTOS N1'!$C$321:$C$350,1),0)","v":0}]
[145,{"$f":"'TRAFOS MUESTRA'!B147","v":0},0,0,0,0,0,{"$f":"IFERROR(VLOOKUP(VLOOKUP(B155,TRAFOS,4,FALSE),'COSTO ELEMENTOS N1'!$C$321:$C$350,1),0)","v":0}]
[146,{"$f":"'TRAFOS MUESTRA'!B148","v":0},0,0,0,0,0,{"$f":"IFERROR(VLOOKUP(VLOOKUP(B156,TRAFOS,4,FALSE),'COSTO ELEMENTOS N1'!$C$321:$C$350,1),0)","v":0}]
[147,{"$f":"'TRAFOS MUESTRA'!B149","v":0},0,0,0,0,0,{"$f":"IFERROR(VLOOKUP(VLOOKUP(B157,TRAFOS,4,FALSE),'COSTO ELEMENTOS N1'!$C$321:$C$350,1),0)","v":0}]
[148,{"$f":"'TRAFOS MUESTRA'!B150","v":0},0,0,0,0,0,{"$f":"IFERROR(VLOOKUP(VLOOKUP(B158,TRAFOS,4,FALSE),'COSTO ELEMENTOS N1'!$C$321:$C$350,1),0)","v":0}]
[149,{"$f":"'TRAFOS MUESTRA'!B151","v":0},0,0,0,0,0,{"$f":"IFERROR(VLOOKUP(VLOOKUP(B159,TRAFOS,4,FALSE),'COSTO ELEMENTOS N1'!$C$321:$C$350,1),0)","v":0}]
[150,{"$f":"'TRAFOS MUESTRA'!B152","v":0},0,0,0,0,0,{"$f":"IFERROR(VLOOKUP(VLOOKUP(B160,TRAFOS,4,FALSE),'COSTO ELEMENTOS N1'!$C$321:$C$350,1),0)","v":0}]
[151,{"$f":"'TRAFOS MUESTRA'!B153","v":0},0,0,0,0,0,{"$f":"IFERROR(VLOOKUP(VLOOKUP(B161,TRAFOS,4,FALSE),'COSTO ELEMENTOS N1'!$C$321:$C$350,1),0)","v":0}]
[152,{"$f":"'TRAFOS MUESTRA'!B154","v":0},0,0,0,0,0,{"$f":"IFERROR(VLOOKUP(VLOOKUP(B162,TRAFOS,4,FALSE),'COSTO ELEMENTOS N1'!$C$321:$C$350,1),0)","v":0}]
[153,{"$f":"'TRAFOS MUESTRA'!B155","v":0},0,0,0,0,0,{"$f":"IFERROR(VLOOKUP(VLOOKUP(B163,TRAFOS,4,FALSE),'COSTO ELEMENTOS N1'!$C$321:$C$350,1),0)","v":0}]
[154,{"$f":"'TRAFOS MUESTRA'!B156","v":0},0,0,0,0,0,{"$f":"IFERROR(VLOOKUP(VLOOKUP(B164,TRAFOS,4,FALSE),'COSTO ELEMENTOS N1'!$C$321:$C$350,1),0)","v":0}]
[155,{"$f":"'TRAFOS MUESTRA'!B157","v":0},0,0,0,0,0,{"$f":"IFERROR(VLOOKUP(VLOOKUP(B165,TRAFOS,4,FALSE),'COSTO ELEMENTOS N1'!$C$321:$C$350,1),0)","v":0}]
[156,{"$f":"'TRAFOS MUESTRA'!B158","v":0},0,0,0,0,0,{"$f":"IFERROR(VLOOKUP(VLOOKUP(B166,TRAFOS,4,FALSE),'COSTO ELEMENTOS N1'!$C$321:$C$350,1),0)","v":0}]
[157,{"$f":"'TRAFOS MUESTRA'!B159","v":0},0,0,0,0,0,{"$f":"IFERROR(VLOOKUP(VLOOKUP(B167,TRAFOS,4,FALSE),'COSTO ELEMENTOS N1'!$C$321:$C$350,1),0)","v":0}]
[158,{"$f":"'TRAFOS MUESTRA'!B160","v":0},0,0,0,0,0,{"$f":"IFERROR(VLOOKUP(VLOOKUP(B168,TRAFOS,4,FALSE),'COSTO ELEMENTOS N1'!$C$321:$C$350,1),0)","v":0}]
[159,{"$f":"'TRAFOS MUESTRA'!B161","v":0},0,0,0,0,0,{"$f":"IFERROR(VLOOKUP(VLOOKUP(B169,TRAFOS,4,FALSE),'COSTO ELEMENTOS N1'!$C$321:$C$350,1),0)","v":0}]
[160,{"$f":"'TRAFOS MUESTRA'!B162","v":0},0,0,0,0,0,{"$f":"IFERROR(VLOOKUP(VLOOKUP(B170,TRAFOS,4,FALSE),'COSTO ELEMENTOS N1'!$C$321:$C$350,1),0)","v":0}]
[161,{"$f":"'TRAFOS MUESTRA'!B163","v":0},0,0,0,0,0,{"$f":"IFERROR(VLOOKUP(VLOOKUP(B171,TRAFOS,4,FALSE),'COSTO ELEMENTOS N1'!$C$321:$C$350,1),0)","v":0}]
[162,{"$f":"'TRAFOS MUESTRA'!B164","v":0},0,0,0,0,0,{"$f":"IFERROR(VLOOKUP(VLOOKUP(B172,TRAFOS,4,FALSE),'COSTO ELEMENTOS N1'!$C$321:$C$350,1),0)","v":0}]
[163,{"$f":"'TRAFOS MUESTRA'!B165","v":0},0,0,0,0,0,{"$f":"IFERROR(VLOOKUP(VLOOKUP(B173,TRAFOS,4,FALSE),'COSTO ELEMENTOS N1'!$C$321:$C$350,1),0)","v":0}]
[164,{"$f":"'TRAFOS MUESTRA'!B166","v":0},0,0,0,0,0,{"$f":"IFERROR(VLOOKUP(VLOOKUP(B174,TRAFOS,4,FALSE),'COSTO ELEMENTOS N1'!$C$321:$C$350,1),0)","v":0}]
[165,{"$f":"'TRAFOS MUESTRA'!B167","v":0},0,0,0,0,0,{"$f":"IFERROR(VLOOKUP(VLOOKUP(B175,TRAFOS,4,FALSE),'COSTO ELEMENTOS N1'!$C$321:$C$350,1),0)","v":0}]
[166,{"$f":"'TRAFOS MUESTRA'!B168","v":0},0,0,0,0,0,{"$f":"IFERROR(VLOOKUP(VLOOKUP(B176,TRAFOS,4,FALSE),'COSTO ELEMENTOS N1'!$C$321:$C$350,1),0)","v":0}]
[167,{"$f":"'TRAFOS MUESTRA'!B169","v":0},0,0,0,0,0,{"$f":"IFERROR(VLOOKUP(VLOOKUP(B177,TRAFOS,4,FALSE),'COSTO ELEMENTOS N1'!$C$321:$C$350,1),0)","v":0}]
[168,{"$f":"'TRAFOS MUESTRA'!B170","v":0},0,0,0,0,0,{"$f":"IFERROR(VLOOKUP(VLOOKUP(B178,TRAFOS,4,FALSE),'COSTO ELEMENTOS N1'!$C$321:$C$350,1),0)","v":0}]
[169,{"$f":"'TRAFOS MUESTRA'!B171","v":0},0,0,0,0,0,{"$f":"IFERROR(VLOOKUP(VLOOKUP(B179,TRAFOS,4,FALSE),'COSTO ELEMENTOS N1'!$C$321:$C$350,1),0)","v":0}]
[170,{"$f":"'TRAFOS MUESTRA'!B172","v":0},0,0,0,0,0,{"$f":"IFERROR(VLOOKUP(VLOOKUP(B180,TRAFOS,4,FALSE),'COSTO ELEMENTOS N1'!$C$321:$C$350,1),0)","v":0}]
[171,{"$f":"'TRAFOS MUESTRA'!B173","v":0},0,0,0,0,0,{"$f":"IFERROR(VLOOKUP(VLOOKUP(B181,TRAFOS,4,FALSE),'COSTO ELEMENTOS N1'!$C$321:$C$350,1),0)","v":0}]
[172,{"$f":"'TRAFOS MUESTRA'!B174","v":0},0,0,0,0,0,{"$f":"IFERROR(VLOOKUP(VLOOKUP(B182,TRAFOS,4,FALSE),'COSTO ELEMENTOS N1'!$C$321:$C$350,1),0)","v":0}]
[173,{"$f":"'TRAFOS MUESTRA'!B175","v":0},0,0,0,0,0,{"$f":"IFERROR(VLOOKUP(VLOOKUP(B183,TRAFOS,4,FALSE),'COSTO ELEMENTOS N1'!$C$321:$C$350,1),0)","v":0}]
[174,{"$f":"'TRAFOS MUESTRA'!B176","v":0},0,0,0,0,0,{"$f":"IFERROR(VLOOKUP(VLOOKUP(B184,TRAFOS,4,FALSE),'COSTO ELEMENTOS N1'!$C$321:$C$350,1),0)","v":0}]
[175,{"$f":"'TRAFOS MUESTRA'!B177","v":0},0,0,0,0,0,{"$f":"IFERROR(VLOOKUP(VLOOKUP(B185,TRAFOS,4,FALSE),'COSTO ELEMENTOS N1'!$C$321:$C$350,1),0)","v":0}]
[176,{"$f":"'TRAFOS MUESTRA'!B178","v":0},0,0,0,0,0,{"$f":"IFERROR(VLOOKUP(VLOOKUP(B186,TRAFOS,4,FALSE),'COSTO ELEMENTOS N1'!$C$321:$C$350,1),0)","v":0}]
[177,{"$f":"'TRAFOS MUESTRA'!B179","v":0},0,0,0,0,0,{"$f":"IFERROR(VLOOKUP(VLOOKUP(B187,TRAFOS,4,FALSE),'COSTO ELEMENTOS N1'!$C$321:$C$350,1),0)","v":0}]
[178,{"$f":"'TRAFOS MUESTRA'!B180","v":0},0,0,0,0,0,{"$f":"IFERROR(VLOOKUP(VLOOKUP(B188,TRAFOS,4,FALSE),'COSTO ELEMENTOS N1'!$C$321:$C$350,1),0)","v":0}]
[179,{"$f":"'TRAFOS MUESTRA'!B181","v":0},0,0,0,0,0,{"$f":"IFERROR(VLOOKUP(VLOOKUP(B189,TRAFOS,4,FALSE),'COSTO ELEMENTOS N1'!$C$321:$C$350,1),0)","v":0}]
[180,{"$f":"'TRAFOS MUESTRA'!B182","v":0},0,0,0,0,0,{"$f":"IFERROR(VLOOKUP(VLOOKUP(B190,TRAFOS,4,FALSE),'COSTO ELEMENTOS N1'!$C$321:$C$350,1),0)","v":0}]
[181,{"$f":"'TRAFOS MUESTRA'!B183","v":0},0,0,0,0,0,{"$f":"IFERROR(VLOOKUP(VLOOKUP(B191,TRAFOS,4,FALSE),'COSTO ELEMENTOS N1'!$C$321:$C$350,1),0)","v":0}]
[182,{"$f":"'TRAFOS MUESTRA'!B184","v":0},0,0,0,0,0,{"$f":"IFERROR(VLOOKUP(VLOOKUP(B192,TRAFOS,4,FALSE),'COSTO ELEMENTOS N1'!$C$321:$C$350,1),0)","v":0}]
[183,{"$f":"'TRAFOS MUESTRA'!B185","v":0},0,0,0,0,0,{"$f":"IFERROR(VLOOKUP(VLOOKUP(B193,TRAFOS,4,FALSE),'COSTO ELEMENTOS N1'!$C$321:$C$350,1),0)","v":0}]
[184,{"$f":"'TRAFOS MUESTRA'!B186","v":0},0,0,0,0,0,{"$f":"IFERROR(VLOOKUP(VLOOKUP(B194,TRAFOS,4,FALSE),'COSTO ELEMENTOS N1'!$C$321:$C$350,1),0)","v":0}]
[185,{"$f":"'TRAFOS MUESTRA'!B187","v":0},0,0,0,0,0,{"$f":"IFERROR(VLOOKUP(VLOOKUP(B195,TRAFOS,4,FALSE),'COSTO ELEMENTOS N1'!$C$321:$C$350,1),0)","v":0}]
[186,{"$f":"'TRAFOS MUESTRA'!B188","v":0},0,0,0,0,0,{"$f":"IFERROR(VLOOKUP(VLOOKUP(B196,TRAFOS,4,FALSE),'COSTO ELEMENTOS N1'!$C$321:$C$350,1),0)","v":0}]
[187,{"$f":"'TRAFOS MUESTRA'!B189","v":0},0,0,0,0,0,{"$f":"IFERROR(VLOOKUP(VLOOKUP(B197,TRAFOS,4,FALSE),'COSTO ELEMENTOS N1'!$C$321:$C$350,1),0)","v":0}]
[188,{"$f":"'TRAFOS MUESTRA'!B190","v":0},0,0,0,0,0,{"$f":"IFERROR(VLOOKUP(VLOOKUP(B198,TRAFOS,4,FALSE),'COSTO ELEMENTOS N1'!$C$321:$C$350,1),0)","v":0}]
[189,{"$f":"'TRAFOS MUESTRA'!B191","v":0},0,0,0,0,0,{"$f":"IFERROR(VLOOKUP(VLOOKUP(B199,TRAFOS,4,FALSE),'COSTO ELEMENTOS N1'!$C$321:$C$350,1),0)","v":0}]
[190,{"$f":"'TRAFOS MUESTRA'!B192","v":0},0,0,0,0,0,{"$f":"IFERROR(VLOOKUP(VLOOKUP(B200,TRAFOS,4,FALSE),'COSTO ELEMENTOS N1'!$C$321:$C$350,1),0)","v":0}]
[191,{"$f":"'TRAFOS MUESTRA'!B193","v":0},0,0,0,0,0,{"$f":"IFERROR(VLOOKUP(VLOOKUP(B201,TRAFOS,4,FALSE),'COSTO ELEMENTOS N1'!$C$321:$C$350,1),0)","v":0}]
[192,{"$f":"'TRAFOS MUESTRA'!B194","v":0},0,0,0,0,0,{"$f":"IFERROR(VLOOKUP(VLOOKUP(B202,TRAFOS,4,FALSE),'COSTO ELEMENTOS N1'!$C$321:$C$350,1),0)","v":0}]
[193,{"$f":"'TRAFOS MUESTRA'!B195","v":0},{"$f":"IFERROR(VLOOKUP(B203,TRAFOS,3,FALSE),0)","v":0},{"$f":"IFERROR(SUMIF(CODIGO_TRAFOS_REDES,$B203,COSTO_CONDUCTOR_TRAMO),0)","v":0},{"$f":"IFERROR(SUMIF(CODIGO_TRAFOS_REDES,$B203,COSTO_APOYOS_TRAMO),0)","v":0},{"$f":"IFERROR(IF(H203>15,VLOOKUP(H203,COSTO_TRAFOS_3F,6,FALSE),VLOOKUP(H203,COSTO_TRAFOS_1F,6,FALSE)),0)","v":0},0,{"$f":"IFERROR(VLOOKUP(VLOOKUP(B203,TRAFOS,4,FALSE),'COSTO ELEMENTOS N1'!$C$321:$C$350,1),0)","v":0}]
[194,{"$f":"'TRAFOS MUESTRA'!B196","v":0},0,0,0,0,{"$f":"SUM(D204:F204)","v":0},{"$f":"IFERROR(VLOOKUP(VLOOKUP(B204,TRAFOS,4,FALSE),'COSTO ELEMENTOS N1'!$C$321:$C$350,1),0)","v":0}]
[{"$f":"A204+1","v":195},{"$f":"'TRAFOS MUESTRA'!B197","v":0},0,0,0,0,0,{"$f":"IFERROR(VLOOKUP(VLOOKUP(B205,TRAFOS,4,FALSE),'COSTO ELEMENTOS N1'!$C$321:$C$350,1),0)","v":0}]
[196,{"$f":"'TRAFOS MUESTRA'!B198","v":0},0,0,0,0,0,{"$f":"IFERROR(VLOOKUP(VLOOKUP(B206,TRAFOS,4,FALSE),'COSTO ELEMENTOS N1'!$C$321:$C$350,1),0)","v":0}]
[197,{"$f":"'TRAFOS MUESTRA'!B199","v":0},0,0,0,0,0,{"$f":"IFERROR(VLOOKUP(VLOOKUP(B207,TRAFOS,4,FALSE),'COSTO ELEMENTOS N1'!$C$321:$C$350,1),0)","v":0}]
[198,{"$f":"'TRAFOS MUESTRA'!B200","v":0},0,0,0,0,0,{"$f":"IFERROR(VLOOKUP(VLOOKUP(B208,TRAFOS,4,FALSE),'COSTO ELEMENTOS N1'!$C$321:$C$350,1),0)","v":0}]
[199,{"$f":"'TRAFOS MUESTRA'!B201","v":0},0,0,0,0,0,{"$f":"IFERROR(VLOOKUP(VLOOKUP(B209,TRAFOS,4,FALSE),'COSTO ELEMENTOS N1'!$C$321:$C$350,1),0)","v":0}]
[200,{"$f":"'TRAFOS MUESTRA'!B202","v":0},0,0,0,0,0,{"$f":"IFERROR(VLOOKUP(VLOOKUP(B210,TRAFOS,4,FALSE),'COSTO ELEMENTOS N1'!$C$321:$C$350,1),0)","v":0}]
[201,{"$f":"'TRAFOS MUESTRA'!B203","v":0},0,0,0,0,0,{"$f":"IFERROR(VLOOKUP(VLOOKUP(B211,TRAFOS,4,FALSE),'COSTO ELEMENTOS N1'!$C$321:$C$350,1),0)","v":0}]
[202,{"$f":"'TRAFOS MUESTRA'!B204","v":0},0,0,0,0,0,{"$f":"IFERROR(VLOOKUP(VLOOKUP(B212,TRAFOS,4,FALSE),'COSTO ELEMENTOS N1'!$C$321:$C$350,1),0)","v":0}]
[203,{"$f":"'TRAFOS MUESTRA'!B205","v":0},0,0,0,0,0,{"$f":"IFERROR(VLOOKUP(VLOOKUP(B213,TRAFOS,4,FALSE),'COSTO ELEMENTOS N1'!$C$321:$C$350,1),0)","v":0}]
[204,{"$f":"'TRAFOS MUESTRA'!B206","v":0},0,0,0,0,0,{"$f":"IFERROR(VLOOKUP(VLOOKUP(B214,TRAFOS,4,FALSE),'COSTO ELEMENTOS N1'!$C$321:$C$350,1),0)","v":0}]
[205,{"$f":"'TRAFOS MUESTRA'!B207","v":0},0,0,0,0,0,{"$f":"IFERROR(VLOOKUP(VLOOKUP(B215,TRAFOS,4,FALSE),'COSTO ELEMENTOS N1'!$C$321:$C$350,1),0)","v":0}]
[206,{"$f":"'TRAFOS MUESTRA'!B208","v":0},0,0,0,0,0,{"$f":"IFERROR(VLOOKUP(VLOOKUP(B216,TRAFOS,4,FALSE),'COSTO ELEMENTOS N1'!$C$321:$C$350,1),0)","v":0}]
[207,{"$f":"'TRAFOS MUESTRA'!B209","v":0},0,0,0,0,0,{"$f":"IFERROR(VLOOKUP(VLOOKUP(B217,TRAFOS,4,FALSE),'COSTO ELEMENTOS N1'!$C$321:$C$350,1),0)","v":0}]
[208,{"$f":"'TRAFOS MUESTRA'!B210","v":0},0,0,0,0,0,{"$f":"IFERROR(VLOOKUP(VLOOKUP(B218,TRAFOS,4,FALSE),'COSTO ELEMENTOS N1'!$C$321:$C$350,1),0)","v":0}]
[209,{"$f":"'TRAFOS MUESTRA'!B211","v":0},0,0,0,0,0,{"$f":"IFERROR(VLOOKUP(VLOOKUP(B219,TRAFOS,4,FALSE),'COSTO ELEMENTOS N1'!$C$321:$C$350,1),0)","v":0}]
[210,{"$f":"'TRAFOS MUESTRA'!B212","v":0},0,0,0,0,0,{"$f":"IFERROR(VLOOKUP(VLOOKUP(B220,TRAFOS,4,FALSE),'COSTO ELEMENTOS N1'!$C$321:$C$350,1),0)","v":0}]
[211,{"$f":"'TRAFOS MUESTRA'!B213","v":0},0,0,0,0,0,{"$f":"IFERROR(VLOOKUP(VLOOKUP(B221,TRAFOS,4,FALSE),'COSTO ELEMENTOS N1'!$C$321:$C$350,1),0)","v":0}]
[212,{"$f":"'TRAFOS MUESTRA'!B214","v":0},0,0,0,0,0,{"$f":"IFERROR(VLOOKUP(VLOOKUP(B222,TRAFOS,4,FALSE),'COSTO ELEMENTOS N1'!$C$321:$C$350,1),0)","v":0}]
[213,{"$f":"'TRAFOS MUESTRA'!B215","v":0},0,0,0,0,0,{"$f":"IFERROR(VLOOKUP(VLOOKUP(B223,TRAFOS,4,FALSE),'COSTO ELEMENTOS N1'!$C$321:$C$350,1),0)","v":0}]
[214,{"$f":"'TRAFOS MUESTRA'!B216","v":0},0,0,0,0,0,{"$f":"IFERROR(VLOOKUP(VLOOKUP(B224,TRAFOS,4,FALSE),'COSTO ELEMENTOS N1'!$C$321:$C$350,1),0)","v":0}]
[215,{"$f":"'TRAFOS MUESTRA'!B217","v":0},0,0,0,0,0,{"$f":"IFERROR(VLOOKUP(VLOOKUP(B225,TRAFOS,4,FALSE),'COSTO ELEMENTOS N1'!$C$321:$C$350,1),0)","v":0}]
[216,{"$f":"'TRAFOS MUESTRA'!B218","v":0},0,0,0,0,0,{"$f":"IFERROR(VLOOKUP(VLOOKUP(B226,TRAFOS,4,FALSE),'COSTO ELEMENTOS N1'!$C$321:$C$350,1),0)","v":0}]
[217,{"$f":"'TRAFOS MUESTRA'!B219","v":0},0,0,0,0,0,{"$f":"IFERROR(VLOOKUP(VLOOKUP(B227,TRAFOS,4,FALSE),'COSTO ELEMENTOS N1'!$C$321:$C$350,1),0)","v":0}]
[218,{"$f":"'TRAFOS MUESTRA'!B220","v":0},0,0,0,0,0,{"$f":"IFERROR(VLOOKUP(VLOOKUP(B228,TRAFOS,4,FALSE),'COSTO ELEMENTOS N1'!$C$321:$C$350,1),0)","v":0}]
[219,{"$f":"'TRAFOS MUESTRA'!B221","v":0},0,0,0,0,0,{"$f":"IFERROR(VLOOKUP(VLOOKUP(B229,TRAFOS,4,FALSE),'COSTO ELEMENTOS N1'!$C$321:$C$350,1),0)","v":0}]
[220,{"$f":"'TRAFOS MUESTRA'!B222","v":0},0,0,0,0,0,{"$f":"IFERROR(VLOOKUP(VLOOKUP(B230,TRAFOS,4,FALSE),'COSTO ELEMENTOS N1'!$C$321:$C$350,1),0)","v":0}]
[221,{"$f":"'TRAFOS MUESTRA'!B223","v":0},0,0,0,0,0,{"$f":"IFERROR(VLOOKUP(VLOOKUP(B231,TRAFOS,4,FALSE),'COSTO ELEMENTOS N1'!$C$321:$C$350,1),0)","v":0}]
[222,{"$f":"'TRAFOS MUESTRA'!B224","v":0},0,0,0,0,0,{"$f":"IFERROR(VLOOKUP(VLOOKUP(B232,TRAFOS,4,FALSE),'COSTO ELEMENTOS N1'!$C$321:$C$350,1),0)","v":0}]
[223,{"$f":"'TRAFOS MUESTRA'!B225","v":0},0,0,0,0,0,{"$f":"IFERROR(VLOOKUP(VLOOKUP(B233,TRAFOS,4,FALSE),'COSTO ELEMENTOS N1'!$C$321:$C$350,1),0)","v":0}]
[224,{"$f":"'TRAFOS MUESTRA'!B226","v":0},0,0,0,0,0,{"$f":"IFERROR(VLOOKUP(VLOOKUP(B234,TRAFOS,4,FALSE),'COSTO ELEMENTOS N1'!$C$321:$C$350,1),0)","v":0}]
[225,{"$f":"'TRAFOS MUESTRA'!B227","v":0},0,0,0,0,0,{"$f":"IFERROR(VLOOKUP(VLOOKUP(B235,TRAFOS,4,FALSE),'COSTO ELEMENTOS N1'!$C$321:$C$350,1),0)","v":0}]
[226,{"$f":"'TRAFOS MUESTRA'!B228","v":0},0,0,0,0,0,{"$f":"IFERROR(VLOOKUP(VLOOKUP(B236,TRAFOS,4,FALSE),'COSTO ELEMENTOS N1'!$C$321:$C$350,1),0)","v":0}]
[227,{"$f":"'TRAFOS MUESTRA'!B229","v":0},0,0,0,0,0,{"$f":"IFERROR(VLOOKUP(VLOOKUP(B237,TRAFOS,4,FALSE),'COSTO ELEMENTOS N1'!$C$321:$C$350,1),0)","v":0}]
[228,{"$f":"'TRAFOS MUESTRA'!B230","v":0},0,0,0,0,0,{"$f":"IFERROR(VLOOKUP(VLOOKUP(B238,TRAFOS,4,FALSE),'COSTO ELEMENTOS N1'!$C$321:$C$350,1),0)","v":0}]
[229,{"$f":"'TRAFOS MUESTRA'!B231","v":0},0,0,0,0,0,{"$f":"IFERROR(VLOOKUP(VLOOKUP(B239,TRAFOS,4,FALSE),'COSTO ELEMENTOS N1'!$C$321:$C$350,1),0)","v":0}]
[230,{"$f":"'TRAFOS MUESTRA'!B232","v":0},0,0,0,0,0,{"$f":"IFERROR(VLOOKUP(VLOOKUP(B240,TRAFOS,4,FALSE),'COSTO ELEMENTOS N1'!$C$321:$C$350,1),0)","v":0}]
[231,{"$f":"'TRAFOS MUESTRA'!B233","v":0},0,0,0,0,0,{"$f":"IFERROR(VLOOKUP(VLOOKUP(B241,TRAFOS,4,FALSE),'COSTO ELEMENTOS N1'!$C$321:$C$350,1),0)","v":0}]
[232,{"$f":"'TRAFOS MUESTRA'!B234","v":0},0,0,0,0,0,{"$f":"IFERROR(VLOOKUP(VLOOKUP(B242,TRAFOS,4,FALSE),'COSTO ELEMENTOS N1'!$C$321:$C$350,1),0)","v":0}]
[233,{"$f":"'TRAFOS MUESTRA'!B235","v":0},0,0,0,0,0,{"$f":"IFERROR(VLOOKUP(VLOOKUP(B243,TRAFOS,4,FALSE),'COSTO ELEMENTOS N1'!$C$321:$C$350,1),0)","v":0}]
[234,{"$f":"'TRAFOS MUESTRA'!B236","v":0},0,0,0,0,0,{"$f":"IFERROR(VLOOKUP(VLOOKUP(B244,TRAFOS,4,FALSE),'COSTO ELEMENTOS N1'!$C$321:$C$350,1),0)","v":0}]
[235,{"$f":"'TRAFOS MUESTRA'!B237","v":0},0,0,0,0,0,{"$f":"IFERROR(VLOOKUP(VLOOKUP(B245,TRAFOS,4,FALSE),'COSTO ELEMENTOS N1'!$C$321:$C$350,1),0)","v":0}]
[236,{"$f":"'TRAFOS MUESTRA'!B238","v":0},0,0,0,0,0,{"$f":"IFERROR(VLOOKUP(VLOOKUP(B246,TRAFOS,4,FALSE),'COSTO ELEMENTOS N1'!$C$321:$C$350,1),0)","v":0}]
[237,{"$f":"'TRAFOS MUESTRA'!B239","v":0},0,0,0,0,0,{"$f":"IFERROR(VLOOKUP(VLOOKUP(B247,TRAFOS,4,FALSE),'COSTO ELEMENTOS N1'!$C$321:$C$350,1),0)","v":0}]
[238,{"$f":"'TRAFOS MUESTRA'!B240","v":0},0,0,0,0,0,{"$f":"IFERROR(VLOOKUP(VLOOKUP(B248,TRAFOS,4,FALSE),'COSTO ELEMENTOS N1'!$C$321:$C$350,1),0)","v":0}]
[239,{"$f":"'TRAFOS MUESTRA'!B241","v":0},0,0,0,0,0,{"$f":"IFERROR(VLOOKUP(VLOOKUP(B249,TRAFOS,4,FALSE),'COSTO ELEMENTOS N1'!$C$321:$C$350,1),0)","v":0}]
[240,{"$f":"'TRAFOS MUESTRA'!B242","v":0},0,0,0,0,0,{"$f":"IFERROR(VLOOKUP(VLOOKUP(B250,TRAFOS,4,FALSE),'COSTO ELEMENTOS N1'!$C$321:$C$350,1),0)","v":0}]
[241,{"$f":"'TRAFOS MUESTRA'!B243","v":0},0,0,0,0,0,{"$f":"IFERROR(VLOOKUP(VLOOKUP(B251,TRAFOS,4,FALSE),'COSTO ELEMENTOS N1'!$C$321:$C$350,1),0)","v":0}]
[242,{"$f":"'TRAFOS MUESTRA'!B244","v":0},0,0,0,0,0,{"$f":"IFERROR(VLOOKUP(VLOOKUP(B252,TRAFOS,4,FALSE),'COSTO ELEMENTOS N1'!$C$321:$C$350,1),0)","v":0}]
[243,{"$f":"'TRAFOS MUESTRA'!B245","v":0},0,0,0,0,0,{"$f":"IFERROR(VLOOKUP(VLOOKUP(B253,TRAFOS,4,FALSE),'COSTO ELEMENTOS N1'!$C$321:$C$350,1),0)","v":0}]
[244,{"$f":"'TRAFOS MUESTRA'!B246","v":0},0,0,0,0,0,{"$f":"IFERROR(VLOOKUP(VLOOKUP(B254,TRAFOS,4,FALSE),'COSTO ELEMENTOS N1'!$C$321:$C$350,1),0)","v":0}]
[245,{"$f":"'TRAFOS MUESTRA'!B247","v":0},0,0,0,0,0,{"$f":"IFERROR(VLOOKUP(VLOOKUP(B255,TRAFOS,4,FALSE),'COSTO ELEMENTOS N1'!$C$321:$C$350,1),0)","v":0}]
[246,{"$f":"'TRAFOS MUESTRA'!B248","v":0},0,0,0,0,0,{"$f":"IFERROR(VLOOKUP(VLOOKUP(B256,TRAFOS,4,FALSE),'COSTO ELEMENTOS N1'!$C$321:$C$350,1),0)","v":0}]
[247,{"$f":"'TRAFOS MUESTRA'!B249","v":0},0,0,0,0,0,{"$f":"IFERROR(VLOOKUP(VLOOKUP(B257,TRAFOS,4,FALSE),'COSTO ELEMENTOS N1'!$C$321:$C$350,1),0)","v":0}]
[248,{"$f":"'TRAFOS MUESTRA'!B250","v":0},0,0,0,0,0,{"$f":"IFERROR(VLOOKUP(VLOOKUP(B258,TRAFOS,4,FALSE),'COSTO ELEMENTOS N1'!$C$321:$C$350,1),0)","v":0}]
[249,{"$f":"'TRAFOS MUESTRA'!B251","v":0},0,0,0,0,0,{"$f":"IFERROR(VLOOKUP(VLOOKUP(B259,TRAFOS,4,FALSE),'COSTO ELEMENTOS N1'!$C$321:$C$350,1),0)","v":0}]
[250,{"$f":"'TRAFOS MUESTRA'!B252","v":0},0,0,0,0,0,{"$f":"IFERROR(VLOOKUP(VLOOKUP(B260,TRAFOS,4,FALSE),'COSTO ELEMENTOS N1'!$C$321:$C$350,1),0)","v":0}]
[251,{"$f":"'TRAFOS MUESTRA'!B253","v":0},0,0,0,0,0,{"$f":"IFERROR(VLOOKUP(VLOOKUP(B261,TRAFOS,4,FALSE),'COSTO ELEMENTOS N1'!$C$321:$C$350,1),0)","v":0}]
[252,{"$f":"'TRAFOS MUESTRA'!B254","v":0},0,0,0,0,0,{"$f":"IFERROR(VLOOKUP(VLOOKUP(B262,TRAFOS,4,FALSE),'COSTO ELEMENTOS N1'!$C$321:$C$350,1),0)","v":0}]
[253,{"$f":"'TRAFOS MUESTRA'!B255","v":0},0,0,0,0,0,{"$f":"IFERROR(VLOOKUP(VLOOKUP(B263,TRAFOS,4,FALSE),'COSTO ELEMENTOS N1'!$C$321:$C$350,1),0)","v":0}]
[254,{"$f":"'TRAFOS MUESTRA'!B256","v":0},0,0,0,0,0,{"$f":"IFERROR(VLOOKUP(VLOOKUP(B264,TRAFOS,4,FALSE),'COSTO ELEMENTOS N1'!$C$321:$C$350,1),0)","v":0}]
[255,{"$f":"'TRAFOS MUESTRA'!B257","v":0},0,0,0,0,0,{"$f":"IFERROR(VLOOKUP(VLOOKUP(B265,TRAFOS,4,FALSE),'COSTO ELEMENTOS N1'!$C$321:$C$350,1),0)","v":0}]
[256,{"$f":"'TRAFOS MUESTRA'!B258","v":0},0,0,0,0,0,{"$f":"IFERROR(VLOOKUP(VLOOKUP(B266,TRAFOS,4,FALSE),'COSTO ELEMENTOS N1'!$C$321:$C$350,1),0)","v":0}]
[257,{"$f":"'TRAFOS MUESTRA'!B259","v":0},{"$f":"IFERROR(VLOOKUP(B267,TRAFOS,3,FALSE),0)","v":0},{"$f":"IFERROR(SUMIF(CODIGO_TRAFOS_REDES,$B267,COSTO_CONDUCTOR_TRAMO),0)","v":0},{"$f":"IFERROR(SUMIF(CODIGO_TRAFOS_REDES,$B267,COSTO_APOYOS_TRAMO),0)","v":0},{"$f":"IFERROR(IF(H267>15,VLOOKUP(H267,COSTO_TRAFOS_3F,6,FALSE),VLOOKUP(H267,COSTO_TRAFOS_1F,6,FALSE)),0)","v":0},0,{"$f":"IFERROR(VLOOKUP(VLOOKUP(B267,TRAFOS,4,FALSE),'COSTO ELEMENTOS N1'!$C$321:$C$350,1),0)","v":0}]
[258,{"$f":"'TRAFOS MUESTRA'!B260","v":0},0,0,0,0,{"$f":"SUM(D268:F268)","v":0},{"$f":"IFERROR(VLOOKUP(VLOOKUP(B268,TRAFOS,4,FALSE),'COSTO ELEMENTOS N1'!$C$321:$C$350,1),0)","v":0}]
[{"$f":"A268+1","v":259},{"$f":"'TRAFOS MUESTRA'!B261","v":0},0,0,0,0,0,{"$f":"IFERROR(VLOOKUP(VLOOKUP(B269,TRAFOS,4,FALSE),'COSTO ELEMENTOS N1'!$C$321:$C$350,1),0)","v":0}]
[260,{"$f":"'TRAFOS MUESTRA'!B262","v":0},0,0,0,0,0,{"$f":"IFERROR(VLOOKUP(VLOOKUP(B270,TRAFOS,4,FALSE),'COSTO ELEMENTOS N1'!$C$321:$C$350,1),0)","v":0}]
[261,{"$f":"'TRAFOS MUESTRA'!B263","v":0},0,0,0,0,0,{"$f":"IFERROR(VLOOKUP(VLOOKUP(B271,TRAFOS,4,FALSE),'COSTO ELEMENTOS N1'!$C$321:$C$350,1),0)","v":0}]
[262,{"$f":"'TRAFOS MUESTRA'!B264","v":0},0,0,0,0,0,{"$f":"IFERROR(VLOOKUP(VLOOKUP(B272,TRAFOS,4,FALSE),'COSTO ELEMENTOS N1'!$C$321:$C$350,1),0)","v":0}]
[263,{"$f":"'TRAFOS MUESTRA'!B265","v":0},0,0,0,0,0,{"$f":"IFERROR(VLOOKUP(VLOOKUP(B273,TRAFOS,4,FALSE),'COSTO ELEMENTOS N1'!$C$321:$C$350,1),0)","v":0}]
[264,{"$f":"'TRAFOS MUESTRA'!B266","v":0},0,0,0,0,0,{"$f":"IFERROR(VLOOKUP(VLOOKUP(B274,TRAFOS,4,FALSE),'COSTO ELEMENTOS N1'!$C$321:$C$350,1),0)","v":0}]
[265,{"$f":"'TRAFOS MUESTRA'!B267","v":0},0,0,0,0,0,{"$f":"IFERROR(VLOOKUP(VLOOKUP(B275,TRAFOS,4,FALSE),'COSTO ELEMENTOS N1'!$C$321:$C$350,1),0)","v":0}]
[266,{"$f":"'TRAFOS MUESTRA'!B268","v":0},0,0,0,0,0,{"$f":"IFERROR(VLOOKUP(VLOOKUP(B276,TRAFOS,4,FALSE),'COSTO ELEMENTOS N1'!$C$321:$C$350,1),0)","v":0}]
[267,{"$f":"'TRAFOS MUESTRA'!B269","v":0},0,0,0,0,0,{"$f":"IFERROR(VLOOKUP(VLOOKUP(B277,TRAFOS,4,FALSE),'COSTO ELEMENTOS N1'!$C$321:$C$350,1),0)","v":0}]
[268,{"$f":"'TRAFOS MUESTRA'!B270","v":0},0,0,0,0,0,{"$f":"IFERROR(VLOOKUP(VLOOKUP(B278,TRAFOS,4,FALSE),'COSTO ELEMENTOS N1'!$C$321:$C$350,1),0)","v":0}]
[269,{"$f":"'TRAFOS MUESTRA'!B271","v":0},0,0,0,0,0,{"$f":"IFERROR(VLOOKUP(VLOOKUP(B279,TRAFOS,4,FALSE),'COSTO ELEMENTOS N1'!$C$321:$C$350,1),0)","v":0}]
[270,{"$f":"'TRAFOS MUESTRA'!B272","v":0},0,0,0,0,0,{"$f":"IFERROR(VLOOKUP(VLOOKUP(B280,TRAFOS,4,FALSE),'COSTO ELEMENTOS N1'!$C$321:$C$350,1),0)","v":0}]
[271,{"$f":"'TRAFOS MUESTRA'!B273","v":0},0,0,0,0,0,{"$f":"IFERROR(VLOOKUP(VLOOKUP(B281,TRAFOS,4,FALSE),'COSTO ELEMENTOS N1'!$C$321:$C$350,1),0)","v":0}]
[272,{"$f":"'TRAFOS MUESTRA'!B274","v":0},0,0,0,0,0,{"$f":"IFERROR(VLOOKUP(VLOOKUP(B282,TRAFOS,4,FALSE),'COSTO ELEMENTOS N1'!$C$321:$C$350,1),0)","v":0}]
[273,{"$f":"'TRAFOS MUESTRA'!B275","v":0},0,0,0,0,0,{"$f":"IFERROR(VLOOKUP(VLOOKUP(B283,TRAFOS,4,FALSE),'COSTO ELEMENTOS N1'!$C$321:$C$350,1),0)","v":0}]
[274,{"$f":"'TRAFOS MUESTRA'!B276","v":0},0,0,0,0,0,{"$f":"IFERROR(VLOOKUP(VLOOKUP(B284,TRAFOS,4,FALSE),'COSTO ELEMENTOS N1'!$C$321:$C$350,1),0)","v":0}]
[275,{"$f":"'TRAFOS MUESTRA'!B277","v":0},0,0,0,0,0,{"$f":"IFERROR(VLOOKUP(VLOOKUP(B285,TRAFOS,4,FALSE),'COSTO ELEMENTOS N1'!$C$321:$C$350,1),0)","v":0}]
[276,{"$f":"'TRAFOS MUESTRA'!B278","v":0},0,0,0,0,0,{"$f":"IFERROR(VLOOKUP(VLOOKUP(B286,TRAFOS,4,FALSE),'COSTO ELEMENTOS N1'!$C$321:$C$350,1),0)","v":0}]
[277,{"$f":"'TRAFOS MUESTRA'!B279","v":0},0,0,0,0,0,{"$f":"IFERROR(VLOOKUP(VLOOKUP(B287,TRAFOS,4,FALSE),'COSTO ELEMENTOS N1'!$C$321:$C$350,1),0)","v":0}]
[278,{"$f":"'TRAFOS MUESTRA'!B280","v":0},0,0,0,0,0,{"$f":"IFERROR(VLOOKUP(VLOOKUP(B288,TRAFOS,4,FALSE),'COSTO ELEMENTOS N1'!$C$321:$C$350,1),0)","v":0}]
[279,{"$f":"'TRAFOS MUESTRA'!B281","v":0},0,0,0,0,0,{"$f":"IFERROR(VLOOKUP(VLOOKUP(B289,TRAFOS,4,FALSE),'COSTO ELEMENTOS N1'!$C$321:$C$350,1),0)","v":0}]
[280,{"$f":"'TRAFOS MUESTRA'!B282","v":0},0,0,0,0,0,{"$f":"IFERROR(VLOOKUP(VLOOKUP(B290,TRAFOS,4,FALSE),'COSTO ELEMENTOS N1'!$C$321:$C$350,1),0)","v":0}]
[281,{"$f":"'TRAFOS MUESTRA'!B283","v":0},0,0,0,0,0,{"$f":"IFERROR(VLOOKUP(VLOOKUP(B291,TRAFOS,4,FALSE),'COSTO ELEMENTOS N1'!$C$321:$C$350,1),0)","v":0}]
[282,{"$f":"'TRAFOS MUESTRA'!B284","v":0},0,0,0,0,0,{"$f":"IFERROR(VLOOKUP(VLOOKUP(B292,TRAFOS,4,FALSE),'COSTO ELEMENTOS N1'!$C$321:$C$350,1),0)","v":0}]
[283,{"$f":"'TRAFOS MUESTRA'!B285","v":0},0,0,0,0,0,{"$f":"IFERROR(VLOOKUP(VLOOKUP(B293,TRAFOS,4,FALSE),'COSTO ELEMENTOS N1'!$C$321:$C$350,1),0)","v":0}]
[284,{"$f":"'TRAFOS MUESTRA'!B286","v":0},0,0,0,0,0,{"$f":"IFERROR(VLOOKUP(VLOOKUP(B294,TRAFOS,4,FALSE),'COSTO ELEMENTOS N1'!$C$321:$C$350,1),0)","v":0}]
[285,{"$f":"'TRAFOS MUESTRA'!B287","v":0},0,0,0,0,0,{"$f":"IFERROR(VLOOKUP(VLOOKUP(B295,TRAFOS,4,FALSE),'COSTO ELEMENTOS N1'!$C$321:$C$350,1),0)","v":0}]
[286,{"$f":"'TRAFOS MUESTRA'!B288","v":0},0,0,0,0,0,{"$f":"IFERROR(VLOOKUP(VLOOKUP(B296,TRAFOS,4,FALSE),'COSTO ELEMENTOS N1'!$C$321:$C$350,1),0)","v":0}]
[287,{"$f":"'TRAFOS MUESTRA'!B289","v":0},0,0,0,0,0,{"$f":"IFERROR(VLOOKUP(VLOOKUP(B297,TRAFOS,4,FALSE),'COSTO ELEMENTOS N1'!$C$321:$C$350,1),0)","v":0}]
[288,{"$f":"'TRAFOS MUESTRA'!B290","v":0},0,0,0,0,0,{"$f":"IFERROR(VLOOKUP(VLOOKUP(B298,TRAFOS,4,FALSE),'COSTO ELEMENTOS N1'!$C$321:$C$350,1),0)","v":0}]
[289,{"$f":"'TRAFOS MUESTRA'!B291","v":0},0,0,0,0,0,{"$f":"IFERROR(VLOOKUP(VLOOKUP(B299,TRAFOS,4,FALSE),'COSTO ELEMENTOS N1'!$C$321:$C$350,1),0)","v":0}]
[290,{"$f":"'TRAFOS MUESTRA'!B292","v":0},0,0,0,0,0,{"$f":"IFERROR(VLOOKUP(VLOOKUP(B300,TRAFOS,4,FALSE),'COSTO ELEMENTOS N1'!$C$321:$C$350,1),0)","v":0}]
[291,{"$f":"'TRAFOS MUESTRA'!B293","v":0},0,0,0,0,0,{"$f":"IFERROR(VLOOKUP(VLOOKUP(B301,TRAFOS,4,FALSE),'COSTO ELEMENTOS N1'!$C$321:$C$350,1),0)","v":0}]
[292,{"$f":"'TRAFOS MUESTRA'!B294","v":0},0,0,0,0,0,{"$f":"IFERROR(VLOOKUP(VLOOKUP(B302,TRAFOS,4,FALSE),'COSTO ELEMENTOS N1'!$C$321:$C$350,1),0)","v":0}]
[293,{"$f":"'TRAFOS MUESTRA'!B295","v":0},0,0,0,0,0,{"$f":"IFERROR(VLOOKUP(VLOOKUP(B303,TRAFOS,4,FALSE),'COSTO ELEMENTOS N1'!$C$321:$C$350,1),0)","v":0}]
[294,{"$f":"'TRAFOS MUESTRA'!B296","v":0},0,0,0,0,0,{"$f":"IFERROR(VLOOKUP(VLOOKUP(B304,TRAFOS,4,FALSE),'COSTO ELEMENTOS N1'!$C$321:$C$350,1),0)","v":0}]
[295,{"$f":"'TRAFOS MUESTRA'!B297","v":0},0,0,0,0,0,{"$f":"IFERROR(VLOOKUP(VLOOKUP(B305,TRAFOS,4,FALSE),'COSTO ELEMENTOS N1'!$C$321:$C$350,1),0)","v":0}]
[296,{"$f":"'TRAFOS MUESTRA'!B298","v":0},0,0,0,0,0,{"$f":"IFERROR(VLOOKUP(VLOOKUP(B306,TRAFOS,4,FALSE),'COSTO ELEMENTOS N1'!$C$321:$C$350,1),0)","v":0}]
[297,{"$f":"'TRAFOS MUESTRA'!B299","v":0},0,0,0,0,0,{"$f":"IFERROR(VLOOKUP(VLOOKUP(B307,TRAFOS,4,FALSE),'COSTO ELEMENTOS N1'!$C$321:$C$350,1),0)","v":0}]
[298,{"$f":"'TRAFOS MUESTRA'!B300","v":0},0,0,0,0,0,{"$f":"IFERROR(VLOOKUP(VLOOKUP(B308,TRAFOS,4,FALSE),'COSTO ELEMENTOS N1'!$C$321:$C$350,1),0)","v":0}]
[299,{"$f":"'TRAFOS MUESTRA'!B301","v":0},0,0,0,0,0,{"$f":"IFERROR(VLOOKUP(VLOOKUP(B309,TRAFOS,4,FALSE),'COSTO ELEMENTOS N1'!$C$321:$C$350,1),0)","v":0}]
[300,{"$f":"'TRAFOS MUESTRA'!B302","v":0},0,0,0,0,0,{"$f":"IFERROR(VLOOKUP(VLOOKUP(B310,TRAFOS,4,FALSE),'COSTO ELEMENTOS N1'!$C$321:$C$350,1),0)","v":0}]
[301,{"$f":"'TRAFOS MUESTRA'!B303","v":0},0,0,0,0,0,{"$f":"IFERROR(VLOOKUP(VLOOKUP(B311,TRAFOS,4,FALSE),'COSTO ELEMENTOS N1'!$C$321:$C$350,1),0)","v":0}]
[302,{"$f":"'TRAFOS MUESTRA'!B304","v":0},0,0,0,0,0,{"$f":"IFERROR(VLOOKUP(VLOOKUP(B312,TRAFOS,4,FALSE),'COSTO ELEMENTOS N1'!$C$321:$C$350,1),0)","v":0}]
[303,{"$f":"'TRAFOS MUESTRA'!B305","v":0},0,0,0,0,0,{"$f":"IFERROR(VLOOKUP(VLOOKUP(B313,TRAFOS,4,FALSE),'COSTO ELEMENTOS N1'!$C$321:$C$350,1),0)","v":0}]
[304,{"$f":"'TRAFOS MUESTRA'!B306","v":0},0,0,0,0,0,{"$f":"IFERROR(VLOOKUP(VLOOKUP(B314,TRAFOS,4,FALSE),'COSTO ELEMENTOS N1'!$C$321:$C$350,1),0)","v":0}]
[305,{"$f":"'TRAFOS MUESTRA'!B307","v":0},0,0,0,0,0,{"$f":"IFERROR(VLOOKUP(VLOOKUP(B315,TRAFOS,4,FALSE),'COSTO ELEMENTOS N1'!$C$321:$C$350,1),0)","v":0}]
[306,{"$f":"'TRAFOS MUESTRA'!B308","v":0},0,0,0,0,0,{"$f":"IFERROR(VLOOKUP(VLOOKUP(B316,TRAFOS,4,FALSE),'COSTO ELEMENTOS N1'!$C$321:$C$350,1),0)","v":0}]
[307,{"$f":"'TRAFOS MUESTRA'!B309","v":0},0,0,0,0,0,{"$f":"IFERROR(VLOOKUP(VLOOKUP(B317,TRAFOS,4,FALSE),'COSTO ELEMENTOS N1'!$C$321:$C$350,1),0)","v":0}]
[308,{"$f":"'TRAFOS MUESTRA'!B310","v":0},0,0,0,0,0,{"$f":"IFERROR(VLOOKUP(VLOOKUP(B318,TRAFOS,4,FALSE),'COSTO ELEMENTOS N1'!$C$321:$C$350,1),0)","v":0}]
[309,{"$f":"'TRAFOS MUESTRA'!B311","v":0},0,0,0,0,0,{"$f":"IFERROR(VLOOKUP(VLOOKUP(B319,TRAFOS,4,FALSE),'COSTO ELEMENTOS N1'!$C$321:$C$350,1),0)","v":0}]
[310,{"$f":"'TRAFOS MUESTRA'!B312","v":0},0,0,0,0,0,{"$f":"IFERROR(VLOOKUP(VLOOKUP(B320,TRAFOS,4,FALSE),'COSTO ELEMENTOS N1'!$C$321:$C$350,1),0)","v":0}]
[311,{"$f":"'TRAFOS MUESTRA'!B313","v":0},0,0,0,0,0,{"$f":"IFERROR(VLOOKUP(VLOOKUP(B321,TRAFOS,4,FALSE),'COSTO ELEMENTOS N1'!$C$321:$C$350,1),0)","v":0}]
[312,{"$f":"'TRAFOS MUESTRA'!B314","v":0},0,0,0,0,0,{"$f":"IFERROR(VLOOKUP(VLOOKUP(B322,TRAFOS,4,FALSE),'COSTO ELEMENTOS N1'!$C$321:$C$350,1),0)","v":0}]
[313,{"$f":"'TRAFOS MUESTRA'!B315","v":0},0,0,0,0,0,{"$f":"IFERROR(VLOOKUP(VLOOKUP(B323,TRAFOS,4,FALSE),'COSTO ELEMENTOS N1'!$C$321:$C$350,1),0)","v":0}]
[314,{"$f":"'TRAFOS MUESTRA'!B316","v":0},0,0,0,0,0,{"$f":"IFERROR(VLOOKUP(VLOOKUP(B324,TRAFOS,4,FALSE),'COSTO ELEMENTOS N1'!$C$321:$C$350,1),0)","v":0}]
[315,{"$f":"'TRAFOS MUESTRA'!B317","v":0},0,0,0,0,0,{"$f":"IFERROR(VLOOKUP(VLOOKUP(B325,TRAFOS,4,FALSE),'COSTO ELEMENTOS N1'!$C$321:$C$350,1),0)","v":0}]
[316,{"$f":"'TRAFOS MUESTRA'!B318","v":0},0,0,0,0,0,{"$f":"IFERROR(VLOOKUP(VLOOKUP(B326,TRAFOS,4,FALSE),'COSTO ELEMENTOS N1'!$C$321:$C$350,1),0)","v":0}]
[317,{"$f":"'TRAFOS MUESTRA'!B319","v":0},0,0,0,0,0,{"$f":"IFERROR(VLOOKUP(VLOOKUP(B327,TRAFOS,4,FALSE),'COSTO ELEMENTOS N1'!$C$321:$C$350,1),0)","v":0}]
[318,{"$f":"'TRAFOS MUESTRA'!B320","v":0},0,0,0,0,0,{"$f":"IFERROR(VLOOKUP(VLOOKUP(B328,TRAFOS,4,FALSE),'COSTO ELEMENTOS N1'!$C$321:$C$350,1),0)","v":0}]
[319,{"$f":"'TRAFOS MUESTRA'!B321","v":0},0,0,0,0,0,{"$f":"IFERROR(VLOOKUP(VLOOKUP(B329,TRAFOS,4,FALSE),'COSTO ELEMENTOS N1'!$C$321:$C$350,1),0)","v":0}]
[320,{"$f":"'TRAFOS MUESTRA'!B322","v":0},0,0,0,0,0,{"$f":"IFERROR(VLOOKUP(VLOOKUP(B330,TRAFOS,4,FALSE),'COSTO ELEMENTOS N1'!$C$321:$C$350,1),0)","v":0}]
[321,{"$f":"'TRAFOS MUESTRA'!B323","v":0},{"$f":"IFERROR(VLOOKUP(B331,TRAFOS,3,FALSE),0)","v":0},{"$f":"IFERROR(SUMIF(CODIGO_TRAFOS_REDES,$B331,COSTO_CONDUCTOR_TRAMO),0)","v":0},{"$f":"IFERROR(SUMIF(CODIGO_TRAFOS_REDES,$B331,COSTO_APOYOS_TRAMO),0)","v":0},{"$f":"IFERROR(IF(H331>15,VLOOKUP(H331,COSTO_TRAFOS_3F,6,FALSE),VLOOKUP(H331,COSTO_TRAFOS_1F,6,FALSE)),0)","v":0},0,{"$f":"IFERROR(VLOOKUP(VLOOKUP(B331,TRAFOS,4,FALSE),'COSTO ELEMENTOS N1'!$C$321:$C$350,1),0)","v":0}]
[322,{"$f":"'TRAFOS MUESTRA'!B324","v":0},0,0,0,0,{"$f":"SUM(D332:F332)","v":0},{"$f":"IFERROR(VLOOKUP(VLOOKUP(B332,TRAFOS,4,FALSE),'COSTO ELEMENTOS N1'!$C$321:$C$350,1),0)","v":0}]
[{"$f":"A332+1","v":323},{"$f":"'TRAFOS MUESTRA'!B325","v":0},0,0,0,0,0,{"$f":"IFERROR(VLOOKUP(VLOOKUP(B333,TRAFOS,4,FALSE),'COSTO ELEMENTOS N1'!$C$321:$C$350,1),0)","v":0}]
[324,{"$f":"'TRAFOS MUESTRA'!B326","v":0},0,0,0,0,0,{"$f":"IFERROR(VLOOKUP(VLOOKUP(B334,TRAFOS,4,FALSE),'COSTO ELEMENTOS N1'!$C$321:$C$350,1),0)","v":0}]
[325,{"$f":"'TRAFOS MUESTRA'!B327","v":0},0,0,0,0,0,{"$f":"IFERROR(VLOOKUP(VLOOKUP(B335,TRAFOS,4,FALSE),'COSTO ELEMENTOS N1'!$C$321:$C$350,1),0)","v":0}]
[326,{"$f":"'TRAFOS MUESTRA'!B328","v":0},0,0,0,0,0,{"$f":"IFERROR(VLOOKUP(VLOOKUP(B336,TRAFOS,4,FALSE),'COSTO ELEMENTOS N1'!$C$321:$C$350,1),0)","v":0}]
[327,{"$f":"'TRAFOS MUESTRA'!B329","v":0},0,0,0,0,0,{"$f":"IFERROR(VLOOKUP(VLOOKUP(B337,TRAFOS,4,FALSE),'COSTO ELEMENTOS N1'!$C$321:$C$350,1),0)","v":0}]
[328,{"$f":"'TRAFOS MUESTRA'!B330","v":0},0,0,0,0,0,{"$f":"IFERROR(VLOOKUP(VLOOKUP(B338,TRAFOS,4,FALSE),'COSTO ELEMENTOS N1'!$C$321:$C$350,1),0)","v":0}]
[329,{"$f":"'TRAFOS MUESTRA'!B331","v":0},0,0,0,0,0,{"$f":"IFERROR(VLOOKUP(VLOOKUP(B339,TRAFOS,4,FALSE),'COSTO ELEMENTOS N1'!$C$321:$C$350,1),0)","v":0}]
[330,{"$f":"'TRAFOS MUESTRA'!B332","v":0},0,0,0,0,0,{"$f":"IFERROR(VLOOKUP(VLOOKUP(B340,TRAFOS,4,FALSE),'COSTO ELEMENTOS N1'!$C$321:$C$350,1),0)","v":0}]
[331,{"$f":"'TRAFOS MUESTRA'!B333","v":0},0,0,0,0,0,{"$f":"IFERROR(VLOOKUP(VLOOKUP(B341,TRAFOS,4,FALSE),'COSTO ELEMENTOS N1'!$C$321:$C$350,1),0)","v":0}]
[332,{"$f":"'TRAFOS MUESTRA'!B334","v":0},0,0,0,0,0,{"$f":"IFERROR(VLOOKUP(VLOOKUP(B342,TRAFOS,4,FALSE),'COSTO ELEMENTOS N1'!$C$321:$C$350,1),0)","v":0}]
[333,{"$f":"'TRAFOS MUESTRA'!B335","v":0},0,0,0,0,0,{"$f":"IFERROR(VLOOKUP(VLOOKUP(B343,TRAFOS,4,FALSE),'COSTO ELEMENTOS N1'!$C$321:$C$350,1),0)","v":0}]
[334,{"$f":"'TRAFOS MUESTRA'!B336","v":0},0,0,0,0,0,{"$f":"IFERROR(VLOOKUP(VLOOKUP(B344,TRAFOS,4,FALSE),'COSTO ELEMENTOS N1'!$C$321:$C$350,1),0)","v":0}]
[335,{"$f":"'TRAFOS MUESTRA'!B337","v":0},0,0,0,0,0,{"$f":"IFERROR(VLOOKUP(VLOOKUP(B345,TRAFOS,4,FALSE),'COSTO ELEMENTOS N1'!$C$321:$C$350,1),0)","v":0}]
[336,{"$f":"'TRAFOS MUESTRA'!B338","v":0},0,0,0,0,0,{"$f":"IFERROR(VLOOKUP(VLOOKUP(B346,TRAFOS,4,FALSE),'COSTO ELEMENTOS N1'!$C$321:$C$350,1),0)","v":0}]
[337,{"$f":"'TRAFOS MUESTRA'!B339","v":0},0,0,0,0,0,{"$f":"IFERROR(VLOOKUP(VLOOKUP(B347,TRAFOS,4,FALSE),'COSTO ELEMENTOS N1'!$C$321:$C$350,1),0)","v":0}]
[338,{"$f":"'TRAFOS MUESTRA'!B340","v":0},0,0,0,0,0,{"$f":"IFERROR(VLOOKUP(VLOOKUP(B348,TRAFOS,4,FALSE),'COSTO ELEMENTOS N1'!$C$321:$C$350,1),0)","v":0}]
[339,{"$f":"'TRAFOS MUESTRA'!B341","v":0},0,0,0,0,0,{"$f":"IFERROR(VLOOKUP(VLOOKUP(B349,TRAFOS,4,FALSE),'COSTO ELEMENTOS N1'!$C$321:$C$350,1),0)","v":0}]
[340,{"$f":"'TRAFOS MUESTRA'!B342","v":0},0,0,0,0,0,{"$f":"IFERROR(VLOOKUP(VLOOKUP(B350,TRAFOS,4,FALSE),'COSTO ELEMENTOS N1'!$C$321:$C$350,1),0)","v":0}]
[341,{"$f":"'TRAFOS MUESTRA'!B343","v":0},0,0,0,0,0,{"$f":"IFERROR(VLOOKUP(VLOOKUP(B351,TRAFOS,4,FALSE),'COSTO ELEMENTOS N1'!$C$321:$C$350,1),0)","v":0}]
[342,{"$f":"'TRAFOS MUESTRA'!B344","v":0},0,0,0,0,0,{"$f":"IFERROR(VLOOKUP(VLOOKUP(B352,TRAFOS,4,FALSE),'COSTO ELEMENTOS N1'!$C$321:$C$350,1),0)","v":0}]
[343,{"$f":"'TRAFOS MUESTRA'!B345","v":0},0,0,0,0,0,{"$f":"IFERROR(VLOOKUP(VLOOKUP(B353,TRAFOS,4,FALSE),'COSTO ELEMENTOS N1'!$C$321:$C$350,1),0)","v":0}]
[344,{"$f":"'TRAFOS MUESTRA'!B346","v":0},0,0,0,0,0,{"$f":"IFERROR(VLOOKUP(VLOOKUP(B354,TRAFOS,4,FALSE),'COSTO ELEMENTOS N1'!$C$321:$C$350,1),0)","v":0}]
[345,{"$f":"'TRAFOS MUESTRA'!B347","v":0},0,0,0,0,0,{"$f":"IFERROR(VLOOKUP(VLOOKUP(B355,TRAFOS,4,FALSE),'COSTO ELEMENTOS N1'!$C$321:$C$350,1),0)","v":0}]
[346,{"$f":"'TRAFOS MUESTRA'!B348","v":0},0,0,0,0,0,{"$f":"IFERROR(VLOOKUP(VLOOKUP(B356,TRAFOS,4,FALSE),'COSTO ELEMENTOS N1'!$C$321:$C$350,1),0)","v":0}]
[347,{"$f":"'TRAFOS MUESTRA'!B349","v":0},0,0,0,0,0,{"$f":"IFERROR(VLOOKUP(VLOOKUP(B357,TRAFOS,4,FALSE),'COSTO ELEMENTOS N1'!$C$321:$C$350,1),0)","v":0}]
[348,{"$f":"'TRAFOS MUESTRA'!B350","v":0},0,0,0,0,0,{"$f":"IFERROR(VLOOKUP(VLOOKUP(B358,TRAFOS,4,FALSE),'COSTO ELEMENTOS N1'!$C$321:$C$350,1),0)","v":0}]
[349,{"$f":"'TRAFOS MUESTRA'!B351","v":0},0,0,0,0,0,{"$f":"IFERROR(VLOOKUP(VLOOKUP(B359,TRAFOS,4,FALSE),'COSTO ELEMENTOS N1'!$C$321:$C$350,1),0)","v":0}]
[350,{"$f":"'TRAFOS MUESTRA'!B352","v":0},0,0,0,0,0,{"$f":"IFERROR(VLOOKUP(VLOOKUP(B360,TRAFOS,4,FALSE),'COSTO ELEMENTOS N1'!$C$321:$C$350,1),0)","v":0}]
[351,{"$f":"'TRAFOS MUESTRA'!B353","v":0},0,0,0,0,0,{"$f":"IFERROR(VLOOKUP(VLOOKUP(B361,TRAFOS,4,FALSE),'COSTO ELEMENTOS N1'!$C$321:$C$350,1),0)","v":0}]
[352,{"$f":"'TRAFOS MUESTRA'!B354","v":0},0,0,0,0,0,{"$f":"IFERROR(VLOOKUP(VLOOKUP(B362,TRAFOS,4,FALSE),'COSTO ELEMENTOS N1'!$C$321:$C$350,1),0)","v":0}]
[353,{"$f":"'TRAFOS MUESTRA'!B355","v":0},0,0,0,0,0,{"$f":"IFERROR(VLOOKUP(VLOOKUP(B363,TRAFOS,4,FALSE),'COSTO ELEMENTOS N1'!$C$321:$C$350,1),0)","v":0}]
[354,{"$f":"'TRAFOS MUESTRA'!B356","v":0},0,0,0,0,0,{"$f":"IFERROR(VLOOKUP(VLOOKUP(B364,TRAFOS,4,FALSE),'COSTO ELEMENTOS N1'!$C$321:$C$350,1),0)","v":0}]
[355,{"$f":"'TRAFOS MUESTRA'!B357","v":0},0,0,0,0,0,{"$f":"IFERROR(VLOOKUP(VLOOKUP(B365,TRAFOS,4,FALSE),'COSTO ELEMENTOS N1'!$C$321:$C$350,1),0)","v":0}]
[356,{"$f":"'TRAFOS MUESTRA'!B358","v":0},0,0,0,0,0,{"$f":"IFERROR(VLOOKUP(VLOOKUP(B366,TRAFOS,4,FALSE),'COSTO ELEMENTOS N1'!$C$321:$C$350,1),0)","v":0}]
[357,{"$f":"'TRAFOS MUESTRA'!B359","v":0},0,0,0,0,0,{"$f":"IFERROR(VLOOKUP(VLOOKUP(B367,TRAFOS,4,FALSE),'COSTO ELEMENTOS N1'!$C$321:$C$350,1),0)","v":0}]
[358,{"$f":"'TRAFOS MUESTRA'!B360","v":0},0,0,0,0,0,{"$f":"IFERROR(VLOOKUP(VLOOKUP(B368,TRAFOS,4,FALSE),'COSTO ELEMENTOS N1'!$C$321:$C$350,1),0)","v":0}]
[359,{"$f":"'TRAFOS MUESTRA'!B361","v":0},0,0,0,0,0,{"$f":"IFERROR(VLOOKUP(VLOOKUP(B369,TRAFOS,4,FALSE),'COSTO ELEMENTOS N1'!$C$321:$C$350,1),0)","v":0}]
[360,{"$f":"'TRAFOS MUESTRA'!B362","v":0},0,0,0,0,0,{"$f":"IFERROR(VLOOKUP(VLOOKUP(B370,TRAFOS,4,FALSE),'COSTO ELEMENTOS N1'!$C$321:$C$350,1),0)","v":0}]
[361,{"$f":"'TRAFOS MUESTRA'!B363","v":0},0,0,0,0,0,{"$f":"IFERROR(VLOOKUP(VLOOKUP(B371,TRAFOS,4,FALSE),'COSTO ELEMENTOS N1'!$C$321:$C$350,1),0)","v":0}]
[362,{"$f":"'TRAFOS MUESTRA'!B364","v":0},0,0,0,0,0,{"$f":"IFERROR(VLOOKUP(VLOOKUP(B372,TRAFOS,4,FALSE),'COSTO ELEMENTOS N1'!$C$321:$C$350,1),0)","v":0}]
[363,{"$f":"'TRAFOS MUESTRA'!B365","v":0},0,0,0,0,0,{"$f":"IFERROR(VLOOKUP(VLOOKUP(B373,TRAFOS,4,FALSE),'COSTO ELEMENTOS N1'!$C$321:$C$350,1),0)","v":0}]
[364,{"$f":"'TRAFOS MUESTRA'!B366","v":0},0,0,0,0,0,{"$f":"IFERROR(VLOOKUP(VLOOKUP(B374,TRAFOS,4,FALSE),'COSTO ELEMENTOS N1'!$C$321:$C$350,1),0)","v":0}]
[365,{"$f":"'TRAFOS MUESTRA'!B367","v":0},0,0,0,0,0,{"$f":"IFERROR(VLOOKUP(VLOOKUP(B375,TRAFOS,4,FALSE),'COSTO ELEMENTOS N1'!$C$321:$C$350,1),0)","v":0}]
[366,{"$f":"'TRAFOS MUESTRA'!B368","v":0},0,0,0,0,0,{"$f":"IFERROR(VLOOKUP(VLOOKUP(B376,TRAFOS,4,FALSE),'COSTO ELEMENTOS N1'!$C$321:$C$350,1),0)","v":0}]
[367,{"$f":"'TRAFOS MUESTRA'!B369","v":0},0,0,0,0,0,{"$f":"IFERROR(VLOOKUP(VLOOKUP(B377,TRAFOS,4,FALSE),'COSTO ELEMENTOS N1'!$C$321:$C$350,1),0)","v":0}]
[368,{"$f":"'TRAFOS MUESTRA'!B370","v":0},0,0,0,0,0,{"$f":"IFERROR(VLOOKUP(VLOOKUP(B378,TRAFOS,4,FALSE),'COSTO ELEMENTOS N1'!$C$321:$C$350,1),0)","v":0}]
[369,{"$f":"'TRAFOS MUESTRA'!B371","v":0},0,0,0,0,0,{"$f":"IFERROR(VLOOKUP(VLOOKUP(B379,TRAFOS,4,FALSE),'COSTO ELEMENTOS N1'!$C$321:$C$350,1),0)","v":0}]
[370,{"$f":"'TRAFOS MUESTRA'!B372","v":0},0,0,0,0,0,{"$f":"IFERROR(VLOOKUP(VLOOKUP(B380,TRAFOS,4,FALSE),'COSTO ELEMENTOS N1'!$C$321:$C$350,1),0)","v":0}]
[371,{"$f":"'TRAFOS MUESTRA'!B373","v":0},0,0,0,0,0,{"$f":"IFERROR(VLOOKUP(VLOOKUP(B381,TRAFOS,4,FALSE),'COSTO ELEMENTOS N1'!$C$321:$C$350,1),0)","v":0}]
[372,{"$f":"'TRAFOS MUESTRA'!B374","v":0},0,0,0,0,0,{"$f":"IFERROR(VLOOKUP(VLOOKUP(B382,TRAFOS,4,FALSE),'COSTO ELEMENTOS N1'!$C$321:$C$350,1),0)","v":0}]
[373,{"$f":"'TRAFOS MUESTRA'!B375","v":0},0,0,0,0,0,{"$f":"IFERROR(VLOOKUP(VLOOKUP(B383,TRAFOS,4,FALSE),'COSTO ELEMENTOS N1'!$C$321:$C$350,1),0)","v":0}]
[374,{"$f":"'TRAFOS MUESTRA'!B376","v":0},0,0,0,0,0,{"$f":"IFERROR(VLOOKUP(VLOOKUP(B384,TRAFOS,4,FALSE),'COSTO ELEMENTOS N1'!$C$321:$C$350,1),0)","v":0}]
[375,{"$f":"'TRAFOS MUESTRA'!B377","v":0},0,0,0,0,0,{"$f":"IFERROR(VLOOKUP(VLOOKUP(B385,TRAFOS,4,FALSE),'COSTO ELEMENTOS N1'!$C$321:$C$350,1),0)","v":0}]
[376,{"$f":"'TRAFOS MUESTRA'!B378","v":0},0,0,0,0,0,{"$f":"IFERROR(VLOOKUP(VLOOKUP(B386,TRAFOS,4,FALSE),'COSTO ELEMENTOS N1'!$C$321:$C$350,1),0)","v":0}]
[377,{"$f":"'TRAFOS MUESTRA'!B379","v":0},0,0,0,0,0,{"$f":"IFERROR(VLOOKUP(VLOOKUP(B387,TRAFOS,4,FALSE),'COSTO ELEMENTOS N1'!$C$321:$C$350,1),0)","v":0}]
[378,{"$f":"'TRAFOS MUESTRA'!B380","v":0},0,0,0,0,0,{"$f":"IFERROR(VLOOKUP(VLOOKUP(B388,TRAFOS,4,FALSE),'COSTO ELEMENTOS N1'!$C$321:$C$350,1),0)","v":0}]
[379,{"$f":"'TRAFOS MUESTRA'!B381","v":0},0,0,0,0,0,{"$f":"IFERROR(VLOOKUP(VLOOKUP(B389,TRAFOS,4,FALSE),'COSTO ELEMENTOS N1'!$C$321:$C$350,1),0)","v":0}]
[380,{"$f":"'TRAFOS MUESTRA'!B382","v":0},0,0,0,0,0,{"$f":"IFERROR(VLOOKUP(VLOOKUP(B390,TRAFOS,4,FALSE),'COSTO ELEMENTOS N1'!$C$321:$C$350,1),0)","v":0}]
[381,{"$f":"'TRAFOS MUESTRA'!B383","v":0},0,0,0,0,0,{"$f":"IFERROR(VLOOKUP(VLOOKUP(B391,TRAFOS,4,FALSE),'COSTO ELEMENTOS N1'!$C$321:$C$350,1),0)","v":0}]
[382,{"$f":"'TRAFOS MUESTRA'!B384","v":0},0,0,0,0,0,{"$f":"IFERROR(VLOOKUP(VLOOKUP(B392,TRAFOS,4,FALSE),'COSTO ELEMENTOS N1'!$C$321:$C$350,1),0)","v":0}]
[383,{"$f":"'TRAFOS MUESTRA'!B385","v":0},0,0,0,0,0,{"$f":"IFERROR(VLOOKUP(VLOOKUP(B393,TRAFOS,4,FALSE),'COSTO ELEMENTOS N1'!$C$321:$C$350,1),0)","v":0}]
[384,{"$f":"'TRAFOS MUESTRA'!B386","v":0},0,0,0,0,0,{"$f":"IFERROR(VLOOKUP(VLOOKUP(B394,TRAFOS,4,FALSE),'COSTO ELEMENTOS N1'!$C$321:$C$350,1),0)","v":0}]
[385,{"$f":"'TRAFOS MUESTRA'!B387","v":0},{"$f":"IFERROR(VLOOKUP(B395,TRAFOS,3,FALSE),0)","v":0},{"$f":"IFERROR(SUMIF(CODIGO_TRAFOS_REDES,$B395,COSTO_CONDUCTOR_TRAMO),0)","v":0},{"$f":"IFERROR(SUMIF(CODIGO_TRAFOS_REDES,$B395,COSTO_APOYOS_TRAMO),0)","v":0},{"$f":"IFERROR(IF(H395>15,VLOOKUP(H395,COSTO_TRAFOS_3F,6,FALSE),VLOOKUP(H395,COSTO_TRAFOS_1F,6,FALSE)),0)","v":0},0,{"$f":"IFERROR(VLOOKUP(VLOOKUP(B395,TRAFOS,4,FALSE),'COSTO ELEMENTOS N1'!$C$321:$C$350,1),0)","v":0}]
[386,{"$f":"'TRAFOS MUESTRA'!B388","v":0},0,0,0,0,{"$f":"SUM(D396:F396)","v":0},{"$f":"IFERROR(VLOOKUP(VLOOKUP(B396,TRAFOS,4,FALSE),'COSTO ELEMENTOS N1'!$C$321:$C$350,1),0)","v":0}]
[{"$f":"A396+1","v":387},{"$f":"'TRAFOS MUESTRA'!B389","v":0},0,0,0,0,0,{"$f":"IFERROR(VLOOKUP(VLOOKUP(B397,TRAFOS,4,FALSE),'COSTO ELEMENTOS N1'!$C$321:$C$350,1),0)","v":0}]
[388,{"$f":"'TRAFOS MUESTRA'!B390","v":0},0,0,0,0,0,{"$f":"IFERROR(VLOOKUP(VLOOKUP(B398,TRAFOS,4,FALSE),'COSTO ELEMENTOS N1'!$C$321:$C$350,1),0)","v":0}]
[389,{"$f":"'TRAFOS MUESTRA'!B391","v":0},0,0,0,0,0,{"$f":"IFERROR(VLOOKUP(VLOOKUP(B399,TRAFOS,4,FALSE),'COSTO ELEMENTOS N1'!$C$321:$C$350,1),0)","v":0}]
[390,{"$f":"'TRAFOS MUESTRA'!B392","v":0},0,0,0,0,0,{"$f":"IFERROR(VLOOKUP(VLOOKUP(B400,TRAFOS,4,FALSE),'COSTO ELEMENTOS N1'!$C$321:$C$350,1),0)","v":0}]
[391,{"$f":"'TRAFOS MUESTRA'!B393","v":0},0,0,0,0,0,{"$f":"IFERROR(VLOOKUP(VLOOKUP(B401,TRAFOS,4,FALSE),'COSTO ELEMENTOS N1'!$C$321:$C$350,1),0)","v":0}]
[392,{"$f":"'TRAFOS MUESTRA'!B394","v":0},0,0,0,0,0,{"$f":"IFERROR(VLOOKUP(VLOOKUP(B402,TRAFOS,4,FALSE),'COSTO ELEMENTOS N1'!$C$321:$C$350,1),0)","v":0}]
[393,{"$f":"'TRAFOS MUESTRA'!B395","v":0},0,0,0,0,0,{"$f":"IFERROR(VLOOKUP(VLOOKUP(B403,TRAFOS,4,FALSE),'COSTO ELEMENTOS N1'!$C$321:$C$350,1),0)","v":0}]
[394,{"$f":"'TRAFOS MUESTRA'!B396","v":0},0,0,0,0,0,{"$f":"IFERROR(VLOOKUP(VLOOKUP(B404,TRAFOS,4,FALSE),'COSTO ELEMENTOS N1'!$C$321:$C$350,1),0)","v":0}]
[395,{"$f":"'TRAFOS MUESTRA'!B397","v":0},0,0,0,0,0,{"$f":"IFERROR(VLOOKUP(VLOOKUP(B405,TRAFOS,4,FALSE),'COSTO ELEMENTOS N1'!$C$321:$C$350,1),0)","v":0}]
[396,{"$f":"'TRAFOS MUESTRA'!B398","v":0},0,0,0,0,0,{"$f":"IFERROR(VLOOKUP(VLOOKUP(B406,TRAFOS,4,FALSE),'COSTO ELEMENTOS N1'!$C$321:$C$350,1),0)","v":0}]
[397,{"$f":"'TRAFOS MUESTRA'!B399","v":0},0,0,0,0,0,{"$f":"IFERROR(VLOOKUP(VLOOKUP(B407,TRAFOS,4,FALSE),'COSTO ELEMENTOS N1'!$C$321:$C$350,1),0)","v":0}]
[398,{"$f":"'TRAFOS MUESTRA'!B400","v":0},0,0,0,0,0,{"$f":"IFERROR(VLOOKUP(VLOOKUP(B408,TRAFOS,4,FALSE),'COSTO ELEMENTOS N1'!$C$321:$C$350,1),0)","v":0}]
[399,{"$f":"'TRAFOS MUESTRA'!B401","v":0},0,0,0,0,0,{"$f":"IFERROR(VLOOKUP(VLOOKUP(B409,TRAFOS,4,FALSE),'COSTO ELEMENTOS N1'!$C$321:$C$350,1),0)","v":0}]
[400,{"$f":"'TRAFOS MUESTRA'!B402","v":0},0,0,0,0,0,{"$f":"IFERROR(VLOOKUP(VLOOKUP(B410,TRAFOS,4,FALSE),'COSTO ELEMENTOS N1'!$C$321:$C$350,1),0)","v":0}]
[401,{"$f":"'TRAFOS MUESTRA'!B403","v":0},0,0,0,0,0,{"$f":"IFERROR(VLOOKUP(VLOOKUP(B411,TRAFOS,4,FALSE),'COSTO ELEMENTOS N1'!$C$321:$C$350,1),0)","v":0}]
[402,{"$f":"'TRAFOS MUESTRA'!B404","v":0},0,0,0,0,0,{"$f":"IFERROR(VLOOKUP(VLOOKUP(B412,TRAFOS,4,FALSE),'COSTO ELEMENTOS N1'!$C$321:$C$350,1),0)","v":0}]
[403,{"$f":"'TRAFOS MUESTRA'!B405","v":0},0,0,0,0,0,{"$f":"IFERROR(VLOOKUP(VLOOKUP(B413,TRAFOS,4,FALSE),'COSTO ELEMENTOS N1'!$C$321:$C$350,1),0)","v":0}]
[404,{"$f":"'TRAFOS MUESTRA'!B406","v":0},0,0,0,0,0,{"$f":"IFERROR(VLOOKUP(VLOOKUP(B414,TRAFOS,4,FALSE),'COSTO ELEMENTOS N1'!$C$321:$C$350,1),0)","v":0}]
[405,{"$f":"'TRAFOS MUESTRA'!B407","v":0},0,0,0,0,0,{"$f":"IFERROR(VLOOKUP(VLOOKUP(B415,TRAFOS,4,FALSE),'COSTO ELEMENTOS N1'!$C$321:$C$350,1),0)","v":0}]
[406,{"$f":"'TRAFOS MUESTRA'!B408","v":0},0,0,0,0,0,{"$f":"IFERROR(VLOOKUP(VLOOKUP(B416,TRAFOS,4,FALSE),'COSTO ELEMENTOS N1'!$C$321:$C$350,1),0)","v":0}]
[407,{"$f":"'TRAFOS MUESTRA'!B409","v":0},0,0,0,0,0,{"$f":"IFERROR(VLOOKUP(VLOOKUP(B417,TRAFOS,4,FALSE),'COSTO ELEMENTOS N1'!$C$321:$C$350,1),0)","v":0}]
[408,{"$f":"'TRAFOS MUESTRA'!B410","v":0},0,0,0,0,0,{"$f":"IFERROR(VLOOKUP(VLOOKUP(B418,TRAFOS,4,FALSE),'COSTO ELEMENTOS N1'!$C$321:$C$350,1),0)","v":0}]
[409,{"$f":"'TRAFOS MUESTRA'!B411","v":0},0,0,0,0,0,{"$f":"IFERROR(VLOOKUP(VLOOKUP(B419,TRAFOS,4,FALSE),'COSTO ELEMENTOS N1'!$C$321:$C$350,1),0)","v":0}]
[410,{"$f":"'TRAFOS MUESTRA'!B412","v":0},0,0,0,0,0,{"$f":"IFERROR(VLOOKUP(VLOOKUP(B420,TRAFOS,4,FALSE),'COSTO ELEMENTOS N1'!$C$321:$C$350,1),0)","v":0}]
[411,{"$f":"'TRAFOS MUESTRA'!B413","v":0},0,0,0,0,0,{"$f":"IFERROR(VLOOKUP(VLOOKUP(B421,TRAFOS,4,FALSE),'COSTO ELEMENTOS N1'!$C$321:$C$350,1),0)","v":0}]
[412,{"$f":"'TRAFOS MUESTRA'!B414","v":0},0,0,0,0,0,{"$f":"IFERROR(VLOOKUP(VLOOKUP(B422,TRAFOS,4,FALSE),'COSTO ELEMENTOS N1'!$C$321:$C$350,1),0)","v":0}]
[413,{"$f":"'TRAFOS MUESTRA'!B415","v":0},0,0,0,0,0,{"$f":"IFERROR(VLOOKUP(VLOOKUP(B423,TRAFOS,4,FALSE),'COSTO ELEMENTOS N1'!$C$321:$C$350,1),0)","v":0}]
[414,{"$f":"'TRAFOS MUESTRA'!B416","v":0},0,0,0,0,0,{"$f":"IFERROR(VLOOKUP(VLOOKUP(B424,TRAFOS,4,FALSE),'COSTO ELEMENTOS N1'!$C$321:$C$350,1),0)","v":0}]
[415,{"$f":"'TRAFOS MUESTRA'!B417","v":0},0,0,0,0,0,{"$f":"IFERROR(VLOOKUP(VLOOKUP(B425,TRAFOS,4,FALSE),'COSTO ELEMENTOS N1'!$C$321:$C$350,1),0)","v":0}]
[416,{"$f":"'TRAFOS MUESTRA'!B418","v":0},0,0,0,0,0,{"$f":"IFERROR(VLOOKUP(VLOOKUP(B426,TRAFOS,4,FALSE),'COSTO ELEMENTOS N1'!$C$321:$C$350,1),0)","v":0}]
[417,{"$f":"'TRAFOS MUESTRA'!B419","v":0},0,0,0,0,0,{"$f":"IFERROR(VLOOKUP(VLOOKUP(B427,TRAFOS,4,FALSE),'COSTO ELEMENTOS N1'!$C$321:$C$350,1),0)","v":0}]
[418,{"$f":"'TRAFOS MUESTRA'!B420","v":0},0,0,0,0,0,{"$f":"IFERROR(VLOOKUP(VLOOKUP(B428,TRAFOS,4,FALSE),'COSTO ELEMENTOS N1'!$C$321:$C$350,1),0)","v":0}]
[419,{"$f":"'TRAFOS MUESTRA'!B421","v":0},0,0,0,0,0,{"$f":"IFERROR(VLOOKUP(VLOOKUP(B429,TRAFOS,4,FALSE),'COSTO ELEMENTOS N1'!$C$321:$C$350,1),0)","v":0}]
[420,{"$f":"'TRAFOS MUESTRA'!B422","v":0},0,0,0,0,0,{"$f":"IFERROR(VLOOKUP(VLOOKUP(B430,TRAFOS,4,FALSE),'COSTO ELEMENTOS N1'!$C$321:$C$350,1),0)","v":0}]
[421,{"$f":"'TRAFOS MUESTRA'!B423","v":0},0,0,0,0,0,{"$f":"IFERROR(VLOOKUP(VLOOKUP(B431,TRAFOS,4,FALSE),'COSTO ELEMENTOS N1'!$C$321:$C$350,1),0)","v":0}]
[422,{"$f":"'TRAFOS MUESTRA'!B424","v":0},0,0,0,0,0,{"$f":"IFERROR(VLOOKUP(VLOOKUP(B432,TRAFOS,4,FALSE),'COSTO ELEMENTOS N1'!$C$321:$C$350,1),0)","v":0}]
[423,{"$f":"'TRAFOS MUESTRA'!B425","v":0},0,0,0,0,0,{"$f":"IFERROR(VLOOKUP(VLOOKUP(B433,TRAFOS,4,FALSE),'COSTO ELEMENTOS N1'!$C$321:$C$350,1),0)","v":0}]
[424,{"$f":"'TRAFOS MUESTRA'!B426","v":0},0,0,0,0,0,{"$f":"IFERROR(VLOOKUP(VLOOKUP(B434,TRAFOS,4,FALSE),'COSTO ELEMENTOS N1'!$C$321:$C$350,1),0)","v":0}]
[425,{"$f":"'TRAFOS MUESTRA'!B427","v":0},0,0,0,0,0,{"$f":"IFERROR(VLOOKUP(VLOOKUP(B435,TRAFOS,4,FALSE),'COSTO ELEMENTOS N1'!$C$321:$C$350,1),0)","v":0}]
[426,{"$f":"'TRAFOS MUESTRA'!B428","v":0},0,0,0,0,0,{"$f":"IFERROR(VLOOKUP(VLOOKUP(B436,TRAFOS,4,FALSE),'COSTO ELEMENTOS N1'!$C$321:$C$350,1),0)","v":0}]
[427,{"$f":"'TRAFOS MUESTRA'!B429","v":0},0,0,0,0,0,{"$f":"IFERROR(VLOOKUP(VLOOKUP(B437,TRAFOS,4,FALSE),'COSTO ELEMENTOS N1'!$C$321:$C$350,1),0)","v":0}]
[428,{"$f":"'TRAFOS MUESTRA'!B430","v":0},0,0,0,0,0,{"$f":"IFERROR(VLOOKUP(VLOOKUP(B438,TRAFOS,4,FALSE),'COSTO ELEMENTOS N1'!$C$321:$C$350,1),0)","v":0}]
[429,{"$f":"'TRAFOS MUESTRA'!B431","v":0},0,0,0,0,0,{"$f":"IFERROR(VLOOKUP(VLOOKUP(B439,TRAFOS,4,FALSE),'COSTO ELEMENTOS N1'!$C$321:$C$350,1),0)","v":0}]
[430,{"$f":"'TRAFOS MUESTRA'!B432","v":0},0,0,0,0,0,{"$f":"IFERROR(VLOOKUP(VLOOKUP(B440,TRAFOS,4,FALSE),'COSTO ELEMENTOS N1'!$C$321:$C$350,1),0)","v":0}]
[431,{"$f":"'TRAFOS MUESTRA'!B433","v":0},0,0,0,0,0,{"$f":"IFERROR(VLOOKUP(VLOOKUP(B441,TRAFOS,4,FALSE),'COSTO ELEMENTOS N1'!$C$321:$C$350,1),0)","v":0}]
[432,{"$f":"'TRAFOS MUESTRA'!B434","v":0},0,0,0,0,0,{"$f":"IFERROR(VLOOKUP(VLOOKUP(B442,TRAFOS,4,FALSE),'COSTO ELEMENTOS N1'!$C$321:$C$350,1),0)","v":0}]
[433,{"$f":"'TRAFOS MUESTRA'!B435","v":0},0,0,0,0,0,{"$f":"IFERROR(VLOOKUP(VLOOKUP(B443,TRAFOS,4,FALSE),'COSTO ELEMENTOS N1'!$C$321:$C$350,1),0)","v":0}]
[434,{"$f":"'TRAFOS MUESTRA'!B436","v":0},0,0,0,0,0,{"$f":"IFERROR(VLOOKUP(VLOOKUP(B444,TRAFOS,4,FALSE),'COSTO ELEMENTOS N1'!$C$321:$C$350,1),0)","v":0}]
[435,{"$f":"'TRAFOS MUESTRA'!B437","v":0},0,0,0,0,0,{"$f":"IFERROR(VLOOKUP(VLOOKUP(B445,TRAFOS,4,FALSE),'COSTO ELEMENTOS N1'!$C$321:$C$350,1),0)","v":0}]
[436,{"$f":"'TRAFOS MUESTRA'!B438","v":0},0,0,0,0,0,{"$f":"IFERROR(VLOOKUP(VLOOKUP(B446,TRAFOS,4,FALSE),'COSTO ELEMENTOS N1'!$C$321:$C$350,1),0)","v":0}]
[437,{"$f":"'TRAFOS MUESTRA'!B439","v":0},0,0,0,0,0,{"$f":"IFERROR(VLOOKUP(VLOOKUP(B447,TRAFOS,4,FALSE),'COSTO ELEMENTOS N1'!$C$321:$C$350,1),0)","v":0}]
[438,{"$f":"'TRAFOS MUESTRA'!B440","v":0},0,0,0,0,0,{"$f":"IFERROR(VLOOKUP(VLOOKUP(B448,TRAFOS,4,FALSE),'COSTO ELEMENTOS N1'!$C$321:$C$350,1),0)","v":0}]
[439,{"$f":"'TRAFOS MUESTRA'!B441","v":0},0,0,0,0,0,{"$f":"IFERROR(VLOOKUP(VLOOKUP(B449,TRAFOS,4,FALSE),'COSTO ELEMENTOS N1'!$C$321:$C$350,1),0)","v":0}]
[440,{"$f":"'TRAFOS MUESTRA'!B442","v":0},0,0,0,0,0,{"$f":"IFERROR(VLOOKUP(VLOOKUP(B450,TRAFOS,4,FALSE),'COSTO ELEMENTOS N1'!$C$321:$C$350,1),0)","v":0}]
[441,{"$f":"'TRAFOS MUESTRA'!B443","v":0},0,0,0,0,0,{"$f":"IFERROR(VLOOKUP(VLOOKUP(B451,TRAFOS,4,FALSE),'COSTO ELEMENTOS N1'!$C$321:$C$350,1),0)","v":0}]
[442,{"$f":"'TRAFOS MUESTRA'!B444","v":0},0,0,0,0,0,{"$f":"IFERROR(VLOOKUP(VLOOKUP(B452,TRAFOS,4,FALSE),'COSTO ELEMENTOS N1'!$C$321:$C$350,1),0)","v":0}]
[443,{"$f":"'TRAFOS MUESTRA'!B445","v":0},0,0,0,0,0,{"$f":"IFERROR(VLOOKUP(VLOOKUP(B453,TRAFOS,4,FALSE),'COSTO ELEMENTOS N1'!$C$321:$C$350,1),0)","v":0}]
[444,{"$f":"'TRAFOS MUESTRA'!B446","v":0},0,0,0,0,0,{"$f":"IFERROR(VLOOKUP(VLOOKUP(B454,TRAFOS,4,FALSE),'COSTO ELEMENTOS N1'!$C$321:$C$350,1),0)","v":0}]
[445,{"$f":"'TRAFOS MUESTRA'!B447","v":0},0,0,0,0,0,{"$f":"IFERROR(VLOOKUP(VLOOKUP(B455,TRAFOS,4,FALSE),'COSTO ELEMENTOS N1'!$C$321:$C$350,1),0)","v":0}]
[446,{"$f":"'TRAFOS MUESTRA'!B448","v":0},0,0,0,0,0,{"$f":"IFERROR(VLOOKUP(VLOOKUP(B456,TRAFOS,4,FALSE),'COSTO ELEMENTOS N1'!$C$321:$C$350,1),0)","v":0}]
[447,{"$f":"'TRAFOS MUESTRA'!B449","v":0},0,0,0,0,0,{"$f":"IFERROR(VLOOKUP(VLOOKUP(B457,TRAFOS,4,FALSE),'COSTO ELEMENTOS N1'!$C$321:$C$350,1),0)","v":0}]
[448,{"$f":"'TRAFOS MUESTRA'!B450","v":0},0,0,0,0,0,{"$f":"IFERROR(VLOOKUP(VLOOKUP(B458,TRAFOS,4,FALSE),'COSTO ELEMENTOS N1'!$C$321:$C$350,1),0)","v":0}]
[449,{"$f":"'TRAFOS MUESTRA'!B451","v":0},{"$f":"IFERROR(VLOOKUP(B459,TRAFOS,3,FALSE),0)","v":0},{"$f":"IFERROR(SUMIF(CODIGO_TRAFOS_REDES,$B459,COSTO_CONDUCTOR_TRAMO),0)","v":0},{"$f":"IFERROR(SUMIF(CODIGO_TRAFOS_REDES,$B459,COSTO_APOYOS_TRAMO),0)","v":0},{"$f":"IFERROR(IF(H459>15,VLOOKUP(H459,COSTO_TRAFOS_3F,6,FALSE),VLOOKUP(H459,COSTO_TRAFOS_1F,6,FALSE)),0)","v":0},0,{"$f":"IFERROR(VLOOKUP(VLOOKUP(B459,TRAFOS,4,FALSE),'COSTO ELEMENTOS N1'!$C$321:$C$350,1),0)","v":0}]
[450,{"$f":"'TRAFOS MUESTRA'!B452","v":0},0,0,0,0,{"$f":"SUM(D460:F460)","v":0},{"$f":"IFERROR(VLOOKUP(VLOOKUP(B460,TRAFOS,4,FALSE),'COSTO ELEMENTOS N1'!$C$321:$C$350,1),0)","v":0}]
[{"$f":"A460+1","v":451},{"$f":"'TRAFOS MUESTRA'!B453","v":0},0,0,0,0,0,{"$f":"IFERROR(VLOOKUP(VLOOKUP(B461,TRAFOS,4,FALSE),'COSTO ELEMENTOS N1'!$C$321:$C$350,1),0)","v":0}]
[452,{"$f":"'TRAFOS MUESTRA'!B454","v":0},0,0,0,0,0,{"$f":"IFERROR(VLOOKUP(VLOOKUP(B462,TRAFOS,4,FALSE),'COSTO ELEMENTOS N1'!$C$321:$C$350,1),0)","v":0}]
[453,{"$f":"'TRAFOS MUESTRA'!B455","v":0},0,0,0,0,0,{"$f":"IFERROR(VLOOKUP(VLOOKUP(B463,TRAFOS,4,FALSE),'COSTO ELEMENTOS N1'!$C$321:$C$350,1),0)","v":0}]
[454,{"$f":"'TRAFOS MUESTRA'!B456","v":0},0,0,0,0,0,{"$f":"IFERROR(VLOOKUP(VLOOKUP(B464,TRAFOS,4,FALSE),'COSTO ELEMENTOS N1'!$C$321:$C$350,1),0)","v":0}]
[455,{"$f":"'TRAFOS MUESTRA'!B457","v":0},0,0,0,0,0,{"$f":"IFERROR(VLOOKUP(VLOOKUP(B465,TRAFOS,4,FALSE),'COSTO ELEMENTOS N1'!$C$321:$C$350,1),0)","v":0}]
[456,{"$f":"'TRAFOS MUESTRA'!B458","v":0},0,0,0,0,0,{"$f":"IFERROR(VLOOKUP(VLOOKUP(B466,TRAFOS,4,FALSE),'COSTO ELEMENTOS N1'!$C$321:$C$350,1),0)","v":0}]
[457,{"$f":"'TRAFOS MUESTRA'!B459","v":0},0,0,0,0,0,{"$f":"IFERROR(VLOOKUP(VLOOKUP(B467,TRAFOS,4,FALSE),'COSTO ELEMENTOS N1'!$C$321:$C$350,1),0)","v":0}]
[458,{"$f":"'TRAFOS MUESTRA'!B460","v":0},0,0,0,0,0,{"$f":"IFERROR(VLOOKUP(VLOOKUP(B468,TRAFOS,4,FALSE),'COSTO ELEMENTOS N1'!$C$321:$C$350,1),0)","v":0}]
[459,{"$f":"'TRAFOS MUESTRA'!B461","v":0},0,0,0,0,0,{"$f":"IFERROR(VLOOKUP(VLOOKUP(B469,TRAFOS,4,FALSE),'COSTO ELEMENTOS N1'!$C$321:$C$350,1),0)","v":0}]
[460,{"$f":"'TRAFOS MUESTRA'!B462","v":0},0,0,0,0,0,{"$f":"IFERROR(VLOOKUP(VLOOKUP(B470,TRAFOS,4,FALSE),'COSTO ELEMENTOS N1'!$C$321:$C$350,1),0)","v":0}]
[461,{"$f":"'TRAFOS MUESTRA'!B463","v":0},0,0,0,0,0,{"$f":"IFERROR(VLOOKUP(VLOOKUP(B471,TRAFOS,4,FALSE),'COSTO ELEMENTOS N1'!$C$321:$C$350,1),0)","v":0}]
[462,{"$f":"'TRAFOS MUESTRA'!B464","v":0},0,0,0,0,0,{"$f":"IFERROR(VLOOKUP(VLOOKUP(B472,TRAFOS,4,FALSE),'COSTO ELEMENTOS N1'!$C$321:$C$350,1),0)","v":0}]
[463,{"$f":"'TRAFOS MUESTRA'!B465","v":0},0,0,0,0,0,{"$f":"IFERROR(VLOOKUP(VLOOKUP(B473,TRAFOS,4,FALSE),'COSTO ELEMENTOS N1'!$C$321:$C$350,1),0)","v":0}]
[464,{"$f":"'TRAFOS MUESTRA'!B466","v":0},0,0,0,0,0,{"$f":"IFERROR(VLOOKUP(VLOOKUP(B474,TRAFOS,4,FALSE),'COSTO ELEMENTOS N1'!$C$321:$C$350,1),0)","v":0}]
[465,{"$f":"'TRAFOS MUESTRA'!B467","v":0},0,0,0,0,0,{"$f":"IFERROR(VLOOKUP(VLOOKUP(B475,TRAFOS,4,FALSE),'COSTO ELEMENTOS N1'!$C$321:$C$350,1),0)","v":0}]
[466,{"$f":"'TRAFOS MUESTRA'!B468","v":0},0,0,0,0,0,{"$f":"IFERROR(VLOOKUP(VLOOKUP(B476,TRAFOS,4,FALSE),'COSTO ELEMENTOS N1'!$C$321:$C$350,1),0)","v":0}]
[467,{"$f":"'TRAFOS MUESTRA'!B469","v":0},0,0,0,0,0,{"$f":"IFERROR(VLOOKUP(VLOOKUP(B477,TRAFOS,4,FALSE),'COSTO ELEMENTOS N1'!$C$321:$C$350,1),0)","v":0}]
[468,{"$f":"'TRAFOS MUESTRA'!B470","v":0},0,0,0,0,0,{"$f":"IFERROR(VLOOKUP(VLOOKUP(B478,TRAFOS,4,FALSE),'COSTO ELEMENTOS N1'!$C$321:$C$350,1),0)","v":0}]
[469,{"$f":"'TRAFOS MUESTRA'!B471","v":0},0,0,0,0,0,{"$f":"IFERROR(VLOOKUP(VLOOKUP(B479,TRAFOS,4,FALSE),'COSTO ELEMENTOS N1'!$C$321:$C$350,1),0)","v":0}]
[470,{"$f":"'TRAFOS MUESTRA'!B472","v":0},0,0,0,0,0,{"$f":"IFERROR(VLOOKUP(VLOOKUP(B480,TRAFOS,4,FALSE),'COSTO ELEMENTOS N1'!$C$321:$C$350,1),0)","v":0}]
[471,{"$f":"'TRAFOS MUESTRA'!B473","v":0},0,0,0,0,0,{"$f":"IFERROR(VLOOKUP(VLOOKUP(B481,TRAFOS,4,FALSE),'COSTO ELEMENTOS N1'!$C$321:$C$350,1),0)","v":0}]
[472,{"$f":"'TRAFOS MUESTRA'!B474","v":0},0,0,0,0,0,{"$f":"IFERROR(VLOOKUP(VLOOKUP(B482,TRAFOS,4,FALSE),'COSTO ELEMENTOS N1'!$C$321:$C$350,1),0)","v":0}]
[473,{"$f":"'TRAFOS MUESTRA'!B475","v":0},0,0,0,0,0,{"$f":"IFERROR(VLOOKUP(VLOOKUP(B483,TRAFOS,4,FALSE),'COSTO ELEMENTOS N1'!$C$321:$C$350,1),0)","v":0}]
[474,{"$f":"'TRAFOS MUESTRA'!B476","v":0},0,0,0,0,0,{"$f":"IFERROR(VLOOKUP(VLOOKUP(B484,TRAFOS,4,FALSE),'COSTO ELEMENTOS N1'!$C$321:$C$350,1),0)","v":0}]
[475,{"$f":"'TRAFOS MUESTRA'!B477","v":0},0,0,0,0,0,{"$f":"IFERROR(VLOOKUP(VLOOKUP(B485,TRAFOS,4,FALSE),'COSTO ELEMENTOS N1'!$C$321:$C$350,1),0)","v":0}]
[476,{"$f":"'TRAFOS MUESTRA'!B478","v":0},0,0,0,0,0,{"$f":"IFERROR(VLOOKUP(VLOOKUP(B486,TRAFOS,4,FALSE),'COSTO ELEMENTOS N1'!$C$321:$C$350,1),0)","v":0}]
[477,{"$f":"'TRAFOS MUESTRA'!B479","v":0},0,0,0,0,0,{"$f":"IFERROR(VLOOKUP(VLOOKUP(B487,TRAFOS,4,FALSE),'COSTO ELEMENTOS N1'!$C$321:$C$350,1),0)","v":0}]
[478,{"$f":"'TRAFOS MUESTRA'!B480","v":0},0,0,0,0,0,{"$f":"IFERROR(VLOOKUP(VLOOKUP(B488,TRAFOS,4,FALSE),'COSTO ELEMENTOS N1'!$C$321:$C$350,1),0)","v":0}]
[479,{"$f":"'TRAFOS MUESTRA'!B481","v":0},0,0,0,0,0,{"$f":"IFERROR(VLOOKUP(VLOOKUP(B489,TRAFOS,4,FALSE),'COSTO ELEMENTOS N1'!$C$321:$C$350,1),0)","v":0}]
[480,{"$f":"'TRAFOS MUESTRA'!B482","v":0},0,0,0,0,0,{"$f":"IFERROR(VLOOKUP(VLOOKUP(B490,TRAFOS,4,FALSE),'COSTO ELEMENTOS N1'!$C$321:$C$350,1),0)","v":0}]
[481,{"$f":"'TRAFOS MUESTRA'!B483","v":0},0,0,0,0,0,{"$f":"IFERROR(VLOOKUP(VLOOKUP(B491,TRAFOS,4,FALSE),'COSTO ELEMENTOS N1'!$C$321:$C$350,1),0)","v":0}]
[482,{"$f":"'TRAFOS MUESTRA'!B484","v":0},0,0,0,0,0,{"$f":"IFERROR(VLOOKUP(VLOOKUP(B492,TRAFOS,4,FALSE),'COSTO ELEMENTOS N1'!$C$321:$C$350,1),0)","v":0}]
[483,{"$f":"'TRAFOS MUESTRA'!B485","v":0},0,0,0,0,0,{"$f":"IFERROR(VLOOKUP(VLOOKUP(B493,TRAFOS,4,FALSE),'COSTO ELEMENTOS N1'!$C$321:$C$350,1),0)","v":0}]
[484,{"$f":"'TRAFOS MUESTRA'!B486","v":0},0,0,0,0,0,{"$f":"IFERROR(VLOOKUP(VLOOKUP(B494,TRAFOS,4,FALSE),'COSTO ELEMENTOS N1'!$C$321:$C$350,1),0)","v":0}]
[485,{"$f":"'TRAFOS MUESTRA'!B487","v":0},0,0,0,0,0,{"$f":"IFERROR(VLOOKUP(VLOOKUP(B495,TRAFOS,4,FALSE),'COSTO ELEMENTOS N1'!$C$321:$C$350,1),0)","v":0}]
[486,{"$f":"'TRAFOS MUESTRA'!B488","v":0},0,0,0,0,0,{"$f":"IFERROR(VLOOKUP(VLOOKUP(B496,TRAFOS,4,FALSE),'COSTO ELEMENTOS N1'!$C$321:$C$350,1),0)","v":0}]
[487,{"$f":"'TRAFOS MUESTRA'!B489","v":0},0,0,0,0,0,{"$f":"IFERROR(VLOOKUP(VLOOKUP(B497,TRAFOS,4,FALSE),'COSTO ELEMENTOS N1'!$C$321:$C$350,1),0)","v":0}]
[488,{"$f":"'TRAFOS MUESTRA'!B490","v":0},0,0,0,0,0,{"$f":"IFERROR(VLOOKUP(VLOOKUP(B498,TRAFOS,4,FALSE),'COSTO ELEMENTOS N1'!$C$321:$C$350,1),0)","v":0}]
[489,{"$f":"'TRAFOS MUESTRA'!B491","v":0},0,0,0,0,0,{"$f":"IFERROR(VLOOKUP(VLOOKUP(B499,TRAFOS,4,FALSE),'COSTO ELEMENTOS N1'!$C$321:$C$350,1),0)","v":0}]
[490,{"$f":"'TRAFOS MUESTRA'!B492","v":0},0,0,0,0,0,{"$f":"IFERROR(VLOOKUP(VLOOKUP(B500,TRAFOS,4,FALSE),'COSTO ELEMENTOS N1'!$C$321:$C$350,1),0)","v":0}]
[491,{"$f":"'TRAFOS MUESTRA'!B493","v":0},0,0,0,0,0,{"$f":"IFERROR(VLOOKUP(VLOOKUP(B501,TRAFOS,4,FALSE),'COSTO ELEMENTOS N1'!$C$321:$C$350,1),0)","v":0}]
[492,{"$f":"'TRAFOS MUESTRA'!B494","v":0},0,0,0,0,0,{"$f":"IFERROR(VLOOKUP(VLOOKUP(B502,TRAFOS,4,FALSE),'COSTO ELEMENTOS N1'!$C$321:$C$350,1),0)","v":0}]
[493,{"$f":"'TRAFOS MUESTRA'!B495","v":0},0,0,0,0,0,{"$f":"IFERROR(VLOOKUP(VLOOKUP(B503,TRAFOS,4,FALSE),'COSTO ELEMENTOS N1'!$C$321:$C$350,1),0)","v":0}]
[494,{"$f":"'TRAFOS MUESTRA'!B496","v":0},0,0,0,0,0,{"$f":"IFERROR(VLOOKUP(VLOOKUP(B504,TRAFOS,4,FALSE),'COSTO ELEMENTOS N1'!$C$321:$C$350,1),0)","v":0}]
[495,{"$f":"'TRAFOS MUESTRA'!B497","v":0},0,0,0,0,0,{"$f":"IFERROR(VLOOKUP(VLOOKUP(B505,TRAFOS,4,FALSE),'COSTO ELEMENTOS N1'!$C$321:$C$350,1),0)","v":0}]
[496,{"$f":"'TRAFOS MUESTRA'!B498","v":0},0,0,0,0,0,{"$f":"IFERROR(VLOOKUP(VLOOKUP(B506,TRAFOS,4,FALSE),'COSTO ELEMENTOS N1'!$C$321:$C$350,1),0)","v":0}]
[497,{"$f":"'TRAFOS MUESTRA'!B499","v":0},0,0,0,0,0,{"$f":"IFERROR(VLOOKUP(VLOOKUP(B507,TRAFOS,4,FALSE),'COSTO ELEMENTOS N1'!$C$321:$C$350,1),0)","v":0}]
[498,{"$f":"'TRAFOS MUESTRA'!B500","v":0},0,0,0,0,0,{"$f":"IFERROR(VLOOKUP(VLOOKUP(B508,TRAFOS,4,FALSE),'COSTO ELEMENTOS N1'!$C$321:$C$350,1),0)","v":0}]
[499,{"$f":"'TRAFOS MUESTRA'!B501","v":0},0,0,0,0,0,{"$f":"IFERROR(VLOOKUP(VLOOKUP(B509,TRAFOS,4,FALSE),'COSTO ELEMENTOS N1'!$C$321:$C$350,1),0)","v":0}]
[500,{"$f":"'TRAFOS MUESTRA'!B502","v":0},0,0,0,0,0,{"$f":"IFERROR(VLOOKUP(VLOOKUP(B510,TRAFOS,4,FALSE),'COSTO ELEMENTOS N1'!$C$321:$C$350,1),0)","v":0}]
[501,{"$f":"'TRAFOS MUESTRA'!B503","v":0},0,0,0,0,0,{"$f":"IFERROR(VLOOKUP(VLOOKUP(B511,TRAFOS,4,FALSE),'COSTO ELEMENTOS N1'!$C$321:$C$350,1),0)","v":0}]
[502,{"$f":"'TRAFOS MUESTRA'!B504","v":0},0,0,0,0,0,{"$f":"IFERROR(VLOOKUP(VLOOKUP(B512,TRAFOS,4,FALSE),'COSTO ELEMENTOS N1'!$C$321:$C$350,1),0)","v":0}]
[503,{"$f":"'TRAFOS MUESTRA'!B505","v":0},0,0,0,0,0,{"$f":"IFERROR(VLOOKUP(VLOOKUP(B513,TRAFOS,4,FALSE),'COSTO ELEMENTOS N1'!$C$321:$C$350,1),0)","v":0}]
[504,{"$f":"'TRAFOS MUESTRA'!B506","v":0},0,0,0,0,0,{"$f":"IFERROR(VLOOKUP(VLOOKUP(B514,TRAFOS,4,FALSE),'COSTO ELEMENTOS N1'!$C$321:$C$350,1),0)","v":0}]
[505,{"$f":"'TRAFOS MUESTRA'!B507","v":0},0,0,0,0,0,{"$f":"IFERROR(VLOOKUP(VLOOKUP(B515,TRAFOS,4,FALSE),'COSTO ELEMENTOS N1'!$C$321:$C$350,1),0)","v":0}]
[506,{"$f":"'TRAFOS MUESTRA'!B508","v":0},0,0,0,0,0,{"$f":"IFERROR(VLOOKUP(VLOOKUP(B516,TRAFOS,4,FALSE),'COSTO ELEMENTOS N1'!$C$321:$C$350,1),0)","v":0}]
[507,{"$f":"'TRAFOS MUESTRA'!B509","v":0},0,0,0,0,0,{"$f":"IFERROR(VLOOKUP(VLOOKUP(B517,TRAFOS,4,FALSE),'COSTO ELEMENTOS N1'!$C$321:$C$350,1),0)","v":0}]
[508,{"$f":"'TRAFOS MUESTRA'!B510","v":0},0,0,0,0,0,{"$f":"IFERROR(VLOOKUP(VLOOKUP(B518,TRAFOS,4,FALSE),'COSTO ELEMENTOS N1'!$C$321:$C$350,1),0)","v":0}]
[509,{"$f":"'TRAFOS MUESTRA'!B511","v":0},0,0,0,0,0,{"$f":"IFERROR(VLOOKUP(VLOOKUP(B519,TRAFOS,4,FALSE),'COSTO ELEMENTOS N1'!$C$321:$C$350,1),0)","v":0}]
[510,{"$f":"'TRAFOS MUESTRA'!B512","v":0},0,0,0,0,0,{"$f":"IFERROR(VLOOKUP(VLOOKUP(B520,TRAFOS,4,FALSE),'COSTO ELEMENTOS N1'!$C$321:$C$350,1),0)","v":0}]
[511,{"$f":"'TRAFOS MUESTRA'!B513","v":0},0,0,0,0,0,{"$f":"IFERROR(VLOOKUP(VLOOKUP(B521,TRAFOS,4,FALSE),'COSTO ELEMENTOS N1'!$C$321:$C$350,1),0)","v":0}]
[512,{"$f":"'TRAFOS MUESTRA'!B514","v":0},0,0,0,0,0,{"$f":"IFERROR(VLOOKUP(VLOOKUP(B522,TRAFOS,4,FALSE),'COSTO ELEMENTOS N1'!$C$321:$C$350,1),0)","v":0}]
[513,{"$f":"'TRAFOS MUESTRA'!B515","v":0},{"$f":"IFERROR(VLOOKUP(B523,TRAFOS,3,FALSE),0)","v":0},{"$f":"IFERROR(SUMIF(CODIGO_TRAFOS_REDES,$B523,COSTO_CONDUCTOR_TRAMO),0)","v":0},{"$f":"IFERROR(SUMIF(CODIGO_TRAFOS_REDES,$B523,COSTO_APOYOS_TRAMO),0)","v":0},{"$f":"IFERROR(IF(H523>15,VLOOKUP(H523,COSTO_TRAFOS_3F,6,FALSE),VLOOKUP(H523,COSTO_TRAFOS_1F,6,FALSE)),0)","v":0},0,{"$f":"IFERROR(VLOOKUP(VLOOKUP(B523,TRAFOS,4,FALSE),'COSTO ELEMENTOS N1'!$C$321:$C$350,1),0)","v":0}]
[514,{"$f":"'TRAFOS MUESTRA'!B516","v":0},0,0,0,0,{"$f":"SUM(D524:F524)","v":0},{"$f":"IFERROR(VLOOKUP(VLOOKUP(B524,TRAFOS,4,FALSE),'COSTO ELEMENTOS N1'!$C$321:$C$350,1),0)","v":0}]
[{"$f":"A524+1","v":515},{"$f":"'TRAFOS MUESTRA'!B517","v":0},0,0,0,0,0,{"$f":"IFERROR(VLOOKUP(VLOOKUP(B525,TRAFOS,4,FALSE),'COSTO ELEMENTOS N1'!$C$321:$C$350,1),0)","v":0}]
[516,{"$f":"'TRAFOS MUESTRA'!B518","v":0},0,0,0,0,0,{"$f":"IFERROR(VLOOKUP(VLOOKUP(B526,TRAFOS,4,FALSE),'COSTO ELEMENTOS N1'!$C$321:$C$350,1),0)","v":0}]
[517,{"$f":"'TRAFOS MUESTRA'!B519","v":0},0,0,0,0,0,{"$f":"IFERROR(VLOOKUP(VLOOKUP(B527,TRAFOS,4,FALSE),'COSTO ELEMENTOS N1'!$C$321:$C$350,1),0)","v":0}]
[518,{"$f":"'TRAFOS MUESTRA'!B520","v":0},0,0,0,0,0,{"$f":"IFERROR(VLOOKUP(VLOOKUP(B528,TRAFOS,4,FALSE),'COSTO ELEMENTOS N1'!$C$321:$C$350,1),0)","v":0}]
[519,{"$f":"'TRAFOS MUESTRA'!B521","v":0},0,0,0,0,0,{"$f":"IFERROR(VLOOKUP(VLOOKUP(B529,TRAFOS,4,FALSE),'COSTO ELEMENTOS N1'!$C$321:$C$350,1),0)","v":0}]
[520,{"$f":"'TRAFOS MUESTRA'!B522","v":0},0,0,0,0,0,{"$f":"IFERROR(VLOOKUP(VLOOKUP(B530,TRAFOS,4,FALSE),'COSTO ELEMENTOS N1'!$C$321:$C$350,1),0)","v":0}]
[521,{"$f":"'TRAFOS MUESTRA'!B523","v":0},0,0,0,0,0,{"$f":"IFERROR(VLOOKUP(VLOOKUP(B531,TRAFOS,4,FALSE),'COSTO ELEMENTOS N1'!$C$321:$C$350,1),0)","v":0}]
[522,{"$f":"'TRAFOS MUESTRA'!B524","v":0},0,0,0,0,0,{"$f":"IFERROR(VLOOKUP(VLOOKUP(B532,TRAFOS,4,FALSE),'COSTO ELEMENTOS N1'!$C$321:$C$350,1),0)","v":0}]
[523,{"$f":"'TRAFOS MUESTRA'!B525","v":0},0,0,0,0,0,{"$f":"IFERROR(VLOOKUP(VLOOKUP(B533,TRAFOS,4,FALSE),'COSTO ELEMENTOS N1'!$C$321:$C$350,1),0)","v":0}]
[524,{"$f":"'TRAFOS MUESTRA'!B526","v":0},0,0,0,0,0,{"$f":"IFERROR(VLOOKUP(VLOOKUP(B534,TRAFOS,4,FALSE),'COSTO ELEMENTOS N1'!$C$321:$C$350,1),0)","v":0}]
[525,{"$f":"'TRAFOS MUESTRA'!B527","v":0},0,0,0,0,0,{"$f":"IFERROR(VLOOKUP(VLOOKUP(B535,TRAFOS,4,FALSE),'COSTO ELEMENTOS N1'!$C$321:$C$350,1),0)","v":0}]
[526,{"$f":"'TRAFOS MUESTRA'!B528","v":0},0,0,0,0,0,{"$f":"IFERROR(VLOOKUP(VLOOKUP(B536,TRAFOS,4,FALSE),'COSTO ELEMENTOS N1'!$C$321:$C$350,1),0)","v":0}]
[527,{"$f":"'TRAFOS MUESTRA'!B529","v":0},0,0,0,0,0,{"$f":"IFERROR(VLOOKUP(VLOOKUP(B537,TRAFOS,4,FALSE),'COSTO ELEMENTOS N1'!$C$321:$C$350,1),0)","v":0}]
[528,{"$f":"'TRAFOS MUESTRA'!B530","v":0},0,0,0,0,0,{"$f":"IFERROR(VLOOKUP(VLOOKUP(B538,TRAFOS,4,FALSE),'COSTO ELEMENTOS N1'!$C$321:$C$350,1),0)","v":0}]
[529,{"$f":"'TRAFOS MUESTRA'!B531","v":0},0,0,0,0,0,{"$f":"IFERROR(VLOOKUP(VLOOKUP(B539,TRAFOS,4,FALSE),'COSTO ELEMENTOS N1'!$C$321:$C$350,1),0)","v":0}]
[530,{"$f":"'TRAFOS MUESTRA'!B532","v":0},0,0,0,0,0,{"$f":"IFERROR(VLOOKUP(VLOOKUP(B540,TRAFOS,4,FALSE),'COSTO ELEMENTOS N1'!$C$321:$C$350,1),0)","v":0}]
[531,{"$f":"'TRAFOS MUESTRA'!B533","v":0},0,0,0,0,0,{"$f":"IFERROR(VLOOKUP(VLOOKUP(B541,TRAFOS,4,FALSE),'COSTO ELEMENTOS N1'!$C$321:$C$350,1),0)","v":0}]
[532,{"$f":"'TRAFOS MUESTRA'!B534","v":0},0,0,0,0,0,{"$f":"IFERROR(VLOOKUP(VLOOKUP(B542,TRAFOS,4,FALSE),'COSTO ELEMENTOS N1'!$C$321:$C$350,1),0)","v":0}]
[533,{"$f":"'TRAFOS MUESTRA'!B535","v":0},0,0,0,0,0,{"$f":"IFERROR(VLOOKUP(VLOOKUP(B543,TRAFOS,4,FALSE),'COSTO ELEMENTOS N1'!$C$321:$C$350,1),0)","v":0}]
[534,{"$f":"'TRAFOS MUESTRA'!B536","v":0},0,0,0,0,0,{"$f":"IFERROR(VLOOKUP(VLOOKUP(B544,TRAFOS,4,FALSE),'COSTO ELEMENTOS N1'!$C$321:$C$350,1),0)","v":0}]
[535,{"$f":"'TRAFOS MUESTRA'!B537","v":0},0,0,0,0,0,{"$f":"IFERROR(VLOOKUP(VLOOKUP(B545,TRAFOS,4,FALSE),'COSTO ELEMENTOS N1'!$C$321:$C$350,1),0)","v":0}]
[536,{"$f":"'TRAFOS MUESTRA'!B538","v":0},0,0,0,0,0,{"$f":"IFERROR(VLOOKUP(VLOOKUP(B546,TRAFOS,4,FALSE),'COSTO ELEMENTOS N1'!$C$321:$C$350,1),0)","v":0}]
[537,{"$f":"'TRAFOS MUESTRA'!B539","v":0},0,0,0,0,0,{"$f":"IFERROR(VLOOKUP(VLOOKUP(B547,TRAFOS,4,FALSE),'COSTO ELEMENTOS N1'!$C$321:$C$350,1),0)","v":0}]
[538,{"$f":"'TRAFOS MUESTRA'!B540","v":0},0,0,0,0,0,{"$f":"IFERROR(VLOOKUP(VLOOKUP(B548,TRAFOS,4,FALSE),'COSTO ELEMENTOS N1'!$C$321:$C$350,1),0)","v":0}]
[539,{"$f":"'TRAFOS MUESTRA'!B541","v":0},0,0,0,0,0,{"$f":"IFERROR(VLOOKUP(VLOOKUP(B549,TRAFOS,4,FALSE),'COSTO ELEMENTOS N1'!$C$321:$C$350,1),0)","v":0}]
[540,{"$f":"'TRAFOS MUESTRA'!B542","v":0},0,0,0,0,0,{"$f":"IFERROR(VLOOKUP(VLOOKUP(B550,TRAFOS,4,FALSE),'COSTO ELEMENTOS N1'!$C$321:$C$350,1),0)","v":0}]
[541,{"$f":"'TRAFOS MUESTRA'!B543","v":0},0,0,0,0,0,{"$f":"IFERROR(VLOOKUP(VLOOKUP(B551,TRAFOS,4,FALSE),'COSTO ELEMENTOS N1'!$C$321:$C$350,1),0)","v":0}]
[542,{"$f":"'TRAFOS MUESTRA'!B544","v":0},0,0,0,0,0,{"$f":"IFERROR(VLOOKUP(VLOOKUP(B552,TRAFOS,4,FALSE),'COSTO ELEMENTOS N1'!$C$321:$C$350,1),0)","v":0}]
[543,{"$f":"'TRAFOS MUESTRA'!B545","v":0},0,0,0,0,0,{"$f":"IFERROR(VLOOKUP(VLOOKUP(B553,TRAFOS,4,FALSE),'COSTO ELEMENTOS N1'!$C$321:$C$350,1),0)","v":0}]
[544,{"$f":"'TRAFOS MUESTRA'!B546","v":0},0,0,0,0,0,{"$f":"IFERROR(VLOOKUP(VLOOKUP(B554,TRAFOS,4,FALSE),'COSTO ELEMENTOS N1'!$C$321:$C$350,1),0)","v":0}]
[545,{"$f":"'TRAFOS MUESTRA'!B547","v":0},0,0,0,0,0,{"$f":"IFERROR(VLOOKUP(VLOOKUP(B555,TRAFOS,4,FALSE),'COSTO ELEMENTOS N1'!$C$321:$C$350,1),0)","v":0}]
[546,{"$f":"'TRAFOS MUESTRA'!B548","v":0},0,0,0,0,0,{"$f":"IFERROR(VLOOKUP(VLOOKUP(B556,TRAFOS,4,FALSE),'COSTO ELEMENTOS N1'!$C$321:$C$350,1),0)","v":0}]
[547,{"$f":"'TRAFOS MUESTRA'!B549","v":0},0,0,0,0,0,{"$f":"IFERROR(VLOOKUP(VLOOKUP(B557,TRAFOS,4,FALSE),'COSTO ELEMENTOS N1'!$C$321:$C$350,1),0)","v":0}]
[548,{"$f":"'TRAFOS MUESTRA'!B550","v":0},0,0,0,0,0,{"$f":"IFERROR(VLOOKUP(VLOOKUP(B558,TRAFOS,4,FALSE),'COSTO ELEMENTOS N1'!$C$321:$C$350,1),0)","v":0}]
[549,{"$f":"'TRAFOS MUESTRA'!B551","v":0},0,0,0,0,0,{"$f":"IFERROR(VLOOKUP(VLOOKUP(B559,TRAFOS,4,FALSE),'COSTO ELEMENTOS N1'!$C$321:$C$350,1),0)","v":0}]
[550,{"$f":"'TRAFOS MUESTRA'!B552","v":0},0,0,0,0,0,{"$f":"IFERROR(VLOOKUP(VLOOKUP(B560,TRAFOS,4,FALSE),'COSTO ELEMENTOS N1'!$C$321:$C$350,1),0)","v":0}]
[551,{"$f":"'TRAFOS MUESTRA'!B553","v":0},0,0,0,0,0,{"$f":"IFERROR(VLOOKUP(VLOOKUP(B561,TRAFOS,4,FALSE),'COSTO ELEMENTOS N1'!$C$321:$C$350,1),0)","v":0}]
[552,{"$f":"'TRAFOS MUESTRA'!B554","v":0},0,0,0,0,0,{"$f":"IFERROR(VLOOKUP(VLOOKUP(B562,TRAFOS,4,FALSE),'COSTO ELEMENTOS N1'!$C$321:$C$350,1),0)","v":0}]
[553,{"$f":"'TRAFOS MUESTRA'!B555","v":0},0,0,0,0,0,{"$f":"IFERROR(VLOOKUP(VLOOKUP(B563,TRAFOS,4,FALSE),'COSTO ELEMENTOS N1'!$C$321:$C$350,1),0)","v":0}]
[554,{"$f":"'TRAFOS MUESTRA'!B556","v":0},0,0,0,0,0,{"$f":"IFERROR(VLOOKUP(VLOOKUP(B564,TRAFOS,4,FALSE),'COSTO ELEMENTOS N1'!$C$321:$C$350,1),0)","v":0}]
[555,{"$f":"'TRAFOS MUESTRA'!B557","v":0},0,0,0,0,0,{"$f":"IFERROR(VLOOKUP(VLOOKUP(B565,TRAFOS,4,FALSE),'COSTO ELEMENTOS N1'!$C$321:$C$350,1),0)","v":0}]
[556,{"$f":"'TRAFOS MUESTRA'!B558","v":0},0,0,0,0,0,{"$f":"IFERROR(VLOOKUP(VLOOKUP(B566,TRAFOS,4,FALSE),'COSTO ELEMENTOS N1'!$C$321:$C$350,1),0)","v":0}]
[557,{"$f":"'TRAFOS MUESTRA'!B559","v":0},0,0,0,0,0,{"$f":"IFERROR(VLOOKUP(VLOOKUP(B567,TRAFOS,4,FALSE),'COSTO ELEMENTOS N1'!$C$321:$C$350,1),0)","v":0}]
[558,{"$f":"'TRAFOS MUESTRA'!B560","v":0},0,0,0,0,0,{"$f":"IFERROR(VLOOKUP(VLOOKUP(B568,TRAFOS,4,FALSE),'COSTO ELEMENTOS N1'!$C$321:$C$350,1),0)","v":0}]
[559,{"$f":"'TRAFOS MUESTRA'!B561","v":0},0,0,0,0,0,{"$f":"IFERROR(VLOOKUP(VLOOKUP(B569,TRAFOS,4,FALSE),'COSTO ELEMENTOS N1'!$C$321:$C$350,1),0)","v":0}]
[560,{"$f":"'TRAFOS MUESTRA'!B562","v":0},0,0,0,0,0,{"$f":"IFERROR(VLOOKUP(VLOOKUP(B570,TRAFOS,4,FALSE),'COSTO ELEMENTOS N1'!$C$321:$C$350,1),0)","v":0}]
[561,{"$f":"'TRAFOS MUESTRA'!B563","v":0},0,0,0,0,0,{"$f":"IFERROR(VLOOKUP(VLOOKUP(B571,TRAFOS,4,FALSE),'COSTO ELEMENTOS N1'!$C$321:$C$350,1),0)","v":0}]
[562,{"$f":"'TRAFOS MUESTRA'!B564","v":0},0,0,0,0,0,{"$f":"IFERROR(VLOOKUP(VLOOKUP(B572,TRAFOS,4,FALSE),'COSTO ELEMENTOS N1'!$C$321:$C$350,1),0)","v":0}]
[563,{"$f":"'TRAFOS MUESTRA'!B565","v":0},0,0,0,0,0,{"$f":"IFERROR(VLOOKUP(VLOOKUP(B573,TRAFOS,4,FALSE),'COSTO ELEMENTOS N1'!$C$321:$C$350,1),0)","v":0}]
[564,{"$f":"'TRAFOS MUESTRA'!B566","v":0},0,0,0,0,0,{"$f":"IFERROR(VLOOKUP(VLOOKUP(B574,TRAFOS,4,FALSE),'COSTO ELEMENTOS N1'!$C$321:$C$350,1),0)","v":0}]
[565,{"$f":"'TRAFOS MUESTRA'!B567","v":0},0,0,0,0,0,{"$f":"IFERROR(VLOOKUP(VLOOKUP(B575,TRAFOS,4,FALSE),'COSTO ELEMENTOS N1'!$C$321:$C$350,1),0)","v":0}]
[566,{"$f":"'TRAFOS MUESTRA'!B568","v":0},0,0,0,0,0,{"$f":"IFERROR(VLOOKUP(VLOOKUP(B576,TRAFOS,4,FALSE),'COSTO ELEMENTOS N1'!$C$321:$C$350,1),0)","v":0}]
[567,{"$f":"'TRAFOS MUESTRA'!B569","v":0},0,0,0,0,0,{"$f":"IFERROR(VLOOKUP(VLOOKUP(B577,TRAFOS,4,FALSE),'COSTO ELEMENTOS N1'!$C$321:$C$350,1),0)","v":0}]
[568,{"$f":"'TRAFOS MUESTRA'!B570","v":0},0,0,0,0,0,{"$f":"IFERROR(VLOOKUP(VLOOKUP(B578,TRAFOS,4,FALSE),'COSTO ELEMENTOS N1'!$C$321:$C$350,1),0)","v":0}]
[569,{"$f":"'TRAFOS MUESTRA'!B571","v":0},0,0,0,0,0,{"$f":"IFERROR(VLOOKUP(VLOOKUP(B579,TRAFOS,4,FALSE),'COSTO ELEMENTOS N1'!$C$321:$C$350,1),0)","v":0}]
[570,{"$f":"'TRAFOS MUESTRA'!B572","v":0},0,0,0,0,0,{"$f":"IFERROR(VLOOKUP(VLOOKUP(B580,TRAFOS,4,FALSE),'COSTO ELEMENTOS N1'!$C$321:$C$350,1),0)","v":0}]
[571,{"$f":"'TRAFOS MUESTRA'!B573","v":0},0,0,0,0,0,{"$f":"IFERROR(VLOOKUP(VLOOKUP(B581,TRAFOS,4,FALSE),'COSTO ELEMENTOS N1'!$C$321:$C$350,1),0)","v":0}]
[572,{"$f":"'TRAFOS MUESTRA'!B574","v":0},0,0,0,0,0,{"$f":"IFERROR(VLOOKUP(VLOOKUP(B582,TRAFOS,4,FALSE),'COSTO ELEMENTOS N1'!$C$321:$C$350,1),0)","v":0}]
[573,{"$f":"'TRAFOS MUESTRA'!B575","v":0},0,0,0,0,0,{"$f":"IFERROR(VLOOKUP(VLOOKUP(B583,TRAFOS,4,FALSE),'COSTO ELEMENTOS N1'!$C$321:$C$350,1),0)","v":0}]
[574,{"$f":"'TRAFOS MUESTRA'!B576","v":0},0,0,0,0,0,{"$f":"IFERROR(VLOOKUP(VLOOKUP(B584,TRAFOS,4,FALSE),'COSTO ELEMENTOS N1'!$C$321:$C$350,1),0)","v":0}]
[575,{"$f":"'TRAFOS MUESTRA'!B577","v":0},0,0,0,0,0,{"$f":"IFERROR(VLOOKUP(VLOOKUP(B585,TRAFOS,4,FALSE),'COSTO ELEMENTOS N1'!$C$321:$C$350,1),0)","v":0}]
[576,{"$f":"'TRAFOS MUESTRA'!B578","v":0},0,0,0,0,0,{"$f":"IFERROR(VLOOKUP(VLOOKUP(B586,TRAFOS,4,FALSE),'COSTO ELEMENTOS N1'!$C$321:$C$350,1),0)","v":0}]
[577,{"$f":"'TRAFOS MUESTRA'!B579","v":0},{"$f":"IFERROR(VLOOKUP(B587,TRAFOS,3,FALSE),0)","v":0},{"$f":"IFERROR(SUMIF(CODIGO_TRAFOS_REDES,$B587,COSTO_CONDUCTOR_TRAMO),0)","v":0},{"$f":"IFERROR(SUMIF(CODIGO_TRAFOS_REDES,$B587,COSTO_APOYOS_TRAMO),0)","v":0},{"$f":"IFERROR(IF(H587>15,VLOOKUP(H587,COSTO_TRAFOS_3F,6,FALSE),VLOOKUP(H587,COSTO_TRAFOS_1F,6,FALSE)),0)","v":0},0,{"$f":"IFERROR(VLOOKUP(VLOOKUP(B587,TRAFOS,4,FALSE),'COSTO ELEMENTOS N1'!$C$321:$C$350,1),0)","v":0}]
[578,{"$f":"'TRAFOS MUESTRA'!B580","v":0},0,0,0,0,{"$f":"SUM(D588:F588)","v":0},{"$f":"IFERROR(VLOOKUP(VLOOKUP(B588,TRAFOS,4,FALSE),'COSTO ELEMENTOS N1'!$C$321:$C$350,1),0)","v":0}]
[{"$f":"A588+1","v":579},{"$f":"'TRAFOS MUESTRA'!B581","v":0},0,0,0,0,0,{"$f":"IFERROR(VLOOKUP(VLOOKUP(B589,TRAFOS,4,FALSE),'COSTO ELEMENTOS N1'!$C$321:$C$350,1),0)","v":0}]
[580,{"$f":"'TRAFOS MUESTRA'!B582","v":0},0,0,0,0,0,{"$f":"IFERROR(VLOOKUP(VLOOKUP(B590,TRAFOS,4,FALSE),'COSTO ELEMENTOS N1'!$C$321:$C$350,1),0)","v":0}]
[581,{"$f":"'TRAFOS MUESTRA'!B583","v":0},0,0,0,0,0,{"$f":"IFERROR(VLOOKUP(VLOOKUP(B591,TRAFOS,4,FALSE),'COSTO ELEMENTOS N1'!$C$321:$C$350,1),0)","v":0}]
[582,{"$f":"'TRAFOS MUESTRA'!B584","v":0},0,0,0,0,0,{"$f":"IFERROR(VLOOKUP(VLOOKUP(B592,TRAFOS,4,FALSE),'COSTO ELEMENTOS N1'!$C$321:$C$350,1),0)","v":0}]
[583,{"$f":"'TRAFOS MUESTRA'!B585","v":0},0,0,0,0,0,{"$f":"IFERROR(VLOOKUP(VLOOKUP(B593,TRAFOS,4,FALSE),'COSTO ELEMENTOS N1'!$C$321:$C$350,1),0)","v":0}]
[584,{"$f":"'TRAFOS MUESTRA'!B586","v":0},0,0,0,0,0,{"$f":"IFERROR(VLOOKUP(VLOOKUP(B594,TRAFOS,4,FALSE),'COSTO ELEMENTOS N1'!$C$321:$C$350,1),0)","v":0}]
[585,{"$f":"'TRAFOS MUESTRA'!B587","v":0},0,0,0,0,0,{"$f":"IFERROR(VLOOKUP(VLOOKUP(B595,TRAFOS,4,FALSE),'COSTO ELEMENTOS N1'!$C$321:$C$350,1),0)","v":0}]
[586,{"$f":"'TRAFOS MUESTRA'!B588","v":0},0,0,0,0,0,{"$f":"IFERROR(VLOOKUP(VLOOKUP(B596,TRAFOS,4,FALSE),'COSTO ELEMENTOS N1'!$C$321:$C$350,1),0)","v":0}]
[587,{"$f":"'TRAFOS MUESTRA'!B589","v":0},0,0,0,0,0,{"$f":"IFERROR(VLOOKUP(VLOOKUP(B597,TRAFOS,4,FALSE),'COSTO ELEMENTOS N1'!$C$321:$C$350,1),0)","v":0}]
[588,{"$f":"'TRAFOS MUESTRA'!B590","v":0},0,0,0,0,0,{"$f":"IFERROR(VLOOKUP(VLOOKUP(B598,TRAFOS,4,FALSE),'COSTO ELEMENTOS N1'!$C$321:$C$350,1),0)","v":0}]
[589,{"$f":"'TRAFOS MUESTRA'!B591","v":0},0,0,0,0,0,{"$f":"IFERROR(VLOOKUP(VLOOKUP(B599,TRAFOS,4,FALSE),'COSTO ELEMENTOS N1'!$C$321:$C$350,1),0)","v":0}]
[590,{"$f":"'TRAFOS MUESTRA'!B592","v":0},0,0,0,0,0,{"$f":"IFERROR(VLOOKUP(VLOOKUP(B600,TRAFOS,4,FALSE),'COSTO ELEMENTOS N1'!$C$321:$C$350,1),0)","v":0}]
[591,{"$f":"'TRAFOS MUESTRA'!B593","v":0},0,0,0,0,0,{"$f":"IFERROR(VLOOKUP(VLOOKUP(B601,TRAFOS,4,FALSE),'COSTO ELEMENTOS N1'!$C$321:$C$350,1),0)","v":0}]
[592,{"$f":"'TRAFOS MUESTRA'!B594","v":0},0,0,0,0,0,{"$f":"IFERROR(VLOOKUP(VLOOKUP(B602,TRAFOS,4,FALSE),'COSTO ELEMENTOS N1'!$C$321:$C$350,1),0)","v":0}]
[593,{"$f":"'TRAFOS MUESTRA'!B595","v":0},0,0,0,0,0,{"$f":"IFERROR(VLOOKUP(VLOOKUP(B603,TRAFOS,4,FALSE),'COSTO ELEMENTOS N1'!$C$321:$C$350,1),0)","v":0}]
[594,{"$f":"'TRAFOS MUESTRA'!B596","v":0},0,0,0,0,0,{"$f":"IFERROR(VLOOKUP(VLOOKUP(B604,TRAFOS,4,FALSE),'COSTO ELEMENTOS N1'!$C$321:$C$350,1),0)","v":0}]
[595,{"$f":"'TRAFOS MUESTRA'!B597","v":0},0,0,0,0,0,{"$f":"IFERROR(VLOOKUP(VLOOKUP(B605,TRAFOS,4,FALSE),'COSTO ELEMENTOS N1'!$C$321:$C$350,1),0)","v":0}]
[596,{"$f":"'TRAFOS MUESTRA'!B598","v":0},0,0,0,0,0,{"$f":"IFERROR(VLOOKUP(VLOOKUP(B606,TRAFOS,4,FALSE),'COSTO ELEMENTOS N1'!$C$321:$C$350,1),0)","v":0}]
[597,{"$f":"'TRAFOS MUESTRA'!B599","v":0},0,0,0,0,0,{"$f":"IFERROR(VLOOKUP(VLOOKUP(B607,TRAFOS,4,FALSE),'COSTO ELEMENTOS N1'!$C$321:$C$350,1),0)","v":0}]
[598,{"$f":"'TRAFOS MUESTRA'!B600","v":0},0,0,0,0,0,{"$f":"IFERROR(VLOOKUP(VLOOKUP(B608,TRAFOS,4,FALSE),'COSTO ELEMENTOS N1'!$C$321:$C$350,1),0)","v":0}]
[599,{"$f":"'TRAFOS MUESTRA'!B601","v":0},0,0,0,0,0,{"$f":"IFERROR(VLOOKUP(VLOOKUP(B609,TRAFOS,4,FALSE),'COSTO ELEMENTOS N1'!$C$321:$C$350,1),0)","v":0}]
[600,{"$f":"'TRAFOS MUESTRA'!B602","v":0},0,0,0,0,0,{"$f":"IFERROR(VLOOKUP(VLOOKUP(B610,TRAFOS,4,FALSE),'COSTO ELEMENTOS N1'!$C$321:$C$350,1),0)","v":0}]
[601,{"$f":"'TRAFOS MUESTRA'!B603","v":0},0,0,0,0,0,{"$f":"IFERROR(VLOOKUP(VLOOKUP(B611,TRAFOS,4,FALSE),'COSTO ELEMENTOS N1'!$C$321:$C$350,1),0)","v":0}]
[602,{"$f":"'TRAFOS MUESTRA'!B604","v":0},0,0,0,0,0,{"$f":"IFERROR(VLOOKUP(VLOOKUP(B612,TRAFOS,4,FALSE),'COSTO ELEMENTOS N1'!$C$321:$C$350,1),0)","v":0}]
[603,{"$f":"'TRAFOS MUESTRA'!B605","v":0},0,0,0,0,0,{"$f":"IFERROR(VLOOKUP(VLOOKUP(B613,TRAFOS,4,FALSE),'COSTO ELEMENTOS N1'!$C$321:$C$350,1),0)","v":0}]
[604,{"$f":"'TRAFOS MUESTRA'!B606","v":0},0,0,0,0,0,{"$f":"IFERROR(VLOOKUP(VLOOKUP(B614,TRAFOS,4,FALSE),'COSTO ELEMENTOS N1'!$C$321:$C$350,1),0)","v":0}]
[605,{"$f":"'TRAFOS MUESTRA'!B607","v":0},0,0,0,0,0,{"$f":"IFERROR(VLOOKUP(VLOOKUP(B615,TRAFOS,4,FALSE),'COSTO ELEMENTOS N1'!$C$321:$C$350,1),0)","v":0}]
[606,{"$f":"'TRAFOS MUESTRA'!B608","v":0},0,0,0,0,0,{"$f":"IFERROR(VLOOKUP(VLOOKUP(B616,TRAFOS,4,FALSE),'COSTO ELEMENTOS N1'!$C$321:$C$350,1),0)","v":0}]
[607,{"$f":"'TRAFOS MUESTRA'!B609","v":0},0,0,0,0,0,{"$f":"IFERROR(VLOOKUP(VLOOKUP(B617,TRAFOS,4,FALSE),'COSTO ELEMENTOS N1'!$C$321:$C$350,1),0)","v":0}]
[608,{"$f":"'TRAFOS MUESTRA'!B610","v":0},0,0,0,0,0,{"$f":"IFERROR(VLOOKUP(VLOOKUP(B618,TRAFOS,4,FALSE),'COSTO ELEMENTOS N1'!$C$321:$C$350,1),0)","v":0}]
[609,{"$f":"'TRAFOS MUESTRA'!B611","v":0},0,0,0,0,0,{"$f":"IFERROR(VLOOKUP(VLOOKUP(B619,TRAFOS,4,FALSE),'COSTO ELEMENTOS N1'!$C$321:$C$350,1),0)","v":0}]
[610,{"$f":"'TRAFOS MUESTRA'!B612","v":0},0,0,0,0,0,{"$f":"IFERROR(VLOOKUP(VLOOKUP(B620,TRAFOS,4,FALSE),'COSTO ELEMENTOS N1'!$C$321:$C$350,1),0)","v":0}]
[611,{"$f":"'TRAFOS MUESTRA'!B613","v":0},0,0,0,0,0,{"$f":"IFERROR(VLOOKUP(VLOOKUP(B621,TRAFOS,4,FALSE),'COSTO ELEMENTOS N1'!$C$321:$C$350,1),0)","v":0}]
[612,{"$f":"'TRAFOS MUESTRA'!B614","v":0},0,0,0,0,0,{"$f":"IFERROR(VLOOKUP(VLOOKUP(B622,TRAFOS,4,FALSE),'COSTO ELEMENTOS N1'!$C$321:$C$350,1),0)","v":0}]
[613,{"$f":"'TRAFOS MUESTRA'!B615","v":0},0,0,0,0,0,{"$f":"IFERROR(VLOOKUP(VLOOKUP(B623,TRAFOS,4,FALSE),'COSTO ELEMENTOS N1'!$C$321:$C$350,1),0)","v":0}]
[614,{"$f":"'TRAFOS MUESTRA'!B616","v":0},0,0,0,0,0,{"$f":"IFERROR(VLOOKUP(VLOOKUP(B624,TRAFOS,4,FALSE),'COSTO ELEMENTOS N1'!$C$321:$C$350,1),0)","v":0}]
[615,{"$f":"'TRAFOS MUESTRA'!B617","v":0},0,0,0,0,0,{"$f":"IFERROR(VLOOKUP(VLOOKUP(B625,TRAFOS,4,FALSE),'COSTO ELEMENTOS N1'!$C$321:$C$350,1),0)","v":0}]
[616,{"$f":"'TRAFOS MUESTRA'!B618","v":0},0,0,0,0,0,{"$f":"IFERROR(VLOOKUP(VLOOKUP(B626,TRAFOS,4,FALSE),'COSTO ELEMENTOS N1'!$C$321:$C$350,1),0)","v":0}]
[617,{"$f":"'TRAFOS MUESTRA'!B619","v":0},0,0,0,0,0,{"$f":"IFERROR(VLOOKUP(VLOOKUP(B627,TRAFOS,4,FALSE),'COSTO ELEMENTOS N1'!$C$321:$C$350,1),0)","v":0}]
[618,{"$f":"'TRAFOS MUESTRA'!B620","v":0},0,0,0,0,0,{"$f":"IFERROR(VLOOKUP(VLOOKUP(B628,TRAFOS,4,FALSE),'COSTO ELEMENTOS N1'!$C$321:$C$350,1),0)","v":0}]
[619,{"$f":"'TRAFOS MUESTRA'!B621","v":0},0,0,0,0,0,{"$f":"IFERROR(VLOOKUP(VLOOKUP(B629,TRAFOS,4,FALSE),'COSTO ELEMENTOS N1'!$C$321:$C$350,1),0)","v":0}]
[620,{"$f":"'TRAFOS MUESTRA'!B622","v":0},0,0,0,0,0,{"$f":"IFERROR(VLOOKUP(VLOOKUP(B630,TRAFOS,4,FALSE),'COSTO ELEMENTOS N1'!$C$321:$C$350,1),0)","v":0}]
[621,{"$f":"'TRAFOS MUESTRA'!B623","v":0},0,0,0,0,0,{"$f":"IFERROR(VLOOKUP(VLOOKUP(B631,TRAFOS,4,FALSE),'COSTO ELEMENTOS N1'!$C$321:$C$350,1),0)","v":0}]
[622,{"$f":"'TRAFOS MUESTRA'!B624","v":0},0,0,0,0,0,{"$f":"IFERROR(VLOOKUP(VLOOKUP(B632,TRAFOS,4,FALSE),'COSTO ELEMENTOS N1'!$C$321:$C$350,1),0)","v":0}]
[623,{"$f":"'TRAFOS MUESTRA'!B625","v":0},0,0,0,0,0,{"$f":"IFERROR(VLOOKUP(VLOOKUP(B633,TRAFOS,4,FALSE),'COSTO ELEMENTOS N1'!$C$321:$C$350,1),0)","v":0}]
[624,{"$f":"'TRAFOS MUESTRA'!B626","v":0},0,0,0,0,0,{"$f":"IFERROR(VLOOKUP(VLOOKUP(B634,TRAFOS,4,FALSE),'COSTO ELEMENTOS N1'!$C$321:$C$350,1),0)","v":0}]
[625,{"$f":"'TRAFOS MUESTRA'!B627","v":0},0,0,0,0,0,{"$f":"IFERROR(VLOOKUP(VLOOKUP(B635,TRAFOS,4,FALSE),'COSTO ELEMENTOS N1'!$C$321:$C$350,1),0)","v":0}]
[626,{"$f":"'TRAFOS MUESTRA'!B628","v":0},0,0,0,0,0,{"$f":"IFERROR(VLOOKUP(VLOOKUP(B636,TRAFOS,4,FALSE),'COSTO ELEMENTOS N1'!$C$321:$C$350,1),0)","v":0}]
[627,{"$f":"'TRAFOS MUESTRA'!B629","v":0},0,0,0,0,0,{"$f":"IFERROR(VLOOKUP(VLOOKUP(B637,TRAFOS,4,FALSE),'COSTO ELEMENTOS N1'!$C$321:$C$350,1),0)","v":0}]
[628,{"$f":"'TRAFOS MUESTRA'!B630","v":0},0,0,0,0,0,{"$f":"IFERROR(VLOOKUP(VLOOKUP(B638,TRAFOS,4,FALSE),'COSTO ELEMENTOS N1'!$C$321:$C$350,1),0)","v":0}]
[629,{"$f":"'TRAFOS MUESTRA'!B631","v":0},0,0,0,0,0,{"$f":"IFERROR(VLOOKUP(VLOOKUP(B639,TRAFOS,4,FALSE),'COSTO ELEMENTOS N1'!$C$321:$C$350,1),0)","v":0}]
[630,{"$f":"'TRAFOS MUESTRA'!B632","v":0},0,0,0,0,0,{"$f":"IFERROR(VLOOKUP(VLOOKUP(B640,TRAFOS,4,FALSE),'COSTO ELEMENTOS N1'!$C$321:$C$350,1),0)","v":0}]
[631,{"$f":"'TRAFOS MUESTRA'!B633","v":0},0,0,0,0,0,{"$f":"IFERROR(VLOOKUP(VLOOKUP(B641,TRAFOS,4,FALSE),'COSTO ELEMENTOS N1'!$C$321:$C$350,1),0)","v":0}]
[632,{"$f":"'TRAFOS MUESTRA'!B634","v":0},0,0,0,0,0,{"$f":"IFERROR(VLOOKUP(VLOOKUP(B642,TRAFOS,4,FALSE),'COSTO ELEMENTOS N1'!$C$321:$C$350,1),0)","v":0}]
[633,{"$f":"'TRAFOS MUESTRA'!B635","v":0},0,0,0,0,0,{"$f":"IFERROR(VLOOKUP(VLOOKUP(B643,TRAFOS,4,FALSE),'COSTO ELEMENTOS N1'!$C$321:$C$350,1),0)","v":0}]
[634,{"$f":"'TRAFOS MUESTRA'!B636","v":0},0,0,0,0,0,{"$f":"IFERROR(VLOOKUP(VLOOKUP(B644,TRAFOS,4,FALSE),'COSTO ELEMENTOS N1'!$C$321:$C$350,1),0)","v":0}]
[635,{"$f":"'TRAFOS MUESTRA'!B637","v":0},0,0,0,0,0,{"$f":"IFERROR(VLOOKUP(VLOOKUP(B645,TRAFOS,4,FALSE),'COSTO ELEMENTOS N1'!$C$321:$C$350,1),0)","v":0}]
[636,{"$f":"'TRAFOS MUESTRA'!B638","v":0},0,0,0,0,0,{"$f":"IFERROR(VLOOKUP(VLOOKUP(B646,TRAFOS,4,FALSE),'COSTO ELEMENTOS N1'!$C$321:$C$350,1),0)","v":0}]
[637,{"$f":"'TRAFOS MUESTRA'!B639","v":0},0,0,0,0,0,{"$f":"IFERROR(VLOOKUP(VLOOKUP(B647,TRAFOS,4,FALSE),'COSTO ELEMENTOS N1'!$C$321:$C$350,1),0)","v":0}]
[638,{"$f":"'TRAFOS MUESTRA'!B640","v":0},0,0,0,0,0,{"$f":"IFERROR(VLOOKUP(VLOOKUP(B648,TRAFOS,4,FALSE),'COSTO ELEMENTOS N1'!$C$321:$C$350,1),0)","v":0}]
[639,{"$f":"'TRAFOS MUESTRA'!B641","v":0},0,0,0,0,0,{"$f":"IFERROR(VLOOKUP(VLOOKUP(B649,TRAFOS,4,FALSE),'COSTO ELEMENTOS N1'!$C$321:$C$350,1),0)","v":0}]
[640,{"$f":"'TRAFOS MUESTRA'!B642","v":0},0,0,0,0,0,{"$f":"IFERROR(VLOOKUP(VLOOKUP(B650,TRAFOS,4,FALSE),'COSTO ELEMENTOS N1'!$C$321:$C$350,1),0)","v":0}]
[641,{"$f":"'TRAFOS MUESTRA'!B643","v":0},{"$f":"IFERROR(VLOOKUP(B651,TRAFOS,3,FALSE),0)","v":0},{"$f":"IFERROR(SUMIF(CODIGO_TRAFOS_REDES,$B651,COSTO_CONDUCTOR_TRAMO),0)","v":0},{"$f":"IFERROR(SUMIF(CODIGO_TRAFOS_REDES,$B651,COSTO_APOYOS_TRAMO),0)","v":0},{"$f":"IFERROR(IF(H651>15,VLOOKUP(H651,COSTO_TRAFOS_3F,6,FALSE),VLOOKUP(H651,COSTO_TRAFOS_1F,6,FALSE)),0)","v":0},0,{"$f":"IFERROR(VLOOKUP(VLOOKUP(B651,TRAFOS,4,FALSE),'COSTO ELEMENTOS N1'!$C$321:$C$350,1),0)","v":0}]
[642,{"$f":"'TRAFOS MUESTRA'!B644","v":0},0,0,0,0,{"$f":"SUM(D652:F652)","v":0},{"$f":"IFERROR(VLOOKUP(VLOOKUP(B652,TRAFOS,4,FALSE),'COSTO ELEMENTOS N1'!$C$321:$C$350,1),0)","v":0}]
[{"$f":"A652+1","v":643},{"$f":"'TRAFOS MUESTRA'!B645","v":0},0,0,0,0,0,{"$f":"IFERROR(VLOOKUP(VLOOKUP(B653,TRAFOS,4,FALSE),'COSTO ELEMENTOS N1'!$C$321:$C$350,1),0)","v":0}]
[644,{"$f":"'TRAFOS MUESTRA'!B646","v":0},0,0,0,0,0,{"$f":"IFERROR(VLOOKUP(VLOOKUP(B654,TRAFOS,4,FALSE),'COSTO ELEMENTOS N1'!$C$321:$C$350,1),0)","v":0}]
[645,{"$f":"'TRAFOS MUESTRA'!B647","v":0},0,0,0,0,0,{"$f":"IFERROR(VLOOKUP(VLOOKUP(B655,TRAFOS,4,FALSE),'COSTO ELEMENTOS N1'!$C$321:$C$350,1),0)","v":0}]
[646,{"$f":"'TRAFOS MUESTRA'!B648","v":0},0,0,0,0,0,{"$f":"IFERROR(VLOOKUP(VLOOKUP(B656,TRAFOS,4,FALSE),'COSTO ELEMENTOS N1'!$C$321:$C$350,1),0)","v":0}]
[647,{"$f":"'TRAFOS MUESTRA'!B649","v":0},0,0,0,0,0,{"$f":"IFERROR(VLOOKUP(VLOOKUP(B657,TRAFOS,4,FALSE),'COSTO ELEMENTOS N1'!$C$321:$C$350,1),0)","v":0}]
[648,{"$f":"'TRAFOS MUESTRA'!B650","v":0},0,0,0,0,0,{"$f":"IFERROR(VLOOKUP(VLOOKUP(B658,TRAFOS,4,FALSE),'COSTO ELEMENTOS N1'!$C$321:$C$350,1),0)","v":0}]
[649,{"$f":"'TRAFOS MUESTRA'!B651","v":0},0,0,0,0,0,{"$f":"IFERROR(VLOOKUP(VLOOKUP(B659,TRAFOS,4,FALSE),'COSTO ELEMENTOS N1'!$C$321:$C$350,1),0)","v":0}]
[650,{"$f":"'TRAFOS MUESTRA'!B652","v":0},0,0,0,0,0,{"$f":"IFERROR(VLOOKUP(VLOOKUP(B660,TRAFOS,4,FALSE),'COSTO ELEMENTOS N1'!$C$321:$C$350,1),0)","v":0}]
[651,{"$f":"'TRAFOS MUESTRA'!B653","v":0},0,0,0,0,0,{"$f":"IFERROR(VLOOKUP(VLOOKUP(B661,TRAFOS,4,FALSE),'COSTO ELEMENTOS N1'!$C$321:$C$350,1),0)","v":0}]
[652,{"$f":"'TRAFOS MUESTRA'!B654","v":0},0,0,0,0,0,{"$f":"IFERROR(VLOOKUP(VLOOKUP(B662,TRAFOS,4,FALSE),'COSTO ELEMENTOS N1'!$C$321:$C$350,1),0)","v":0}]
[653,{"$f":"'TRAFOS MUESTRA'!B655","v":0},0,0,0,0,0,{"$f":"IFERROR(VLOOKUP(VLOOKUP(B663,TRAFOS,4,FALSE),'COSTO ELEMENTOS N1'!$C$321:$C$350,1),0)","v":0}]
[654,{"$f":"'TRAFOS MUESTRA'!B656","v":0},0,0,0,0,0,{"$f":"IFERROR(VLOOKUP(VLOOKUP(B664,TRAFOS,4,FALSE),'COSTO ELEMENTOS N1'!$C$321:$C$350,1),0)","v":0}]
[655,{"$f":"'TRAFOS MUESTRA'!B657","v":0},0,0,0,0,0,{"$f":"IFERROR(VLOOKUP(VLOOKUP(B665,TRAFOS,4,FALSE),'COSTO ELEMENTOS N1'!$C$321:$C$350,1),0)","v":0}]
[656,{"$f":"'TRAFOS MUESTRA'!B658","v":0},0,0,0,0,0,{"$f":"IFERROR(VLOOKUP(VLOOKUP(B666,TRAFOS,4,FALSE),'COSTO ELEMENTOS N1'!$C$321:$C$350,1),0)","v":0}]
[657,{"$f":"'TRAFOS MUESTRA'!B659","v":0},0,0,0,0,0,{"$f":"IFERROR(VLOOKUP(VLOOKUP(B667,TRAFOS,4,FALSE),'COSTO ELEMENTOS N1'!$C$321:$C$350,1),0)","v":0}]
[658,{"$f":"'TRAFOS MUESTRA'!B660","v":0},0,0,0,0,0,{"$f":"IFERROR(VLOOKUP(VLOOKUP(B668,TRAFOS,4,FALSE),'COSTO ELEMENTOS N1'!$C$321:$C$350,1),0)","v":0}]
[659,{"$f":"'TRAFOS MUESTRA'!B661","v":0},0,0,0,0,0,{"$f":"IFERROR(VLOOKUP(VLOOKUP(B669,TRAFOS,4,FALSE),'COSTO ELEMENTOS N1'!$C$321:$C$350,1),0)","v":0}]
[660,{"$f":"'TRAFOS MUESTRA'!B662","v":0},0,0,0,0,0,{"$f":"IFERROR(VLOOKUP(VLOOKUP(B670,TRAFOS,4,FALSE),'COSTO ELEMENTOS N1'!$C$321:$C$350,1),0)","v":0}]
[661,{"$f":"'TRAFOS MUESTRA'!B663","v":0},0,0,0,0,0,{"$f":"IFERROR(VLOOKUP(VLOOKUP(B671,TRAFOS,4,FALSE),'COSTO ELEMENTOS N1'!$C$321:$C$350,1),0)","v":0}]
[662,{"$f":"'TRAFOS MUESTRA'!B664","v":0},0,0,0,0,0,{"$f":"IFERROR(VLOOKUP(VLOOKUP(B672,TRAFOS,4,FALSE),'COSTO ELEMENTOS N1'!$C$321:$C$350,1),0)","v":0}]
[663,{"$f":"'TRAFOS MUESTRA'!B665","v":0},0,0,0,0,0,{"$f":"IFERROR(VLOOKUP(VLOOKUP(B673,TRAFOS,4,FALSE),'COSTO ELEMENTOS N1'!$C$321:$C$350,1),0)","v":0}]
[664,{"$f":"'TRAFOS MUESTRA'!B666","v":0},0,0,0,0,0,{"$f":"IFERROR(VLOOKUP(VLOOKUP(B674,TRAFOS,4,FALSE),'COSTO ELEMENTOS N1'!$C$321:$C$350,1),0)","v":0}]
[665,{"$f":"'TRAFOS MUESTRA'!B667","v":0},0,0,0,0,0,{"$f":"IFERROR(VLOOKUP(VLOOKUP(B675,TRAFOS,4,FALSE),'COSTO ELEMENTOS N1'!$C$321:$C$350,1),0)","v":0}]
[666,{"$f":"'TRAFOS MUESTRA'!B668","v":0},0,0,0,0,0,{"$f":"IFERROR(VLOOKUP(VLOOKUP(B676,TRAFOS,4,FALSE),'COSTO ELEMENTOS N1'!$C$321:$C$350,1),0)","v":0}]
[667,{"$f":"'TRAFOS MUESTRA'!B669","v":0},0,0,0,0,0,{"$f":"IFERROR(VLOOKUP(VLOOKUP(B677,TRAFOS,4,FALSE),'COSTO ELEMENTOS N1'!$C$321:$C$350,1),0)","v":0}]
[668,{"$f":"'TRAFOS MUESTRA'!B670","v":0},0,0,0,0,0,{"$f":"IFERROR(VLOOKUP(VLOOKUP(B678,TRAFOS,4,FALSE),'COSTO ELEMENTOS N1'!$C$321:$C$350,1),0)","v":0}]
[669,{"$f":"'TRAFOS MUESTRA'!B671","v":0},0,0,0,0,0,{"$f":"IFERROR(VLOOKUP(VLOOKUP(B679,TRAFOS,4,FALSE),'COSTO ELEMENTOS N1'!$C$321:$C$350,1),0)","v":0}]
[670,{"$f":"'TRAFOS MUESTRA'!B672","v":0},0,0,0,0,0,{"$f":"IFERROR(VLOOKUP(VLOOKUP(B680,TRAFOS,4,FALSE),'COSTO ELEMENTOS N1'!$C$321:$C$350,1),0)","v":0}]
[671,{"$f":"'TRAFOS MUESTRA'!B673","v":0},0,0,0,0,0,{"$f":"IFERROR(VLOOKUP(VLOOKUP(B681,TRAFOS,4,FALSE),'COSTO ELEMENTOS N1'!$C$321:$C$350,1),0)","v":0}]
[672,{"$f":"'TRAFOS MUESTRA'!B674","v":0},0,0,0,0,0,{"$f":"IFERROR(VLOOKUP(VLOOKUP(B682,TRAFOS,4,FALSE),'COSTO ELEMENTOS N1'!$C$321:$C$350,1),0)","v":0}]
[673,{"$f":"'TRAFOS MUESTRA'!B675","v":0},0,0,0,0,0,{"$f":"IFERROR(VLOOKUP(VLOOKUP(B683,TRAFOS,4,FALSE),'COSTO ELEMENTOS N1'!$C$321:$C$350,1),0)","v":0}]
[674,{"$f":"'TRAFOS MUESTRA'!B676","v":0},0,0,0,0,0,{"$f":"IFERROR(VLOOKUP(VLOOKUP(B684,TRAFOS,4,FALSE),'COSTO ELEMENTOS N1'!$C$321:$C$350,1),0)","v":0}]
[675,{"$f":"'TRAFOS MUESTRA'!B677","v":0},0,0,0,0,0,{"$f":"IFERROR(VLOOKUP(VLOOKUP(B685,TRAFOS,4,FALSE),'COSTO ELEMENTOS N1'!$C$321:$C$350,1),0)","v":0}]
[676,{"$f":"'TRAFOS MUESTRA'!B678","v":0},0,0,0,0,0,{"$f":"IFERROR(VLOOKUP(VLOOKUP(B686,TRAFOS,4,FALSE),'COSTO ELEMENTOS N1'!$C$321:$C$350,1),0)","v":0}]
[677,{"$f":"'TRAFOS MUESTRA'!B679","v":0},0,0,0,0,0,{"$f":"IFERROR(VLOOKUP(VLOOKUP(B687,TRAFOS,4,FALSE),'COSTO ELEMENTOS N1'!$C$321:$C$350,1),0)","v":0}]
[678,{"$f":"'TRAFOS MUESTRA'!B680","v":0},0,0,0,0,0,{"$f":"IFERROR(VLOOKUP(VLOOKUP(B688,TRAFOS,4,FALSE),'COSTO ELEMENTOS N1'!$C$321:$C$350,1),0)","v":0}]
[679,{"$f":"'TRAFOS MUESTRA'!B681","v":0},0,0,0,0,0,{"$f":"IFERROR(VLOOKUP(VLOOKUP(B689,TRAFOS,4,FALSE),'COSTO ELEMENTOS N1'!$C$321:$C$350,1),0)","v":0}]
[680,{"$f":"'TRAFOS MUESTRA'!B682","v":0},0,0,0,0,0,{"$f":"IFERROR(VLOOKUP(VLOOKUP(B690,TRAFOS,4,FALSE),'COSTO ELEMENTOS N1'!$C$321:$C$350,1),0)","v":0}]
[681,{"$f":"'TRAFOS MUESTRA'!B683","v":0},0,0,0,0,0,{"$f":"IFERROR(VLOOKUP(VLOOKUP(B691,TRAFOS,4,FALSE),'COSTO ELEMENTOS N1'!$C$321:$C$350,1),0)","v":0}]
[682,{"$f":"'TRAFOS MUESTRA'!B684","v":0},0,0,0,0,0,{"$f":"IFERROR(VLOOKUP(VLOOKUP(B692,TRAFOS,4,FALSE),'COSTO ELEMENTOS N1'!$C$321:$C$350,1),0)","v":0}]
[683,{"$f":"'TRAFOS MUESTRA'!B685","v":0},0,0,0,0,0,{"$f":"IFERROR(VLOOKUP(VLOOKUP(B693,TRAFOS,4,FALSE),'COSTO ELEMENTOS N1'!$C$321:$C$350,1),0)","v":0}]
[684,{"$f":"'TRAFOS MUESTRA'!B686","v":0},0,0,0,0,0,{"$f":"IFERROR(VLOOKUP(VLOOKUP(B694,TRAFOS,4,FALSE),'COSTO ELEMENTOS N1'!$C$321:$C$350,1),0)","v":0}]
[685,{"$f":"'TRAFOS MUESTRA'!B687","v":0},0,0,0,0,0,{"$f":"IFERROR(VLOOKUP(VLOOKUP(B695,TRAFOS,4,FALSE),'COSTO ELEMENTOS N1'!$C$321:$C$350,1),0)","v":0}]
[686,{"$f":"'TRAFOS MUESTRA'!B688","v":0},0,0,0,0,0,{"$f":"IFERROR(VLOOKUP(VLOOKUP(B696,TRAFOS,4,FALSE),'COSTO ELEMENTOS N1'!$C$321:$C$350,1),0)","v":0}]
[687,{"$f":"'TRAFOS MUESTRA'!B689","v":0},0,0,0,0,0,{"$f":"IFERROR(VLOOKUP(VLOOKUP(B697,TRAFOS,4,FALSE),'COSTO ELEMENTOS N1'!$C$321:$C$350,1),0)","v":0}]
[688,{"$f":"'TRAFOS MUESTRA'!B690","v":0},0,0,0,0,0,{"$f":"IFERROR(VLOOKUP(VLOOKUP(B698,TRAFOS,4,FALSE),'COSTO ELEMENTOS N1'!$C$321:$C$350,1),0)","v":0}]
[689,{"$f":"'TRAFOS MUESTRA'!B691","v":0},0,0,0,0,0,{"$f":"IFERROR(VLOOKUP(VLOOKUP(B699,TRAFOS,4,FALSE),'COSTO ELEMENTOS N1'!$C$321:$C$350,1),0)","v":0}]
[690,{"$f":"'TRAFOS MUESTRA'!B692","v":0},0,0,0,0,0,{"$f":"IFERROR(VLOOKUP(VLOOKUP(B700,TRAFOS,4,FALSE),'COSTO ELEMENTOS N1'!$C$321:$C$350,1),0)","v":0}]
[691,{"$f":"'TRAFOS MUESTRA'!B693","v":0},0,0,0,0,0,{"$f":"IFERROR(VLOOKUP(VLOOKUP(B701,TRAFOS,4,FALSE),'COSTO ELEMENTOS N1'!$C$321:$C$350,1),0)","v":0}]
[692,{"$f":"'TRAFOS MUESTRA'!B694","v":0},0,0,0,0,0,{"$f":"IFERROR(VLOOKUP(VLOOKUP(B702,TRAFOS,4,FALSE),'COSTO ELEMENTOS N1'!$C$321:$C$350,1),0)","v":0}]
[693,{"$f":"'TRAFOS MUESTRA'!B695","v":0},0,0,0,0,0,{"$f":"IFERROR(VLOOKUP(VLOOKUP(B703,TRAFOS,4,FALSE),'COSTO ELEMENTOS N1'!$C$321:$C$350,1),0)","v":0}]
[694,{"$f":"'TRAFOS MUESTRA'!B696","v":0},0,0,0,0,0,{"$f":"IFERROR(VLOOKUP(VLOOKUP(B704,TRAFOS,4,FALSE),'COSTO ELEMENTOS N1'!$C$321:$C$350,1),0)","v":0}]
[695,{"$f":"'TRAFOS MUESTRA'!B697","v":0},0,0,0,0,0,{"$f":"IFERROR(VLOOKUP(VLOOKUP(B705,TRAFOS,4,FALSE),'COSTO ELEMENTOS N1'!$C$321:$C$350,1),0)","v":0}]
[696,{"$f":"'TRAFOS MUESTRA'!B698","v":0},0,0,0,0,0,{"$f":"IFERROR(VLOOKUP(VLOOKUP(B706,TRAFOS,4,FALSE),'COSTO ELEMENTOS N1'!$C$321:$C$350,1),0)","v":0}]
[697,{"$f":"'TRAFOS MUESTRA'!B699","v":0},0,0,0,0,0,{"$f":"IFERROR(VLOOKUP(VLOOKUP(B707,TRAFOS,4,FALSE),'COSTO ELEMENTOS N1'!$C$321:$C$350,1),0)","v":0}]
[698,{"$f":"'TRAFOS MUESTRA'!B700","v":0},0,0,0,0,0,{"$f":"IFERROR(VLOOKUP(VLOOKUP(B708,TRAFOS,4,FALSE),'COSTO ELEMENTOS N1'!$C$321:$C$350,1),0)","v":0}]
[699,{"$f":"'TRAFOS MUESTRA'!B701","v":0},0,0,0,0,0,{"$f":"IFERROR(VLOOKUP(VLOOKUP(B709,TRAFOS,4,FALSE),'COSTO ELEMENTOS N1'!$C$321:$C$350,1),0)","v":0}]
[700,{"$f":"'TRAFOS MUESTRA'!B702","v":0},0,0,0,0,0,{"$f":"IFERROR(VLOOKUP(VLOOKUP(B710,TRAFOS,4,FALSE),'COSTO ELEMENTOS N1'!$C$321:$C$350,1),0)","v":0}]
[701,{"$f":"'TRAFOS MUESTRA'!B703","v":0},0,0,0,0,0,{"$f":"IFERROR(VLOOKUP(VLOOKUP(B711,TRAFOS,4,FALSE),'COSTO ELEMENTOS N1'!$C$321:$C$350,1),0)","v":0}]
[702,{"$f":"'TRAFOS MUESTRA'!B704","v":0},0,0,0,0,0,{"$f":"IFERROR(VLOOKUP(VLOOKUP(B712,TRAFOS,4,FALSE),'COSTO ELEMENTOS N1'!$C$321:$C$350,1),0)","v":0}]
[703,{"$f":"'TRAFOS MUESTRA'!B705","v":0},0,0,0,0,0,{"$f":"IFERROR(VLOOKUP(VLOOKUP(B713,TRAFOS,4,FALSE),'COSTO ELEMENTOS N1'!$C$321:$C$350,1),0)","v":0}]
[704,{"$f":"'TRAFOS MUESTRA'!B706","v":0},0,0,0,0,0,{"$f":"IFERROR(VLOOKUP(VLOOKUP(B714,TRAFOS,4,FALSE),'COSTO ELEMENTOS N1'!$C$321:$C$350,1),0)","v":0}]
[705,{"$f":"'TRAFOS MUESTRA'!B707","v":0},{"$f":"IFERROR(VLOOKUP(B715,TRAFOS,3,FALSE),0)","v":0},{"$f":"IFERROR(SUMIF(CODIGO_TRAFOS_REDES,$B715,COSTO_CONDUCTOR_TRAMO),0)","v":0},{"$f":"IFERROR(SUMIF(CODIGO_TRAFOS_REDES,$B715,COSTO_APOYOS_TRAMO),0)","v":0},{"$f":"IFERROR(IF(H715>15,VLOOKUP(H715,COSTO_TRAFOS_3F,6,FALSE),VLOOKUP(H715,COSTO_TRAFOS_1F,6,FALSE)),0)","v":0},0,{"$f":"IFERROR(VLOOKUP(VLOOKUP(B715,TRAFOS,4,FALSE),'COSTO ELEMENTOS N1'!$C$321:$C$350,1),0)","v":0}]
[706,{"$f":"'TRAFOS MUESTRA'!B708","v":0},0,0,0,0,{"$f":"SUM(D716:F716)","v":0},{"$f":"IFERROR(VLOOKUP(VLOOKUP(B716,TRAFOS,4,FALSE),'COSTO ELEMENTOS N1'!$C$321:$C$350,1),0)","v":0}]
[{"$f":"A716+1","v":707},{"$f":"'TRAFOS MUESTRA'!B709","v":0},0,0,0,0,0,{"$f":"IFERROR(VLOOKUP(VLOOKUP(B717,TRAFOS,4,FALSE),'COSTO ELEMENTOS N1'!$C$321:$C$350,1),0)","v":0}]
[708,{"$f":"'TRAFOS MUESTRA'!B710","v":0},0,0,0,0,0,{"$f":"IFERROR(VLOOKUP(VLOOKUP(B718,TRAFOS,4,FALSE),'COSTO ELEMENTOS N1'!$C$321:$C$350,1),0)","v":0}]
[709,{"$f":"'TRAFOS MUESTRA'!B711","v":0},0,0,0,0,0,{"$f":"IFERROR(VLOOKUP(VLOOKUP(B719,TRAFOS,4,FALSE),'COSTO ELEMENTOS N1'!$C$321:$C$350,1),0)","v":0}]
[710,{"$f":"'TRAFOS MUESTRA'!B712","v":0},0,0,0,0,0,{"$f":"IFERROR(VLOOKUP(VLOOKUP(B720,TRAFOS,4,FALSE),'COSTO ELEMENTOS N1'!$C$321:$C$350,1),0)","v":0}]
[711,{"$f":"'TRAFOS MUESTRA'!B713","v":0},0,0,0,0,0,{"$f":"IFERROR(VLOOKUP(VLOOKUP(B721,TRAFOS,4,FALSE),'COSTO ELEMENTOS N1'!$C$321:$C$350,1),0)","v":0}]
[712,{"$f":"'TRAFOS MUESTRA'!B714","v":0},0,0,0,0,0,{"$f":"IFERROR(VLOOKUP(VLOOKUP(B722,TRAFOS,4,FALSE),'COSTO ELEMENTOS N1'!$C$321:$C$350,1),0)","v":0}]
[713,{"$f":"'TRAFOS MUESTRA'!B715","v":0},0,0,0,0,0,{"$f":"IFERROR(VLOOKUP(VLOOKUP(B723,TRAFOS,4,FALSE),'COSTO ELEMENTOS N1'!$C$321:$C$350,1),0)","v":0}]
[714,{"$f":"'TRAFOS MUESTRA'!B716","v":0},0,0,0,0,0,{"$f":"IFERROR(VLOOKUP(VLOOKUP(B724,TRAFOS,4,FALSE),'COSTO ELEMENTOS N1'!$C$321:$C$350,1),0)","v":0}]
[715,{"$f":"'TRAFOS MUESTRA'!B717","v":0},0,0,0,0,0,{"$f":"IFERROR(VLOOKUP(VLOOKUP(B725,TRAFOS,4,FALSE),'COSTO ELEMENTOS N1'!$C$321:$C$350,1),0)","v":0}]
[716,{"$f":"'TRAFOS MUESTRA'!B718","v":0},0,0,0,0,0,{"$f":"IFERROR(VLOOKUP(VLOOKUP(B726,TRAFOS,4,FALSE),'COSTO ELEMENTOS N1'!$C$321:$C$350,1),0)","v":0}]
[717,{"$f":"'TRAFOS MUESTRA'!B719","v":0},0,0,0,0,0,{"$f":"IFERROR(VLOOKUP(VLOOKUP(B727,TRAFOS,4,FALSE),'COSTO ELEMENTOS N1'!$C$321:$C$350,1),0)","v":0}]
[718,{"$f":"'TRAFOS MUESTRA'!B720","v":0},0,0,0,0,0,{"$f":"IFERROR(VLOOKUP(VLOOKUP(B728,TRAFOS,4,FALSE),'COSTO ELEMENTOS N1'!$C$321:$C$350,1),0)","v":0}]
[719,{"$f":"'TRAFOS MUESTRA'!B721","v":0},0,0,0,0,0,{"$f":"IFERROR(VLOOKUP(VLOOKUP(B729,TRAFOS,4,FALSE),'COSTO ELEMENTOS N1'!$C$321:$C$350,1),0)","v":0}]
[720,{"$f":"'TRAFOS MUESTRA'!B722","v":0},0,0,0,0,0,{"$f":"IFERROR(VLOOKUP(VLOOKUP(B730,TRAFOS,4,FALSE),'COSTO ELEMENTOS N1'!$C$321:$C$350,1),0)","v":0}]
[721,{"$f":"'TRAFOS MUESTRA'!B723","v":0},0,0,0,0,0,{"$f":"IFERROR(VLOOKUP(VLOOKUP(B731,TRAFOS,4,FALSE),'COSTO ELEMENTOS N1'!$C$321:$C$350,1),0)","v":0}]
[722,{"$f":"'TRAFOS MUESTRA'!B724","v":0},0,0,0,0,0,{"$f":"IFERROR(VLOOKUP(VLOOKUP(B732,TRAFOS,4,FALSE),'COSTO ELEMENTOS N1'!$C$321:$C$350,1),0)","v":0}]
[723,{"$f":"'TRAFOS MUESTRA'!B725","v":0},0,0,0,0,0,{"$f":"IFERROR(VLOOKUP(VLOOKUP(B733,TRAFOS,4,FALSE),'COSTO ELEMENTOS N1'!$C$321:$C$350,1),0)","v":0}]
[724,{"$f":"'TRAFOS MUESTRA'!B726","v":0},0,0,0,0,0,{"$f":"IFERROR(VLOOKUP(VLOOKUP(B734,TRAFOS,4,FALSE),'COSTO ELEMENTOS N1'!$C$321:$C$350,1),0)","v":0}]
[725,{"$f":"'TRAFOS MUESTRA'!B727","v":0},0,0,0,0,0,{"$f":"IFERROR(VLOOKUP(VLOOKUP(B735,TRAFOS,4,FALSE),'COSTO ELEMENTOS N1'!$C$321:$C$350,1),0)","v":0}]
[726,{"$f":"'TRAFOS MUESTRA'!B728","v":0},0,0,0,0,0,{"$f":"IFERROR(VLOOKUP(VLOOKUP(B736,TRAFOS,4,FALSE),'COSTO ELEMENTOS N1'!$C$321:$C$350,1),0)","v":0}]
[727,{"$f":"'TRAFOS MUESTRA'!B729","v":0},0,0,0,0,0,{"$f":"IFERROR(VLOOKUP(VLOOKUP(B737,TRAFOS,4,FALSE),'COSTO ELEMENTOS N1'!$C$321:$C$350,1),0)","v":0}]
[728,{"$f":"'TRAFOS MUESTRA'!B730","v":0},0,0,0,0,0,{"$f":"IFERROR(VLOOKUP(VLOOKUP(B738,TRAFOS,4,FALSE),'COSTO ELEMENTOS N1'!$C$321:$C$350,1),0)","v":0}]
[729,{"$f":"'TRAFOS MUESTRA'!B731","v":0},0,0,0,0,0,{"$f":"IFERROR(VLOOKUP(VLOOKUP(B739,TRAFOS,4,FALSE),'COSTO ELEMENTOS N1'!$C$321:$C$350,1),0)","v":0}]
[730,{"$f":"'TRAFOS MUESTRA'!B732","v":0},0,0,0,0,0,{"$f":"IFERROR(VLOOKUP(VLOOKUP(B740,TRAFOS,4,FALSE),'COSTO ELEMENTOS N1'!$C$321:$C$350,1),0)","v":0}]
[731,{"$f":"'TRAFOS MUESTRA'!B733","v":0},0,0,0,0,0,{"$f":"IFERROR(VLOOKUP(VLOOKUP(B741,TRAFOS,4,FALSE),'COSTO ELEMENTOS N1'!$C$321:$C$350,1),0)","v":0}]
[732,{"$f":"'TRAFOS MUESTRA'!B734","v":0},0,0,0,0,0,{"$f":"IFERROR(VLOOKUP(VLOOKUP(B742,TRAFOS,4,FALSE),'COSTO ELEMENTOS N1'!$C$321:$C$350,1),0)","v":0}]
[733,{"$f":"'TRAFOS MUESTRA'!B735","v":0},0,0,0,0,0,{"$f":"IFERROR(VLOOKUP(VLOOKUP(B743,TRAFOS,4,FALSE),'COSTO ELEMENTOS N1'!$C$321:$C$350,1),0)","v":0}]
[734,{"$f":"'TRAFOS MUESTRA'!B736","v":0},0,0,0,0,0,{"$f":"IFERROR(VLOOKUP(VLOOKUP(B744,TRAFOS,4,FALSE),'COSTO ELEMENTOS N1'!$C$321:$C$350,1),0)","v":0}]
[735,{"$f":"'TRAFOS MUESTRA'!B737","v":0},0,0,0,0,0,{"$f":"IFERROR(VLOOKUP(VLOOKUP(B745,TRAFOS,4,FALSE),'COSTO ELEMENTOS N1'!$C$321:$C$350,1),0)","v":0}]
[736,{"$f":"'TRAFOS MUESTRA'!B738","v":0},0,0,0,0,0,{"$f":"IFERROR(VLOOKUP(VLOOKUP(B746,TRAFOS,4,FALSE),'COSTO ELEMENTOS N1'!$C$321:$C$350,1),0)","v":0}]
[737,{"$f":"'TRAFOS MUESTRA'!B739","v":0},0,0,0,0,0,{"$f":"IFERROR(VLOOKUP(VLOOKUP(B747,TRAFOS,4,FALSE),'COSTO ELEMENTOS N1'!$C$321:$C$350,1),0)","v":0}]
[738,{"$f":"'TRAFOS MUESTRA'!B740","v":0},0,0,0,0,0,{"$f":"IFERROR(VLOOKUP(VLOOKUP(B748,TRAFOS,4,FALSE),'COSTO ELEMENTOS N1'!$C$321:$C$350,1),0)","v":0}]
[739,{"$f":"'TRAFOS MUESTRA'!B741","v":0},0,0,0,0,0,{"$f":"IFERROR(VLOOKUP(VLOOKUP(B749,TRAFOS,4,FALSE),'COSTO ELEMENTOS N1'!$C$321:$C$350,1),0)","v":0}]
[740,{"$f":"'TRAFOS MUESTRA'!B742","v":0},0,0,0,0,0,{"$f":"IFERROR(VLOOKUP(VLOOKUP(B750,TRAFOS,4,FALSE),'COSTO ELEMENTOS N1'!$C$321:$C$350,1),0)","v":0}]
[741,{"$f":"'TRAFOS MUESTRA'!B743","v":0},0,0,0,0,0,{"$f":"IFERROR(VLOOKUP(VLOOKUP(B751,TRAFOS,4,FALSE),'COSTO ELEMENTOS N1'!$C$321:$C$350,1),0)","v":0}]
[742,{"$f":"'TRAFOS MUESTRA'!B744","v":0},0,0,0,0,0,{"$f":"IFERROR(VLOOKUP(VLOOKUP(B752,TRAFOS,4,FALSE),'COSTO ELEMENTOS N1'!$C$321:$C$350,1),0)","v":0}]
[743,{"$f":"'TRAFOS MUESTRA'!B745","v":0},0,0,0,0,0,{"$f":"IFERROR(VLOOKUP(VLOOKUP(B753,TRAFOS,4,FALSE),'COSTO ELEMENTOS N1'!$C$321:$C$350,1),0)","v":0}]
[744,{"$f":"'TRAFOS MUESTRA'!B746","v":0},0,0,0,0,0,{"$f":"IFERROR(VLOOKUP(VLOOKUP(B754,TRAFOS,4,FALSE),'COSTO ELEMENTOS N1'!$C$321:$C$350,1),0)","v":0}]
[745,{"$f":"'TRAFOS MUESTRA'!B747","v":0},0,0,0,0,0,{"$f":"IFERROR(VLOOKUP(VLOOKUP(B755,TRAFOS,4,FALSE),'COSTO ELEMENTOS N1'!$C$321:$C$350,1),0)","v":0}]
[746,{"$f":"'TRAFOS MUESTRA'!B748","v":0},0,0,0,0,0,{"$f":"IFERROR(VLOOKUP(VLOOKUP(B756,TRAFOS,4,FALSE),'COSTO ELEMENTOS N1'!$C$321:$C$350,1),0)","v":0}]
[747,{"$f":"'TRAFOS MUESTRA'!B749","v":0},0,0,0,0,0,{"$f":"IFERROR(VLOOKUP(VLOOKUP(B757,TRAFOS,4,FALSE),'COSTO ELEMENTOS N1'!$C$321:$C$350,1),0)","v":0}]
[748,{"$f":"'TRAFOS MUESTRA'!B750","v":0},0,0,0,0,0,{"$f":"IFERROR(VLOOKUP(VLOOKUP(B758,TRAFOS,4,FALSE),'COSTO ELEMENTOS N1'!$C$321:$C$350,1),0)","v":0}]
[749,{"$f":"'TRAFOS MUESTRA'!B751","v":0},0,0,0,0,0,{"$f":"IFERROR(VLOOKUP(VLOOKUP(B759,TRAFOS,4,FALSE),'COSTO ELEMENTOS N1'!$C$321:$C$350,1),0)","v":0}]
[750,{"$f":"'TRAFOS MUESTRA'!B752","v":0},0,0,0,0,0,{"$f":"IFERROR(VLOOKUP(VLOOKUP(B760,TRAFOS,4,FALSE),'COSTO ELEMENTOS N1'!$C$321:$C$350,1),0)","v":0}]
[751,{"$f":"'TRAFOS MUESTRA'!B753","v":0},0,0,0,0,0,{"$f":"IFERROR(VLOOKUP(VLOOKUP(B761,TRAFOS,4,FALSE),'COSTO ELEMENTOS N1'!$C$321:$C$350,1),0)","v":0}]
[752,{"$f":"'TRAFOS MUESTRA'!B754","v":0},0,0,0,0,0,{"$f":"IFERROR(VLOOKUP(VLOOKUP(B762,TRAFOS,4,FALSE),'COSTO ELEMENTOS N1'!$C$321:$C$350,1),0)","v":0}]
[753,{"$f":"'TRAFOS MUESTRA'!B755","v":0},0,0,0,0,0,{"$f":"IFERROR(VLOOKUP(VLOOKUP(B763,TRAFOS,4,FALSE),'COSTO ELEMENTOS N1'!$C$321:$C$350,1),0)","v":0}]
[754,{"$f":"'TRAFOS MUESTRA'!B756","v":0},0,0,0,0,0,{"$f":"IFERROR(VLOOKUP(VLOOKUP(B764,TRAFOS,4,FALSE),'COSTO ELEMENTOS N1'!$C$321:$C$350,1),0)","v":0}]
[755,{"$f":"'TRAFOS MUESTRA'!B757","v":0},0,0,0,0,0,{"$f":"IFERROR(VLOOKUP(VLOOKUP(B765,TRAFOS,4,FALSE),'COSTO ELEMENTOS N1'!$C$321:$C$350,1),0)","v":0}]
[756,{"$f":"'TRAFOS MUESTRA'!B758","v":0},0,0,0,0,0,{"$f":"IFERROR(VLOOKUP(VLOOKUP(B766,TRAFOS,4,FALSE),'COSTO ELEMENTOS N1'!$C$321:$C$350,1),0)","v":0}]
[757,{"$f":"'TRAFOS MUESTRA'!B759","v":0},0,0,0,0,0,{"$f":"IFERROR(VLOOKUP(VLOOKUP(B767,TRAFOS,4,FALSE),'COSTO ELEMENTOS N1'!$C$321:$C$350,1),0)","v":0}]
[758,{"$f":"'TRAFOS MUESTRA'!B760","v":0},0,0,0,0,0,{"$f":"IFERROR(VLOOKUP(VLOOKUP(B768,TRAFOS,4,FALSE),'COSTO ELEMENTOS N1'!$C$321:$C$350,1),0)","v":0}]
[759,{"$f":"'TRAFOS MUESTRA'!B761","v":0},0,0,0,0,0,{"$f":"IFERROR(VLOOKUP(VLOOKUP(B769,TRAFOS,4,FALSE),'COSTO ELEMENTOS N1'!$C$321:$C$350,1),0)","v":0}]
[760,{"$f":"'TRAFOS MUESTRA'!B762","v":0},0,0,0,0,0,{"$f":"IFERROR(VLOOKUP(VLOOKUP(B770,TRAFOS,4,FALSE),'COSTO ELEMENTOS N1'!$C$321:$C$350,1),0)","v":0}]
[761,{"$f":"'TRAFOS MUESTRA'!B763","v":0},0,0,0,0,0,{"$f":"IFERROR(VLOOKUP(VLOOKUP(B771,TRAFOS,4,FALSE),'COSTO ELEMENTOS N1'!$C$321:$C$350,1),0)","v":0}]
[762,{"$f":"'TRAFOS MUESTRA'!B764","v":0},0,0,0,0,0,{"$f":"IFERROR(VLOOKUP(VLOOKUP(B772,TRAFOS,4,FALSE),'COSTO ELEMENTOS N1'!$C$321:$C$350,1),0)","v":0}]
[763,{"$f":"'TRAFOS MUESTRA'!B765","v":0},0,0,0,0,0,{"$f":"IFERROR(VLOOKUP(VLOOKUP(B773,TRAFOS,4,FALSE),'COSTO ELEMENTOS N1'!$C$321:$C$350,1),0)","v":0}]
[764,{"$f":"'TRAFOS MUESTRA'!B766","v":0},0,0,0,0,0,{"$f":"IFERROR(VLOOKUP(VLOOKUP(B774,TRAFOS,4,FALSE),'COSTO ELEMENTOS N1'!$C$321:$C$350,1),0)","v":0}]
[765,{"$f":"'TRAFOS MUESTRA'!B767","v":0},0,0,0,0,0,{"$f":"IFERROR(VLOOKUP(VLOOKUP(B775,TRAFOS,4,FALSE),'COSTO ELEMENTOS N1'!$C$321:$C$350,1),0)","v":0}]
[766,{"$f":"'TRAFOS MUESTRA'!B768","v":0},0,0,0,0,0,{"$f":"IFERROR(VLOOKUP(VLOOKUP(B776,TRAFOS,4,FALSE),'COSTO ELEMENTOS N1'!$C$321:$C$350,1),0)","v":0}]
[767,{"$f":"'TRAFOS MUESTRA'!B769","v":0},0,0,0,0,0,{"$f":"IFERROR(VLOOKUP(VLOOKUP(B777,TRAFOS,4,FALSE),'COSTO ELEMENTOS N1'!$C$321:$C$350,1),0)","v":0}]
[768,{"$f":"'TRAFOS MUESTRA'!B770","v":0},0,0,0,0,0,{"$f":"IFERROR(VLOOKUP(VLOOKUP(B778,TRAFOS,4,FALSE),'COSTO ELEMENTOS N1'!$C$321:$C$350,1),0)","v":0}]
[769,{"$f":"'TRAFOS MUESTRA'!B771","v":0},{"$f":"IFERROR(VLOOKUP(B779,TRAFOS,3,FALSE),0)","v":0},{"$f":"IFERROR(SUMIF(CODIGO_TRAFOS_REDES,$B779,COSTO_CONDUCTOR_TRAMO),0)","v":0},{"$f":"IFERROR(SUMIF(CODIGO_TRAFOS_REDES,$B779,COSTO_APOYOS_TRAMO),0)","v":0},{"$f":"IFERROR(IF(H779>15,VLOOKUP(H779,COSTO_TRAFOS_3F,6,FALSE),VLOOKUP(H779,COSTO_TRAFOS_1F,6,FALSE)),0)","v":0},0,{"$f":"IFERROR(VLOOKUP(VLOOKUP(B779,TRAFOS,4,FALSE),'COSTO ELEMENTOS N1'!$C$321:$C$350,1),0)","v":0}]
[770,{"$f":"'TRAFOS MUESTRA'!B772","v":0},0,0,0,0,{"$f":"SUM(D780:F780)","v":0},{"$f":"IFERROR(VLOOKUP(VLOOKUP(B780,TRAFOS,4,FALSE),'COSTO ELEMENTOS N1'!$C$321:$C$350,1),0)","v":0}]
[{"$f":"A780+1","v":771},{"$f":"'TRAFOS MUESTRA'!B773","v":0},0,0,0,0,0,{"$f":"IFERROR(VLOOKUP(VLOOKUP(B781,TRAFOS,4,FALSE),'COSTO ELEMENTOS N1'!$C$321:$C$350,1),0)","v":0}]
[772,{"$f":"'TRAFOS MUESTRA'!B774","v":0},0,0,0,0,0,{"$f":"IFERROR(VLOOKUP(VLOOKUP(B782,TRAFOS,4,FALSE),'COSTO ELEMENTOS N1'!$C$321:$C$350,1),0)","v":0}]
[773,{"$f":"'TRAFOS MUESTRA'!B775","v":0},0,0,0,0,0,{"$f":"IFERROR(VLOOKUP(VLOOKUP(B783,TRAFOS,4,FALSE),'COSTO ELEMENTOS N1'!$C$321:$C$350,1),0)","v":0}]
[774,{"$f":"'TRAFOS MUESTRA'!B776","v":0},0,0,0,0,0,{"$f":"IFERROR(VLOOKUP(VLOOKUP(B784,TRAFOS,4,FALSE),'COSTO ELEMENTOS N1'!$C$321:$C$350,1),0)","v":0}]
[775,{"$f":"'TRAFOS MUESTRA'!B777","v":0},0,0,0,0,0,{"$f":"IFERROR(VLOOKUP(VLOOKUP(B785,TRAFOS,4,FALSE),'COSTO ELEMENTOS N1'!$C$321:$C$350,1),0)","v":0}]
[776,{"$f":"'TRAFOS MUESTRA'!B778","v":0},0,0,0,0,0,{"$f":"IFERROR(VLOOKUP(VLOOKUP(B786,TRAFOS,4,FALSE),'COSTO ELEMENTOS N1'!$C$321:$C$350,1),0)","v":0}]
[777,{"$f":"'TRAFOS MUESTRA'!B779","v":0},0,0,0,0,0,{"$f":"IFERROR(VLOOKUP(VLOOKUP(B787,TRAFOS,4,FALSE),'COSTO ELEMENTOS N1'!$C$321:$C$350,1),0)","v":0}]
[778,{"$f":"'TRAFOS MUESTRA'!B780","v":0},0,0,0,0,0,{"$f":"IFERROR(VLOOKUP(VLOOKUP(B788,TRAFOS,4,FALSE),'COSTO ELEMENTOS N1'!$C$321:$C$350,1),0)","v":0}]
[779,{"$f":"'TRAFOS MUESTRA'!B781","v":0},0,0,0,0,0,{"$f":"IFERROR(VLOOKUP(VLOOKUP(B789,TRAFOS,4,FALSE),'COSTO ELEMENTOS N1'!$C$321:$C$350,1),0)","v":0}]
[780,{"$f":"'TRAFOS MUESTRA'!B782","v":0},0,0,0,0,0,{"$f":"IFERROR(VLOOKUP(VLOOKUP(B790,TRAFOS,4,FALSE),'COSTO ELEMENTOS N1'!$C$321:$C$350,1),0)","v":0}]
[781,{"$f":"'TRAFOS MUESTRA'!B783","v":0},0,0,0,0,0,{"$f":"IFERROR(VLOOKUP(VLOOKUP(B791,TRAFOS,4,FALSE),'COSTO ELEMENTOS N1'!$C$321:$C$350,1),0)","v":0}]
[782,{"$f":"'TRAFOS MUESTRA'!B784","v":0},0,0,0,0,0,{"$f":"IFERROR(VLOOKUP(VLOOKUP(B792,TRAFOS,4,FALSE),'COSTO ELEMENTOS N1'!$C$321:$C$350,1),0)","v":0}]
[783,{"$f":"'TRAFOS MUESTRA'!B785","v":0},0,0,0,0,0,{"$f":"IFERROR(VLOOKUP(VLOOKUP(B793,TRAFOS,4,FALSE),'COSTO ELEMENTOS N1'!$C$321:$C$350,1),0)","v":0}]
[784,{"$f":"'TRAFOS MUESTRA'!B786","v":0},0,0,0,0,0,{"$f":"IFERROR(VLOOKUP(VLOOKUP(B794,TRAFOS,4,FALSE),'COSTO ELEMENTOS N1'!$C$321:$C$350,1),0)","v":0}]
[785,{"$f":"'TRAFOS MUESTRA'!B787","v":0},0,0,0,0,0,{"$f":"IFERROR(VLOOKUP(VLOOKUP(B795,TRAFOS,4,FALSE),'COSTO ELEMENTOS N1'!$C$321:$C$350,1),0)","v":0}]
[786,{"$f":"'TRAFOS MUESTRA'!B788","v":0},0,0,0,0,0,{"$f":"IFERROR(VLOOKUP(VLOOKUP(B796,TRAFOS,4,FALSE),'COSTO ELEMENTOS N1'!$C$321:$C$350,1),0)","v":0}]
[787,{"$f":"'TRAFOS MUESTRA'!B789","v":0},0,0,0,0,0,{"$f":"IFERROR(VLOOKUP(VLOOKUP(B797,TRAFOS,4,FALSE),'COSTO ELEMENTOS N1'!$C$321:$C$350,1),0)","v":0}]
[788,{"$f":"'TRAFOS MUESTRA'!B790","v":0},0,0,0,0,0,{"$f":"IFERROR(VLOOKUP(VLOOKUP(B798,TRAFOS,4,FALSE),'COSTO ELEMENTOS N1'!$C$321:$C$350,1),0)","v":0}]
[789,{"$f":"'TRAFOS MUESTRA'!B791","v":0},0,0,0,0,0,{"$f":"IFERROR(VLOOKUP(VLOOKUP(B799,TRAFOS,4,FALSE),'COSTO ELEMENTOS N1'!$C$321:$C$350,1),0)","v":0}]
[790,{"$f":"'TRAFOS MUESTRA'!B792","v":0},0,0,0,0,0,{"$f":"IFERROR(VLOOKUP(VLOOKUP(B800,TRAFOS,4,FALSE),'COSTO ELEMENTOS N1'!$C$321:$C$350,1),0)","v":0}]
[791,{"$f":"'TRAFOS MUESTRA'!B793","v":0},0,0,0,0,0,{"$f":"IFERROR(VLOOKUP(VLOOKUP(B801,TRAFOS,4,FALSE),'COSTO ELEMENTOS N1'!$C$321:$C$350,1),0)","v":0}]
[792,{"$f":"'TRAFOS MUESTRA'!B794","v":0},0,0,0,0,0,{"$f":"IFERROR(VLOOKUP(VLOOKUP(B802,TRAFOS,4,FALSE),'COSTO ELEMENTOS N1'!$C$321:$C$350,1),0)","v":0}]
[793,{"$f":"'TRAFOS MUESTRA'!B795","v":0},0,0,0,0,0,{"$f":"IFERROR(VLOOKUP(VLOOKUP(B803,TRAFOS,4,FALSE),'COSTO ELEMENTOS N1'!$C$321:$C$350,1),0)","v":0}]
[794,{"$f":"'TRAFOS MUESTRA'!B796","v":0},0,0,0,0,0,{"$f":"IFERROR(VLOOKUP(VLOOKUP(B804,TRAFOS,4,FALSE),'COSTO ELEMENTOS N1'!$C$321:$C$350,1),0)","v":0}]
[795,{"$f":"'TRAFOS MUESTRA'!B797","v":0},0,0,0,0,0,{"$f":"IFERROR(VLOOKUP(VLOOKUP(B805,TRAFOS,4,FALSE),'COSTO ELEMENTOS N1'!$C$321:$C$350,1),0)","v":0}]
[796,{"$f":"'TRAFOS MUESTRA'!B798","v":0},0,0,0,0,0,{"$f":"IFERROR(VLOOKUP(VLOOKUP(B806,TRAFOS,4,FALSE),'COSTO ELEMENTOS N1'!$C$321:$C$350,1),0)","v":0}]
[797,{"$f":"'TRAFOS MUESTRA'!B799","v":0},0,0,0,0,0,{"$f":"IFERROR(VLOOKUP(VLOOKUP(B807,TRAFOS,4,FALSE),'COSTO ELEMENTOS N1'!$C$321:$C$350,1),0)","v":0}]
[798,{"$f":"'TRAFOS MUESTRA'!B800","v":0},0,0,0,0,0,{"$f":"IFERROR(VLOOKUP(VLOOKUP(B808,TRAFOS,4,FALSE),'COSTO ELEMENTOS N1'!$C$321:$C$350,1),0)","v":0}]
[799,{"$f":"'TRAFOS MUESTRA'!B801","v":0},0,0,0,0,0,{"$f":"IFERROR(VLOOKUP(VLOOKUP(B809,TRAFOS,4,FALSE),'COSTO ELEMENTOS N1'!$C$321:$C$350,1),0)","v":0}]
[800,{"$f":"'TRAFOS MUESTRA'!B802","v":0},0,0,0,0,0,{"$f":"IFERROR(VLOOKUP(VLOOKUP(B810,TRAFOS,4,FALSE),'COSTO ELEMENTOS N1'!$C$321:$C$350,1),0)","v":0}]
[801,{"$f":"'TRAFOS MUESTRA'!B803","v":0},0,0,0,0,0,{"$f":"IFERROR(VLOOKUP(VLOOKUP(B811,TRAFOS,4,FALSE),'COSTO ELEMENTOS N1'!$C$321:$C$350,1),0)","v":0}]
[802,{"$f":"'TRAFOS MUESTRA'!B804","v":0},0,0,0,0,0,{"$f":"IFERROR(VLOOKUP(VLOOKUP(B812,TRAFOS,4,FALSE),'COSTO ELEMENTOS N1'!$C$321:$C$350,1),0)","v":0}]
[803,{"$f":"'TRAFOS MUESTRA'!B805","v":0},0,0,0,0,0,{"$f":"IFERROR(VLOOKUP(VLOOKUP(B813,TRAFOS,4,FALSE),'COSTO ELEMENTOS N1'!$C$321:$C$350,1),0)","v":0}]
[804,{"$f":"'TRAFOS MUESTRA'!B806","v":0},0,0,0,0,0,{"$f":"IFERROR(VLOOKUP(VLOOKUP(B814,TRAFOS,4,FALSE),'COSTO ELEMENTOS N1'!$C$321:$C$350,1),0)","v":0}]
[805,{"$f":"'TRAFOS MUESTRA'!B807","v":0},0,0,0,0,0,{"$f":"IFERROR(VLOOKUP(VLOOKUP(B815,TRAFOS,4,FALSE),'COSTO ELEMENTOS N1'!$C$321:$C$350,1),0)","v":0}]
[806,{"$f":"'TRAFOS MUESTRA'!B808","v":0},0,0,0,0,0,{"$f":"IFERROR(VLOOKUP(VLOOKUP(B816,TRAFOS,4,FALSE),'COSTO ELEMENTOS N1'!$C$321:$C$350,1),0)","v":0}]
[807,{"$f":"'TRAFOS MUESTRA'!B809","v":0},0,0,0,0,0,{"$f":"IFERROR(VLOOKUP(VLOOKUP(B817,TRAFOS,4,FALSE),'COSTO ELEMENTOS N1'!$C$321:$C$350,1),0)","v":0}]
[808,{"$f":"'TRAFOS MUESTRA'!B810","v":0},0,0,0,0,0,{"$f":"IFERROR(VLOOKUP(VLOOKUP(B818,TRAFOS,4,FALSE),'COSTO ELEMENTOS N1'!$C$321:$C$350,1),0)","v":0}]
[809,{"$f":"'TRAFOS MUESTRA'!B811","v":0},0,0,0,0,0,{"$f":"IFERROR(VLOOKUP(VLOOKUP(B819,TRAFOS,4,FALSE),'COSTO ELEMENTOS N1'!$C$321:$C$350,1),0)","v":0}]
[810,{"$f":"'TRAFOS MUESTRA'!B812","v":0},0,0,0,0,0,{"$f":"IFERROR(VLOOKUP(VLOOKUP(B820,TRAFOS,4,FALSE),'COSTO ELEMENTOS N1'!$C$321:$C$350,1),0)","v":0}]
[811,{"$f":"'TRAFOS MUESTRA'!B813","v":0},0,0,0,0,0,{"$f":"IFERROR(VLOOKUP(VLOOKUP(B821,TRAFOS,4,FALSE),'COSTO ELEMENTOS N1'!$C$321:$C$350,1),0)","v":0}]
[812,{"$f":"'TRAFOS MUESTRA'!B814","v":0},0,0,0,0,0,{"$f":"IFERROR(VLOOKUP(VLOOKUP(B822,TRAFOS,4,FALSE),'COSTO ELEMENTOS N1'!$C$321:$C$350,1),0)","v":0}]
[813,{"$f":"'TRAFOS MUESTRA'!B815","v":0},0,0,0,0,0,{"$f":"IFERROR(VLOOKUP(VLOOKUP(B823,TRAFOS,4,FALSE),'COSTO ELEMENTOS N1'!$C$321:$C$350,1),0)","v":0}]
[814,{"$f":"'TRAFOS MUESTRA'!B816","v":0},0,0,0,0,0,{"$f":"IFERROR(VLOOKUP(VLOOKUP(B824,TRAFOS,4,FALSE),'COSTO ELEMENTOS N1'!$C$321:$C$350,1),0)","v":0}]
[815,{"$f":"'TRAFOS MUESTRA'!B817","v":0},0,0,0,0,0,{"$f":"IFERROR(VLOOKUP(VLOOKUP(B825,TRAFOS,4,FALSE),'COSTO ELEMENTOS N1'!$C$321:$C$350,1),0)","v":0}]
[816,{"$f":"'TRAFOS MUESTRA'!B818","v":0},0,0,0,0,0,{"$f":"IFERROR(VLOOKUP(VLOOKUP(B826,TRAFOS,4,FALSE),'COSTO ELEMENTOS N1'!$C$321:$C$350,1),0)","v":0}]
[817,{"$f":"'TRAFOS MUESTRA'!B819","v":0},0,0,0,0,0,{"$f":"IFERROR(VLOOKUP(VLOOKUP(B827,TRAFOS,4,FALSE),'COSTO ELEMENTOS N1'!$C$321:$C$350,1),0)","v":0}]
[818,{"$f":"'TRAFOS MUESTRA'!B820","v":0},0,0,0,0,0,{"$f":"IFERROR(VLOOKUP(VLOOKUP(B828,TRAFOS,4,FALSE),'COSTO ELEMENTOS N1'!$C$321:$C$350,1),0)","v":0}]
[819,{"$f":"'TRAFOS MUESTRA'!B821","v":0},0,0,0,0,0,{"$f":"IFERROR(VLOOKUP(VLOOKUP(B829,TRAFOS,4,FALSE),'COSTO ELEMENTOS N1'!$C$321:$C$350,1),0)","v":0}]
[820,{"$f":"'TRAFOS MUESTRA'!B822","v":0},0,0,0,0,0,{"$f":"IFERROR(VLOOKUP(VLOOKUP(B830,TRAFOS,4,FALSE),'COSTO ELEMENTOS N1'!$C$321:$C$350,1),0)","v":0}]
[821,{"$f":"'TRAFOS MUESTRA'!B823","v":0},0,0,0,0,0,{"$f":"IFERROR(VLOOKUP(VLOOKUP(B831,TRAFOS,4,FALSE),'COSTO ELEMENTOS N1'!$C$321:$C$350,1),0)","v":0}]
[822,{"$f":"'TRAFOS MUESTRA'!B824","v":0},0,0,0,0,0,{"$f":"IFERROR(VLOOKUP(VLOOKUP(B832,TRAFOS,4,FALSE),'COSTO ELEMENTOS N1'!$C$321:$C$350,1),0)","v":0}]
[823,{"$f":"'TRAFOS MUESTRA'!B825","v":0},0,0,0,0,0,{"$f":"IFERROR(VLOOKUP(VLOOKUP(B833,TRAFOS,4,FALSE),'COSTO ELEMENTOS N1'!$C$321:$C$350,1),0)","v":0}]
[824,{"$f":"'TRAFOS MUESTRA'!B826","v":0},0,0,0,0,0,{"$f":"IFERROR(VLOOKUP(VLOOKUP(B834,TRAFOS,4,FALSE),'COSTO ELEMENTOS N1'!$C$321:$C$350,1),0)","v":0}]
[825,{"$f":"'TRAFOS MUESTRA'!B827","v":0},0,0,0,0,0,{"$f":"IFERROR(VLOOKUP(VLOOKUP(B835,TRAFOS,4,FALSE),'COSTO ELEMENTOS N1'!$C$321:$C$350,1),0)","v":0}]
[826,{"$f":"'TRAFOS MUESTRA'!B828","v":0},0,0,0,0,0,{"$f":"IFERROR(VLOOKUP(VLOOKUP(B836,TRAFOS,4,FALSE),'COSTO ELEMENTOS N1'!$C$321:$C$350,1),0)","v":0}]
[827,{"$f":"'TRAFOS MUESTRA'!B829","v":0},0,0,0,0,0,{"$f":"IFERROR(VLOOKUP(VLOOKUP(B837,TRAFOS,4,FALSE),'COSTO ELEMENTOS N1'!$C$321:$C$350,1),0)","v":0}]
[828,{"$f":"'TRAFOS MUESTRA'!B830","v":0},0,0,0,0,0,{"$f":"IFERROR(VLOOKUP(VLOOKUP(B838,TRAFOS,4,FALSE),'COSTO ELEMENTOS N1'!$C$321:$C$350,1),0)","v":0}]
[829,{"$f":"'TRAFOS MUESTRA'!B831","v":0},0,0,0,0,0,{"$f":"IFERROR(VLOOKUP(VLOOKUP(B839,TRAFOS,4,FALSE),'COSTO ELEMENTOS N1'!$C$321:$C$350,1),0)","v":0}]
[830,{"$f":"'TRAFOS MUESTRA'!B832","v":0},0,0,0,0,0,{"$f":"IFERROR(VLOOKUP(VLOOKUP(B840,TRAFOS,4,FALSE),'COSTO ELEMENTOS N1'!$C$321:$C$350,1),0)","v":0}]
[831,{"$f":"'TRAFOS MUESTRA'!B833","v":0},0,0,0,0,0,{"$f":"IFERROR(VLOOKUP(VLOOKUP(B841,TRAFOS,4,FALSE),'COSTO ELEMENTOS N1'!$C$321:$C$350,1),0)","v":0}]
[832,{"$f":"'TRAFOS MUESTRA'!B834","v":0},0,0,0,0,0,{"$f":"IFERROR(VLOOKUP(VLOOKUP(B842,TRAFOS,4,FALSE),'COSTO ELEMENTOS N1'!$C$321:$C$350,1),0)","v":0}]
[833,{"$f":"'TRAFOS MUESTRA'!B835","v":0},{"$f":"IFERROR(VLOOKUP(B843,TRAFOS,3,FALSE),0)","v":0},{"$f":"IFERROR(SUMIF(CODIGO_TRAFOS_REDES,$B843,COSTO_CONDUCTOR_TRAMO),0)","v":0},{"$f":"IFERROR(SUMIF(CODIGO_TRAFOS_REDES,$B843,COSTO_APOYOS_TRAMO),0)","v":0},{"$f":"IFERROR(IF(H843>15,VLOOKUP(H843,COSTO_TRAFOS_3F,6,FALSE),VLOOKUP(H843,COSTO_TRAFOS_1F,6,FALSE)),0)","v":0},0,{"$f":"IFERROR(VLOOKUP(VLOOKUP(B843,TRAFOS,4,FALSE),'COSTO ELEMENTOS N1'!$C$321:$C$350,1),0)","v":0}]
[834,{"$f":"'TRAFOS MUESTRA'!B836","v":0},0,0,0,0,{"$f":"SUM(D844:F844)","v":0},{"$f":"IFERROR(VLOOKUP(VLOOKUP(B844,TRAFOS,4,FALSE),'COSTO ELEMENTOS N1'!$C$321:$C$350,1),0)","v":0}]
[{"$f":"A844+1","v":835},{"$f":"'TRAFOS MUESTRA'!B837","v":0},0,0,0,0,0,{"$f":"IFERROR(VLOOKUP(VLOOKUP(B845,TRAFOS,4,FALSE),'COSTO ELEMENTOS N1'!$C$321:$C$350,1),0)","v":0}]
[836,{"$f":"'TRAFOS MUESTRA'!B838","v":0},0,0,0,0,0,{"$f":"IFERROR(VLOOKUP(VLOOKUP(B846,TRAFOS,4,FALSE),'COSTO ELEMENTOS N1'!$C$321:$C$350,1),0)","v":0}]
[837,{"$f":"'TRAFOS MUESTRA'!B839","v":0},0,0,0,0,0,{"$f":"IFERROR(VLOOKUP(VLOOKUP(B847,TRAFOS,4,FALSE),'COSTO ELEMENTOS N1'!$C$321:$C$350,1),0)","v":0}]
[838,{"$f":"'TRAFOS MUESTRA'!B840","v":0},0,0,0,0,0,{"$f":"IFERROR(VLOOKUP(VLOOKUP(B848,TRAFOS,4,FALSE),'COSTO ELEMENTOS N1'!$C$321:$C$350,1),0)","v":0}]
[839,{"$f":"'TRAFOS MUESTRA'!B841","v":0},0,0,0,0,0,{"$f":"IFERROR(VLOOKUP(VLOOKUP(B849,TRAFOS,4,FALSE),'COSTO ELEMENTOS N1'!$C$321:$C$350,1),0)","v":0}]
[840,{"$f":"'TRAFOS MUESTRA'!B842","v":0},0,0,0,0,0,{"$f":"IFERROR(VLOOKUP(VLOOKUP(B850,TRAFOS,4,FALSE),'COSTO ELEMENTOS N1'!$C$321:$C$350,1),0)","v":0}]
[841,{"$f":"'TRAFOS MUESTRA'!B843","v":0},0,0,0,0,0,{"$f":"IFERROR(VLOOKUP(VLOOKUP(B851,TRAFOS,4,FALSE),'COSTO ELEMENTOS N1'!$C$321:$C$350,1),0)","v":0}]
[842,{"$f":"'TRAFOS MUESTRA'!B844","v":0},0,0,0,0,0,{"$f":"IFERROR(VLOOKUP(VLOOKUP(B852,TRAFOS,4,FALSE),'COSTO ELEMENTOS N1'!$C$321:$C$350,1),0)","v":0}]
[843,{"$f":"'TRAFOS MUESTRA'!B845","v":0},0,0,0,0,0,{"$f":"IFERROR(VLOOKUP(VLOOKUP(B853,TRAFOS,4,FALSE),'COSTO ELEMENTOS N1'!$C$321:$C$350,1),0)","v":0}]
[844,{"$f":"'TRAFOS MUESTRA'!B846","v":0},0,0,0,0,0,{"$f":"IFERROR(VLOOKUP(VLOOKUP(B854,TRAFOS,4,FALSE),'COSTO ELEMENTOS N1'!$C$321:$C$350,1),0)","v":0}]
[845,{"$f":"'TRAFOS MUESTRA'!B847","v":0},0,0,0,0,0,{"$f":"IFERROR(VLOOKUP(VLOOKUP(B855,TRAFOS,4,FALSE),'COSTO ELEMENTOS N1'!$C$321:$C$350,1),0)","v":0}]
[846,{"$f":"'TRAFOS MUESTRA'!B848","v":0},0,0,0,0,0,{"$f":"IFERROR(VLOOKUP(VLOOKUP(B856,TRAFOS,4,FALSE),'COSTO ELEMENTOS N1'!$C$321:$C$350,1),0)","v":0}]
[847,{"$f":"'TRAFOS MUESTRA'!B849","v":0},0,0,0,0,0,{"$f":"IFERROR(VLOOKUP(VLOOKUP(B857,TRAFOS,4,FALSE),'COSTO ELEMENTOS N1'!$C$321:$C$350,1),0)","v":0}]
[848,{"$f":"'TRAFOS MUESTRA'!B850","v":0},0,0,0,0,0,{"$f":"IFERROR(VLOOKUP(VLOOKUP(B858,TRAFOS,4,FALSE),'COSTO ELEMENTOS N1'!$C$321:$C$350,1),0)","v":0}]
[849,{"$f":"'TRAFOS MUESTRA'!B851","v":0},0,0,0,0,0,{"$f":"IFERROR(VLOOKUP(VLOOKUP(B859,TRAFOS,4,FALSE),'COSTO ELEMENTOS N1'!$C$321:$C$350,1),0)","v":0}]
[850,{"$f":"'TRAFOS MUESTRA'!B852","v":0},0,0,0,0,0,{"$f":"IFERROR(VLOOKUP(VLOOKUP(B860,TRAFOS,4,FALSE),'COSTO ELEMENTOS N1'!$C$321:$C$350,1),0)","v":0}]
[851,{"$f":"'TRAFOS MUESTRA'!B853","v":0},0,0,0,0,0,{"$f":"IFERROR(VLOOKUP(VLOOKUP(B861,TRAFOS,4,FALSE),'COSTO ELEMENTOS N1'!$C$321:$C$350,1),0)","v":0}]
[852,{"$f":"'TRAFOS MUESTRA'!B854","v":0},0,0,0,0,0,{"$f":"IFERROR(VLOOKUP(VLOOKUP(B862,TRAFOS,4,FALSE),'COSTO ELEMENTOS N1'!$C$321:$C$350,1),0)","v":0}]
[853,{"$f":"'TRAFOS MUESTRA'!B855","v":0},0,0,0,0,0,{"$f":"IFERROR(VLOOKUP(VLOOKUP(B863,TRAFOS,4,FALSE),'COSTO ELEMENTOS N1'!$C$321:$C$350,1),0)","v":0}]
[854,{"$f":"'TRAFOS MUESTRA'!B856","v":0},0,0,0,0,0,{"$f":"IFERROR(VLOOKUP(VLOOKUP(B864,TRAFOS,4,FALSE),'COSTO ELEMENTOS N1'!$C$321:$C$350,1),0)","v":0}]
[855,{"$f":"'TRAFOS MUESTRA'!B857","v":0},0,0,0,0,0,{"$f":"IFERROR(VLOOKUP(VLOOKUP(B865,TRAFOS,4,FALSE),'COSTO ELEMENTOS N1'!$C$321:$C$350,1),0)","v":0}]
[856,{"$f":"'TRAFOS MUESTRA'!B858","v":0},0,0,0,0,0,{"$f":"IFERROR(VLOOKUP(VLOOKUP(B866,TRAFOS,4,FALSE),'COSTO ELEMENTOS N1'!$C$321:$C$350,1),0)","v":0}]
[857,{"$f":"'TRAFOS MUESTRA'!B859","v":0},0,0,0,0,0,{"$f":"IFERROR(VLOOKUP(VLOOKUP(B867,TRAFOS,4,FALSE),'COSTO ELEMENTOS N1'!$C$321:$C$350,1),0)","v":0}]
[858,{"$f":"'TRAFOS MUESTRA'!B860","v":0},0,0,0,0,0,{"$f":"IFERROR(VLOOKUP(VLOOKUP(B868,TRAFOS,4,FALSE),'COSTO ELEMENTOS N1'!$C$321:$C$350,1),0)","v":0}]
[859,{"$f":"'TRAFOS MUESTRA'!B861","v":0},0,0,0,0,0,{"$f":"IFERROR(VLOOKUP(VLOOKUP(B869,TRAFOS,4,FALSE),'COSTO ELEMENTOS N1'!$C$321:$C$350,1),0)","v":0}]
[860,{"$f":"'TRAFOS MUESTRA'!B862","v":0},0,0,0,0,0,{"$f":"IFERROR(VLOOKUP(VLOOKUP(B870,TRAFOS,4,FALSE),'COSTO ELEMENTOS N1'!$C$321:$C$350,1),0)","v":0}]
[861,{"$f":"'TRAFOS MUESTRA'!B863","v":0},0,0,0,0,0,{"$f":"IFERROR(VLOOKUP(VLOOKUP(B871,TRAFOS,4,FALSE),'COSTO ELEMENTOS N1'!$C$321:$C$350,1),0)","v":0}]
[862,{"$f":"'TRAFOS MUESTRA'!B864","v":0},0,0,0,0,0,{"$f":"IFERROR(VLOOKUP(VLOOKUP(B872,TRAFOS,4,FALSE),'COSTO ELEMENTOS N1'!$C$321:$C$350,1),0)","v":0}]
[863,{"$f":"'TRAFOS MUESTRA'!B865","v":0},0,0,0,0,0,{"$f":"IFERROR(VLOOKUP(VLOOKUP(B873,TRAFOS,4,FALSE),'COSTO ELEMENTOS N1'!$C$321:$C$350,1),0)","v":0}]
[864,{"$f":"'TRAFOS MUESTRA'!B866","v":0},0,0,0,0,0,{"$f":"IFERROR(VLOOKUP(VLOOKUP(B874,TRAFOS,4,FALSE),'COSTO ELEMENTOS N1'!$C$321:$C$350,1),0)","v":0}]
[865,{"$f":"'TRAFOS MUESTRA'!B867","v":0},0,0,0,0,0,{"$f":"IFERROR(VLOOKUP(VLOOKUP(B875,TRAFOS,4,FALSE),'COSTO ELEMENTOS N1'!$C$321:$C$350,1),0)","v":0}]
[866,{"$f":"'TRAFOS MUESTRA'!B868","v":0},0,0,0,0,0,{"$f":"IFERROR(VLOOKUP(VLOOKUP(B876,TRAFOS,4,FALSE),'COSTO ELEMENTOS N1'!$C$321:$C$350,1),0)","v":0}]
[867,{"$f":"'TRAFOS MUESTRA'!B869","v":0},0,0,0,0,0,{"$f":"IFERROR(VLOOKUP(VLOOKUP(B877,TRAFOS,4,FALSE),'COSTO ELEMENTOS N1'!$C$321:$C$350,1),0)","v":0}]
[868,{"$f":"'TRAFOS MUESTRA'!B870","v":0},0,0,0,0,0,{"$f":"IFERROR(VLOOKUP(VLOOKUP(B878,TRAFOS,4,FALSE),'COSTO ELEMENTOS N1'!$C$321:$C$350,1),0)","v":0}]
[869,{"$f":"'TRAFOS MUESTRA'!B871","v":0},0,0,0,0,0,{"$f":"IFERROR(VLOOKUP(VLOOKUP(B879,TRAFOS,4,FALSE),'COSTO ELEMENTOS N1'!$C$321:$C$350,1),0)","v":0}]
[870,{"$f":"'TRAFOS MUESTRA'!B872","v":0},0,0,0,0,0,{"$f":"IFERROR(VLOOKUP(VLOOKUP(B880,TRAFOS,4,FALSE),'COSTO ELEMENTOS N1'!$C$321:$C$350,1),0)","v":0}]
[871,{"$f":"'TRAFOS MUESTRA'!B873","v":0},0,0,0,0,0,{"$f":"IFERROR(VLOOKUP(VLOOKUP(B881,TRAFOS,4,FALSE),'COSTO ELEMENTOS N1'!$C$321:$C$350,1),0)","v":0}]
[872,{"$f":"'TRAFOS MUESTRA'!B874","v":0},0,0,0,0,0,{"$f":"IFERROR(VLOOKUP(VLOOKUP(B882,TRAFOS,4,FALSE),'COSTO ELEMENTOS N1'!$C$321:$C$350,1),0)","v":0}]
[873,{"$f":"'TRAFOS MUESTRA'!B875","v":0},0,0,0,0,0,{"$f":"IFERROR(VLOOKUP(VLOOKUP(B883,TRAFOS,4,FALSE),'COSTO ELEMENTOS N1'!$C$321:$C$350,1),0)","v":0}]
[874,{"$f":"'TRAFOS MUESTRA'!B876","v":0},0,0,0,0,0,{"$f":"IFERROR(VLOOKUP(VLOOKUP(B884,TRAFOS,4,FALSE),'COSTO ELEMENTOS N1'!$C$321:$C$350,1),0)","v":0}]
[875,{"$f":"'TRAFOS MUESTRA'!B877","v":0},0,0,0,0,0,{"$f":"IFERROR(VLOOKUP(VLOOKUP(B885,TRAFOS,4,FALSE),'COSTO ELEMENTOS N1'!$C$321:$C$350,1),0)","v":0}]
[876,{"$f":"'TRAFOS MUESTRA'!B878","v":0},0,0,0,0,0,{"$f":"IFERROR(VLOOKUP(VLOOKUP(B886,TRAFOS,4,FALSE),'COSTO ELEMENTOS N1'!$C$321:$C$350,1),0)","v":0}]
[877,{"$f":"'TRAFOS MUESTRA'!B879","v":0},0,0,0,0,0,{"$f":"IFERROR(VLOOKUP(VLOOKUP(B887,TRAFOS,4,FALSE),'COSTO ELEMENTOS N1'!$C$321:$C$350,1),0)","v":0}]
[878,{"$f":"'TRAFOS MUESTRA'!B880","v":0},0,0,0,0,0,{"$f":"IFERROR(VLOOKUP(VLOOKUP(B888,TRAFOS,4,FALSE),'COSTO ELEMENTOS N1'!$C$321:$C$350,1),0)","v":0}]
[879,{"$f":"'TRAFOS MUESTRA'!B881","v":0},0,0,0,0,0,{"$f":"IFERROR(VLOOKUP(VLOOKUP(B889,TRAFOS,4,FALSE),'COSTO ELEMENTOS N1'!$C$321:$C$350,1),0)","v":0}]
[880,{"$f":"'TRAFOS MUESTRA'!B882","v":0},0,0,0,0,0,{"$f":"IFERROR(VLOOKUP(VLOOKUP(B890,TRAFOS,4,FALSE),'COSTO ELEMENTOS N1'!$C$321:$C$350,1),0)","v":0}]
[881,{"$f":"'TRAFOS MUESTRA'!B883","v":0},0,0,0,0,0,{"$f":"IFERROR(VLOOKUP(VLOOKUP(B891,TRAFOS,4,FALSE),'COSTO ELEMENTOS N1'!$C$321:$C$350,1),0)","v":0}]
[882,{"$f":"'TRAFOS MUESTRA'!B884","v":0},0,0,0,0,0,{"$f":"IFERROR(VLOOKUP(VLOOKUP(B892,TRAFOS,4,FALSE),'COSTO ELEMENTOS N1'!$C$321:$C$350,1),0)","v":0}]
[883,{"$f":"'TRAFOS MUESTRA'!B885","v":0},0,0,0,0,0,{"$f":"IFERROR(VLOOKUP(VLOOKUP(B893,TRAFOS,4,FALSE),'COSTO ELEMENTOS N1'!$C$321:$C$350,1),0)","v":0}]
[884,{"$f":"'TRAFOS MUESTRA'!B886","v":0},0,0,0,0,0,{"$f":"IFERROR(VLOOKUP(VLOOKUP(B894,TRAFOS,4,FALSE),'COSTO ELEMENTOS N1'!$C$321:$C$350,1),0)","v":0}]
[885,{"$f":"'TRAFOS MUESTRA'!B887","v":0},0,0,0,0,0,{"$f":"IFERROR(VLOOKUP(VLOOKUP(B895,TRAFOS,4,FALSE),'COSTO ELEMENTOS N1'!$C$321:$C$350,1),0)","v":0}]
[886,{"$f":"'TRAFOS MUESTRA'!B888","v":0},0,0,0,0,0,{"$f":"IFERROR(VLOOKUP(VLOOKUP(B896,TRAFOS,4,FALSE),'COSTO ELEMENTOS N1'!$C$321:$C$350,1),0)","v":0}]
[887,{"$f":"'TRAFOS MUESTRA'!B889","v":0},0,0,0,0,0,{"$f":"IFERROR(VLOOKUP(VLOOKUP(B897,TRAFOS,4,FALSE),'COSTO ELEMENTOS N1'!$C$321:$C$350,1),0)","v":0}]
[888,{"$f":"'TRAFOS MUESTRA'!B890","v":0},0,0,0,0,0,{"$f":"IFERROR(VLOOKUP(VLOOKUP(B898,TRAFOS,4,FALSE),'COSTO ELEMENTOS N1'!$C$321:$C$350,1),0)","v":0}]
[889,{"$f":"'TRAFOS MUESTRA'!B891","v":0},0,0,0,0,0,{"$f":"IFERROR(VLOOKUP(VLOOKUP(B899,TRAFOS,4,FALSE),'COSTO ELEMENTOS N1'!$C$321:$C$350,1),0)","v":0}]
[890,{"$f":"'TRAFOS MUESTRA'!B892","v":0},0,0,0,0,0,{"$f":"IFERROR(VLOOKUP(VLOOKUP(B900,TRAFOS,4,FALSE),'COSTO ELEMENTOS N1'!$C$321:$C$350,1),0)","v":0}]
[891,{"$f":"'TRAFOS MUESTRA'!B893","v":0},0,0,0,0,0,{"$f":"IFERROR(VLOOKUP(VLOOKUP(B901,TRAFOS,4,FALSE),'COSTO ELEMENTOS N1'!$C$321:$C$350,1),0)","v":0}]
[892,{"$f":"'TRAFOS MUESTRA'!B894","v":0},0,0,0,0,0,{"$f":"IFERROR(VLOOKUP(VLOOKUP(B902,TRAFOS,4,FALSE),'COSTO ELEMENTOS N1'!$C$321:$C$350,1),0)","v":0}]
[893,{"$f":"'TRAFOS MUESTRA'!B895","v":0},0,0,0,0,0,{"$f":"IFERROR(VLOOKUP(VLOOKUP(B903,TRAFOS,4,FALSE),'COSTO ELEMENTOS N1'!$C$321:$C$350,1),0)","v":0}]
[894,{"$f":"'TRAFOS MUESTRA'!B896","v":0},0,0,0,0,0,{"$f":"IFERROR(VLOOKUP(VLOOKUP(B904,TRAFOS,4,FALSE),'COSTO ELEMENTOS N1'!$C$321:$C$350,1),0)","v":0}]
[895,{"$f":"'TRAFOS MUESTRA'!B897","v":0},0,0,0,0,0,{"$f":"IFERROR(VLOOKUP(VLOOKUP(B905,TRAFOS,4,FALSE),'COSTO ELEMENTOS N1'!$C$321:$C$350,1),0)","v":0}]
[896,{"$f":"'TRAFOS MUESTRA'!B898","v":0},0,0,0,0,0,{"$f":"IFERROR(VLOOKUP(VLOOKUP(B906,TRAFOS,4,FALSE),'COSTO ELEMENTOS N1'!$C$321:$C$350,1),0)","v":0}]
[897,{"$f":"'TRAFOS MUESTRA'!B899","v":0},{"$f":"IFERROR(VLOOKUP(B907,TRAFOS,3,FALSE),0)","v":0},{"$f":"IFERROR(SUMIF(CODIGO_TRAFOS_REDES,$B907,COSTO_CONDUCTOR_TRAMO),0)","v":0},{"$f":"IFERROR(SUMIF(CODIGO_TRAFOS_REDES,$B907,COSTO_APOYOS_TRAMO),0)","v":0},{"$f":"IFERROR(IF(H907>15,VLOOKUP(H907,COSTO_TRAFOS_3F,6,FALSE),VLOOKUP(H907,COSTO_TRAFOS_1F,6,FALSE)),0)","v":0},0,{"$f":"IFERROR(VLOOKUP(VLOOKUP(B907,TRAFOS,4,FALSE),'COSTO ELEMENTOS N1'!$C$321:$C$350,1),0)","v":0}]
[898,{"$f":"'TRAFOS MUESTRA'!B900","v":0},0,0,0,0,{"$f":"SUM(D908:F908)","v":0},{"$f":"IFERROR(VLOOKUP(VLOOKUP(B908,TRAFOS,4,FALSE),'COSTO ELEMENTOS N1'!$C$321:$C$350,1),0)","v":0}]
[{"$f":"A908+1","v":899},{"$f":"'TRAFOS MUESTRA'!B901","v":0},0,0,0,0,0,{"$f":"IFERROR(VLOOKUP(VLOOKUP(B909,TRAFOS,4,FALSE),'COSTO ELEMENTOS N1'!$C$321:$C$350,1),0)","v":0}]
[900,{"$f":"'TRAFOS MUESTRA'!B902","v":0},0,0,0,0,0,{"$f":"IFERROR(VLOOKUP(VLOOKUP(B910,TRAFOS,4,FALSE),'COSTO ELEMENTOS N1'!$C$321:$C$350,1),0)","v":0}]
[901,{"$f":"'TRAFOS MUESTRA'!B903","v":0},0,0,0,0,0,{"$f":"IFERROR(VLOOKUP(VLOOKUP(B911,TRAFOS,4,FALSE),'COSTO ELEMENTOS N1'!$C$321:$C$350,1),0)","v":0}]
[902,{"$f":"'TRAFOS MUESTRA'!B904","v":0},0,0,0,0,0,{"$f":"IFERROR(VLOOKUP(VLOOKUP(B912,TRAFOS,4,FALSE),'COSTO ELEMENTOS N1'!$C$321:$C$350,1),0)","v":0}]
[903,{"$f":"'TRAFOS MUESTRA'!B905","v":0},0,0,0,0,0,{"$f":"IFERROR(VLOOKUP(VLOOKUP(B913,TRAFOS,4,FALSE),'COSTO ELEMENTOS N1'!$C$321:$C$350,1),0)","v":0}]
[904,{"$f":"'TRAFOS MUESTRA'!B906","v":0},0,0,0,0,0,{"$f":"IFERROR(VLOOKUP(VLOOKUP(B914,TRAFOS,4,FALSE),'COSTO ELEMENTOS N1'!$C$321:$C$350,1),0)","v":0}]
[905,{"$f":"'TRAFOS MUESTRA'!B907","v":0},0,0,0,0,0,{"$f":"IFERROR(VLOOKUP(VLOOKUP(B915,TRAFOS,4,FALSE),'COSTO ELEMENTOS N1'!$C$321:$C$350,1),0)","v":0}]
[906,{"$f":"'TRAFOS MUESTRA'!B908","v":0},0,0,0,0,0,{"$f":"IFERROR(VLOOKUP(VLOOKUP(B916,TRAFOS,4,FALSE),'COSTO ELEMENTOS N1'!$C$321:$C$350,1),0)","v":0}]
[907,{"$f":"'TRAFOS MUESTRA'!B909","v":0},0,0,0,0,0,{"$f":"IFERROR(VLOOKUP(VLOOKUP(B917,TRAFOS,4,FALSE),'COSTO ELEMENTOS N1'!$C$321:$C$350,1),0)","v":0}]
[908,{"$f":"'TRAFOS MUESTRA'!B910","v":0},0,0,0,0,0,{"$f":"IFERROR(VLOOKUP(VLOOKUP(B918,TRAFOS,4,FALSE),'COSTO ELEMENTOS N1'!$C$321:$C$350,1),0)","v":0}]
[909,{"$f":"'TRAFOS MUESTRA'!B911","v":0},0,0,0,0,0,{"$f":"IFERROR(VLOOKUP(VLOOKUP(B919,TRAFOS,4,FALSE),'COSTO ELEMENTOS N1'!$C$321:$C$350,1),0)","v":0}]
[910,{"$f":"'TRAFOS MUESTRA'!B912","v":0},0,0,0,0,0,{"$f":"IFERROR(VLOOKUP(VLOOKUP(B920,TRAFOS,4,FALSE),'COSTO ELEMENTOS N1'!$C$321:$C$350,1),0)","v":0}]
[911,{"$f":"'TRAFOS MUESTRA'!B913","v":0},0,0,0,0,0,{"$f":"IFERROR(VLOOKUP(VLOOKUP(B921,TRAFOS,4,FALSE),'COSTO ELEMENTOS N1'!$C$321:$C$350,1),0)","v":0}]
[912,{"$f":"'TRAFOS MUESTRA'!B914","v":0},0,0,0,0,0,{"$f":"IFERROR(VLOOKUP(VLOOKUP(B922,TRAFOS,4,FALSE),'COSTO ELEMENTOS N1'!$C$321:$C$350,1),0)","v":0}]
[913,{"$f":"'TRAFOS MUESTRA'!B915","v":0},0,0,0,0,0,{"$f":"IFERROR(VLOOKUP(VLOOKUP(B923,TRAFOS,4,FALSE),'COSTO ELEMENTOS N1'!$C$321:$C$350,1),0)","v":0}]
[914,{"$f":"'TRAFOS MUESTRA'!B916","v":0},0,0,0,0,0,{"$f":"IFERROR(VLOOKUP(VLOOKUP(B924,TRAFOS,4,FALSE),'COSTO ELEMENTOS N1'!$C$321:$C$350,1),0)","v":0}]
[915,{"$f":"'TRAFOS MUESTRA'!B917","v":0},0,0,0,0,0,{"$f":"IFERROR(VLOOKUP(VLOOKUP(B925,TRAFOS,4,FALSE),'COSTO ELEMENTOS N1'!$C$321:$C$350,1),0)","v":0}]
[916,{"$f":"'TRAFOS MUESTRA'!B918","v":0},0,0,0,0,0,{"$f":"IFERROR(VLOOKUP(VLOOKUP(B926,TRAFOS,4,FALSE),'COSTO ELEMENTOS N1'!$C$321:$C$350,1),0)","v":0}]
[917,{"$f":"'TRAFOS MUESTRA'!B919","v":0},0,0,0,0,0,{"$f":"IFERROR(VLOOKUP(VLOOKUP(B927,TRAFOS,4,FALSE),'COSTO ELEMENTOS N1'!$C$321:$C$350,1),0)","v":0}]
[918,{"$f":"'TRAFOS MUESTRA'!B920","v":0},0,0,0,0,0,{"$f":"IFERROR(VLOOKUP(VLOOKUP(B928,TRAFOS,4,FALSE),'COSTO ELEMENTOS N1'!$C$321:$C$350,1),0)","v":0}]
[919,{"$f":"'TRAFOS MUESTRA'!B921","v":0},0,0,0,0,0,{"$f":"IFERROR(VLOOKUP(VLOOKUP(B929,TRAFOS,4,FALSE),'COSTO ELEMENTOS N1'!$C$321:$C$350,1),0)","v":0}]
[920,{"$f":"'TRAFOS MUESTRA'!B922","v":0},0,0,0,0,0,{"$f":"IFERROR(VLOOKUP(VLOOKUP(B930,TRAFOS,4,FALSE),'COSTO ELEMENTOS N1'!$C$321:$C$350,1),0)","v":0}]
[921,{"$f":"'TRAFOS MUESTRA'!B923","v":0},0,0,0,0,0,{"$f":"IFERROR(VLOOKUP(VLOOKUP(B931,TRAFOS,4,FALSE),'COSTO ELEMENTOS N1'!$C$321:$C$350,1),0)","v":0}]
[922,{"$f":"'TRAFOS MUESTRA'!B924","v":0},0,0,0,0,0,{"$f":"IFERROR(VLOOKUP(VLOOKUP(B932,TRAFOS,4,FALSE),'COSTO ELEMENTOS N1'!$C$321:$C$350,1),0)","v":0}]
[923,{"$f":"'TRAFOS MUESTRA'!B925","v":0},0,0,0,0,0,{"$f":"IFERROR(VLOOKUP(VLOOKUP(B933,TRAFOS,4,FALSE),'COSTO ELEMENTOS N1'!$C$321:$C$350,1),0)","v":0}]
[924,{"$f":"'TRAFOS MUESTRA'!B926","v":0},0,0,0,0,0,{"$f":"IFERROR(VLOOKUP(VLOOKUP(B934,TRAFOS,4,FALSE),'COSTO ELEMENTOS N1'!$C$321:$C$350,1),0)","v":0}]
[925,{"$f":"'TRAFOS MUESTRA'!B927","v":0},0,0,0,0,0,{"$f":"IFERROR(VLOOKUP(VLOOKUP(B935,TRAFOS,4,FALSE),'COSTO ELEMENTOS N1'!$C$321:$C$350,1),0)","v":0}]
[926,{"$f":"'TRAFOS MUESTRA'!B928","v":0},0,0,0,0,0,{"$f":"IFERROR(VLOOKUP(VLOOKUP(B936,TRAFOS,4,FALSE),'COSTO ELEMENTOS N1'!$C$321:$C$350,1),0)","v":0}]
[927,{"$f":"'TRAFOS MUESTRA'!B929","v":0},0,0,0,0,0,{"$f":"IFERROR(VLOOKUP(VLOOKUP(B937,TRAFOS,4,FALSE),'COSTO ELEMENTOS N1'!$C$321:$C$350,1),0)","v":0}]
[928,{"$f":"'TRAFOS MUESTRA'!B930","v":0},0,0,0,0,0,{"$f":"IFERROR(VLOOKUP(VLOOKUP(B938,TRAFOS,4,FALSE),'COSTO ELEMENTOS N1'!$C$321:$C$350,1),0)","v":0}]
[929,{"$f":"'TRAFOS MUESTRA'!B931","v":0},0,0,0,0,0,{"$f":"IFERROR(VLOOKUP(VLOOKUP(B939,TRAFOS,4,FALSE),'COSTO ELEMENTOS N1'!$C$321:$C$350,1),0)","v":0}]
[930,{"$f":"'TRAFOS MUESTRA'!B932","v":0},0,0,0,0,0,{"$f":"IFERROR(VLOOKUP(VLOOKUP(B940,TRAFOS,4,FALSE),'COSTO ELEMENTOS N1'!$C$321:$C$350,1),0)","v":0}]
[931,{"$f":"'TRAFOS MUESTRA'!B933","v":0},0,0,0,0,0,{"$f":"IFERROR(VLOOKUP(VLOOKUP(B941,TRAFOS,4,FALSE),'COSTO ELEMENTOS N1'!$C$321:$C$350,1),0)","v":0}]
[932,{"$f":"'TRAFOS MUESTRA'!B934","v":0},0,0,0,0,0,{"$f":"IFERROR(VLOOKUP(VLOOKUP(B942,TRAFOS,4,FALSE),'COSTO ELEMENTOS N1'!$C$321:$C$350,1),0)","v":0}]
[933,{"$f":"'TRAFOS MUESTRA'!B935","v":0},0,0,0,0,0,{"$f":"IFERROR(VLOOKUP(VLOOKUP(B943,TRAFOS,4,FALSE),'COSTO ELEMENTOS N1'!$C$321:$C$350,1),0)","v":0}]
[934,{"$f":"'TRAFOS MUESTRA'!B936","v":0},0,0,0,0,0,{"$f":"IFERROR(VLOOKUP(VLOOKUP(B944,TRAFOS,4,FALSE),'COSTO ELEMENTOS N1'!$C$321:$C$350,1),0)","v":0}]
[935,{"$f":"'TRAFOS MUESTRA'!B937","v":0},0,0,0,0,0,{"$f":"IFERROR(VLOOKUP(VLOOKUP(B945,TRAFOS,4,FALSE),'COSTO ELEMENTOS N1'!$C$321:$C$350,1),0)","v":0}]
[936,{"$f":"'TRAFOS MUESTRA'!B938","v":0},0,0,0,0,0,{"$f":"IFERROR(VLOOKUP(VLOOKUP(B946,TRAFOS,4,FALSE),'COSTO ELEMENTOS N1'!$C$321:$C$350,1),0)","v":0}]
[937,{"$f":"'TRAFOS MUESTRA'!B939","v":0},0,0,0,0,0,{"$f":"IFERROR(VLOOKUP(VLOOKUP(B947,TRAFOS,4,FALSE),'COSTO ELEMENTOS N1'!$C$321:$C$350,1),0)","v":0}]
[938,{"$f":"'TRAFOS MUESTRA'!B940","v":0},0,0,0,0,0,{"$f":"IFERROR(VLOOKUP(VLOOKUP(B948,TRAFOS,4,FALSE),'COSTO ELEMENTOS N1'!$C$321:$C$350,1),0)","v":0}]
[939,{"$f":"'TRAFOS MUESTRA'!B941","v":0},0,0,0,0,0,{"$f":"IFERROR(VLOOKUP(VLOOKUP(B949,TRAFOS,4,FALSE),'COSTO ELEMENTOS N1'!$C$321:$C$350,1),0)","v":0}]
[940,{"$f":"'TRAFOS MUESTRA'!B942","v":0},0,0,0,0,0,{"$f":"IFERROR(VLOOKUP(VLOOKUP(B950,TRAFOS,4,FALSE),'COSTO ELEMENTOS N1'!$C$321:$C$350,1),0)","v":0}]
[941,{"$f":"'TRAFOS MUESTRA'!B943","v":0},0,0,0,0,0,{"$f":"IFERROR(VLOOKUP(VLOOKUP(B951,TRAFOS,4,FALSE),'COSTO ELEMENTOS N1'!$C$321:$C$350,1),0)","v":0}]
[942,{"$f":"'TRAFOS MUESTRA'!B944","v":0},0,0,0,0,0,{"$f":"IFERROR(VLOOKUP(VLOOKUP(B952,TRAFOS,4,FALSE),'COSTO ELEMENTOS N1'!$C$321:$C$350,1),0)","v":0}]
[943,{"$f":"'TRAFOS MUESTRA'!B945","v":0},0,0,0,0,0,{"$f":"IFERROR(VLOOKUP(VLOOKUP(B953,TRAFOS,4,FALSE),'COSTO ELEMENTOS N1'!$C$321:$C$350,1),0)","v":0}]
[944,{"$f":"'TRAFOS MUESTRA'!B946","v":0},0,0,0,0,0,{"$f":"IFERROR(VLOOKUP(VLOOKUP(B954,TRAFOS,4,FALSE),'COSTO ELEMENTOS N1'!$C$321:$C$350,1),0)","v":0}]
[945,{"$f":"'TRAFOS MUESTRA'!B947","v":0},0,0,0,0,0,{"$f":"IFERROR(VLOOKUP(VLOOKUP(B955,TRAFOS,4,FALSE),'COSTO ELEMENTOS N1'!$C$321:$C$350,1),0)","v":0}]
[946,{"$f":"'TRAFOS MUESTRA'!B948","v":0},0,0,0,0,0,{"$f":"IFERROR(VLOOKUP(VLOOKUP(B956,TRAFOS,4,FALSE),'COSTO ELEMENTOS N1'!$C$321:$C$350,1),0)","v":0}]
[947,{"$f":"'TRAFOS MUESTRA'!B949","v":0},0,0,0,0,0,{"$f":"IFERROR(VLOOKUP(VLOOKUP(B957,TRAFOS,4,FALSE),'COSTO ELEMENTOS N1'!$C$321:$C$350,1),0)","v":0}]
[948,{"$f":"'TRAFOS MUESTRA'!B950","v":0},0,0,0,0,0,{"$f":"IFERROR(VLOOKUP(VLOOKUP(B958,TRAFOS,4,FALSE),'COSTO ELEMENTOS N1'!$C$321:$C$350,1),0)","v":0}]
[949,{"$f":"'TRAFOS MUESTRA'!B951","v":0},0,0,0,0,0,{"$f":"IFERROR(VLOOKUP(VLOOKUP(B959,TRAFOS,4,FALSE),'COSTO ELEMENTOS N1'!$C$321:$C$350,1),0)","v":0}]
[950,{"$f":"'TRAFOS MUESTRA'!B952","v":0},0,0,0,0,0,{"$f":"IFERROR(VLOOKUP(VLOOKUP(B960,TRAFOS,4,FALSE),'COSTO ELEMENTOS N1'!$C$321:$C$350,1),0)","v":0}]
[951,{"$f":"'TRAFOS MUESTRA'!B953","v":0},0,0,0,0,0,{"$f":"IFERROR(VLOOKUP(VLOOKUP(B961,TRAFOS,4,FALSE),'COSTO ELEMENTOS N1'!$C$321:$C$350,1),0)","v":0}]
[952,{"$f":"'TRAFOS MUESTRA'!B954","v":0},0,0,0,0,0,{"$f":"IFERROR(VLOOKUP(VLOOKUP(B962,TRAFOS,4,FALSE),'COSTO ELEMENTOS N1'!$C$321:$C$350,1),0)","v":0}]
[953,{"$f":"'TRAFOS MUESTRA'!B955","v":0},0,0,0,0,0,{"$f":"IFERROR(VLOOKUP(VLOOKUP(B963,TRAFOS,4,FALSE),'COSTO ELEMENTOS N1'!$C$321:$C$350,1),0)","v":0}]
[954,{"$f":"'TRAFOS MUESTRA'!B956","v":0},0,0,0,0,0,{"$f":"IFERROR(VLOOKUP(VLOOKUP(B964,TRAFOS,4,FALSE),'COSTO ELEMENTOS N1'!$C$321:$C$350,1),0)","v":0}]
[955,{"$f":"'TRAFOS MUESTRA'!B957","v":0},0,0,0,0,0,{"$f":"IFERROR(VLOOKUP(VLOOKUP(B965,TRAFOS,4,FALSE),'COSTO ELEMENTOS N1'!$C$321:$C$350,1),0)","v":0}]
[956,{"$f":"'TRAFOS MUESTRA'!B958","v":0},0,0,0,0,0,{"$f":"IFERROR(VLOOKUP(VLOOKUP(B966,TRAFOS,4,FALSE),'COSTO ELEMENTOS N1'!$C$321:$C$350,1),0)","v":0}]
[957,{"$f":"'TRAFOS MUESTRA'!B959","v":0},0,0,0,0,0,{"$f":"IFERROR(VLOOKUP(VLOOKUP(B967,TRAFOS,4,FALSE),'COSTO ELEMENTOS N1'!$C$321:$C$350,1),0)","v":0}]
[958,{"$f":"'TRAFOS MUESTRA'!B960","v":0},0,0,0,0,0,{"$f":"IFERROR(VLOOKUP(VLOOKUP(B968,TRAFOS,4,FALSE),'COSTO ELEMENTOS N1'!$C$321:$C$350,1),0)","v":0}]
[959,{"$f":"'TRAFOS MUESTRA'!B961","v":0},0,0,0,0,0,{"$f":"IFERROR(VLOOKUP(VLOOKUP(B969,TRAFOS,4,FALSE),'COSTO ELEMENTOS N1'!$C$321:$C$350,1),0)","v":0}]
[960,{"$f":"'TRAFOS MUESTRA'!B962","v":0},0,0,0,0,0,{"$f":"IFERROR(VLOOKUP(VLOOKUP(B970,TRAFOS,4,FALSE),'COSTO ELEMENTOS N1'!$C$321:$C$350,1),0)","v":0}]
[961,{"$f":"'TRAFOS MUESTRA'!B963","v":0},{"$f":"IFERROR(VLOOKUP(B971,TRAFOS,3,FALSE),0)","v":0},{"$f":"IFERROR(SUMIF(CODIGO_TRAFOS_REDES,$B971,COSTO_CONDUCTOR_TRAMO),0)","v":0},{"$f":"IFERROR(SUMIF(CODIGO_TRAFOS_REDES,$B971,COSTO_APOYOS_TRAMO),0)","v":0},{"$f":"IFERROR(IF(H971>15,VLOOKUP(H971,COSTO_TRAFOS_3F,6,FALSE),VLOOKUP(H971,COSTO_TRAFOS_1F,6,FALSE)),0)","v":0},0,{"$f":"IFERROR(VLOOKUP(VLOOKUP(B971,TRAFOS,4,FALSE),'COSTO ELEMENTOS N1'!$C$321:$C$350,1),0)","v":0}]
[962,{"$f":"'TRAFOS MUESTRA'!B964","v":0},0,0,0,0,{"$f":"SUM(D972:F972)","v":0},{"$f":"IFERROR(VLOOKUP(VLOOKUP(B972,TRAFOS,4,FALSE),'COSTO ELEMENTOS N1'!$C$321:$C$350,1),0)","v":0}]
[{"$f":"A972+1","v":963},{"$f":"'TRAFOS MUESTRA'!B965","v":0},0,0,0,0,0,{"$f":"IFERROR(VLOOKUP(VLOOKUP(B973,TRAFOS,4,FALSE),'COSTO ELEMENTOS N1'!$C$321:$C$350,1),0)","v":0}]
[964,{"$f":"'TRAFOS MUESTRA'!B966","v":0},0,0,0,0,0,{"$f":"IFERROR(VLOOKUP(VLOOKUP(B974,TRAFOS,4,FALSE),'COSTO ELEMENTOS N1'!$C$321:$C$350,1),0)","v":0}]
[965,{"$f":"'TRAFOS MUESTRA'!B967","v":0},0,0,0,0,0,{"$f":"IFERROR(VLOOKUP(VLOOKUP(B975,TRAFOS,4,FALSE),'COSTO ELEMENTOS N1'!$C$321:$C$350,1),0)","v":0}]
[966,{"$f":"'TRAFOS MUESTRA'!B968","v":0},0,0,0,0,0,{"$f":"IFERROR(VLOOKUP(VLOOKUP(B976,TRAFOS,4,FALSE),'COSTO ELEMENTOS N1'!$C$321:$C$350,1),0)","v":0}]
[967,{"$f":"'TRAFOS MUESTRA'!B969","v":0},0,0,0,0,0,{"$f":"IFERROR(VLOOKUP(VLOOKUP(B977,TRAFOS,4,FALSE),'COSTO ELEMENTOS N1'!$C$321:$C$350,1),0)","v":0}]
[968,{"$f":"'TRAFOS MUESTRA'!B970","v":0},0,0,0,0,0,{"$f":"IFERROR(VLOOKUP(VLOOKUP(B978,TRAFOS,4,FALSE),'COSTO ELEMENTOS N1'!$C$321:$C$350,1),0)","v":0}]
[969,{"$f":"'TRAFOS MUESTRA'!B971","v":0},0,0,0,0,0,{"$f":"IFERROR(VLOOKUP(VLOOKUP(B979,TRAFOS,4,FALSE),'COSTO ELEMENTOS N1'!$C$321:$C$350,1),0)","v":0}]
[970,{"$f":"'TRAFOS MUESTRA'!B972","v":0},0,0,0,0,0,{"$f":"IFERROR(VLOOKUP(VLOOKUP(B980,TRAFOS,4,FALSE),'COSTO ELEMENTOS N1'!$C$321:$C$350,1),0)","v":0}]
[971,{"$f":"'TRAFOS MUESTRA'!B973","v":0},0,0,0,0,0,{"$f":"IFERROR(VLOOKUP(VLOOKUP(B981,TRAFOS,4,FALSE),'COSTO ELEMENTOS N1'!$C$321:$C$350,1),0)","v":0}]
[972,{"$f":"'TRAFOS MUESTRA'!B974","v":0},0,0,0,0,0,{"$f":"IFERROR(VLOOKUP(VLOOKUP(B982,TRAFOS,4,FALSE),'COSTO ELEMENTOS N1'!$C$321:$C$350,1),0)","v":0}]
[973,{"$f":"'TRAFOS MUESTRA'!B975","v":0},0,0,0,0,0,{"$f":"IFERROR(VLOOKUP(VLOOKUP(B983,TRAFOS,4,FALSE),'COSTO ELEMENTOS N1'!$C$321:$C$350,1),0)","v":0}]
[974,{"$f":"'TRAFOS MUESTRA'!B976","v":0},0,0,0,0,0,{"$f":"IFERROR(VLOOKUP(VLOOKUP(B984,TRAFOS,4,FALSE),'COSTO ELEMENTOS N1'!$C$321:$C$350,1),0)","v":0}]
[975,{"$f":"'TRAFOS MUESTRA'!B977","v":0},0,0,0,0,0,{"$f":"IFERROR(VLOOKUP(VLOOKUP(B985,TRAFOS,4,FALSE),'COSTO ELEMENTOS N1'!$C$321:$C$350,1),0)","v":0}]
[976,{"$f":"'TRAFOS MUESTRA'!B978","v":0},0,0,0,0,0,{"$f":"IFERROR(VLOOKUP(VLOOKUP(B986,TRAFOS,4,FALSE),'COSTO ELEMENTOS N1'!$C$321:$C$350,1),0)","v":0}]
[977,{"$f":"'TRAFOS MUESTRA'!B979","v":0},0,0,0,0,0,{"$f":"IFERROR(VLOOKUP(VLOOKUP(B987,TRAFOS,4,FALSE),'COSTO ELEMENTOS N1'!$C$321:$C$350,1),0)","v":0}]
[978,{"$f":"'TRAFOS MUESTRA'!B980","v":0},0,0,0,0,0,{"$f":"IFERROR(VLOOKUP(VLOOKUP(B988,TRAFOS,4,FALSE),'COSTO ELEMENTOS N1'!$C$321:$C$350,1),0)","v":0}]
[979,{"$f":"'TRAFOS MUESTRA'!B981","v":0},0,0,0,0,0,{"$f":"IFERROR(VLOOKUP(VLOOKUP(B989,TRAFOS,4,FALSE),'COSTO ELEMENTOS N1'!$C$321:$C$350,1),0)","v":0}]
[980,{"$f":"'TRAFOS MUESTRA'!B982","v":0},0,0,0,0,0,{"$f":"IFERROR(VLOOKUP(VLOOKUP(B990,TRAFOS,4,FALSE),'COSTO ELEMENTOS N1'!$C$321:$C$350,1),0)","v":0}]
[981,{"$f":"'TRAFOS MUESTRA'!B983","v":0},0,0,0,0,0,{"$f":"IFERROR(VLOOKUP(VLOOKUP(B991,TRAFOS,4,FALSE),'COSTO ELEMENTOS N1'!$C$321:$C$350,1),0)","v":0}]
[982,{"$f":"'TRAFOS MUESTRA'!B984","v":0},0,0,0,0,0,{"$f":"IFERROR(VLOOKUP(VLOOKUP(B992,TRAFOS,4,FALSE),'COSTO ELEMENTOS N1'!$C$321:$C$350,1),0)","v":0}]
[983,{"$f":"'TRAFOS MUESTRA'!B985","v":0},0,0,0,0,0,{"$f":"IFERROR(VLOOKUP(VLOOKUP(B993,TRAFOS,4,FALSE),'COSTO ELEMENTOS N1'!$C$321:$C$350,1),0)","v":0}]
[984,{"$f":"'TRAFOS MUESTRA'!B986","v":0},0,0,0,0,0,{"$f":"IFERROR(VLOOKUP(VLOOKUP(B994,TRAFOS,4,FALSE),'COSTO ELEMENTOS N1'!$C$321:$C$350,1),0)","v":0}]
[985,{"$f":"'TRAFOS MUESTRA'!B987","v":0},0,0,0,0,0,{"$f":"IFERROR(VLOOKUP(VLOOKUP(B995,TRAFOS,4,FALSE),'COSTO ELEMENTOS N1'!$C$321:$C$350,1),0)","v":0}]
[986,{"$f":"'TRAFOS MUESTRA'!B988","v":0},0,0,0,0,0,{"$f":"IFERROR(VLOOKUP(VLOOKUP(B996,TRAFOS,4,FALSE),'COSTO ELEMENTOS N1'!$C$321:$C$350,1),0)","v":0}]
[987,{"$f":"'TRAFOS MUESTRA'!B989","v":0},0,0,0,0,0,{"$f":"IFERROR(VLOOKUP(VLOOKUP(B997,TRAFOS,4,FALSE),'COSTO ELEMENTOS N1'!$C$321:$C$350,1),0)","v":0}]
[988,{"$f":"'TRAFOS MUESTRA'!B990","v":0},0,0,0,0,0,{"$f":"IFERROR(VLOOKUP(VLOOKUP(B998,TRAFOS,4,FALSE),'COSTO ELEMENTOS N1'!$C$321:$C$350,1),0)","v":0}]
[989,{"$f":"'TRAFOS MUESTRA'!B991","v":0},0,0,0,0,0,{"$f":"IFERROR(VLOOKUP(VLOOKUP(B999,TRAFOS,4,FALSE),'COSTO ELEMENTOS N1'!$C$321:$C$350,1),0)","v":0}]
[990,{"$f":"'TRAFOS MUESTRA'!B992","v":0},0,0,0,0,0,{"$f":"IFERROR(VLOOKUP(VLOOKUP(B1000,TRAFOS,4,FALSE),'COSTO ELEMENTOS N1'!$C$321:$C$350,1),0)","v":0}]
[991,{"$f":"'TRAFOS MUESTRA'!B993","v":0},0,0,0,0,0,{"$f":"IFERROR(VLOOKUP(VLOOKUP(B1001,TRAFOS,4,FALSE),'COSTO ELEMENTOS N1'!$C$321:$C$350,1),0)","v":0}]
[992,{"$f":"'TRAFOS MUESTRA'!B994","v":0},0,0,0,0,0,{"$f":"IFERROR(VLOOKUP(VLOOKUP(B1002,TRAFOS,4,FALSE),'COSTO ELEMENTOS N1'!$C$321:$C$350,1),0)","v":0}]
[993,{"$f":"'TRAFOS MUESTRA'!B995","v":0},0,0,0,0,0,{"$f":"IFERROR(VLOOKUP(VLOOKUP(B1003,TRAFOS,4,FALSE),'COSTO ELEMENTOS N1'!$C$321:$C$350,1),0)","v":0}]
[994,{"$f":"'TRAFOS MUESTRA'!B996","v":0},0,0,0,0,0,{"$f":"IFERROR(VLOOKUP(VLOOKUP(B1004,TRAFOS,4,FALSE),'COSTO ELEMENTOS N1'!$C$321:$C$350,1),0)","v":0}]
[995,{"$f":"'TRAFOS MUESTRA'!B997","v":0},0,0,0,0,0,{"$f":"IFERROR(VLOOKUP(VLOOKUP(B1005,TRAFOS,4,FALSE),'COSTO ELEMENTOS N1'!$C$321:$C$350,1),0)","v":0}]
[996,{"$f":"'TRAFOS MUESTRA'!B998","v":0},0,0,0,0,0,{"$f":"IFERROR(VLOOKUP(VLOOKUP(B1006,TRAFOS,4,FALSE),'COSTO ELEMENTOS N1'!$C$321:$C$350,1),0)","v":0}]
[997,{"$f":"'TRAFOS MUESTRA'!B999","v":0},0,0,0,0,0,{"$f":"IFERROR(VLOOKUP(VLOOKUP(B1007,TRAFOS,4,FALSE),'COSTO ELEMENTOS N1'!$C$321:$C$350,1),0)","v":0}]
[998,{"$f":"'TRAFOS MUESTRA'!B1000","v":0},0,0,0,0,0,{"$f":"IFERROR(VLOOKUP(VLOOKUP(B1008,TRAFOS,4,FALSE),'COSTO ELEMENTOS N1'!$C$321:$C$350,1),0)","v":0}]
[999,{"$f":"'TRAFOS MUESTRA'!B1001","v":0},0,0,0,0,0,{"$f":"IFERROR(VLOOKUP(VLOOKUP(B1009,TRAFOS,4,FALSE),'COSTO ELEMENTOS N1'!$C$321:$C$350,1),0)","v":0}]
[1000,{"$f":"'TRAFOS MUESTRA'!B1002","v":0},0,0,0,0,0,{"$f":"IFERROR(VLOOKUP(VLOOKUP(B1010,TRAFOS,4,FALSE),'COSTO ELEMENTOS N1'!$C$321:$C$350,1),0)","v":0}]
[1001,{"$f":"'TRAFOS MUESTRA'!B1003","v":0},0,0,0,0,0,{"$f":"IFERROR(VLOOKUP(VLOOKUP(B1011,TRAFOS,4,FALSE),'COSTO ELEMENTOS N1'!$C$321:$C$350,1),0)","v":0}]
[1002,{"$f":"'TRAFOS MUESTRA'!B1004","v":0},0,0,0,0,0,{"$f":"IFERROR(VLOOKUP(VLOOKUP(B1012,TRAFOS,4,FALSE),'COSTO ELEMENTOS N1'!$C$321:$C$350,1),0)","v":0}]
[1003,{"$f":"'TRAFOS MUESTRA'!B1005","v":0},0,0,0,0,0,{"$f":"IFERROR(VLOOKUP(VLOOKUP(B1013,TRAFOS,4,FALSE),'COSTO ELEMENTOS N1'!$C$321:$C$350,1),0)","v":0}]
[1004,{"$f":"'TRAFOS MUESTRA'!B1006","v":0},0,0,0,0,0,{"$f":"IFERROR(VLOOKUP(VLOOKUP(B1014,TRAFOS,4,FALSE),'COSTO ELEMENTOS N1'!$C$321:$C$350,1),0)","v":0}]
[1005,{"$f":"'TRAFOS MUESTRA'!B1007","v":0},0,0,0,0,0,{"$f":"IFERROR(VLOOKUP(VLOOKUP(B1015,TRAFOS,4,FALSE),'COSTO ELEMENTOS N1'!$C$321:$C$350,1),0)","v":0}]
[1006,{"$f":"'TRAFOS MUESTRA'!B1008","v":0},0,0,0,0,0,{"$f":"IFERROR(VLOOKUP(VLOOKUP(B1016,TRAFOS,4,FALSE),'COSTO ELEMENTOS N1'!$C$321:$C$350,1),0)","v":0}]
[1007,{"$f":"'TRAFOS MUESTRA'!B1009","v":0},0,0,0,0,0,{"$f":"IFERROR(VLOOKUP(VLOOKUP(B1017,TRAFOS,4,FALSE),'COSTO ELEMENTOS N1'!$C$321:$C$350,1),0)","v":0}]
[1008,{"$f":"'TRAFOS MUESTRA'!B1010","v":0},0,0,0,0,0,{"$f":"IFERROR(VLOOKUP(VLOOKUP(B1018,TRAFOS,4,FALSE),'COSTO ELEMENTOS N1'!$C$321:$C$350,1),0)","v":0}]
[1009,{"$f":"'TRAFOS MUESTRA'!B1011","v":0},0,0,0,0,0,{"$f":"IFERROR(VLOOKUP(VLOOKUP(B1019,TRAFOS,4,FALSE),'COSTO ELEMENTOS N1'!$C$321:$C$350,1),0)","v":0}]
[1010,{"$f":"'TRAFOS MUESTRA'!B1012","v":0},0,0,0,0,0,{"$f":"IFERROR(VLOOKUP(VLOOKUP(B1020,TRAFOS,4,FALSE),'COSTO ELEMENTOS N1'!$C$321:$C$350,1),0)","v":0}]
[1011,{"$f":"'TRAFOS MUESTRA'!B1013","v":0},0,0,0,0,0,{"$f":"IFERROR(VLOOKUP(VLOOKUP(B1021,TRAFOS,4,FALSE),'COSTO ELEMENTOS N1'!$C$321:$C$350,1),0)","v":0}]
[1012,{"$f":"'TRAFOS MUESTRA'!B1014","v":0},0,0,0,0,0,{"$f":"IFERROR(VLOOKUP(VLOOKUP(B1022,TRAFOS,4,FALSE),'COSTO ELEMENTOS N1'!$C$321:$C$350,1),0)","v":0}]
[1013,{"$f":"'TRAFOS MUESTRA'!B1015","v":0},0,0,0,0,0,{"$f":"IFERROR(VLOOKUP(VLOOKUP(B1023,TRAFOS,4,FALSE),'COSTO ELEMENTOS N1'!$C$321:$C$350,1),0)","v":0}]
[1014,{"$f":"'TRAFOS MUESTRA'!B1016","v":0},0,0,0,0,0,{"$f":"IFERROR(VLOOKUP(VLOOKUP(B1024,TRAFOS,4,FALSE),'COSTO ELEMENTOS N1'!$C$321:$C$350,1),0)","v":0}]
[1015,{"$f":"'TRAFOS MUESTRA'!B1017","v":0},0,0,0,0,0,{"$f":"IFERROR(VLOOKUP(VLOOKUP(B1025,TRAFOS,4,FALSE),'COSTO ELEMENTOS N1'!$C$321:$C$350,1),0)","v":0}]
[1016,{"$f":"'TRAFOS MUESTRA'!B1018","v":0},0,0,0,0,0,{"$f":"IFERROR(VLOOKUP(VLOOKUP(B1026,TRAFOS,4,FALSE),'COSTO ELEMENTOS N1'!$C$321:$C$350,1),0)","v":0}]
[1017,{"$f":"'TRAFOS MUESTRA'!B1019","v":0},0,0,0,0,0,{"$f":"IFERROR(VLOOKUP(VLOOKUP(B1027,TRAFOS,4,FALSE),'COSTO ELEMENTOS N1'!$C$321:$C$350,1),0)","v":0}]
[1018,{"$f":"'TRAFOS MUESTRA'!B1020","v":0},0,0,0,0,0,{"$f":"IFERROR(VLOOKUP(VLOOKUP(B1028,TRAFOS,4,FALSE),'COSTO ELEMENTOS N1'!$C$321:$C$350,1),0)","v":0}]
[1019,{"$f":"'TRAFOS MUESTRA'!B1021","v":0},0,0,0,0,0,{"$f":"IFERROR(VLOOKUP(VLOOKUP(B1029,TRAFOS,4,FALSE),'COSTO ELEMENTOS N1'!$C$321:$C$350,1),0)","v":0}]
[1020,{"$f":"'TRAFOS MUESTRA'!B1022","v":0},0,0,0,0,0,{"$f":"IFERROR(VLOOKUP(VLOOKUP(B1030,TRAFOS,4,FALSE),'COSTO ELEMENTOS N1'!$C$321:$C$350,1),0)","v":0}]
[1021,{"$f":"'TRAFOS MUESTRA'!B1023","v":0},0,0,0,0,0,{"$f":"IFERROR(VLOOKUP(VLOOKUP(B1031,TRAFOS,4,FALSE),'COSTO ELEMENTOS N1'!$C$321:$C$350,1),0)","v":0}]
[1022,{"$f":"'TRAFOS MUESTRA'!B1024","v":0},0,0,0,0,0,{"$f":"IFERROR(VLOOKUP(VLOOKUP(B1032,TRAFOS,4,FALSE),'COSTO ELEMENTOS N1'!$C$321:$C$350,1),0)","v":0}]
[1023,{"$f":"'TRAFOS MUESTRA'!B1025","v":0},0,0,0,0,0,{"$f":"IFERROR(VLOOKUP(VLOOKUP(B1033,TRAFOS,4,FALSE),'COSTO ELEMENTOS N1'!$C$321:$C$350,1),0)","v":0}]
[1024,{"$f":"'TRAFOS MUESTRA'!B1026","v":0},0,0,0,0,0,{"$f":"IFERROR(VLOOKUP(VLOOKUP(B1034,TRAFOS,4,FALSE),'COSTO ELEMENTOS N1'!$C$321:$C$350,1),0)","v":0}]
[1025,{"$f":"'TRAFOS MUESTRA'!B1027","v":0},{"$f":"IFERROR(VLOOKUP(B1035,TRAFOS,3,FALSE),0)","v":0},{"$f":"IFERROR(SUMIF(CODIGO_TRAFOS_REDES,$B1035,COSTO_CONDUCTOR_TRAMO),0)","v":0},{"$f":"IFERROR(SUMIF(CODIGO_TRAFOS_REDES,$B1035,COSTO_APOYOS_TRAMO),0)","v":0},{"$f":"IFERROR(IF(H1035>15,VLOOKUP(H1035,COSTO_TRAFOS_3F,6,FALSE),VLOOKUP(H1035,COSTO_TRAFOS_1F,6,FALSE)),0)","v":0},0,{"$f":"IFERROR(VLOOKUP(VLOOKUP(B1035,TRAFOS,4,FALSE),'COSTO ELEMENTOS N1'!$C$321:$C$350,1),0)","v":0}]
[1026,{"$f":"'TRAFOS MUESTRA'!B1028","v":0},0,0,0,0,{"$f":"SUM(D1036:F1036)","v":0},{"$f":"IFERROR(VLOOKUP(VLOOKUP(B1036,TRAFOS,4,FALSE),'COSTO ELEMENTOS N1'!$C$321:$C$350,1),0)","v":0}]
[{"$f":"A1036+1","v":1027},{"$f":"'TRAFOS MUESTRA'!B1029","v":0},0,0,0,0,0,{"$f":"IFERROR(VLOOKUP(VLOOKUP(B1037,TRAFOS,4,FALSE),'COSTO ELEMENTOS N1'!$C$321:$C$350,1),0)","v":0}]
[1028,{"$f":"'TRAFOS MUESTRA'!B1030","v":0},0,0,0,0,0,{"$f":"IFERROR(VLOOKUP(VLOOKUP(B1038,TRAFOS,4,FALSE),'COSTO ELEMENTOS N1'!$C$321:$C$350,1),0)","v":0}]
[1029,{"$f":"'TRAFOS MUESTRA'!B1031","v":0},0,0,0,0,0,{"$f":"IFERROR(VLOOKUP(VLOOKUP(B1039,TRAFOS,4,FALSE),'COSTO ELEMENTOS N1'!$C$321:$C$350,1),0)","v":0}]
[1030,{"$f":"'TRAFOS MUESTRA'!B1032","v":0},0,0,0,0,0,{"$f":"IFERROR(VLOOKUP(VLOOKUP(B1040,TRAFOS,4,FALSE),'COSTO ELEMENTOS N1'!$C$321:$C$350,1),0)","v":0}]
[1031,{"$f":"'TRAFOS MUESTRA'!B1033","v":0},0,0,0,0,0,{"$f":"IFERROR(VLOOKUP(VLOOKUP(B1041,TRAFOS,4,FALSE),'COSTO ELEMENTOS N1'!$C$321:$C$350,1),0)","v":0}]
[1032,{"$f":"'TRAFOS MUESTRA'!B1034","v":0},0,0,0,0,0,{"$f":"IFERROR(VLOOKUP(VLOOKUP(B1042,TRAFOS,4,FALSE),'COSTO ELEMENTOS N1'!$C$321:$C$350,1),0)","v":0}]
[1033,{"$f":"'TRAFOS MUESTRA'!B1035","v":0},0,0,0,0,0,{"$f":"IFERROR(VLOOKUP(VLOOKUP(B1043,TRAFOS,4,FALSE),'COSTO ELEMENTOS N1'!$C$321:$C$350,1),0)","v":0}]
[1034,{"$f":"'TRAFOS MUESTRA'!B1036","v":0},0,0,0,0,0,{"$f":"IFERROR(VLOOKUP(VLOOKUP(B1044,TRAFOS,4,FALSE),'COSTO ELEMENTOS N1'!$C$321:$C$350,1),0)","v":0}]
[1035,{"$f":"'TRAFOS MUESTRA'!B1037","v":0},0,0,0,0,0,{"$f":"IFERROR(VLOOKUP(VLOOKUP(B1045,TRAFOS,4,FALSE),'COSTO ELEMENTOS N1'!$C$321:$C$350,1),0)","v":0}]
[1036,{"$f":"'TRAFOS MUESTRA'!B1038","v":0},0,0,0,0,0,{"$f":"IFERROR(VLOOKUP(VLOOKUP(B1046,TRAFOS,4,FALSE),'COSTO ELEMENTOS N1'!$C$321:$C$350,1),0)","v":0}]
[1037,{"$f":"'TRAFOS MUESTRA'!B1039","v":0},0,0,0,0,0,{"$f":"IFERROR(VLOOKUP(VLOOKUP(B1047,TRAFOS,4,FALSE),'COSTO ELEMENTOS N1'!$C$321:$C$350,1),0)","v":0}]
[1038,{"$f":"'TRAFOS MUESTRA'!B1040","v":0},0,0,0,0,0,{"$f":"IFERROR(VLOOKUP(VLOOKUP(B1048,TRAFOS,4,FALSE),'COSTO ELEMENTOS N1'!$C$321:$C$350,1),0)","v":0}]
[1039,{"$f":"'TRAFOS MUESTRA'!B1041","v":0},0,0,0,0,0,{"$f":"IFERROR(VLOOKUP(VLOOKUP(B1049,TRAFOS,4,FALSE),'COSTO ELEMENTOS N1'!$C$321:$C$350,1),0)","v":0}]
[1040,{"$f":"'TRAFOS MUESTRA'!B1042","v":0},0,0,0,0,0,{"$f":"IFERROR(VLOOKUP(VLOOKUP(B1050,TRAFOS,4,FALSE),'COSTO ELEMENTOS N1'!$C$321:$C$350,1),0)","v":0}]
[1041,{"$f":"'TRAFOS MUESTRA'!B1043","v":0},0,0,0,0,0,{"$f":"IFERROR(VLOOKUP(VLOOKUP(B1051,TRAFOS,4,FALSE),'COSTO ELEMENTOS N1'!$C$321:$C$350,1),0)","v":0}]
[1042,{"$f":"'TRAFOS MUESTRA'!B1044","v":0},0,0,0,0,0,{"$f":"IFERROR(VLOOKUP(VLOOKUP(B1052,TRAFOS,4,FALSE),'COSTO ELEMENTOS N1'!$C$321:$C$350,1),0)","v":0}]
[1043,{"$f":"'TRAFOS MUESTRA'!B1045","v":0},0,0,0,0,0,{"$f":"IFERROR(VLOOKUP(VLOOKUP(B1053,TRAFOS,4,FALSE),'COSTO ELEMENTOS N1'!$C$321:$C$350,1),0)","v":0}]
[1044,{"$f":"'TRAFOS MUESTRA'!B1046","v":0},0,0,0,0,0,{"$f":"IFERROR(VLOOKUP(VLOOKUP(B1054,TRAFOS,4,FALSE),'COSTO ELEMENTOS N1'!$C$321:$C$350,1),0)","v":0}]
[1045,{"$f":"'TRAFOS MUESTRA'!B1047","v":0},0,0,0,0,0,{"$f":"IFERROR(VLOOKUP(VLOOKUP(B1055,TRAFOS,4,FALSE),'COSTO ELEMENTOS N1'!$C$321:$C$350,1),0)","v":0}]
[1046,{"$f":"'TRAFOS MUESTRA'!B1048","v":0},0,0,0,0,0,{"$f":"IFERROR(VLOOKUP(VLOOKUP(B1056,TRAFOS,4,FALSE),'COSTO ELEMENTOS N1'!$C$321:$C$350,1),0)","v":0}]
[1047,{"$f":"'TRAFOS MUESTRA'!B1049","v":0},0,0,0,0,0,{"$f":"IFERROR(VLOOKUP(VLOOKUP(B1057,TRAFOS,4,FALSE),'COSTO ELEMENTOS N1'!$C$321:$C$350,1),0)","v":0}]
[1048,{"$f":"'TRAFOS MUESTRA'!B1050","v":0},0,0,0,0,0,{"$f":"IFERROR(VLOOKUP(VLOOKUP(B1058,TRAFOS,4,FALSE),'COSTO ELEMENTOS N1'!$C$321:$C$350,1),0)","v":0}]
[1049,{"$f":"'TRAFOS MUESTRA'!B1051","v":0},0,0,0,0,0,{"$f":"IFERROR(VLOOKUP(VLOOKUP(B1059,TRAFOS,4,FALSE),'COSTO ELEMENTOS N1'!$C$321:$C$350,1),0)","v":0}]
[1050,{"$f":"'TRAFOS MUESTRA'!B1052","v":0},0,0,0,0,0,{"$f":"IFERROR(VLOOKUP(VLOOKUP(B1060,TRAFOS,4,FALSE),'COSTO ELEMENTOS N1'!$C$321:$C$350,1),0)","v":0}]
[1051,{"$f":"'TRAFOS MUESTRA'!B1053","v":0},0,0,0,0,0,{"$f":"IFERROR(VLOOKUP(VLOOKUP(B1061,TRAFOS,4,FALSE),'COSTO ELEMENTOS N1'!$C$321:$C$350,1),0)","v":0}]
[1052,{"$f":"'TRAFOS MUESTRA'!B1054","v":0},0,0,0,0,0,{"$f":"IFERROR(VLOOKUP(VLOOKUP(B1062,TRAFOS,4,FALSE),'COSTO ELEMENTOS N1'!$C$321:$C$350,1),0)","v":0}]
[1053,{"$f":"'TRAFOS MUESTRA'!B1055","v":0},0,0,0,0,0,{"$f":"IFERROR(VLOOKUP(VLOOKUP(B1063,TRAFOS,4,FALSE),'COSTO ELEMENTOS N1'!$C$321:$C$350,1),0)","v":0}]
[1054,{"$f":"'TRAFOS MUESTRA'!B1056","v":0},0,0,0,0,0,{"$f":"IFERROR(VLOOKUP(VLOOKUP(B1064,TRAFOS,4,FALSE),'COSTO ELEMENTOS N1'!$C$321:$C$350,1),0)","v":0}]
[1055,{"$f":"'TRAFOS MUESTRA'!B1057","v":0},0,0,0,0,0,{"$f":"IFERROR(VLOOKUP(VLOOKUP(B1065,TRAFOS,4,FALSE),'COSTO ELEMENTOS N1'!$C$321:$C$350,1),0)","v":0}]
[1056,{"$f":"'TRAFOS MUESTRA'!B1058","v":0},0,0,0,0,0,{"$f":"IFERROR(VLOOKUP(VLOOKUP(B1066,TRAFOS,4,FALSE),'COSTO ELEMENTOS N1'!$C$321:$C$350,1),0)","v":0}]
[1057,{"$f":"'TRAFOS MUESTRA'!B1059","v":0},0,0,0,0,0,{"$f":"IFERROR(VLOOKUP(VLOOKUP(B1067,TRAFOS,4,FALSE),'COSTO ELEMENTOS N1'!$C$321:$C$350,1),0)","v":0}]
[1058,{"$f":"'TRAFOS MUESTRA'!B1060","v":0},0,0,0,0,0,{"$f":"IFERROR(VLOOKUP(VLOOKUP(B1068,TRAFOS,4,FALSE),'COSTO ELEMENTOS N1'!$C$321:$C$350,1),0)","v":0}]
[1059,{"$f":"'TRAFOS MUESTRA'!B1061","v":0},0,0,0,0,0,{"$f":"IFERROR(VLOOKUP(VLOOKUP(B1069,TRAFOS,4,FALSE),'COSTO ELEMENTOS N1'!$C$321:$C$350,1),0)","v":0}]
[1060,{"$f":"'TRAFOS MUESTRA'!B1062","v":0},0,0,0,0,0,{"$f":"IFERROR(VLOOKUP(VLOOKUP(B1070,TRAFOS,4,FALSE),'COSTO ELEMENTOS N1'!$C$321:$C$350,1),0)","v":0}]
[1061,{"$f":"'TRAFOS MUESTRA'!B1063","v":0},0,0,0,0,0,{"$f":"IFERROR(VLOOKUP(VLOOKUP(B1071,TRAFOS,4,FALSE),'COSTO ELEMENTOS N1'!$C$321:$C$350,1),0)","v":0}]
[1062,{"$f":"'TRAFOS MUESTRA'!B1064","v":0},0,0,0,0,0,{"$f":"IFERROR(VLOOKUP(VLOOKUP(B1072,TRAFOS,4,FALSE),'COSTO ELEMENTOS N1'!$C$321:$C$350,1),0)","v":0}]
[1063,{"$f":"'TRAFOS MUESTRA'!B1065","v":0},0,0,0,0,0,{"$f":"IFERROR(VLOOKUP(VLOOKUP(B1073,TRAFOS,4,FALSE),'COSTO ELEMENTOS N1'!$C$321:$C$350,1),0)","v":0}]
[1064,{"$f":"'TRAFOS MUESTRA'!B1066","v":0},0,0,0,0,0,{"$f":"IFERROR(VLOOKUP(VLOOKUP(B1074,TRAFOS,4,FALSE),'COSTO ELEMENTOS N1'!$C$321:$C$350,1),0)","v":0}]
[1065,{"$f":"'TRAFOS MUESTRA'!B1067","v":0},0,0,0,0,0,{"$f":"IFERROR(VLOOKUP(VLOOKUP(B1075,TRAFOS,4,FALSE),'COSTO ELEMENTOS N1'!$C$321:$C$350,1),0)","v":0}]
[1066,{"$f":"'TRAFOS MUESTRA'!B1068","v":0},0,0,0,0,0,{"$f":"IFERROR(VLOOKUP(VLOOKUP(B1076,TRAFOS,4,FALSE),'COSTO ELEMENTOS N1'!$C$321:$C$350,1),0)","v":0}]
[1067,{"$f":"'TRAFOS MUESTRA'!B1069","v":0},0,0,0,0,0,{"$f":"IFERROR(VLOOKUP(VLOOKUP(B1077,TRAFOS,4,FALSE),'COSTO ELEMENTOS N1'!$C$321:$C$350,1),0)","v":0}]
[1068,{"$f":"'TRAFOS MUESTRA'!B1070","v":0},0,0,0,0,0,{"$f":"IFERROR(VLOOKUP(VLOOKUP(B1078,TRAFOS,4,FALSE),'COSTO ELEMENTOS N1'!$C$321:$C$350,1),0)","v":0}]
[1069,{"$f":"'TRAFOS MUESTRA'!B1071","v":0},0,0,0,0,0,{"$f":"IFERROR(VLOOKUP(VLOOKUP(B1079,TRAFOS,4,FALSE),'COSTO ELEMENTOS N1'!$C$321:$C$350,1),0)","v":0}]
[1070,{"$f":"'TRAFOS MUESTRA'!B1072","v":0},0,0,0,0,0,{"$f":"IFERROR(VLOOKUP(VLOOKUP(B1080,TRAFOS,4,FALSE),'COSTO ELEMENTOS N1'!$C$321:$C$350,1),0)","v":0}]
[1071,{"$f":"'TRAFOS MUESTRA'!B1073","v":0},0,0,0,0,0,{"$f":"IFERROR(VLOOKUP(VLOOKUP(B1081,TRAFOS,4,FALSE),'COSTO ELEMENTOS N1'!$C$321:$C$350,1),0)","v":0}]
[1072,{"$f":"'TRAFOS MUESTRA'!B1074","v":0},0,0,0,0,0,{"$f":"IFERROR(VLOOKUP(VLOOKUP(B1082,TRAFOS,4,FALSE),'COSTO ELEMENTOS N1'!$C$321:$C$350,1),0)","v":0}]
[1073,{"$f":"'TRAFOS MUESTRA'!B1075","v":0},0,0,0,0,0,{"$f":"IFERROR(VLOOKUP(VLOOKUP(B1083,TRAFOS,4,FALSE),'COSTO ELEMENTOS N1'!$C$321:$C$350,1),0)","v":0}]
[1074,{"$f":"'TRAFOS MUESTRA'!B1076","v":0},0,0,0,0,0,{"$f":"IFERROR(VLOOKUP(VLOOKUP(B1084,TRAFOS,4,FALSE),'COSTO ELEMENTOS N1'!$C$321:$C$350,1),0)","v":0}]
[1075,{"$f":"'TRAFOS MUESTRA'!B1077","v":0},0,0,0,0,0,{"$f":"IFERROR(VLOOKUP(VLOOKUP(B1085,TRAFOS,4,FALSE),'COSTO ELEMENTOS N1'!$C$321:$C$350,1),0)","v":0}]
[1076,{"$f":"'TRAFOS MUESTRA'!B1078","v":0},0,0,0,0,0,{"$f":"IFERROR(VLOOKUP(VLOOKUP(B1086,TRAFOS,4,FALSE),'COSTO ELEMENTOS N1'!$C$321:$C$350,1),0)","v":0}]
[1077,{"$f":"'TRAFOS MUESTRA'!B1079","v":0},0,0,0,0,0,{"$f":"IFERROR(VLOOKUP(VLOOKUP(B1087,TRAFOS,4,FALSE),'COSTO ELEMENTOS N1'!$C$321:$C$350,1),0)","v":0}]
[1078,{"$f":"'TRAFOS MUESTRA'!B1080","v":0},0,0,0,0,0,{"$f":"IFERROR(VLOOKUP(VLOOKUP(B1088,TRAFOS,4,FALSE),'COSTO ELEMENTOS N1'!$C$321:$C$350,1),0)","v":0}]
[1079,{"$f":"'TRAFOS MUESTRA'!B1081","v":0},0,0,0,0,0,{"$f":"IFERROR(VLOOKUP(VLOOKUP(B1089,TRAFOS,4,FALSE),'COSTO ELEMENTOS N1'!$C$321:$C$350,1),0)","v":0}]
[1080,{"$f":"'TRAFOS MUESTRA'!B1082","v":0},0,0,0,0,0,{"$f":"IFERROR(VLOOKUP(VLOOKUP(B1090,TRAFOS,4,FALSE),'COSTO ELEMENTOS N1'!$C$321:$C$350,1),0)","v":0}]
[1081,{"$f":"'TRAFOS MUESTRA'!B1083","v":0},0,0,0,0,0,{"$f":"IFERROR(VLOOKUP(VLOOKUP(B1091,TRAFOS,4,FALSE),'COSTO ELEMENTOS N1'!$C$321:$C$350,1),0)","v":0}]
[1082,{"$f":"'TRAFOS MUESTRA'!B1084","v":0},0,0,0,0,0,{"$f":"IFERROR(VLOOKUP(VLOOKUP(B1092,TRAFOS,4,FALSE),'COSTO ELEMENTOS N1'!$C$321:$C$350,1),0)","v":0}]
[1083,{"$f":"'TRAFOS MUESTRA'!B1085","v":0},0,0,0,0,0,{"$f":"IFERROR(VLOOKUP(VLOOKUP(B1093,TRAFOS,4,FALSE),'COSTO ELEMENTOS N1'!$C$321:$C$350,1),0)","v":0}]
[1084,{"$f":"'TRAFOS MUESTRA'!B1086","v":0},0,0,0,0,0,{"$f":"IFERROR(VLOOKUP(VLOOKUP(B1094,TRAFOS,4,FALSE),'COSTO ELEMENTOS N1'!$C$321:$C$350,1),0)","v":0}]
[1085,{"$f":"'TRAFOS MUESTRA'!B1087","v":0},0,0,0,0,0,{"$f":"IFERROR(VLOOKUP(VLOOKUP(B1095,TRAFOS,4,FALSE),'COSTO ELEMENTOS N1'!$C$321:$C$350,1),0)","v":0}]
[1086,{"$f":"'TRAFOS MUESTRA'!B1088","v":0},0,0,0,0,0,{"$f":"IFERROR(VLOOKUP(VLOOKUP(B1096,TRAFOS,4,FALSE),'COSTO ELEMENTOS N1'!$C$321:$C$350,1),0)","v":0}]
[1087,{"$f":"'TRAFOS MUESTRA'!B1089","v":0},0,0,0,0,0,{"$f":"IFERROR(VLOOKUP(VLOOKUP(B1097,TRAFOS,4,FALSE),'COSTO ELEMENTOS N1'!$C$321:$C$350,1),0)","v":0}]
[1088,{"$f":"'TRAFOS MUESTRA'!B1090","v":0},0,0,0,0,0,{"$f":"IFERROR(VLOOKUP(VLOOKUP(B1098,TRAFOS,4,FALSE),'COSTO ELEMENTOS N1'!$C$321:$C$350,1),0)","v":0}]
[1089,{"$f":"'TRAFOS MUESTRA'!B1091","v":0},{"$f":"IFERROR(VLOOKUP(B1099,TRAFOS,3,FALSE),0)","v":0},{"$f":"IFERROR(SUMIF(CODIGO_TRAFOS_REDES,$B1099,COSTO_CONDUCTOR_TRAMO),0)","v":0},{"$f":"IFERROR(SUMIF(CODIGO_TRAFOS_REDES,$B1099,COSTO_APOYOS_TRAMO),0)","v":0},{"$f":"IFERROR(IF(H1099>15,VLOOKUP(H1099,COSTO_TRAFOS_3F,6,FALSE),VLOOKUP(H1099,COSTO_TRAFOS_1F,6,FALSE)),0)","v":0},0,{"$f":"IFERROR(VLOOKUP(VLOOKUP(B1099,TRAFOS,4,FALSE),'COSTO ELEMENTOS N1'!$C$321:$C$350,1),0)","v":0}]
[1090,{"$f":"'TRAFOS MUESTRA'!B1092","v":0},0,0,0,0,{"$f":"SUM(D1100:F1100)","v":0},{"$f":"IFERROR(VLOOKUP(VLOOKUP(B1100,TRAFOS,4,FALSE),'COSTO ELEMENTOS N1'!$C$321:$C$350,1),0)","v":0}]
[{"$f":"A1100+1","v":1091},{"$f":"'TRAFOS MUESTRA'!B1093","v":0},0,0,0,0,0,{"$f":"IFERROR(VLOOKUP(VLOOKUP(B1101,TRAFOS,4,FALSE),'COSTO ELEMENTOS N1'!$C$321:$C$350,1),0)","v":0}]
[1092,{"$f":"'TRAFOS MUESTRA'!B1094","v":0},0,0,0,0,0,{"$f":"IFERROR(VLOOKUP(VLOOKUP(B1102,TRAFOS,4,FALSE),'COSTO ELEMENTOS N1'!$C$321:$C$350,1),0)","v":0}]
[1093,{"$f":"'TRAFOS MUESTRA'!B1095","v":0},0,0,0,0,0,{"$f":"IFERROR(VLOOKUP(VLOOKUP(B1103,TRAFOS,4,FALSE),'COSTO ELEMENTOS N1'!$C$321:$C$350,1),0)","v":0}]
[1094,{"$f":"'TRAFOS MUESTRA'!B1096","v":0},0,0,0,0,0,{"$f":"IFERROR(VLOOKUP(VLOOKUP(B1104,TRAFOS,4,FALSE),'COSTO ELEMENTOS N1'!$C$321:$C$350,1),0)","v":0}]
[1095,{"$f":"'TRAFOS MUESTRA'!B1097","v":0},0,0,0,0,0,{"$f":"IFERROR(VLOOKUP(VLOOKUP(B1105,TRAFOS,4,FALSE),'COSTO ELEMENTOS N1'!$C$321:$C$350,1),0)","v":0}]
[1096,{"$f":"'TRAFOS MUESTRA'!B1098","v":0},0,0,0,0,0,{"$f":"IFERROR(VLOOKUP(VLOOKUP(B1106,TRAFOS,4,FALSE),'COSTO ELEMENTOS N1'!$C$321:$C$350,1),0)","v":0}]
[1097,{"$f":"'TRAFOS MUESTRA'!B1099","v":0},0,0,0,0,0,{"$f":"IFERROR(VLOOKUP(VLOOKUP(B1107,TRAFOS,4,FALSE),'COSTO ELEMENTOS N1'!$C$321:$C$350,1),0)","v":0}]
[1098,{"$f":"'TRAFOS MUESTRA'!B1100","v":0},0,0,0,0,0,{"$f":"IFERROR(VLOOKUP(VLOOKUP(B1108,TRAFOS,4,FALSE),'COSTO ELEMENTOS N1'!$C$321:$C$350,1),0)","v":0}]
[1099,{"$f":"'TRAFOS MUESTRA'!B1101","v":0},0,0,0,0,0,{"$f":"IFERROR(VLOOKUP(VLOOKUP(B1109,TRAFOS,4,FALSE),'COSTO ELEMENTOS N1'!$C$321:$C$350,1),0)","v":0}]
[1100,{"$f":"'TRAFOS MUESTRA'!B1102","v":0},0,0,0,0,0,{"$f":"IFERROR(VLOOKUP(VLOOKUP(B1110,TRAFOS,4,FALSE),'COSTO ELEMENTOS N1'!$C$321:$C$350,1),0)","v":0}]
[1101,{"$f":"'TRAFOS MUESTRA'!B1103","v":0},0,0,0,0,0,{"$f":"IFERROR(VLOOKUP(VLOOKUP(B1111,TRAFOS,4,FALSE),'COSTO ELEMENTOS N1'!$C$321:$C$350,1),0)","v":0}]
[1102,{"$f":"'TRAFOS MUESTRA'!B1104","v":0},0,0,0,0,0,{"$f":"IFERROR(VLOOKUP(VLOOKUP(B1112,TRAFOS,4,FALSE),'COSTO ELEMENTOS N1'!$C$321:$C$350,1),0)","v":0}]
[1103,{"$f":"'TRAFOS MUESTRA'!B1105","v":0},0,0,0,0,0,{"$f":"IFERROR(VLOOKUP(VLOOKUP(B1113,TRAFOS,4,FALSE),'COSTO ELEMENTOS N1'!$C$321:$C$350,1),0)","v":0}]
[1104,{"$f":"'TRAFOS MUESTRA'!B1106","v":0},0,0,0,0,0,{"$f":"IFERROR(VLOOKUP(VLOOKUP(B1114,TRAFOS,4,FALSE),'COSTO ELEMENTOS N1'!$C$321:$C$350,1),0)","v":0}]
[1105,{"$f":"'TRAFOS MUESTRA'!B1107","v":0},0,0,0,0,0,{"$f":"IFERROR(VLOOKUP(VLOOKUP(B1115,TRAFOS,4,FALSE),'COSTO ELEMENTOS N1'!$C$321:$C$350,1),0)","v":0}]
[1106,{"$f":"'TRAFOS MUESTRA'!B1108","v":0},0,0,0,0,0,{"$f":"IFERROR(VLOOKUP(VLOOKUP(B1116,TRAFOS,4,FALSE),'COSTO ELEMENTOS N1'!$C$321:$C$350,1),0)","v":0}]
[1107,{"$f":"'TRAFOS MUESTRA'!B1109","v":0},0,0,0,0,0,{"$f":"IFERROR(VLOOKUP(VLOOKUP(B1117,TRAFOS,4,FALSE),'COSTO ELEMENTOS N1'!$C$321:$C$350,1),0)","v":0}]
[1108,{"$f":"'TRAFOS MUESTRA'!B1110","v":0},0,0,0,0,0,{"$f":"IFERROR(VLOOKUP(VLOOKUP(B1118,TRAFOS,4,FALSE),'COSTO ELEMENTOS N1'!$C$321:$C$350,1),0)","v":0}]
[1109,{"$f":"'TRAFOS MUESTRA'!B1111","v":0},0,0,0,0,0,{"$f":"IFERROR(VLOOKUP(VLOOKUP(B1119,TRAFOS,4,FALSE),'COSTO ELEMENTOS N1'!$C$321:$C$350,1),0)","v":0}]
[1110,{"$f":"'TRAFOS MUESTRA'!B1112","v":0},0,0,0,0,0,{"$f":"IFERROR(VLOOKUP(VLOOKUP(B1120,TRAFOS,4,FALSE),'COSTO ELEMENTOS N1'!$C$321:$C$350,1),0)","v":0}]
[1111,{"$f":"'TRAFOS MUESTRA'!B1113","v":0},0,0,0,0,0,{"$f":"IFERROR(VLOOKUP(VLOOKUP(B1121,TRAFOS,4,FALSE),'COSTO ELEMENTOS N1'!$C$321:$C$350,1),0)","v":0}]
[1112,{"$f":"'TRAFOS MUESTRA'!B1114","v":0},0,0,0,0,0,{"$f":"IFERROR(VLOOKUP(VLOOKUP(B1122,TRAFOS,4,FALSE),'COSTO ELEMENTOS N1'!$C$321:$C$350,1),0)","v":0}]
[1113,{"$f":"'TRAFOS MUESTRA'!B1115","v":0},0,0,0,0,0,{"$f":"IFERROR(VLOOKUP(VLOOKUP(B1123,TRAFOS,4,FALSE),'COSTO ELEMENTOS N1'!$C$321:$C$350,1),0)","v":0}]
[1114,{"$f":"'TRAFOS MUESTRA'!B1116","v":0},0,0,0,0,0,{"$f":"IFERROR(VLOOKUP(VLOOKUP(B1124,TRAFOS,4,FALSE),'COSTO ELEMENTOS N1'!$C$321:$C$350,1),0)","v":0}]
[1115,{"$f":"'TRAFOS MUESTRA'!B1117","v":0},0,0,0,0,0,{"$f":"IFERROR(VLOOKUP(VLOOKUP(B1125,TRAFOS,4,FALSE),'COSTO ELEMENTOS N1'!$C$321:$C$350,1),0)","v":0}]
[1116,{"$f":"'TRAFOS MUESTRA'!B1118","v":0},0,0,0,0,0,{"$f":"IFERROR(VLOOKUP(VLOOKUP(B1126,TRAFOS,4,FALSE),'COSTO ELEMENTOS N1'!$C$321:$C$350,1),0)","v":0}]
[1117,{"$f":"'TRAFOS MUESTRA'!B1119","v":0},0,0,0,0,0,{"$f":"IFERROR(VLOOKUP(VLOOKUP(B1127,TRAFOS,4,FALSE),'COSTO ELEMENTOS N1'!$C$321:$C$350,1),0)","v":0}]
[1118,{"$f":"'TRAFOS MUESTRA'!B1120","v":0},0,0,0,0,0,{"$f":"IFERROR(VLOOKUP(VLOOKUP(B1128,TRAFOS,4,FALSE),'COSTO ELEMENTOS N1'!$C$321:$C$350,1),0)","v":0}]
[1119,{"$f":"'TRAFOS MUESTRA'!B1121","v":0},0,0,0,0,0,{"$f":"IFERROR(VLOOKUP(VLOOKUP(B1129,TRAFOS,4,FALSE),'COSTO ELEMENTOS N1'!$C$321:$C$350,1),0)","v":0}]
[1120,{"$f":"'TRAFOS MUESTRA'!B1122","v":0},0,0,0,0,0,{"$f":"IFERROR(VLOOKUP(VLOOKUP(B1130,TRAFOS,4,FALSE),'COSTO ELEMENTOS N1'!$C$321:$C$350,1),0)","v":0}]
[1121,{"$f":"'TRAFOS MUESTRA'!B1123","v":0},0,0,0,0,0,{"$f":"IFERROR(VLOOKUP(VLOOKUP(B1131,TRAFOS,4,FALSE),'COSTO ELEMENTOS N1'!$C$321:$C$350,1),0)","v":0}]
[1122,{"$f":"'TRAFOS MUESTRA'!B1124","v":0},0,0,0,0,0,{"$f":"IFERROR(VLOOKUP(VLOOKUP(B1132,TRAFOS,4,FALSE),'COSTO ELEMENTOS N1'!$C$321:$C$350,1),0)","v":0}]
[1123,{"$f":"'TRAFOS MUESTRA'!B1125","v":0},0,0,0,0,0,{"$f":"IFERROR(VLOOKUP(VLOOKUP(B1133,TRAFOS,4,FALSE),'COSTO ELEMENTOS N1'!$C$321:$C$350,1),0)","v":0}]
[1124,{"$f":"'TRAFOS MUESTRA'!B1126","v":0},0,0,0,0,0,{"$f":"IFERROR(VLOOKUP(VLOOKUP(B1134,TRAFOS,4,FALSE),'COSTO ELEMENTOS N1'!$C$321:$C$350,1),0)","v":0}]
[1125,{"$f":"'TRAFOS MUESTRA'!B1127","v":0},0,0,0,0,0,{"$f":"IFERROR(VLOOKUP(VLOOKUP(B1135,TRAFOS,4,FALSE),'COSTO ELEMENTOS N1'!$C$321:$C$350,1),0)","v":0}]
[1126,{"$f":"'TRAFOS MUESTRA'!B1128","v":0},0,0,0,0,0,{"$f":"IFERROR(VLOOKUP(VLOOKUP(B1136,TRAFOS,4,FALSE),'COSTO ELEMENTOS N1'!$C$321:$C$350,1),0)","v":0}]
[1127,{"$f":"'TRAFOS MUESTRA'!B1129","v":0},0,0,0,0,0,{"$f":"IFERROR(VLOOKUP(VLOOKUP(B1137,TRAFOS,4,FALSE),'COSTO ELEMENTOS N1'!$C$321:$C$350,1),0)","v":0}]
[1128,{"$f":"'TRAFOS MUESTRA'!B1130","v":0},0,0,0,0,0,{"$f":"IFERROR(VLOOKUP(VLOOKUP(B1138,TRAFOS,4,FALSE),'COSTO ELEMENTOS N1'!$C$321:$C$350,1),0)","v":0}]
[1129,{"$f":"'TRAFOS MUESTRA'!B1131","v":0},0,0,0,0,0,{"$f":"IFERROR(VLOOKUP(VLOOKUP(B1139,TRAFOS,4,FALSE),'COSTO ELEMENTOS N1'!$C$321:$C$350,1),0)","v":0}]
[1130,{"$f":"'TRAFOS MUESTRA'!B1132","v":0},0,0,0,0,0,{"$f":"IFERROR(VLOOKUP(VLOOKUP(B1140,TRAFOS,4,FALSE),'COSTO ELEMENTOS N1'!$C$321:$C$350,1),0)","v":0}]
[1131,{"$f":"'TRAFOS MUESTRA'!B1133","v":0},0,0,0,0,0,{"$f":"IFERROR(VLOOKUP(VLOOKUP(B1141,TRAFOS,4,FALSE),'COSTO ELEMENTOS N1'!$C$321:$C$350,1),0)","v":0}]
[1132,{"$f":"'TRAFOS MUESTRA'!B1134","v":0},0,0,0,0,0,{"$f":"IFERROR(VLOOKUP(VLOOKUP(B1142,TRAFOS,4,FALSE),'COSTO ELEMENTOS N1'!$C$321:$C$350,1),0)","v":0}]
[1133,{"$f":"'TRAFOS MUESTRA'!B1135","v":0},0,0,0,0,0,{"$f":"IFERROR(VLOOKUP(VLOOKUP(B1143,TRAFOS,4,FALSE),'COSTO ELEMENTOS N1'!$C$321:$C$350,1),0)","v":0}]
[1134,{"$f":"'TRAFOS MUESTRA'!B1136","v":0},0,0,0,0,0,{"$f":"IFERROR(VLOOKUP(VLOOKUP(B1144,TRAFOS,4,FALSE),'COSTO ELEMENTOS N1'!$C$321:$C$350,1),0)","v":0}]
[1135,{"$f":"'TRAFOS MUESTRA'!B1137","v":0},0,0,0,0,0,{"$f":"IFERROR(VLOOKUP(VLOOKUP(B1145,TRAFOS,4,FALSE),'COSTO ELEMENTOS N1'!$C$321:$C$350,1),0)","v":0}]
[1136,{"$f":"'TRAFOS MUESTRA'!B1138","v":0},0,0,0,0,0,{"$f":"IFERROR(VLOOKUP(VLOOKUP(B1146,TRAFOS,4,FALSE),'COSTO ELEMENTOS N1'!$C$321:$C$350,1),0)","v":0}]
[1137,{"$f":"'TRAFOS MUESTRA'!B1139","v":0},0,0,0,0,0,{"$f":"IFERROR(VLOOKUP(VLOOKUP(B1147,TRAFOS,4,FALSE),'COSTO ELEMENTOS N1'!$C$321:$C$350,1),0)","v":0}]
[1138,{"$f":"'TRAFOS MUESTRA'!B1140","v":0},0,0,0,0,0,{"$f":"IFERROR(VLOOKUP(VLOOKUP(B1148,TRAFOS,4,FALSE),'COSTO ELEMENTOS N1'!$C$321:$C$350,1),0)","v":0}]
[1139,{"$f":"'TRAFOS MUESTRA'!B1141","v":0},0,0,0,0,0,{"$f":"IFERROR(VLOOKUP(VLOOKUP(B1149,TRAFOS,4,FALSE),'COSTO ELEMENTOS N1'!$C$321:$C$350,1),0)","v":0}]
[1140,{"$f":"'TRAFOS MUESTRA'!B1142","v":0},0,0,0,0,0,{"$f":"IFERROR(VLOOKUP(VLOOKUP(B1150,TRAFOS,4,FALSE),'COSTO ELEMENTOS N1'!$C$321:$C$350,1),0)","v":0}]
[1141,{"$f":"'TRAFOS MUESTRA'!B1143","v":0},0,0,0,0,0,{"$f":"IFERROR(VLOOKUP(VLOOKUP(B1151,TRAFOS,4,FALSE),'COSTO ELEMENTOS N1'!$C$321:$C$350,1),0)","v":0}]
[1142,{"$f":"'TRAFOS MUESTRA'!B1144","v":0},0,0,0,0,0,{"$f":"IFERROR(VLOOKUP(VLOOKUP(B1152,TRAFOS,4,FALSE),'COSTO ELEMENTOS N1'!$C$321:$C$350,1),0)","v":0}]
[1143,{"$f":"'TRAFOS MUESTRA'!B1145","v":0},0,0,0,0,0,{"$f":"IFERROR(VLOOKUP(VLOOKUP(B1153,TRAFOS,4,FALSE),'COSTO ELEMENTOS N1'!$C$321:$C$350,1),0)","v":0}]
[1144,{"$f":"'TRAFOS MUESTRA'!B1146","v":0},0,0,0,0,0,{"$f":"IFERROR(VLOOKUP(VLOOKUP(B1154,TRAFOS,4,FALSE),'COSTO ELEMENTOS N1'!$C$321:$C$350,1),0)","v":0}]
[1145,{"$f":"'TRAFOS MUESTRA'!B1147","v":0},0,0,0,0,0,{"$f":"IFERROR(VLOOKUP(VLOOKUP(B1155,TRAFOS,4,FALSE),'COSTO ELEMENTOS N1'!$C$321:$C$350,1),0)","v":0}]
[1146,{"$f":"'TRAFOS MUESTRA'!B1148","v":0},0,0,0,0,0,{"$f":"IFERROR(VLOOKUP(VLOOKUP(B1156,TRAFOS,4,FALSE),'COSTO ELEMENTOS N1'!$C$321:$C$350,1),0)","v":0}]
[1147,{"$f":"'TRAFOS MUESTRA'!B1149","v":0},0,0,0,0,0,{"$f":"IFERROR(VLOOKUP(VLOOKUP(B1157,TRAFOS,4,FALSE),'COSTO ELEMENTOS N1'!$C$321:$C$350,1),0)","v":0}]
[1148,{"$f":"'TRAFOS MUESTRA'!B1150","v":0},0,0,0,0,0,{"$f":"IFERROR(VLOOKUP(VLOOKUP(B1158,TRAFOS,4,FALSE),'COSTO ELEMENTOS N1'!$C$321:$C$350,1),0)","v":0}]
[1149,{"$f":"'TRAFOS MUESTRA'!B1151","v":0},0,0,0,0,0,{"$f":"IFERROR(VLOOKUP(VLOOKUP(B1159,TRAFOS,4,FALSE),'COSTO ELEMENTOS N1'!$C$321:$C$350,1),0)","v":0}]
[1150,{"$f":"'TRAFOS MUESTRA'!B1152","v":0},0,0,0,0,0,{"$f":"IFERROR(VLOOKUP(VLOOKUP(B1160,TRAFOS,4,FALSE),'COSTO ELEMENTOS N1'!$C$321:$C$350,1),0)","v":0}]
[1151,{"$f":"'TRAFOS MUESTRA'!B1153","v":0},0,0,0,0,0,{"$f":"IFERROR(VLOOKUP(VLOOKUP(B1161,TRAFOS,4,FALSE),'COSTO ELEMENTOS N1'!$C$321:$C$350,1),0)","v":0}]
[1152,{"$f":"'TRAFOS MUESTRA'!B1154","v":0},0,0,0,0,0,{"$f":"IFERROR(VLOOKUP(VLOOKUP(B1162,TRAFOS,4,FALSE),'COSTO ELEMENTOS N1'!$C$321:$C$350,1),0)","v":0}]
[1153,{"$f":"'TRAFOS MUESTRA'!B1155","v":0},{"$f":"IFERROR(VLOOKUP(B1163,TRAFOS,3,FALSE),0)","v":0},{"$f":"IFERROR(SUMIF(CODIGO_TRAFOS_REDES,$B1163,COSTO_CONDUCTOR_TRAMO),0)","v":0},{"$f":"IFERROR(SUMIF(CODIGO_TRAFOS_REDES,$B1163,COSTO_APOYOS_TRAMO),0)","v":0},{"$f":"IFERROR(IF(H1163>15,VLOOKUP(H1163,COSTO_TRAFOS_3F,6,FALSE),VLOOKUP(H1163,COSTO_TRAFOS_1F,6,FALSE)),0)","v":0},0,{"$f":"IFERROR(VLOOKUP(VLOOKUP(B1163,TRAFOS,4,FALSE),'COSTO ELEMENTOS N1'!$C$321:$C$350,1),0)","v":0}]
[1154,{"$f":"'TRAFOS MUESTRA'!B1156","v":0},0,0,0,0,{"$f":"SUM(D1164:F1164)","v":0},{"$f":"IFERROR(VLOOKUP(VLOOKUP(B1164,TRAFOS,4,FALSE),'COSTO ELEMENTOS N1'!$C$321:$C$350,1),0)","v":0}]
[{"$f":"A1164+1","v":1155},{"$f":"'TRAFOS MUESTRA'!B1157","v":0},0,0,0,0,0,{"$f":"IFERROR(VLOOKUP(VLOOKUP(B1165,TRAFOS,4,FALSE),'COSTO ELEMENTOS N1'!$C$321:$C$350,1),0)","v":0}]
[1156,{"$f":"'TRAFOS MUESTRA'!B1158","v":0},0,0,0,0,0,{"$f":"IFERROR(VLOOKUP(VLOOKUP(B1166,TRAFOS,4,FALSE),'COSTO ELEMENTOS N1'!$C$321:$C$350,1),0)","v":0}]
[1157,{"$f":"'TRAFOS MUESTRA'!B1159","v":0},0,0,0,0,0,{"$f":"IFERROR(VLOOKUP(VLOOKUP(B1167,TRAFOS,4,FALSE),'COSTO ELEMENTOS N1'!$C$321:$C$350,1),0)","v":0}]
[1158,{"$f":"'TRAFOS MUESTRA'!B1160","v":0},0,0,0,0,0,{"$f":"IFERROR(VLOOKUP(VLOOKUP(B1168,TRAFOS,4,FALSE),'COSTO ELEMENTOS N1'!$C$321:$C$350,1),0)","v":0}]
[1159,{"$f":"'TRAFOS MUESTRA'!B1161","v":0},0,0,0,0,0,{"$f":"IFERROR(VLOOKUP(VLOOKUP(B1169,TRAFOS,4,FALSE),'COSTO ELEMENTOS N1'!$C$321:$C$350,1),0)","v":0}]
[1160,{"$f":"'TRAFOS MUESTRA'!B1162","v":0},0,0,0,0,0,{"$f":"IFERROR(VLOOKUP(VLOOKUP(B1170,TRAFOS,4,FALSE),'COSTO ELEMENTOS N1'!$C$321:$C$350,1),0)","v":0}]
[1161,{"$f":"'TRAFOS MUESTRA'!B1163","v":0},0,0,0,0,0,{"$f":"IFERROR(VLOOKUP(VLOOKUP(B1171,TRAFOS,4,FALSE),'COSTO ELEMENTOS N1'!$C$321:$C$350,1),0)","v":0}]
[1162,{"$f":"'TRAFOS MUESTRA'!B1164","v":0},0,0,0,0,0,{"$f":"IFERROR(VLOOKUP(VLOOKUP(B1172,TRAFOS,4,FALSE),'COSTO ELEMENTOS N1'!$C$321:$C$350,1),0)","v":0}]
[1163,{"$f":"'TRAFOS MUESTRA'!B1165","v":0},0,0,0,0,0,{"$f":"IFERROR(VLOOKUP(VLOOKUP(B1173,TRAFOS,4,FALSE),'COSTO ELEMENTOS N1'!$C$321:$C$350,1),0)","v":0}]
[1164,{"$f":"'TRAFOS MUESTRA'!B1166","v":0},0,0,0,0,0,{"$f":"IFERROR(VLOOKUP(VLOOKUP(B1174,TRAFOS,4,FALSE),'COSTO ELEMENTOS N1'!$C$321:$C$350,1),0)","v":0}]
[1165,{"$f":"'TRAFOS MUESTRA'!B1167","v":0},0,0,0,0,0,{"$f":"IFERROR(VLOOKUP(VLOOKUP(B1175,TRAFOS,4,FALSE),'COSTO ELEMENTOS N1'!$C$321:$C$350,1),0)","v":0}]
[1166,{"$f":"'TRAFOS MUESTRA'!B1168","v":0},0,0,0,0,0,{"$f":"IFERROR(VLOOKUP(VLOOKUP(B1176,TRAFOS,4,FALSE),'COSTO ELEMENTOS N1'!$C$321:$C$350,1),0)","v":0}]
[1167,{"$f":"'TRAFOS MUESTRA'!B1169","v":0},0,0,0,0,0,{"$f":"IFERROR(VLOOKUP(VLOOKUP(B1177,TRAFOS,4,FALSE),'COSTO ELEMENTOS N1'!$C$321:$C$350,1),0)","v":0}]
[1168,{"$f":"'TRAFOS MUESTRA'!B1170","v":0},0,0,0,0,0,{"$f":"IFERROR(VLOOKUP(VLOOKUP(B1178,TRAFOS,4,FALSE),'COSTO ELEMENTOS N1'!$C$321:$C$350,1),0)","v":0}]
[1169,{"$f":"'TRAFOS MUESTRA'!B1171","v":0},0,0,0,0,0,{"$f":"IFERROR(VLOOKUP(VLOOKUP(B1179,TRAFOS,4,FALSE),'COSTO ELEMENTOS N1'!$C$321:$C$350,1),0)","v":0}]
[1170,{"$f":"'TRAFOS MUESTRA'!B1172","v":0},0,0,0,0,0,{"$f":"IFERROR(VLOOKUP(VLOOKUP(B1180,TRAFOS,4,FALSE),'COSTO ELEMENTOS N1'!$C$321:$C$350,1),0)","v":0}]
[1171,{"$f":"'TRAFOS MUESTRA'!B1173","v":0},0,0,0,0,0,{"$f":"IFERROR(VLOOKUP(VLOOKUP(B1181,TRAFOS,4,FALSE),'COSTO ELEMENTOS N1'!$C$321:$C$350,1),0)","v":0}]
[1172,{"$f":"'TRAFOS MUESTRA'!B1174","v":0},0,0,0,0,0,{"$f":"IFERROR(VLOOKUP(VLOOKUP(B1182,TRAFOS,4,FALSE),'COSTO ELEMENTOS N1'!$C$321:$C$350,1),0)","v":0}]
[1173,{"$f":"'TRAFOS MUESTRA'!B1175","v":0},0,0,0,0,0,{"$f":"IFERROR(VLOOKUP(VLOOKUP(B1183,TRAFOS,4,FALSE),'COSTO ELEMENTOS N1'!$C$321:$C$350,1),0)","v":0}]
[1174,{"$f":"'TRAFOS MUESTRA'!B1176","v":0},0,0,0,0,0,{"$f":"IFERROR(VLOOKUP(VLOOKUP(B1184,TRAFOS,4,FALSE),'COSTO ELEMENTOS N1'!$C$321:$C$350,1),0)","v":0}]
[1175,{"$f":"'TRAFOS MUESTRA'!B1177","v":0},0,0,0,0,0,{"$f":"IFERROR(VLOOKUP(VLOOKUP(B1185,TRAFOS,4,FALSE),'COSTO ELEMENTOS N1'!$C$321:$C$350,1),0)","v":0}]
[1176,{"$f":"'TRAFOS MUESTRA'!B1178","v":0},0,0,0,0,0,{"$f":"IFERROR(VLOOKUP(VLOOKUP(B1186,TRAFOS,4,FALSE),'COSTO ELEMENTOS N1'!$C$321:$C$350,1),0)","v":0}]
[1177,{"$f":"'TRAFOS MUESTRA'!B1179","v":0},0,0,0,0,0,{"$f":"IFERROR(VLOOKUP(VLOOKUP(B1187,TRAFOS,4,FALSE),'COSTO ELEMENTOS N1'!$C$321:$C$350,1),0)","v":0}]
[1178,{"$f":"'TRAFOS MUESTRA'!B1180","v":0},0,0,0,0,0,{"$f":"IFERROR(VLOOKUP(VLOOKUP(B1188,TRAFOS,4,FALSE),'COSTO ELEMENTOS N1'!$C$321:$C$350,1),0)","v":0}]
[1179,{"$f":"'TRAFOS MUESTRA'!B1181","v":0},0,0,0,0,0,{"$f":"IFERROR(VLOOKUP(VLOOKUP(B1189,TRAFOS,4,FALSE),'COSTO ELEMENTOS N1'!$C$321:$C$350,1),0)","v":0}]
[1180,{"$f":"'TRAFOS MUESTRA'!B1182","v":0},0,0,0,0,0,{"$f":"IFERROR(VLOOKUP(VLOOKUP(B1190,TRAFOS,4,FALSE),'COSTO ELEMENTOS N1'!$C$321:$C$350,1),0)","v":0}]
[1181,{"$f":"'TRAFOS MUESTRA'!B1183","v":0},0,0,0,0,0,{"$f":"IFERROR(VLOOKUP(VLOOKUP(B1191,TRAFOS,4,FALSE),'COSTO ELEMENTOS N1'!$C$321:$C$350,1),0)","v":0}]
[1182,{"$f":"'TRAFOS MUESTRA'!B1184","v":0},0,0,0,0,0,{"$f":"IFERROR(VLOOKUP(VLOOKUP(B1192,TRAFOS,4,FALSE),'COSTO ELEMENTOS N1'!$C$321:$C$350,1),0)","v":0}]
[1183,{"$f":"'TRAFOS MUESTRA'!B1185","v":0},0,0,0,0,0,{"$f":"IFERROR(VLOOKUP(VLOOKUP(B1193,TRAFOS,4,FALSE),'COSTO ELEMENTOS N1'!$C$321:$C$350,1),0)","v":0}]
[1184,{"$f":"'TRAFOS MUESTRA'!B1186","v":0},0,0,0,0,0,{"$f":"IFERROR(VLOOKUP(VLOOKUP(B1194,TRAFOS,4,FALSE),'COSTO ELEMENTOS N1'!$C$321:$C$350,1),0)","v":0}]
[1185,{"$f":"'TRAFOS MUESTRA'!B1187","v":0},0,0,0,0,0,{"$f":"IFERROR(VLOOKUP(VLOOKUP(B1195,TRAFOS,4,FALSE),'COSTO ELEMENTOS N1'!$C$321:$C$350,1),0)","v":0}]
[1186,{"$f":"'TRAFOS MUESTRA'!B1188","v":0},0,0,0,0,0,{"$f":"IFERROR(VLOOKUP(VLOOKUP(B1196,TRAFOS,4,FALSE),'COSTO ELEMENTOS N1'!$C$321:$C$350,1),0)","v":0}]
[1187,{"$f":"'TRAFOS MUESTRA'!B1189","v":0},0,0,0,0,0,{"$f":"IFERROR(VLOOKUP(VLOOKUP(B1197,TRAFOS,4,FALSE),'COSTO ELEMENTOS N1'!$C$321:$C$350,1),0)","v":0}]
[1188,{"$f":"'TRAFOS MUESTRA'!B1190","v":0},0,0,0,0,0,{"$f":"IFERROR(VLOOKUP(VLOOKUP(B1198,TRAFOS,4,FALSE),'COSTO ELEMENTOS N1'!$C$321:$C$350,1),0)","v":0}]
[1189,{"$f":"'TRAFOS MUESTRA'!B1191","v":0},0,0,0,0,0,{"$f":"IFERROR(VLOOKUP(VLOOKUP(B1199,TRAFOS,4,FALSE),'COSTO ELEMENTOS N1'!$C$321:$C$350,1),0)","v":0}]
[1190,{"$f":"'TRAFOS MUESTRA'!B1192","v":0},0,0,0,0,0,{"$f":"IFERROR(VLOOKUP(VLOOKUP(B1200,TRAFOS,4,FALSE),'COSTO ELEMENTOS N1'!$C$321:$C$350,1),0)","v":0}]
[1191,{"$f":"'TRAFOS MUESTRA'!B1193","v":0},0,0,0,0,0,{"$f":"IFERROR(VLOOKUP(VLOOKUP(B1201,TRAFOS,4,FALSE),'COSTO ELEMENTOS N1'!$C$321:$C$350,1),0)","v":0}]
[1192,{"$f":"'TRAFOS MUESTRA'!B1194","v":0},0,0,0,0,0,{"$f":"IFERROR(VLOOKUP(VLOOKUP(B1202,TRAFOS,4,FALSE),'COSTO ELEMENTOS N1'!$C$321:$C$350,1),0)","v":0}]
[1193,{"$f":"'TRAFOS MUESTRA'!B1195","v":0},0,0,0,0,0,{"$f":"IFERROR(VLOOKUP(VLOOKUP(B1203,TRAFOS,4,FALSE),'COSTO ELEMENTOS N1'!$C$321:$C$350,1),0)","v":0}]
[1194,{"$f":"'TRAFOS MUESTRA'!B1196","v":0},0,0,0,0,0,{"$f":"IFERROR(VLOOKUP(VLOOKUP(B1204,TRAFOS,4,FALSE),'COSTO ELEMENTOS N1'!$C$321:$C$350,1),0)","v":0}]
[1195,{"$f":"'TRAFOS MUESTRA'!B1197","v":0},0,0,0,0,0,{"$f":"IFERROR(VLOOKUP(VLOOKUP(B1205,TRAFOS,4,FALSE),'COSTO ELEMENTOS N1'!$C$321:$C$350,1),0)","v":0}]
[1196,{"$f":"'TRAFOS MUESTRA'!B1198","v":0},0,0,0,0,0,{"$f":"IFERROR(VLOOKUP(VLOOKUP(B1206,TRAFOS,4,FALSE),'COSTO ELEMENTOS N1'!$C$321:$C$350,1),0)","v":0}]
[1197,{"$f":"'TRAFOS MUESTRA'!B1199","v":0},0,0,0,0,0,{"$f":"IFERROR(VLOOKUP(VLOOKUP(B1207,TRAFOS,4,FALSE),'COSTO ELEMENTOS N1'!$C$321:$C$350,1),0)","v":0}]
[1198,{"$f":"'TRAFOS MUESTRA'!B1200","v":0},0,0,0,0,0,{"$f":"IFERROR(VLOOKUP(VLOOKUP(B1208,TRAFOS,4,FALSE),'COSTO ELEMENTOS N1'!$C$321:$C$350,1),0)","v":0}]
[1199,{"$f":"'TRAFOS MUESTRA'!B1201","v":0},0,0,0,0,0,{"$f":"IFERROR(VLOOKUP(VLOOKUP(B1209,TRAFOS,4,FALSE),'COSTO ELEMENTOS N1'!$C$321:$C$350,1),0)","v":0}]
[1200,{"$f":"'TRAFOS MUESTRA'!B1202","v":0},0,0,0,0,0,{"$f":"IFERROR(VLOOKUP(VLOOKUP(B1210,TRAFOS,4,FALSE),'COSTO ELEMENTOS N1'!$C$321:$C$350,1),0)","v":0}]
[1201,{"$f":"'TRAFOS MUESTRA'!B1203","v":0},0,0,0,0,0,{"$f":"IFERROR(VLOOKUP(VLOOKUP(B1211,TRAFOS,4,FALSE),'COSTO ELEMENTOS N1'!$C$321:$C$350,1),0)","v":0}]
[1202,{"$f":"'TRAFOS MUESTRA'!B1204","v":0},0,0,0,0,0,{"$f":"IFERROR(VLOOKUP(VLOOKUP(B1212,TRAFOS,4,FALSE),'COSTO ELEMENTOS N1'!$C$321:$C$350,1),0)","v":0}]
[1203,{"$f":"'TRAFOS MUESTRA'!B1205","v":0},0,0,0,0,0,{"$f":"IFERROR(VLOOKUP(VLOOKUP(B1213,TRAFOS,4,FALSE),'COSTO ELEMENTOS N1'!$C$321:$C$350,1),0)","v":0}]
[1204,{"$f":"'TRAFOS MUESTRA'!B1206","v":0},0,0,0,0,0,{"$f":"IFERROR(VLOOKUP(VLOOKUP(B1214,TRAFOS,4,FALSE),'COSTO ELEMENTOS N1'!$C$321:$C$350,1),0)","v":0}]
[1205,{"$f":"'TRAFOS MUESTRA'!B1207","v":0},0,0,0,0,0,{"$f":"IFERROR(VLOOKUP(VLOOKUP(B1215,TRAFOS,4,FALSE),'COSTO ELEMENTOS N1'!$C$321:$C$350,1),0)","v":0}]
[1206,{"$f":"'TRAFOS MUESTRA'!B1208","v":0},0,0,0,0,0,{"$f":"IFERROR(VLOOKUP(VLOOKUP(B1216,TRAFOS,4,FALSE),'COSTO ELEMENTOS N1'!$C$321:$C$350,1),0)","v":0}]
[1207,{"$f":"'TRAFOS MUESTRA'!B1209","v":0},0,0,0,0,0,{"$f":"IFERROR(VLOOKUP(VLOOKUP(B1217,TRAFOS,4,FALSE),'COSTO ELEMENTOS N1'!$C$321:$C$350,1),0)","v":0}]
[1208,{"$f":"'TRAFOS MUESTRA'!B1210","v":0},0,0,0,0,0,{"$f":"IFERROR(VLOOKUP(VLOOKUP(B1218,TRAFOS,4,FALSE),'COSTO ELEMENTOS N1'!$C$321:$C$350,1),0)","v":0}]
[1209,{"$f":"'TRAFOS MUESTRA'!B1211","v":0},0,0,0,0,0,{"$f":"IFERROR(VLOOKUP(VLOOKUP(B1219,TRAFOS,4,FALSE),'COSTO ELEMENTOS N1'!$C$321:$C$350,1),0)","v":0}]
[1210,{"$f":"'TRAFOS MUESTRA'!B1212","v":0},0,0,0,0,0,{"$f":"IFERROR(VLOOKUP(VLOOKUP(B1220,TRAFOS,4,FALSE),'COSTO ELEMENTOS N1'!$C$321:$C$350,1),0)","v":0}]
[1211,{"$f":"'TRAFOS MUESTRA'!B1213","v":0},0,0,0,0,0,{"$f":"IFERROR(VLOOKUP(VLOOKUP(B1221,TRAFOS,4,FALSE),'COSTO ELEMENTOS N1'!$C$321:$C$350,1),0)","v":0}]
[1212,{"$f":"'TRAFOS MUESTRA'!B1214","v":0},0,0,0,0,0,{"$f":"IFERROR(VLOOKUP(VLOOKUP(B1222,TRAFOS,4,FALSE),'COSTO ELEMENTOS N1'!$C$321:$C$350,1),0)","v":0}]
[1213,{"$f":"'TRAFOS MUESTRA'!B1215","v":0},0,0,0,0,0,{"$f":"IFERROR(VLOOKUP(VLOOKUP(B1223,TRAFOS,4,FALSE),'COSTO ELEMENTOS N1'!$C$321:$C$350,1),0)","v":0}]
[1214,{"$f":"'TRAFOS MUESTRA'!B1216","v":0},0,0,0,0,0,{"$f":"IFERROR(VLOOKUP(VLOOKUP(B1224,TRAFOS,4,FALSE),'COSTO ELEMENTOS N1'!$C$321:$C$350,1),0)","v":0}]
[1215,{"$f":"'TRAFOS MUESTRA'!B1217","v":0},0,0,0,0,0,{"$f":"IFERROR(VLOOKUP(VLOOKUP(B1225,TRAFOS,4,FALSE),'COSTO ELEMENTOS N1'!$C$321:$C$350,1),0)","v":0}]
[1216,{"$f":"'TRAFOS MUESTRA'!B1218","v":0},0,0,0,0,0,{"$f":"IFERROR(VLOOKUP(VLOOKUP(B1226,TRAFOS,4,FALSE),'COSTO ELEMENTOS N1'!$C$321:$C$350,1),0)","v":0}]
[1217,{"$f":"'TRAFOS MUESTRA'!B1219","v":0},{"$f":"IFERROR(VLOOKUP(B1227,TRAFOS,3,FALSE),0)","v":0},{"$f":"IFERROR(SUMIF(CODIGO_TRAFOS_REDES,$B1227,COSTO_CONDUCTOR_TRAMO),0)","v":0},{"$f":"IFERROR(SUMIF(CODIGO_TRAFOS_REDES,$B1227,COSTO_APOYOS_TRAMO),0)","v":0},{"$f":"IFERROR(IF(H1227>15,VLOOKUP(H1227,COSTO_TRAFOS_3F,6,FALSE),VLOOKUP(H1227,COSTO_TRAFOS_1F,6,FALSE)),0)","v":0},0,{"$f":"IFERROR(VLOOKUP(VLOOKUP(B1227,TRAFOS,4,FALSE),'COSTO ELEMENTOS N1'!$C$321:$C$350,1),0)","v":0}]
[1218,{"$f":"'TRAFOS MUESTRA'!B1220","v":0},0,0,0,0,{"$f":"SUM(D1228:F1228)","v":0},{"$f":"IFERROR(VLOOKUP(VLOOKUP(B1228,TRAFOS,4,FALSE),'COSTO ELEMENTOS N1'!$C$321:$C$350,1),0)","v":0}]
[{"$f":"A1228+1","v":1219},{"$f":"'TRAFOS MUESTRA'!B1221","v":0},0,0,0,0,0,{"$f":"IFERROR(VLOOKUP(VLOOKUP(B1229,TRAFOS,4,FALSE),'COSTO ELEMENTOS N1'!$C$321:$C$350,1),0)","v":0}]
[1220,{"$f":"'TRAFOS MUESTRA'!B1222","v":0},0,0,0,0,0,{"$f":"IFERROR(VLOOKUP(VLOOKUP(B1230,TRAFOS,4,FALSE),'COSTO ELEMENTOS N1'!$C$321:$C$350,1),0)","v":0}]
[1221,{"$f":"'TRAFOS MUESTRA'!B1223","v":0},0,0,0,0,0,{"$f":"IFERROR(VLOOKUP(VLOOKUP(B1231,TRAFOS,4,FALSE),'COSTO ELEMENTOS N1'!$C$321:$C$350,1),0)","v":0}]
[1222,{"$f":"'TRAFOS MUESTRA'!B1224","v":0},0,0,0,0,0,{"$f":"IFERROR(VLOOKUP(VLOOKUP(B1232,TRAFOS,4,FALSE),'COSTO ELEMENTOS N1'!$C$321:$C$350,1),0)","v":0}]
[1223,{"$f":"'TRAFOS MUESTRA'!B1225","v":0},0,0,0,0,0,{"$f":"IFERROR(VLOOKUP(VLOOKUP(B1233,TRAFOS,4,FALSE),'COSTO ELEMENTOS N1'!$C$321:$C$350,1),0)","v":0}]
[1224,{"$f":"'TRAFOS MUESTRA'!B1226","v":0},0,0,0,0,0,{"$f":"IFERROR(VLOOKUP(VLOOKUP(B1234,TRAFOS,4,FALSE),'COSTO ELEMENTOS N1'!$C$321:$C$350,1),0)","v":0}]
[1225,{"$f":"'TRAFOS MUESTRA'!B1227","v":0},0,0,0,0,0,{"$f":"IFERROR(VLOOKUP(VLOOKUP(B1235,TRAFOS,4,FALSE),'COSTO ELEMENTOS N1'!$C$321:$C$350,1),0)","v":0}]
[1226,{"$f":"'TRAFOS MUESTRA'!B1228","v":0},0,0,0,0,0,{"$f":"IFERROR(VLOOKUP(VLOOKUP(B1236,TRAFOS,4,FALSE),'COSTO ELEMENTOS N1'!$C$321:$C$350,1),0)","v":0}]
[1227,{"$f":"'TRAFOS MUESTRA'!B1229","v":0},0,0,0,0,0,{"$f":"IFERROR(VLOOKUP(VLOOKUP(B1237,TRAFOS,4,FALSE),'COSTO ELEMENTOS N1'!$C$321:$C$350,1),0)","v":0}]
[1228,{"$f":"'TRAFOS MUESTRA'!B1230","v":0},0,0,0,0,0,{"$f":"IFERROR(VLOOKUP(VLOOKUP(B1238,TRAFOS,4,FALSE),'COSTO ELEMENTOS N1'!$C$321:$C$350,1),0)","v":0}]
[1229,{"$f":"'TRAFOS MUESTRA'!B1231","v":0},0,0,0,0,0,{"$f":"IFERROR(VLOOKUP(VLOOKUP(B1239,TRAFOS,4,FALSE),'COSTO ELEMENTOS N1'!$C$321:$C$350,1),0)","v":0}]
[1230,{"$f":"'TRAFOS MUESTRA'!B1232","v":0},0,0,0,0,0,{"$f":"IFERROR(VLOOKUP(VLOOKUP(B1240,TRAFOS,4,FALSE),'COSTO ELEMENTOS N1'!$C$321:$C$350,1),0)","v":0}]
[1231,{"$f":"'TRAFOS MUESTRA'!B1233","v":0},0,0,0,0,0,{"$f":"IFERROR(VLOOKUP(VLOOKUP(B1241,TRAFOS,4,FALSE),'COSTO ELEMENTOS N1'!$C$321:$C$350,1),0)","v":0}]
[1232,{"$f":"'TRAFOS MUESTRA'!B1234","v":0},0,0,0,0,0,{"$f":"IFERROR(VLOOKUP(VLOOKUP(B1242,TRAFOS,4,FALSE),'COSTO ELEMENTOS N1'!$C$321:$C$350,1),0)","v":0}]
[1233,{"$f":"'TRAFOS MUESTRA'!B1235","v":0},0,0,0,0,0,{"$f":"IFERROR(VLOOKUP(VLOOKUP(B1243,TRAFOS,4,FALSE),'COSTO ELEMENTOS N1'!$C$321:$C$350,1),0)","v":0}]
[1234,{"$f":"'TRAFOS MUESTRA'!B1236","v":0},0,0,0,0,0,{"$f":"IFERROR(VLOOKUP(VLOOKUP(B1244,TRAFOS,4,FALSE),'COSTO ELEMENTOS N1'!$C$321:$C$350,1),0)","v":0}]
[1235,{"$f":"'TRAFOS MUESTRA'!B1237","v":0},0,0,0,0,0,{"$f":"IFERROR(VLOOKUP(VLOOKUP(B1245,TRAFOS,4,FALSE),'COSTO ELEMENTOS N1'!$C$321:$C$350,1),0)","v":0}]
[1236,{"$f":"'TRAFOS MUESTRA'!B1238","v":0},0,0,0,0,0,{"$f":"IFERROR(VLOOKUP(VLOOKUP(B1246,TRAFOS,4,FALSE),'COSTO ELEMENTOS N1'!$C$321:$C$350,1),0)","v":0}]
[1237,{"$f":"'TRAFOS MUESTRA'!B1239","v":0},0,0,0,0,0,{"$f":"IFERROR(VLOOKUP(VLOOKUP(B1247,TRAFOS,4,FALSE),'COSTO ELEMENTOS N1'!$C$321:$C$350,1),0)","v":0}]
[1238,{"$f":"'TRAFOS MUESTRA'!B1240","v":0},0,0,0,0,0,{"$f":"IFERROR(VLOOKUP(VLOOKUP(B1248,TRAFOS,4,FALSE),'COSTO ELEMENTOS N1'!$C$321:$C$350,1),0)","v":0}]
[1239,{"$f":"'TRAFOS MUESTRA'!B1241","v":0},0,0,0,0,0,{"$f":"IFERROR(VLOOKUP(VLOOKUP(B1249,TRAFOS,4,FALSE),'COSTO ELEMENTOS N1'!$C$321:$C$350,1),0)","v":0}]
[1240,{"$f":"'TRAFOS MUESTRA'!B1242","v":0},0,0,0,0,0,{"$f":"IFERROR(VLOOKUP(VLOOKUP(B1250,TRAFOS,4,FALSE),'COSTO ELEMENTOS N1'!$C$321:$C$350,1),0)","v":0}]
[1241,{"$f":"'TRAFOS MUESTRA'!B1243","v":0},0,0,0,0,0,{"$f":"IFERROR(VLOOKUP(VLOOKUP(B1251,TRAFOS,4,FALSE),'COSTO ELEMENTOS N1'!$C$321:$C$350,1),0)","v":0}]
[1242,{"$f":"'TRAFOS MUESTRA'!B1244","v":0},0,0,0,0,0,{"$f":"IFERROR(VLOOKUP(VLOOKUP(B1252,TRAFOS,4,FALSE),'COSTO ELEMENTOS N1'!$C$321:$C$350,1),0)","v":0}]
[1243,{"$f":"'TRAFOS MUESTRA'!B1245","v":0},0,0,0,0,0,{"$f":"IFERROR(VLOOKUP(VLOOKUP(B1253,TRAFOS,4,FALSE),'COSTO ELEMENTOS N1'!$C$321:$C$350,1),0)","v":0}]
[1244,{"$f":"'TRAFOS MUESTRA'!B1246","v":0},0,0,0,0,0,{"$f":"IFERROR(VLOOKUP(VLOOKUP(B1254,TRAFOS,4,FALSE),'COSTO ELEMENTOS N1'!$C$321:$C$350,1),0)","v":0}]
[1245,{"$f":"'TRAFOS MUESTRA'!B1247","v":0},0,0,0,0,0,{"$f":"IFERROR(VLOOKUP(VLOOKUP(B1255,TRAFOS,4,FALSE),'COSTO ELEMENTOS N1'!$C$321:$C$350,1),0)","v":0}]
[1246,{"$f":"'TRAFOS MUESTRA'!B1248","v":0},0,0,0,0,0,{"$f":"IFERROR(VLOOKUP(VLOOKUP(B1256,TRAFOS,4,FALSE),'COSTO ELEMENTOS N1'!$C$321:$C$350,1),0)","v":0}]
[1247,{"$f":"'TRAFOS MUESTRA'!B1249","v":0},0,0,0,0,0,{"$f":"IFERROR(VLOOKUP(VLOOKUP(B1257,TRAFOS,4,FALSE),'COSTO ELEMENTOS N1'!$C$321:$C$350,1),0)","v":0}]
[1248,{"$f":"'TRAFOS MUESTRA'!B1250","v":0},0,0,0,0,0,{"$f":"IFERROR(VLOOKUP(VLOOKUP(B1258,TRAFOS,4,FALSE),'COSTO ELEMENTOS N1'!$C$321:$C$350,1),0)","v":0}]
[1249,{"$f":"'TRAFOS MUESTRA'!B1251","v":0},0,0,0,0,0,{"$f":"IFERROR(VLOOKUP(VLOOKUP(B1259,TRAFOS,4,FALSE),'COSTO ELEMENTOS N1'!$C$321:$C$350,1),0)","v":0}]
[1250,{"$f":"'TRAFOS MUESTRA'!B1252","v":0},0,0,0,0,0,{"$f":"IFERROR(VLOOKUP(VLOOKUP(B1260,TRAFOS,4,FALSE),'COSTO ELEMENTOS N1'!$C$321:$C$350,1),0)","v":0}]
[1251,{"$f":"'TRAFOS MUESTRA'!B1253","v":0},0,0,0,0,0,{"$f":"IFERROR(VLOOKUP(VLOOKUP(B1261,TRAFOS,4,FALSE),'COSTO ELEMENTOS N1'!$C$321:$C$350,1),0)","v":0}]
[1252,{"$f":"'TRAFOS MUESTRA'!B1254","v":0},0,0,0,0,0,{"$f":"IFERROR(VLOOKUP(VLOOKUP(B1262,TRAFOS,4,FALSE),'COSTO ELEMENTOS N1'!$C$321:$C$350,1),0)","v":0}]
[1253,{"$f":"'TRAFOS MUESTRA'!B1255","v":0},0,0,0,0,0,{"$f":"IFERROR(VLOOKUP(VLOOKUP(B1263,TRAFOS,4,FALSE),'COSTO ELEMENTOS N1'!$C$321:$C$350,1),0)","v":0}]
[1254,{"$f":"'TRAFOS MUESTRA'!B1256","v":0},0,0,0,0,0,{"$f":"IFERROR(VLOOKUP(VLOOKUP(B1264,TRAFOS,4,FALSE),'COSTO ELEMENTOS N1'!$C$321:$C$350,1),0)","v":0}]
[1255,{"$f":"'TRAFOS MUESTRA'!B1257","v":0},0,0,0,0,0,{"$f":"IFERROR(VLOOKUP(VLOOKUP(B1265,TRAFOS,4,FALSE),'COSTO ELEMENTOS N1'!$C$321:$C$350,1),0)","v":0}]
[1256,{"$f":"'TRAFOS MUESTRA'!B1258","v":0},0,0,0,0,0,{"$f":"IFERROR(VLOOKUP(VLOOKUP(B1266,TRAFOS,4,FALSE),'COSTO ELEMENTOS N1'!$C$321:$C$350,1),0)","v":0}]
[1257,{"$f":"'TRAFOS MUESTRA'!B1259","v":0},0,0,0,0,0,{"$f":"IFERROR(VLOOKUP(VLOOKUP(B1267,TRAFOS,4,FALSE),'COSTO ELEMENTOS N1'!$C$321:$C$350,1),0)","v":0}]
[1258,{"$f":"'TRAFOS MUESTRA'!B1260","v":0},0,0,0,0,0,{"$f":"IFERROR(VLOOKUP(VLOOKUP(B1268,TRAFOS,4,FALSE),'COSTO ELEMENTOS N1'!$C$321:$C$350,1),0)","v":0}]
[1259,{"$f":"'TRAFOS MUESTRA'!B1261","v":0},0,0,0,0,0,{"$f":"IFERROR(VLOOKUP(VLOOKUP(B1269,TRAFOS,4,FALSE),'COSTO ELEMENTOS N1'!$C$321:$C$350,1),0)","v":0}]
[1260,{"$f":"'TRAFOS MUESTRA'!B1262","v":0},0,0,0,0,0,{"$f":"IFERROR(VLOOKUP(VLOOKUP(B1270,TRAFOS,4,FALSE),'COSTO ELEMENTOS N1'!$C$321:$C$350,1),0)","v":0}]
[1261,{"$f":"'TRAFOS MUESTRA'!B1263","v":0},0,0,0,0,0,{"$f":"IFERROR(VLOOKUP(VLOOKUP(B1271,TRAFOS,4,FALSE),'COSTO ELEMENTOS N1'!$C$321:$C$350,1),0)","v":0}]
[1262,{"$f":"'TRAFOS MUESTRA'!B1264","v":0},0,0,0,0,0,{"$f":"IFERROR(VLOOKUP(VLOOKUP(B1272,TRAFOS,4,FALSE),'COSTO ELEMENTOS N1'!$C$321:$C$350,1),0)","v":0}]
[1263,{"$f":"'TRAFOS MUESTRA'!B1265","v":0},0,0,0,0,0,{"$f":"IFERROR(VLOOKUP(VLOOKUP(B1273,TRAFOS,4,FALSE),'COSTO ELEMENTOS N1'!$C$321:$C$350,1),0)","v":0}]
[1264,{"$f":"'TRAFOS MUESTRA'!B1266","v":0},0,0,0,0,0,{"$f":"IFERROR(VLOOKUP(VLOOKUP(B1274,TRAFOS,4,FALSE),'COSTO ELEMENTOS N1'!$C$321:$C$350,1),0)","v":0}]
[1265,{"$f":"'TRAFOS MUESTRA'!B1267","v":0},0,0,0,0,0,{"$f":"IFERROR(VLOOKUP(VLOOKUP(B1275,TRAFOS,4,FALSE),'COSTO ELEMENTOS N1'!$C$321:$C$350,1),0)","v":0}]
[1266,{"$f":"'TRAFOS MUESTRA'!B1268","v":0},0,0,0,0,0,{"$f":"IFERROR(VLOOKUP(VLOOKUP(B1276,TRAFOS,4,FALSE),'COSTO ELEMENTOS N1'!$C$321:$C$350,1),0)","v":0}]
[1267,{"$f":"'TRAFOS MUESTRA'!B1269","v":0},0,0,0,0,0,{"$f":"IFERROR(VLOOKUP(VLOOKUP(B1277,TRAFOS,4,FALSE),'COSTO ELEMENTOS N1'!$C$321:$C$350,1),0)","v":0}]
[1268,{"$f":"'TRAFOS MUESTRA'!B1270","v":0},0,0,0,0,0,{"$f":"IFERROR(VLOOKUP(VLOOKUP(B1278,TRAFOS,4,FALSE),'COSTO ELEMENTOS N1'!$C$321:$C$350,1),0)","v":0}]
[1269,{"$f":"'TRAFOS MUESTRA'!B1271","v":0},0,0,0,0,0,{"$f":"IFERROR(VLOOKUP(VLOOKUP(B1279,TRAFOS,4,FALSE),'COSTO ELEMENTOS N1'!$C$321:$C$350,1),0)","v":0}]
[1270,{"$f":"'TRAFOS MUESTRA'!B1272","v":0},0,0,0,0,0,{"$f":"IFERROR(VLOOKUP(VLOOKUP(B1280,TRAFOS,4,FALSE),'COSTO ELEMENTOS N1'!$C$321:$C$350,1),0)","v":0}]
[1271,{"$f":"'TRAFOS MUESTRA'!B1273","v":0},0,0,0,0,0,{"$f":"IFERROR(VLOOKUP(VLOOKUP(B1281,TRAFOS,4,FALSE),'COSTO ELEMENTOS N1'!$C$321:$C$350,1),0)","v":0}]
[1272,{"$f":"'TRAFOS MUESTRA'!B1274","v":0},0,0,0,0,0,{"$f":"IFERROR(VLOOKUP(VLOOKUP(B1282,TRAFOS,4,FALSE),'COSTO ELEMENTOS N1'!$C$321:$C$350,1),0)","v":0}]
[1273,{"$f":"'TRAFOS MUESTRA'!B1275","v":0},0,0,0,0,0,{"$f":"IFERROR(VLOOKUP(VLOOKUP(B1283,TRAFOS,4,FALSE),'COSTO ELEMENTOS N1'!$C$321:$C$350,1),0)","v":0}]
[1274,{"$f":"'TRAFOS MUESTRA'!B1276","v":0},0,0,0,0,0,{"$f":"IFERROR(VLOOKUP(VLOOKUP(B1284,TRAFOS,4,FALSE),'COSTO ELEMENTOS N1'!$C$321:$C$350,1),0)","v":0}]
[1275,{"$f":"'TRAFOS MUESTRA'!B1277","v":0},0,0,0,0,0,{"$f":"IFERROR(VLOOKUP(VLOOKUP(B1285,TRAFOS,4,FALSE),'COSTO ELEMENTOS N1'!$C$321:$C$350,1),0)","v":0}]
[1276,{"$f":"'TRAFOS MUESTRA'!B1278","v":0},0,0,0,0,0,{"$f":"IFERROR(VLOOKUP(VLOOKUP(B1286,TRAFOS,4,FALSE),'COSTO ELEMENTOS N1'!$C$321:$C$350,1),0)","v":0}]
[1277,{"$f":"'TRAFOS MUESTRA'!B1279","v":0},0,0,0,0,0,{"$f":"IFERROR(VLOOKUP(VLOOKUP(B1287,TRAFOS,4,FALSE),'COSTO ELEMENTOS N1'!$C$321:$C$350,1),0)","v":0}]
[1278,{"$f":"'TRAFOS MUESTRA'!B1280","v":0},0,0,0,0,0,{"$f":"IFERROR(VLOOKUP(VLOOKUP(B1288,TRAFOS,4,FALSE),'COSTO ELEMENTOS N1'!$C$321:$C$350,1),0)","v":0}]
[1279,{"$f":"'TRAFOS MUESTRA'!B1281","v":0},0,0,0,0,0,{"$f":"IFERROR(VLOOKUP(VLOOKUP(B1289,TRAFOS,4,FALSE),'COSTO ELEMENTOS N1'!$C$321:$C$350,1),0)","v":0}]
[1280,{"$f":"'TRAFOS MUESTRA'!B1282","v":0},0,0,0,0,0,{"$f":"IFERROR(VLOOKUP(VLOOKUP(B1290,TRAFOS,4,FALSE),'COSTO ELEMENTOS N1'!$C$321:$C$350,1),0)","v":0}]
[1281,{"$f":"'TRAFOS MUESTRA'!B1283","v":0},{"$f":"IFERROR(VLOOKUP(B1291,TRAFOS,3,FALSE),0)","v":0},{"$f":"IFERROR(SUMIF(CODIGO_TRAFOS_REDES,$B1291,COSTO_CONDUCTOR_TRAMO),0)","v":0},{"$f":"IFERROR(SUMIF(CODIGO_TRAFOS_REDES,$B1291,COSTO_APOYOS_TRAMO),0)","v":0},{"$f":"IFERROR(IF(H1291>15,VLOOKUP(H1291,COSTO_TRAFOS_3F,6,FALSE),VLOOKUP(H1291,COSTO_TRAFOS_1F,6,FALSE)),0)","v":0},0,{"$f":"IFERROR(VLOOKUP(VLOOKUP(B1291,TRAFOS,4,FALSE),'COSTO ELEMENTOS N1'!$C$321:$C$350,1),0)","v":0}]
[1282,{"$f":"'TRAFOS MUESTRA'!B1284","v":0},0,0,0,0,{"$f":"SUM(D1292:F1292)","v":0},{"$f":"IFERROR(VLOOKUP(VLOOKUP(B1292,TRAFOS,4,FALSE),'COSTO ELEMENTOS N1'!$C$321:$C$350,1),0)","v":0}]
[{"$f":"A1292+1","v":1283},{"$f":"'TRAFOS MUESTRA'!B1285","v":0},0,0,0,0,0,{"$f":"IFERROR(VLOOKUP(VLOOKUP(B1293,TRAFOS,4,FALSE),'COSTO ELEMENTOS N1'!$C$321:$C$350,1),0)","v":0}]
[1284,{"$f":"'TRAFOS MUESTRA'!B1286","v":0},0,0,0,0,0,{"$f":"IFERROR(VLOOKUP(VLOOKUP(B1294,TRAFOS,4,FALSE),'COSTO ELEMENTOS N1'!$C$321:$C$350,1),0)","v":0}]
[1285,{"$f":"'TRAFOS MUESTRA'!B1287","v":0},0,0,0,0,0,{"$f":"IFERROR(VLOOKUP(VLOOKUP(B1295,TRAFOS,4,FALSE),'COSTO ELEMENTOS N1'!$C$321:$C$350,1),0)","v":0}]
[1286,{"$f":"'TRAFOS MUESTRA'!B1288","v":0},0,0,0,0,0,{"$f":"IFERROR(VLOOKUP(VLOOKUP(B1296,TRAFOS,4,FALSE),'COSTO ELEMENTOS N1'!$C$321:$C$350,1),0)","v":0}]
[1287,{"$f":"'TRAFOS MUESTRA'!B1289","v":0},0,0,0,0,0,{"$f":"IFERROR(VLOOKUP(VLOOKUP(B1297,TRAFOS,4,FALSE),'COSTO ELEMENTOS N1'!$C$321:$C$350,1),0)","v":0}]
[1288,{"$f":"'TRAFOS MUESTRA'!B1290","v":0},0,0,0,0,0,{"$f":"IFERROR(VLOOKUP(VLOOKUP(B1298,TRAFOS,4,FALSE),'COSTO ELEMENTOS N1'!$C$321:$C$350,1),0)","v":0}]
[1289,{"$f":"'TRAFOS MUESTRA'!B1291","v":0},0,0,0,0,0,{"$f":"IFERROR(VLOOKUP(VLOOKUP(B1299,TRAFOS,4,FALSE),'COSTO ELEMENTOS N1'!$C$321:$C$350,1),0)","v":0}]
[1290,{"$f":"'TRAFOS MUESTRA'!B1292","v":0},0,0,0,0,0,{"$f":"IFERROR(VLOOKUP(VLOOKUP(B1300,TRAFOS,4,FALSE),'COSTO ELEMENTOS N1'!$C$321:$C$350,1),0)","v":0}]
[1291,{"$f":"'TRAFOS MUESTRA'!B1293","v":0},0,0,0,0,0,{"$f":"IFERROR(VLOOKUP(VLOOKUP(B1301,TRAFOS,4,FALSE),'COSTO ELEMENTOS N1'!$C$321:$C$350,1),0)","v":0}]
[1292,{"$f":"'TRAFOS MUESTRA'!B1294","v":0},0,0,0,0,0,{"$f":"IFERROR(VLOOKUP(VLOOKUP(B1302,TRAFOS,4,FALSE),'COSTO ELEMENTOS N1'!$C$321:$C$350,1),0)","v":0}]
[1293,{"$f":"'TRAFOS MUESTRA'!B1295","v":0},0,0,0,0,0,{"$f":"IFERROR(VLOOKUP(VLOOKUP(B1303,TRAFOS,4,FALSE),'COSTO ELEMENTOS N1'!$C$321:$C$350,1),0)","v":0}]
[1294,{"$f":"'TRAFOS MUESTRA'!B1296","v":0},0,0,0,0,0,{"$f":"IFERROR(VLOOKUP(VLOOKUP(B1304,TRAFOS,4,FALSE),'COSTO ELEMENTOS N1'!$C$321:$C$350,1),0)","v":0}]
[1295,{"$f":"'TRAFOS MUESTRA'!B1297","v":0},0,0,0,0,0,{"$f":"IFERROR(VLOOKUP(VLOOKUP(B1305,TRAFOS,4,FALSE),'COSTO ELEMENTOS N1'!$C$321:$C$350,1),0)","v":0}]
[1296,{"$f":"'TRAFOS MUESTRA'!B1298","v":0},0,0,0,0,0,{"$f":"IFERROR(VLOOKUP(VLOOKUP(B1306,TRAFOS,4,FALSE),'COSTO ELEMENTOS N1'!$C$321:$C$350,1),0)","v":0}]
[1297,{"$f":"'TRAFOS MUESTRA'!B1299","v":0},0,0,0,0,0,{"$f":"IFERROR(VLOOKUP(VLOOKUP(B1307,TRAFOS,4,FALSE),'COSTO ELEMENTOS N1'!$C$321:$C$350,1),0)","v":0}]
[1298,{"$f":"'TRAFOS MUESTRA'!B1300","v":0},0,0,0,0,0,{"$f":"IFERROR(VLOOKUP(VLOOKUP(B1308,TRAFOS,4,FALSE),'COSTO ELEMENTOS N1'!$C$321:$C$350,1),0)","v":0}]
[1299,{"$f":"'TRAFOS MUESTRA'!B1301","v":0},0,0,0,0,0,{"$f":"IFERROR(VLOOKUP(VLOOKUP(B1309,TRAFOS,4,FALSE),'COSTO ELEMENTOS N1'!$C$321:$C$350,1),0)","v":0}]
[1300,{"$f":"'TRAFOS MUESTRA'!B1302","v":0},0,0,0,0,0,{"$f":"IFERROR(VLOOKUP(VLOOKUP(B1310,TRAFOS,4,FALSE),'COSTO ELEMENTOS N1'!$C$321:$C$350,1),0)","v":0}]
[1301,{"$f":"'TRAFOS MUESTRA'!B1303","v":0},0,0,0,0,0,{"$f":"IFERROR(VLOOKUP(VLOOKUP(B1311,TRAFOS,4,FALSE),'COSTO ELEMENTOS N1'!$C$321:$C$350,1),0)","v":0}]
[1302,{"$f":"'TRAFOS MUESTRA'!B1304","v":0},0,0,0,0,0,{"$f":"IFERROR(VLOOKUP(VLOOKUP(B1312,TRAFOS,4,FALSE),'COSTO ELEMENTOS N1'!$C$321:$C$350,1),0)","v":0}]
[1303,{"$f":"'TRAFOS MUESTRA'!B1305","v":0},0,0,0,0,0,{"$f":"IFERROR(VLOOKUP(VLOOKUP(B1313,TRAFOS,4,FALSE),'COSTO ELEMENTOS N1'!$C$321:$C$350,1),0)","v":0}]
[1304,{"$f":"'TRAFOS MUESTRA'!B1306","v":0},0,0,0,0,0,{"$f":"IFERROR(VLOOKUP(VLOOKUP(B1314,TRAFOS,4,FALSE),'COSTO ELEMENTOS N1'!$C$321:$C$350,1),0)","v":0}]
[1305,{"$f":"'TRAFOS MUESTRA'!B1307","v":0},0,0,0,0,0,{"$f":"IFERROR(VLOOKUP(VLOOKUP(B1315,TRAFOS,4,FALSE),'COSTO ELEMENTOS N1'!$C$321:$C$350,1),0)","v":0}]
[1306,{"$f":"'TRAFOS MUESTRA'!B1308","v":0},0,0,0,0,0,{"$f":"IFERROR(VLOOKUP(VLOOKUP(B1316,TRAFOS,4,FALSE),'COSTO ELEMENTOS N1'!$C$321:$C$350,1),0)","v":0}]
[1307,{"$f":"'TRAFOS MUESTRA'!B1309","v":0},0,0,0,0,0,{"$f":"IFERROR(VLOOKUP(VLOOKUP(B1317,TRAFOS,4,FALSE),'COSTO ELEMENTOS N1'!$C$321:$C$350,1),0)","v":0}]
[1308,{"$f":"'TRAFOS MUESTRA'!B1310","v":0},0,0,0,0,0,{"$f":"IFERROR(VLOOKUP(VLOOKUP(B1318,TRAFOS,4,FALSE),'COSTO ELEMENTOS N1'!$C$321:$C$350,1),0)","v":0}]
[1309,{"$f":"'TRAFOS MUESTRA'!B1311","v":0},0,0,0,0,0,{"$f":"IFERROR(VLOOKUP(VLOOKUP(B1319,TRAFOS,4,FALSE),'COSTO ELEMENTOS N1'!$C$321:$C$350,1),0)","v":0}]
[1310,{"$f":"'TRAFOS MUESTRA'!B1312","v":0},0,0,0,0,0,{"$f":"IFERROR(VLOOKUP(VLOOKUP(B1320,TRAFOS,4,FALSE),'COSTO ELEMENTOS N1'!$C$321:$C$350,1),0)","v":0}]
[1311,{"$f":"'TRAFOS MUESTRA'!B1313","v":0},0,0,0,0,0,{"$f":"IFERROR(VLOOKUP(VLOOKUP(B1321,TRAFOS,4,FALSE),'COSTO ELEMENTOS N1'!$C$321:$C$350,1),0)","v":0}]
[1312,{"$f":"'TRAFOS MUESTRA'!B1314","v":0},0,0,0,0,0,{"$f":"IFERROR(VLOOKUP(VLOOKUP(B1322,TRAFOS,4,FALSE),'COSTO ELEMENTOS N1'!$C$321:$C$350,1),0)","v":0}]
[1313,{"$f":"'TRAFOS MUESTRA'!B1315","v":0},0,0,0,0,0,{"$f":"IFERROR(VLOOKUP(VLOOKUP(B1323,TRAFOS,4,FALSE),'COSTO ELEMENTOS N1'!$C$321:$C$350,1),0)","v":0}]
[1314,{"$f":"'TRAFOS MUESTRA'!B1316","v":0},0,0,0,0,0,{"$f":"IFERROR(VLOOKUP(VLOOKUP(B1324,TRAFOS,4,FALSE),'COSTO ELEMENTOS N1'!$C$321:$C$350,1),0)","v":0}]
[1315,{"$f":"'TRAFOS MUESTRA'!B1317","v":0},0,0,0,0,0,{"$f":"IFERROR(VLOOKUP(VLOOKUP(B1325,TRAFOS,4,FALSE),'COSTO ELEMENTOS N1'!$C$321:$C$350,1),0)","v":0}]
[1316,{"$f":"'TRAFOS MUESTRA'!B1318","v":0},0,0,0,0,0,{"$f":"IFERROR(VLOOKUP(VLOOKUP(B1326,TRAFOS,4,FALSE),'COSTO ELEMENTOS N1'!$C$321:$C$350,1),0)","v":0}]
[1317,{"$f":"'TRAFOS MUESTRA'!B1319","v":0},0,0,0,0,0,{"$f":"IFERROR(VLOOKUP(VLOOKUP(B1327,TRAFOS,4,FALSE),'COSTO ELEMENTOS N1'!$C$321:$C$350,1),0)","v":0}]
[1318,{"$f":"'TRAFOS MUESTRA'!B1320","v":0},0,0,0,0,0,{"$f":"IFERROR(VLOOKUP(VLOOKUP(B1328,TRAFOS,4,FALSE),'COSTO ELEMENTOS N1'!$C$321:$C$350,1),0)","v":0}]
[1319,{"$f":"'TRAFOS MUESTRA'!B1321","v":0},0,0,0,0,0,{"$f":"IFERROR(VLOOKUP(VLOOKUP(B1329,TRAFOS,4,FALSE),'COSTO ELEMENTOS N1'!$C$321:$C$350,1),0)","v":0}]
[1320,{"$f":"'TRAFOS MUESTRA'!B1322","v":0},0,0,0,0,0,{"$f":"IFERROR(VLOOKUP(VLOOKUP(B1330,TRAFOS,4,FALSE),'COSTO ELEMENTOS N1'!$C$321:$C$350,1),0)","v":0}]
[1321,{"$f":"'TRAFOS MUESTRA'!B1323","v":0},0,0,0,0,0,{"$f":"IFERROR(VLOOKUP(VLOOKUP(B1331,TRAFOS,4,FALSE),'COSTO ELEMENTOS N1'!$C$321:$C$350,1),0)","v":0}]
[1322,{"$f":"'TRAFOS MUESTRA'!B1324","v":0},0,0,0,0,0,{"$f":"IFERROR(VLOOKUP(VLOOKUP(B1332,TRAFOS,4,FALSE),'COSTO ELEMENTOS N1'!$C$321:$C$350,1),0)","v":0}]
[1323,{"$f":"'TRAFOS MUESTRA'!B1325","v":0},0,0,0,0,0,{"$f":"IFERROR(VLOOKUP(VLOOKUP(B1333,TRAFOS,4,FALSE),'COSTO ELEMENTOS N1'!$C$321:$C$350,1),0)","v":0}]
[1324,{"$f":"'TRAFOS MUESTRA'!B1326","v":0},0,0,0,0,0,{"$f":"IFERROR(VLOOKUP(VLOOKUP(B1334,TRAFOS,4,FALSE),'COSTO ELEMENTOS N1'!$C$321:$C$350,1),0)","v":0}]
[1325,{"$f":"'TRAFOS MUESTRA'!B1327","v":0},0,0,0,0,0,{"$f":"IFERROR(VLOOKUP(VLOOKUP(B1335,TRAFOS,4,FALSE),'COSTO ELEMENTOS N1'!$C$321:$C$350,1),0)","v":0}]
[1326,{"$f":"'TRAFOS MUESTRA'!B1328","v":0},0,0,0,0,0,{"$f":"IFERROR(VLOOKUP(VLOOKUP(B1336,TRAFOS,4,FALSE),'COSTO ELEMENTOS N1'!$C$321:$C$350,1),0)","v":0}]
[1327,{"$f":"'TRAFOS MUESTRA'!B1329","v":0},0,0,0,0,0,{"$f":"IFERROR(VLOOKUP(VLOOKUP(B1337,TRAFOS,4,FALSE),'COSTO ELEMENTOS N1'!$C$321:$C$350,1),0)","v":0}]
[1328,{"$f":"'TRAFOS MUESTRA'!B1330","v":0},0,0,0,0,0,{"$f":"IFERROR(VLOOKUP(VLOOKUP(B1338,TRAFOS,4,FALSE),'COSTO ELEMENTOS N1'!$C$321:$C$350,1),0)","v":0}]
[1329,{"$f":"'TRAFOS MUESTRA'!B1331","v":0},0,0,0,0,0,{"$f":"IFERROR(VLOOKUP(VLOOKUP(B1339,TRAFOS,4,FALSE),'COSTO ELEMENTOS N1'!$C$321:$C$350,1),0)","v":0}]
[1330,{"$f":"'TRAFOS MUESTRA'!B1332","v":0},0,0,0,0,0,{"$f":"IFERROR(VLOOKUP(VLOOKUP(B1340,TRAFOS,4,FALSE),'COSTO ELEMENTOS N1'!$C$321:$C$350,1),0)","v":0}]
[1331,{"$f":"'TRAFOS MUESTRA'!B1333","v":0},0,0,0,0,0,{"$f":"IFERROR(VLOOKUP(VLOOKUP(B1341,TRAFOS,4,FALSE),'COSTO ELEMENTOS N1'!$C$321:$C$350,1),0)","v":0}]
[1332,{"$f":"'TRAFOS MUESTRA'!B1334","v":0},0,0,0,0,0,{"$f":"IFERROR(VLOOKUP(VLOOKUP(B1342,TRAFOS,4,FALSE),'COSTO ELEMENTOS N1'!$C$321:$C$350,1),0)","v":0}]
[1333,{"$f":"'TRAFOS MUESTRA'!B1335","v":0},0,0,0,0,0,{"$f":"IFERROR(VLOOKUP(VLOOKUP(B1343,TRAFOS,4,FALSE),'COSTO ELEMENTOS N1'!$C$321:$C$350,1),0)","v":0}]
[1334,{"$f":"'TRAFOS MUESTRA'!B1336","v":0},0,0,0,0,0,{"$f":"IFERROR(VLOOKUP(VLOOKUP(B1344,TRAFOS,4,FALSE),'COSTO ELEMENTOS N1'!$C$321:$C$350,1),0)","v":0}]
[1335,{"$f":"'TRAFOS MUESTRA'!B1337","v":0},0,0,0,0,0,{"$f":"IFERROR(VLOOKUP(VLOOKUP(B1345,TRAFOS,4,FALSE),'COSTO ELEMENTOS N1'!$C$321:$C$350,1),0)","v":0}]
[1336,{"$f":"'TRAFOS MUESTRA'!B1338","v":0},0,0,0,0,0,{"$f":"IFERROR(VLOOKUP(VLOOKUP(B1346,TRAFOS,4,FALSE),'COSTO ELEMENTOS N1'!$C$321:$C$350,1),0)","v":0}]
[1337,{"$f":"'TRAFOS MUESTRA'!B1339","v":0},0,0,0,0,0,{"$f":"IFERROR(VLOOKUP(VLOOKUP(B1347,TRAFOS,4,FALSE),'COSTO ELEMENTOS N1'!$C$321:$C$350,1),0)","v":0}]
[1338,{"$f":"'TRAFOS MUESTRA'!B1340","v":0},0,0,0,0,0,{"$f":"IFERROR(VLOOKUP(VLOOKUP(B1348,TRAFOS,4,FALSE),'COSTO ELEMENTOS N1'!$C$321:$C$350,1),0)","v":0}]
[1339,{"$f":"'TRAFOS MUESTRA'!B1341","v":0},0,0,0,0,0,{"$f":"IFERROR(VLOOKUP(VLOOKUP(B1349,TRAFOS,4,FALSE),'COSTO ELEMENTOS N1'!$C$321:$C$350,1),0)","v":0}]
[1340,{"$f":"'TRAFOS MUESTRA'!B1342","v":0},0,0,0,0,0,{"$f":"IFERROR(VLOOKUP(VLOOKUP(B1350,TRAFOS,4,FALSE),'COSTO ELEMENTOS N1'!$C$321:$C$350,1),0)","v":0}]
[1341,{"$f":"'TRAFOS MUESTRA'!B1343","v":0},0,0,0,0,0,{"$f":"IFERROR(VLOOKUP(VLOOKUP(B1351,TRAFOS,4,FALSE),'COSTO ELEMENTOS N1'!$C$321:$C$350,1),0)","v":0}]
[1342,{"$f":"'TRAFOS MUESTRA'!B1344","v":0},0,0,0,0,0,{"$f":"IFERROR(VLOOKUP(VLOOKUP(B1352,TRAFOS,4,FALSE),'COSTO ELEMENTOS N1'!$C$321:$C$350,1),0)","v":0}]
[1343,{"$f":"'TRAFOS MUESTRA'!B1345","v":0},0,0,0,0,0,{"$f":"IFERROR(VLOOKUP(VLOOKUP(B1353,TRAFOS,4,FALSE),'COSTO ELEMENTOS N1'!$C$321:$C$350,1),0)","v":0}]
[1344,{"$f":"'TRAFOS MUESTRA'!B1346","v":0},0,0,0,0,0,{"$f":"IFERROR(VLOOKUP(VLOOKUP(B1354,TRAFOS,4,FALSE),'COSTO ELEMENTOS N1'!$C$321:$C$350,1),0)","v":0}]
[1345,{"$f":"'TRAFOS MUESTRA'!B1347","v":0},{"$f":"IFERROR(VLOOKUP(B1355,TRAFOS,3,FALSE),0)","v":0},{"$f":"IFERROR(SUMIF(CODIGO_TRAFOS_REDES,$B1355,COSTO_CONDUCTOR_TRAMO),0)","v":0},{"$f":"IFERROR(SUMIF(CODIGO_TRAFOS_REDES,$B1355,COSTO_APOYOS_TRAMO),0)","v":0},{"$f":"IFERROR(IF(H1355>15,VLOOKUP(H1355,COSTO_TRAFOS_3F,6,FALSE),VLOOKUP(H1355,COSTO_TRAFOS_1F,6,FALSE)),0)","v":0},0,{"$f":"IFERROR(VLOOKUP(VLOOKUP(B1355,TRAFOS,4,FALSE),'COSTO ELEMENTOS N1'!$C$321:$C$350,1),0)","v":0}]
[1346,{"$f":"'TRAFOS MUESTRA'!B1348","v":0},0,0,0,0,{"$f":"SUM(D1356:F1356)","v":0},{"$f":"IFERROR(VLOOKUP(VLOOKUP(B1356,TRAFOS,4,FALSE),'COSTO ELEMENTOS N1'!$C$321:$C$350,1),0)","v":0}]
[{"$f":"A1356+1","v":1347},{"$f":"'TRAFOS MUESTRA'!B1349","v":0},0,0,0,0,0,{"$f":"IFERROR(VLOOKUP(VLOOKUP(B1357,TRAFOS,4,FALSE),'COSTO ELEMENTOS N1'!$C$321:$C$350,1),0)","v":0}]
[1348,{"$f":"'TRAFOS MUESTRA'!B1350","v":0},0,0,0,0,0,{"$f":"IFERROR(VLOOKUP(VLOOKUP(B1358,TRAFOS,4,FALSE),'COSTO ELEMENTOS N1'!$C$321:$C$350,1),0)","v":0}]
[1349,{"$f":"'TRAFOS MUESTRA'!B1351","v":0},0,0,0,0,0,{"$f":"IFERROR(VLOOKUP(VLOOKUP(B1359,TRAFOS,4,FALSE),'COSTO ELEMENTOS N1'!$C$321:$C$350,1),0)","v":0}]
[1350,{"$f":"'TRAFOS MUESTRA'!B1352","v":0},0,0,0,0,0,{"$f":"IFERROR(VLOOKUP(VLOOKUP(B1360,TRAFOS,4,FALSE),'COSTO ELEMENTOS N1'!$C$321:$C$350,1),0)","v":0}]
[1351,{"$f":"'TRAFOS MUESTRA'!B1353","v":0},0,0,0,0,0,{"$f":"IFERROR(VLOOKUP(VLOOKUP(B1361,TRAFOS,4,FALSE),'COSTO ELEMENTOS N1'!$C$321:$C$350,1),0)","v":0}]
[1352,{"$f":"'TRAFOS MUESTRA'!B1354","v":0},0,0,0,0,0,{"$f":"IFERROR(VLOOKUP(VLOOKUP(B1362,TRAFOS,4,FALSE),'COSTO ELEMENTOS N1'!$C$321:$C$350,1),0)","v":0}]
[1353,{"$f":"'TRAFOS MUESTRA'!B1355","v":0},0,0,0,0,0,{"$f":"IFERROR(VLOOKUP(VLOOKUP(B1363,TRAFOS,4,FALSE),'COSTO ELEMENTOS N1'!$C$321:$C$350,1),0)","v":0}]
[1354,{"$f":"'TRAFOS MUESTRA'!B1356","v":0},0,0,0,0,0,{"$f":"IFERROR(VLOOKUP(VLOOKUP(B1364,TRAFOS,4,FALSE),'COSTO ELEMENTOS N1'!$C$321:$C$350,1),0)","v":0}]
[1355,{"$f":"'TRAFOS MUESTRA'!B1357","v":0},0,0,0,0,0,{"$f":"IFERROR(VLOOKUP(VLOOKUP(B1365,TRAFOS,4,FALSE),'COSTO ELEMENTOS N1'!$C$321:$C$350,1),0)","v":0}]
[1356,{"$f":"'TRAFOS MUESTRA'!B1358","v":0},0,0,0,0,0,{"$f":"IFERROR(VLOOKUP(VLOOKUP(B1366,TRAFOS,4,FALSE),'COSTO ELEMENTOS N1'!$C$321:$C$350,1),0)","v":0}]
[1357,{"$f":"'TRAFOS MUESTRA'!B1359","v":0},0,0,0,0,0,{"$f":"IFERROR(VLOOKUP(VLOOKUP(B1367,TRAFOS,4,FALSE),'COSTO ELEMENTOS N1'!$C$321:$C$350,1),0)","v":0}]
[1358,{"$f":"'TRAFOS MUESTRA'!B1360","v":0},0,0,0,0,0,{"$f":"IFERROR(VLOOKUP(VLOOKUP(B1368,TRAFOS,4,FALSE),'COSTO ELEMENTOS N1'!$C$321:$C$350,1),0)","v":0}]
[1359,{"$f":"'TRAFOS MUESTRA'!B1361","v":0},0,0,0,0,0,{"$f":"IFERROR(VLOOKUP(VLOOKUP(B1369,TRAFOS,4,FALSE),'COSTO ELEMENTOS N1'!$C$321:$C$350,1),0)","v":0}]
[1360,{"$f":"'TRAFOS MUESTRA'!B1362","v":0},0,0,0,0,0,{"$f":"IFERROR(VLOOKUP(VLOOKUP(B1370,TRAFOS,4,FALSE),'COSTO ELEMENTOS N1'!$C$321:$C$350,1),0)","v":0}]
[1361,{"$f":"'TRAFOS MUESTRA'!B1363","v":0},0,0,0,0,0,{"$f":"IFERROR(VLOOKUP(VLOOKUP(B1371,TRAFOS,4,FALSE),'COSTO ELEMENTOS N1'!$C$321:$C$350,1),0)","v":0}]
[1362,{"$f":"'TRAFOS MUESTRA'!B1364","v":0},0,0,0,0,0,{"$f":"IFERROR(VLOOKUP(VLOOKUP(B1372,TRAFOS,4,FALSE),'COSTO ELEMENTOS N1'!$C$321:$C$350,1),0)","v":0}]
[1363,{"$f":"'TRAFOS MUESTRA'!B1365","v":0},0,0,0,0,0,{"$f":"IFERROR(VLOOKUP(VLOOKUP(B1373,TRAFOS,4,FALSE),'COSTO ELEMENTOS N1'!$C$321:$C$350,1),0)","v":0}]
[1364,{"$f":"'TRAFOS MUESTRA'!B1366","v":0},0,0,0,0,0,{"$f":"IFERROR(VLOOKUP(VLOOKUP(B1374,TRAFOS,4,FALSE),'COSTO ELEMENTOS N1'!$C$321:$C$350,1),0)","v":0}]
[1365,{"$f":"'TRAFOS MUESTRA'!B1367","v":0},0,0,0,0,0,{"$f":"IFERROR(VLOOKUP(VLOOKUP(B1375,TRAFOS,4,FALSE),'COSTO ELEMENTOS N1'!$C$321:$C$350,1),0)","v":0}]
[1366,{"$f":"'TRAFOS MUESTRA'!B1368","v":0},0,0,0,0,0,{"$f":"IFERROR(VLOOKUP(VLOOKUP(B1376,TRAFOS,4,FALSE),'COSTO ELEMENTOS N1'!$C$321:$C$350,1),0)","v":0}]
[1367,{"$f":"'TRAFOS MUESTRA'!B1369","v":0},0,0,0,0,0,{"$f":"IFERROR(VLOOKUP(VLOOKUP(B1377,TRAFOS,4,FALSE),'COSTO ELEMENTOS N1'!$C$321:$C$350,1),0)","v":0}]
[1368,{"$f":"'TRAFOS MUESTRA'!B1370","v":0},0,0,0,0,0,{"$f":"IFERROR(VLOOKUP(VLOOKUP(B1378,TRAFOS,4,FALSE),'COSTO ELEMENTOS N1'!$C$321:$C$350,1),0)","v":0}]
[1369,{"$f":"'TRAFOS MUESTRA'!B1371","v":0},0,0,0,0,0,{"$f":"IFERROR(VLOOKUP(VLOOKUP(B1379,TRAFOS,4,FALSE),'COSTO ELEMENTOS N1'!$C$321:$C$350,1),0)","v":0}]
[1370,{"$f":"'TRAFOS MUESTRA'!B1372","v":0},0,0,0,0,0,{"$f":"IFERROR(VLOOKUP(VLOOKUP(B1380,TRAFOS,4,FALSE),'COSTO ELEMENTOS N1'!$C$321:$C$350,1),0)","v":0}]
[1371,{"$f":"'TRAFOS MUESTRA'!B1373","v":0},0,0,0,0,0,{"$f":"IFERROR(VLOOKUP(VLOOKUP(B1381,TRAFOS,4,FALSE),'COSTO ELEMENTOS N1'!$C$321:$C$350,1),0)","v":0}]
[1372,{"$f":"'TRAFOS MUESTRA'!B1374","v":0},0,0,0,0,0,{"$f":"IFERROR(VLOOKUP(VLOOKUP(B1382,TRAFOS,4,FALSE),'COSTO ELEMENTOS N1'!$C$321:$C$350,1),0)","v":0}]
[1373,{"$f":"'TRAFOS MUESTRA'!B1375","v":0},0,0,0,0,0,{"$f":"IFERROR(VLOOKUP(VLOOKUP(B1383,TRAFOS,4,FALSE),'COSTO ELEMENTOS N1'!$C$321:$C$350,1),0)","v":0}]
[1374,{"$f":"'TRAFOS MUESTRA'!B1376","v":0},0,0,0,0,0,{"$f":"IFERROR(VLOOKUP(VLOOKUP(B1384,TRAFOS,4,FALSE),'COSTO ELEMENTOS N1'!$C$321:$C$350,1),0)","v":0}]
[1375,{"$f":"'TRAFOS MUESTRA'!B1377","v":0},0,0,0,0,0,{"$f":"IFERROR(VLOOKUP(VLOOKUP(B1385,TRAFOS,4,FALSE),'COSTO ELEMENTOS N1'!$C$321:$C$350,1),0)","v":0}]
[1376,{"$f":"'TRAFOS MUESTRA'!B1378","v":0},0,0,0,0,0,{"$f":"IFERROR(VLOOKUP(VLOOKUP(B1386,TRAFOS,4,FALSE),'COSTO ELEMENTOS N1'!$C$321:$C$350,1),0)","v":0}]
[1377,{"$f":"'TRAFOS MUESTRA'!B1379","v":0},0,0,0,0,0,{"$f":"IFERROR(VLOOKUP(VLOOKUP(B1387,TRAFOS,4,FALSE),'COSTO ELEMENTOS N1'!$C$321:$C$350,1),0)","v":0}]
[1378,{"$f":"'TRAFOS MUESTRA'!B1380","v":0},0,0,0,0,0,{"$f":"IFERROR(VLOOKUP(VLOOKUP(B1388,TRAFOS,4,FALSE),'COSTO ELEMENTOS N1'!$C$321:$C$350,1),0)","v":0}]
[1379,{"$f":"'TRAFOS MUESTRA'!B1381","v":0},0,0,0,0,0,{"$f":"IFERROR(VLOOKUP(VLOOKUP(B1389,TRAFOS,4,FALSE),'COSTO ELEMENTOS N1'!$C$321:$C$350,1),0)","v":0}]
[1380,{"$f":"'TRAFOS MUESTRA'!B1382","v":0},0,0,0,0,0,{"$f":"IFERROR(VLOOKUP(VLOOKUP(B1390,TRAFOS,4,FALSE),'COSTO ELEMENTOS N1'!$C$321:$C$350,1),0)","v":0}]
[1381,{"$f":"'TRAFOS MUESTRA'!B1383","v":0},0,0,0,0,0,{"$f":"IFERROR(VLOOKUP(VLOOKUP(B1391,TRAFOS,4,FALSE),'COSTO ELEMENTOS N1'!$C$321:$C$350,1),0)","v":0}]
[1382,{"$f":"'TRAFOS MUESTRA'!B1384","v":0},0,0,0,0,0,{"$f":"IFERROR(VLOOKUP(VLOOKUP(B1392,TRAFOS,4,FALSE),'COSTO ELEMENTOS N1'!$C$321:$C$350,1),0)","v":0}]
[1383,{"$f":"'TRAFOS MUESTRA'!B1385","v":0},0,0,0,0,0,{"$f":"IFERROR(VLOOKUP(VLOOKUP(B1393,TRAFOS,4,FALSE),'COSTO ELEMENTOS N1'!$C$321:$C$350,1),0)","v":0}]
[1384,{"$f":"'TRAFOS MUESTRA'!B1386","v":0},0,0,0,0,0,{"$f":"IFERROR(VLOOKUP(VLOOKUP(B1394,TRAFOS,4,FALSE),'COSTO ELEMENTOS N1'!$C$321:$C$350,1),0)","v":0}]
[1385,{"$f":"'TRAFOS MUESTRA'!B1387","v":0},0,0,0,0,0,{"$f":"IFERROR(VLOOKUP(VLOOKUP(B1395,TRAFOS,4,FALSE),'COSTO ELEMENTOS N1'!$C$321:$C$350,1),0)","v":0}]
[1386,{"$f":"'TRAFOS MUESTRA'!B1388","v":0},0,0,0,0,0,{"$f":"IFERROR(VLOOKUP(VLOOKUP(B1396,TRAFOS,4,FALSE),'COSTO ELEMENTOS N1'!$C$321:$C$350,1),0)","v":0}]
[1387,{"$f":"'TRAFOS MUESTRA'!B1389","v":0},0,0,0,0,0,{"$f":"IFERROR(VLOOKUP(VLOOKUP(B1397,TRAFOS,4,FALSE),'COSTO ELEMENTOS N1'!$C$321:$C$350,1),0)","v":0}]
[1388,{"$f":"'TRAFOS MUESTRA'!B1390","v":0},0,0,0,0,0,{"$f":"IFERROR(VLOOKUP(VLOOKUP(B1398,TRAFOS,4,FALSE),'COSTO ELEMENTOS N1'!$C$321:$C$350,1),0)","v":0}]
[1389,{"$f":"'TRAFOS MUESTRA'!B1391","v":0},0,0,0,0,0,{"$f":"IFERROR(VLOOKUP(VLOOKUP(B1399,TRAFOS,4,FALSE),'COSTO ELEMENTOS N1'!$C$321:$C$350,1),0)","v":0}]
[1390,{"$f":"'TRAFOS MUESTRA'!B1392","v":0},0,0,0,0,0,{"$f":"IFERROR(VLOOKUP(VLOOKUP(B1400,TRAFOS,4,FALSE),'COSTO ELEMENTOS N1'!$C$321:$C$350,1),0)","v":0}]
[1391,{"$f":"'TRAFOS MUESTRA'!B1393","v":0},0,0,0,0,0,{"$f":"IFERROR(VLOOKUP(VLOOKUP(B1401,TRAFOS,4,FALSE),'COSTO ELEMENTOS N1'!$C$321:$C$350,1),0)","v":0}]
[1392,{"$f":"'TRAFOS MUESTRA'!B1394","v":0},0,0,0,0,0,{"$f":"IFERROR(VLOOKUP(VLOOKUP(B1402,TRAFOS,4,FALSE),'COSTO ELEMENTOS N1'!$C$321:$C$350,1),0)","v":0}]
[1393,{"$f":"'TRAFOS MUESTRA'!B1395","v":0},0,0,0,0,0,{"$f":"IFERROR(VLOOKUP(VLOOKUP(B1403,TRAFOS,4,FALSE),'COSTO ELEMENTOS N1'!$C$321:$C$350,1),0)","v":0}]
[1394,{"$f":"'TRAFOS MUESTRA'!B1396","v":0},0,0,0,0,0,{"$f":"IFERROR(VLOOKUP(VLOOKUP(B1404,TRAFOS,4,FALSE),'COSTO ELEMENTOS N1'!$C$321:$C$350,1),0)","v":0}]
[1395,{"$f":"'TRAFOS MUESTRA'!B1397","v":0},0,0,0,0,0,{"$f":"IFERROR(VLOOKUP(VLOOKUP(B1405,TRAFOS,4,FALSE),'COSTO ELEMENTOS N1'!$C$321:$C$350,1),0)","v":0}]
[1396,{"$f":"'TRAFOS MUESTRA'!B1398","v":0},0,0,0,0,0,{"$f":"IFERROR(VLOOKUP(VLOOKUP(B1406,TRAFOS,4,FALSE),'COSTO ELEMENTOS N1'!$C$321:$C$350,1),0)","v":0}]
[1397,{"$f":"'TRAFOS MUESTRA'!B1399","v":0},0,0,0,0,0,{"$f":"IFERROR(VLOOKUP(VLOOKUP(B1407,TRAFOS,4,FALSE),'COSTO ELEMENTOS N1'!$C$321:$C$350,1),0)","v":0}]
[1398,{"$f":"'TRAFOS MUESTRA'!B1400","v":0},0,0,0,0,0,{"$f":"IFERROR(VLOOKUP(VLOOKUP(B1408,TRAFOS,4,FALSE),'COSTO ELEMENTOS N1'!$C$321:$C$350,1),0)","v":0}]
[1399,{"$f":"'TRAFOS MUESTRA'!B1401","v":0},0,0,0,0,0,{"$f":"IFERROR(VLOOKUP(VLOOKUP(B1409,TRAFOS,4,FALSE),'COSTO ELEMENTOS N1'!$C$321:$C$350,1),0)","v":0}]
[1400,{"$f":"'TRAFOS MUESTRA'!B1402","v":0},0,0,0,0,0,{"$f":"IFERROR(VLOOKUP(VLOOKUP(B1410,TRAFOS,4,FALSE),'COSTO ELEMENTOS N1'!$C$321:$C$350,1),0)","v":0}]
[1401,{"$f":"'TRAFOS MUESTRA'!B1403","v":0},0,0,0,0,0,{"$f":"IFERROR(VLOOKUP(VLOOKUP(B1411,TRAFOS,4,FALSE),'COSTO ELEMENTOS N1'!$C$321:$C$350,1),0)","v":0}]
[1402,{"$f":"'TRAFOS MUESTRA'!B1404","v":0},0,0,0,0,0,{"$f":"IFERROR(VLOOKUP(VLOOKUP(B1412,TRAFOS,4,FALSE),'COSTO ELEMENTOS N1'!$C$321:$C$350,1),0)","v":0}]
[1403,{"$f":"'TRAFOS MUESTRA'!B1405","v":0},0,0,0,0,0,{"$f":"IFERROR(VLOOKUP(VLOOKUP(B1413,TRAFOS,4,FALSE),'COSTO ELEMENTOS N1'!$C$321:$C$350,1),0)","v":0}]
[1404,{"$f":"'TRAFOS MUESTRA'!B1406","v":0},0,0,0,0,0,{"$f":"IFERROR(VLOOKUP(VLOOKUP(B1414,TRAFOS,4,FALSE),'COSTO ELEMENTOS N1'!$C$321:$C$350,1),0)","v":0}]
[1405,{"$f":"'TRAFOS MUESTRA'!B1407","v":0},0,0,0,0,0,{"$f":"IFERROR(VLOOKUP(VLOOKUP(B1415,TRAFOS,4,FALSE),'COSTO ELEMENTOS N1'!$C$321:$C$350,1),0)","v":0}]
[1406,{"$f":"'TRAFOS MUESTRA'!B1408","v":0},0,0,0,0,0,{"$f":"IFERROR(VLOOKUP(VLOOKUP(B1416,TRAFOS,4,FALSE),'COSTO ELEMENTOS N1'!$C$321:$C$350,1),0)","v":0}]
[1407,{"$f":"'TRAFOS MUESTRA'!B1409","v":0},0,0,0,0,0,{"$f":"IFERROR(VLOOKUP(VLOOKUP(B1417,TRAFOS,4,FALSE),'COSTO ELEMENTOS N1'!$C$321:$C$350,1),0)","v":0}]
[1408,{"$f":"'TRAFOS MUESTRA'!B1410","v":0},0,0,0,0,0,{"$f":"IFERROR(VLOOKUP(VLOOKUP(B1418,TRAFOS,4,FALSE),'COSTO ELEMENTOS N1'!$C$321:$C$350,1),0)","v":0}]
[1409,{"$f":"'TRAFOS MUESTRA'!B1411","v":0},{"$f":"IFERROR(VLOOKUP(B1419,TRAFOS,3,FALSE),0)","v":0},{"$f":"IFERROR(SUMIF(CODIGO_TRAFOS_REDES,$B1419,COSTO_CONDUCTOR_TRAMO),0)","v":0},{"$f":"IFERROR(SUMIF(CODIGO_TRAFOS_REDES,$B1419,COSTO_APOYOS_TRAMO),0)","v":0},{"$f":"IFERROR(IF(H1419>15,VLOOKUP(H1419,COSTO_TRAFOS_3F,6,FALSE),VLOOKUP(H1419,COSTO_TRAFOS_1F,6,FALSE)),0)","v":0},0,{"$f":"IFERROR(VLOOKUP(VLOOKUP(B1419,TRAFOS,4,FALSE),'COSTO ELEMENTOS N1'!$C$321:$C$350,1),0)","v":0}]
[1410,{"$f":"'TRAFOS MUESTRA'!B1412","v":0},0,0,0,0,{"$f":"SUM(D1420:F1420)","v":0},{"$f":"IFERROR(VLOOKUP(VLOOKUP(B1420,TRAFOS,4,FALSE),'COSTO ELEMENTOS N1'!$C$321:$C$350,1),0)","v":0}]
[{"$f":"A1420+1","v":1411},{"$f":"'TRAFOS MUESTRA'!B1413","v":0},0,0,0,0,0,{"$f":"IFERROR(VLOOKUP(VLOOKUP(B1421,TRAFOS,4,FALSE),'COSTO ELEMENTOS N1'!$C$321:$C$350,1),0)","v":0}]
[1412,{"$f":"'TRAFOS MUESTRA'!B1414","v":0},0,0,0,0,0,{"$f":"IFERROR(VLOOKUP(VLOOKUP(B1422,TRAFOS,4,FALSE),'COSTO ELEMENTOS N1'!$C$321:$C$350,1),0)","v":0}]
[1413,{"$f":"'TRAFOS MUESTRA'!B1415","v":0},0,0,0,0,0,{"$f":"IFERROR(VLOOKUP(VLOOKUP(B1423,TRAFOS,4,FALSE),'COSTO ELEMENTOS N1'!$C$321:$C$350,1),0)","v":0}]
[1414,{"$f":"'TRAFOS MUESTRA'!B1416","v":0},0,0,0,0,0,{"$f":"IFERROR(VLOOKUP(VLOOKUP(B1424,TRAFOS,4,FALSE),'COSTO ELEMENTOS N1'!$C$321:$C$350,1),0)","v":0}]
[1415,{"$f":"'TRAFOS MUESTRA'!B1417","v":0},0,0,0,0,0,{"$f":"IFERROR(VLOOKUP(VLOOKUP(B1425,TRAFOS,4,FALSE),'COSTO ELEMENTOS N1'!$C$321:$C$350,1),0)","v":0}]
[1416,{"$f":"'TRAFOS MUESTRA'!B1418","v":0},0,0,0,0,0,{"$f":"IFERROR(VLOOKUP(VLOOKUP(B1426,TRAFOS,4,FALSE),'COSTO ELEMENTOS N1'!$C$321:$C$350,1),0)","v":0}]
[1417,{"$f":"'TRAFOS MUESTRA'!B1419","v":0},0,0,0,0,0,{"$f":"IFERROR(VLOOKUP(VLOOKUP(B1427,TRAFOS,4,FALSE),'COSTO ELEMENTOS N1'!$C$321:$C$350,1),0)","v":0}]
[1418,{"$f":"'TRAFOS MUESTRA'!B1420","v":0},0,0,0,0,0,{"$f":"IFERROR(VLOOKUP(VLOOKUP(B1428,TRAFOS,4,FALSE),'COSTO ELEMENTOS N1'!$C$321:$C$350,1),0)","v":0}]
[1419,{"$f":"'TRAFOS MUESTRA'!B1421","v":0},0,0,0,0,0,{"$f":"IFERROR(VLOOKUP(VLOOKUP(B1429,TRAFOS,4,FALSE),'COSTO ELEMENTOS N1'!$C$321:$C$350,1),0)","v":0}]
[1420,{"$f":"'TRAFOS MUESTRA'!B1422","v":0},0,0,0,0,0,{"$f":"IFERROR(VLOOKUP(VLOOKUP(B1430,TRAFOS,4,FALSE),'COSTO ELEMENTOS N1'!$C$321:$C$350,1),0)","v":0}]
[1421,{"$f":"'TRAFOS MUESTRA'!B1423","v":0},0,0,0,0,0,{"$f":"IFERROR(VLOOKUP(VLOOKUP(B1431,TRAFOS,4,FALSE),'COSTO ELEMENTOS N1'!$C$321:$C$350,1),0)","v":0}]
[1422,{"$f":"'TRAFOS MUESTRA'!B1424","v":0},0,0,0,0,0,{"$f":"IFERROR(VLOOKUP(VLOOKUP(B1432,TRAFOS,4,FALSE),'COSTO ELEMENTOS N1'!$C$321:$C$350,1),0)","v":0}]
[1423,{"$f":"'TRAFOS MUESTRA'!B1425","v":0},0,0,0,0,0,{"$f":"IFERROR(VLOOKUP(VLOOKUP(B1433,TRAFOS,4,FALSE),'COSTO ELEMENTOS N1'!$C$321:$C$350,1),0)","v":0}]
[1424,{"$f":"'TRAFOS MUESTRA'!B1426","v":0},0,0,0,0,0,{"$f":"IFERROR(VLOOKUP(VLOOKUP(B1434,TRAFOS,4,FALSE),'COSTO ELEMENTOS N1'!$C$321:$C$350,1),0)","v":0}]
[1425,{"$f":"'TRAFOS MUESTRA'!B1427","v":0},0,0,0,0,0,{"$f":"IFERROR(VLOOKUP(VLOOKUP(B1435,TRAFOS,4,FALSE),'COSTO ELEMENTOS N1'!$C$321:$C$350,1),0)","v":0}]
[1426,{"$f":"'TRAFOS MUESTRA'!B1428","v":0},0,0,0,0,0,{"$f":"IFERROR(VLOOKUP(VLOOKUP(B1436,TRAFOS,4,FALSE),'COSTO ELEMENTOS N1'!$C$321:$C$350,1),0)","v":0}]
[1427,{"$f":"'TRAFOS MUESTRA'!B1429","v":0},0,0,0,0,0,{"$f":"IFERROR(VLOOKUP(VLOOKUP(B1437,TRAFOS,4,FALSE),'COSTO ELEMENTOS N1'!$C$321:$C$350,1),0)","v":0}]
[1428,{"$f":"'TRAFOS MUESTRA'!B1430","v":0},0,0,0,0,0,{"$f":"IFERROR(VLOOKUP(VLOOKUP(B1438,TRAFOS,4,FALSE),'COSTO ELEMENTOS N1'!$C$321:$C$350,1),0)","v":0}]
[1429,{"$f":"'TRAFOS MUESTRA'!B1431","v":0},0,0,0,0,0,{"$f":"IFERROR(VLOOKUP(VLOOKUP(B1439,TRAFOS,4,FALSE),'COSTO ELEMENTOS N1'!$C$321:$C$350,1),0)","v":0}]
[1430,{"$f":"'TRAFOS MUESTRA'!B1432","v":0},0,0,0,0,0,{"$f":"IFERROR(VLOOKUP(VLOOKUP(B1440,TRAFOS,4,FALSE),'COSTO ELEMENTOS N1'!$C$321:$C$350,1),0)","v":0}]
[1431,{"$f":"'TRAFOS MUESTRA'!B1433","v":0},0,0,0,0,0,{"$f":"IFERROR(VLOOKUP(VLOOKUP(B1441,TRAFOS,4,FALSE),'COSTO ELEMENTOS N1'!$C$321:$C$350,1),0)","v":0}]
[1432,{"$f":"'TRAFOS MUESTRA'!B1434","v":0},0,0,0,0,0,{"$f":"IFERROR(VLOOKUP(VLOOKUP(B1442,TRAFOS,4,FALSE),'COSTO ELEMENTOS N1'!$C$321:$C$350,1),0)","v":0}]
[1433,{"$f":"'TRAFOS MUESTRA'!B1435","v":0},0,0,0,0,0,{"$f":"IFERROR(VLOOKUP(VLOOKUP(B1443,TRAFOS,4,FALSE),'COSTO ELEMENTOS N1'!$C$321:$C$350,1),0)","v":0}]
[1434,{"$f":"'TRAFOS MUESTRA'!B1436","v":0},0,0,0,0,0,{"$f":"IFERROR(VLOOKUP(VLOOKUP(B1444,TRAFOS,4,FALSE),'COSTO ELEMENTOS N1'!$C$321:$C$350,1),0)","v":0}]
[1435,{"$f":"'TRAFOS MUESTRA'!B1437","v":0},0,0,0,0,0,{"$f":"IFERROR(VLOOKUP(VLOOKUP(B1445,TRAFOS,4,FALSE),'COSTO ELEMENTOS N1'!$C$321:$C$350,1),0)","v":0}]
[1436,{"$f":"'TRAFOS MUESTRA'!B1438","v":0},0,0,0,0,0,{"$f":"IFERROR(VLOOKUP(VLOOKUP(B1446,TRAFOS,4,FALSE),'COSTO ELEMENTOS N1'!$C$321:$C$350,1),0)","v":0}]
[1437,{"$f":"'TRAFOS MUESTRA'!B1439","v":0},0,0,0,0,0,{"$f":"IFERROR(VLOOKUP(VLOOKUP(B1447,TRAFOS,4,FALSE),'COSTO ELEMENTOS N1'!$C$321:$C$350,1),0)","v":0}]
[1438,{"$f":"'TRAFOS MUESTRA'!B1440","v":0},0,0,0,0,0,{"$f":"IFERROR(VLOOKUP(VLOOKUP(B1448,TRAFOS,4,FALSE),'COSTO ELEMENTOS N1'!$C$321:$C$350,1),0)","v":0}]
[1439,{"$f":"'TRAFOS MUESTRA'!B1441","v":0},0,0,0,0,0,{"$f":"IFERROR(VLOOKUP(VLOOKUP(B1449,TRAFOS,4,FALSE),'COSTO ELEMENTOS N1'!$C$321:$C$350,1),0)","v":0}]
[1440,{"$f":"'TRAFOS MUESTRA'!B1442","v":0},0,0,0,0,0,{"$f":"IFERROR(VLOOKUP(VLOOKUP(B1450,TRAFOS,4,FALSE),'COSTO ELEMENTOS N1'!$C$321:$C$350,1),0)","v":0}]
[1441,{"$f":"'TRAFOS MUESTRA'!B1443","v":0},0,0,0,0,0,{"$f":"IFERROR(VLOOKUP(VLOOKUP(B1451,TRAFOS,4,FALSE),'COSTO ELEMENTOS N1'!$C$321:$C$350,1),0)","v":0}]
[1442,{"$f":"'TRAFOS MUESTRA'!B1444","v":0},0,0,0,0,0,{"$f":"IFERROR(VLOOKUP(VLOOKUP(B1452,TRAFOS,4,FALSE),'COSTO ELEMENTOS N1'!$C$321:$C$350,1),0)","v":0}]
[1443,{"$f":"'TRAFOS MUESTRA'!B1445","v":0},0,0,0,0,0,{"$f":"IFERROR(VLOOKUP(VLOOKUP(B1453,TRAFOS,4,FALSE),'COSTO ELEMENTOS N1'!$C$321:$C$350,1),0)","v":0}]
[1444,{"$f":"'TRAFOS MUESTRA'!B1446","v":0},0,0,0,0,0,{"$f":"IFERROR(VLOOKUP(VLOOKUP(B1454,TRAFOS,4,FALSE),'COSTO ELEMENTOS N1'!$C$321:$C$350,1),0)","v":0}]
[1445,{"$f":"'TRAFOS MUESTRA'!B1447","v":0},0,0,0,0,0,{"$f":"IFERROR(VLOOKUP(VLOOKUP(B1455,TRAFOS,4,FALSE),'COSTO ELEMENTOS N1'!$C$321:$C$350,1),0)","v":0}]
[1446,{"$f":"'TRAFOS MUESTRA'!B1448","v":0},0,0,0,0,0,{"$f":"IFERROR(VLOOKUP(VLOOKUP(B1456,TRAFOS,4,FALSE),'COSTO ELEMENTOS N1'!$C$321:$C$350,1),0)","v":0}]
[1447,{"$f":"'TRAFOS MUESTRA'!B1449","v":0},0,0,0,0,0,{"$f":"IFERROR(VLOOKUP(VLOOKUP(B1457,TRAFOS,4,FALSE),'COSTO ELEMENTOS N1'!$C$321:$C$350,1),0)","v":0}]
[1448,{"$f":"'TRAFOS MUESTRA'!B1450","v":0},0,0,0,0,0,{"$f":"IFERROR(VLOOKUP(VLOOKUP(B1458,TRAFOS,4,FALSE),'COSTO ELEMENTOS N1'!$C$321:$C$350,1),0)","v":0}]
[1449,{"$f":"'TRAFOS MUESTRA'!B1451","v":0},0,0,0,0,0,{"$f":"IFERROR(VLOOKUP(VLOOKUP(B1459,TRAFOS,4,FALSE),'COSTO ELEMENTOS N1'!$C$321:$C$350,1),0)","v":0}]
[1450,{"$f":"'TRAFOS MUESTRA'!B1452","v":0},0,0,0,0,0,{"$f":"IFERROR(VLOOKUP(VLOOKUP(B1460,TRAFOS,4,FALSE),'COSTO ELEMENTOS N1'!$C$321:$C$350,1),0)","v":0}]
[1451,{"$f":"'TRAFOS MUESTRA'!B1453","v":0},0,0,0,0,0,{"$f":"IFERROR(VLOOKUP(VLOOKUP(B1461,TRAFOS,4,FALSE),'COSTO ELEMENTOS N1'!$C$321:$C$350,1),0)","v":0}]
[1452,{"$f":"'TRAFOS MUESTRA'!B1454","v":0},0,0,0,0,0,{"$f":"IFERROR(VLOOKUP(VLOOKUP(B1462,TRAFOS,4,FALSE),'COSTO ELEMENTOS N1'!$C$321:$C$350,1),0)","v":0}]
[1453,{"$f":"'TRAFOS MUESTRA'!B1455","v":0},0,0,0,0,0,{"$f":"IFERROR(VLOOKUP(VLOOKUP(B1463,TRAFOS,4,FALSE),'COSTO ELEMENTOS N1'!$C$321:$C$350,1),0)","v":0}]
[1454,{"$f":"'TRAFOS MUESTRA'!B1456","v":0},0,0,0,0,0,{"$f":"IFERROR(VLOOKUP(VLOOKUP(B1464,TRAFOS,4,FALSE),'COSTO ELEMENTOS N1'!$C$321:$C$350,1),0)","v":0}]
[1455,{"$f":"'TRAFOS MUESTRA'!B1457","v":0},0,0,0,0,0,{"$f":"IFERROR(VLOOKUP(VLOOKUP(B1465,TRAFOS,4,FALSE),'COSTO ELEMENTOS N1'!$C$321:$C$350,1),0)","v":0}]
[1456,{"$f":"'TRAFOS MUESTRA'!B1458","v":0},0,0,0,0,0,{"$f":"IFERROR(VLOOKUP(VLOOKUP(B1466,TRAFOS,4,FALSE),'COSTO ELEMENTOS N1'!$C$321:$C$350,1),0)","v":0}]
[1457,{"$f":"'TRAFOS MUESTRA'!B1459","v":0},0,0,0,0,0,{"$f":"IFERROR(VLOOKUP(VLOOKUP(B1467,TRAFOS,4,FALSE),'COSTO ELEMENTOS N1'!$C$321:$C$350,1),0)","v":0}]
[1458,{"$f":"'TRAFOS MUESTRA'!B1460","v":0},0,0,0,0,0,{"$f":"IFERROR(VLOOKUP(VLOOKUP(B1468,TRAFOS,4,FALSE),'COSTO ELEMENTOS N1'!$C$321:$C$350,1),0)","v":0}]
[1459,{"$f":"'TRAFOS MUESTRA'!B1461","v":0},0,0,0,0,0,{"$f":"IFERROR(VLOOKUP(VLOOKUP(B1469,TRAFOS,4,FALSE),'COSTO ELEMENTOS N1'!$C$321:$C$350,1),0)","v":0}]
[1460,{"$f":"'TRAFOS MUESTRA'!B1462","v":0},0,0,0,0,0,{"$f":"IFERROR(VLOOKUP(VLOOKUP(B1470,TRAFOS,4,FALSE),'COSTO ELEMENTOS N1'!$C$321:$C$350,1),0)","v":0}]
[1461,{"$f":"'TRAFOS MUESTRA'!B1463","v":0},0,0,0,0,0,{"$f":"IFERROR(VLOOKUP(VLOOKUP(B1471,TRAFOS,4,FALSE),'COSTO ELEMENTOS N1'!$C$321:$C$350,1),0)","v":0}]
[1462,{"$f":"'TRAFOS MUESTRA'!B1464","v":0},0,0,0,0,0,{"$f":"IFERROR(VLOOKUP(VLOOKUP(B1472,TRAFOS,4,FALSE),'COSTO ELEMENTOS N1'!$C$321:$C$350,1),0)","v":0}]
[1463,{"$f":"'TRAFOS MUESTRA'!B1465","v":0},0,0,0,0,0,{"$f":"IFERROR(VLOOKUP(VLOOKUP(B1473,TRAFOS,4,FALSE),'COSTO ELEMENTOS N1'!$C$321:$C$350,1),0)","v":0}]
[1464,{"$f":"'TRAFOS MUESTRA'!B1466","v":0},0,0,0,0,0,{"$f":"IFERROR(VLOOKUP(VLOOKUP(B1474,TRAFOS,4,FALSE),'COSTO ELEMENTOS N1'!$C$321:$C$350,1),0)","v":0}]
[1465,{"$f":"'TRAFOS MUESTRA'!B1467","v":0},0,0,0,0,0,{"$f":"IFERROR(VLOOKUP(VLOOKUP(B1475,TRAFOS,4,FALSE),'COSTO ELEMENTOS N1'!$C$321:$C$350,1),0)","v":0}]
[1466,{"$f":"'TRAFOS MUESTRA'!B1468","v":0},0,0,0,0,0,{"$f":"IFERROR(VLOOKUP(VLOOKUP(B1476,TRAFOS,4,FALSE),'COSTO ELEMENTOS N1'!$C$321:$C$350,1),0)","v":0}]
[1467,{"$f":"'TRAFOS MUESTRA'!B1469","v":0},0,0,0,0,0,{"$f":"IFERROR(VLOOKUP(VLOOKUP(B1477,TRAFOS,4,FALSE),'COSTO ELEMENTOS N1'!$C$321:$C$350,1),0)","v":0}]
[1468,{"$f":"'TRAFOS MUESTRA'!B1470","v":0},0,0,0,0,0,{"$f":"IFERROR(VLOOKUP(VLOOKUP(B1478,TRAFOS,4,FALSE),'COSTO ELEMENTOS N1'!$C$321:$C$350,1),0)","v":0}]
[1469,{"$f":"'TRAFOS MUESTRA'!B1471","v":0},0,0,0,0,0,{"$f":"IFERROR(VLOOKUP(VLOOKUP(B1479,TRAFOS,4,FALSE),'COSTO ELEMENTOS N1'!$C$321:$C$350,1),0)","v":0}]
[1470,{"$f":"'TRAFOS MUESTRA'!B1472","v":0},0,0,0,0,0,{"$f":"IFERROR(VLOOKUP(VLOOKUP(B1480,TRAFOS,4,FALSE),'COSTO ELEMENTOS N1'!$C$321:$C$350,1),0)","v":0}]
[1471,{"$f":"'TRAFOS MUESTRA'!B1473","v":0},0,0,0,0,0,{"$f":"IFERROR(VLOOKUP(VLOOKUP(B1481,TRAFOS,4,FALSE),'COSTO ELEMENTOS N1'!$C$321:$C$350,1),0)","v":0}]
[1472,{"$f":"'TRAFOS MUESTRA'!B1474","v":0},0,0,0,0,0,{"$f":"IFERROR(VLOOKUP(VLOOKUP(B1482,TRAFOS,4,FALSE),'COSTO ELEMENTOS N1'!$C$321:$C$350,1),0)","v":0}]
[1473,{"$f":"'TRAFOS MUESTRA'!B1475","v":0},{"$f":"IFERROR(VLOOKUP(B1483,TRAFOS,3,FALSE),0)","v":0},{"$f":"IFERROR(SUMIF(CODIGO_TRAFOS_REDES,$B1483,COSTO_CONDUCTOR_TRAMO),0)","v":0},{"$f":"IFERROR(SUMIF(CODIGO_TRAFOS_REDES,$B1483,COSTO_APOYOS_TRAMO),0)","v":0},{"$f":"IFERROR(IF(H1483>15,VLOOKUP(H1483,COSTO_TRAFOS_3F,6,FALSE),VLOOKUP(H1483,COSTO_TRAFOS_1F,6,FALSE)),0)","v":0},0,{"$f":"IFERROR(VLOOKUP(VLOOKUP(B1483,TRAFOS,4,FALSE),'COSTO ELEMENTOS N1'!$C$321:$C$350,1),0)","v":0}]
[1474,{"$f":"'TRAFOS MUESTRA'!B1476","v":0},0,0,0,0,{"$f":"SUM(D1484:F1484)","v":0},{"$f":"IFERROR(VLOOKUP(VLOOKUP(B1484,TRAFOS,4,FALSE),'COSTO ELEMENTOS N1'!$C$321:$C$350,1),0)","v":0}]
[{"$f":"A1484+1","v":1475},{"$f":"'TRAFOS MUESTRA'!B1477","v":0},0,0,0,0,0,{"$f":"IFERROR(VLOOKUP(VLOOKUP(B1485,TRAFOS,4,FALSE),'COSTO ELEMENTOS N1'!$C$321:$C$350,1),0)","v":0}]
[1476,{"$f":"'TRAFOS MUESTRA'!B1478","v":0},0,0,0,0,0,{"$f":"IFERROR(VLOOKUP(VLOOKUP(B1486,TRAFOS,4,FALSE),'COSTO ELEMENTOS N1'!$C$321:$C$350,1),0)","v":0}]
[1477,{"$f":"'TRAFOS MUESTRA'!B1479","v":0},0,0,0,0,0,{"$f":"IFERROR(VLOOKUP(VLOOKUP(B1487,TRAFOS,4,FALSE),'COSTO ELEMENTOS N1'!$C$321:$C$350,1),0)","v":0}]
[1478,{"$f":"'TRAFOS MUESTRA'!B1480","v":0},0,0,0,0,0,{"$f":"IFERROR(VLOOKUP(VLOOKUP(B1488,TRAFOS,4,FALSE),'COSTO ELEMENTOS N1'!$C$321:$C$350,1),0)","v":0}]
[1479,{"$f":"'TRAFOS MUESTRA'!B1481","v":0},0,0,0,0,0,{"$f":"IFERROR(VLOOKUP(VLOOKUP(B1489,TRAFOS,4,FALSE),'COSTO ELEMENTOS N1'!$C$321:$C$350,1),0)","v":0}]
[1480,{"$f":"'TRAFOS MUESTRA'!B1482","v":0},0,0,0,0,0,{"$f":"IFERROR(VLOOKUP(VLOOKUP(B1490,TRAFOS,4,FALSE),'COSTO ELEMENTOS N1'!$C$321:$C$350,1),0)","v":0}]
[1481,{"$f":"'TRAFOS MUESTRA'!B1483","v":0},0,0,0,0,0,{"$f":"IFERROR(VLOOKUP(VLOOKUP(B1491,TRAFOS,4,FALSE),'COSTO ELEMENTOS N1'!$C$321:$C$350,1),0)","v":0}]
[1482,{"$f":"'TRAFOS MUESTRA'!B1484","v":0},0,0,0,0,0,{"$f":"IFERROR(VLOOKUP(VLOOKUP(B1492,TRAFOS,4,FALSE),'COSTO ELEMENTOS N1'!$C$321:$C$350,1),0)","v":0}]
[1483,{"$f":"'TRAFOS MUESTRA'!B1485","v":0},0,0,0,0,0,{"$f":"IFERROR(VLOOKUP(VLOOKUP(B1493,TRAFOS,4,FALSE),'COSTO ELEMENTOS N1'!$C$321:$C$350,1),0)","v":0}]
[1484,{"$f":"'TRAFOS MUESTRA'!B1486","v":0},0,0,0,0,0,{"$f":"IFERROR(VLOOKUP(VLOOKUP(B1494,TRAFOS,4,FALSE),'COSTO ELEMENTOS N1'!$C$321:$C$350,1),0)","v":0}]
[1485,{"$f":"'TRAFOS MUESTRA'!B1487","v":0},0,0,0,0,0,{"$f":"IFERROR(VLOOKUP(VLOOKUP(B1495,TRAFOS,4,FALSE),'COSTO ELEMENTOS N1'!$C$321:$C$350,1),0)","v":0}]
[1486,{"$f":"'TRAFOS MUESTRA'!B1488","v":0},0,0,0,0,0,{"$f":"IFERROR(VLOOKUP(VLOOKUP(B1496,TRAFOS,4,FALSE),'COSTO ELEMENTOS N1'!$C$321:$C$350,1),0)","v":0}]
[1487,{"$f":"'TRAFOS MUESTRA'!B1489","v":0},0,0,0,0,0,{"$f":"IFERROR(VLOOKUP(VLOOKUP(B1497,TRAFOS,4,FALSE),'COSTO ELEMENTOS N1'!$C$321:$C$350,1),0)","v":0}]
[1488,{"$f":"'TRAFOS MUESTRA'!B1490","v":0},0,0,0,0,0,{"$f":"IFERROR(VLOOKUP(VLOOKUP(B1498,TRAFOS,4,FALSE),'COSTO ELEMENTOS N1'!$C$321:$C$350,1),0)","v":0}]
[1489,{"$f":"'TRAFOS MUESTRA'!B1491","v":0},0,0,0,0,0,{"$f":"IFERROR(VLOOKUP(VLOOKUP(B1499,TRAFOS,4,FALSE),'COSTO ELEMENTOS N1'!$C$321:$C$350,1),0)","v":0}]
[1490,{"$f":"'TRAFOS MUESTRA'!B1492","v":0},0,0,0,0,0,{"$f":"IFERROR(VLOOKUP(VLOOKUP(B1500,TRAFOS,4,FALSE),'COSTO ELEMENTOS N1'!$C$321:$C$350,1),0)","v":0}]
[1491,{"$f":"'TRAFOS MUESTRA'!B1493","v":0},0,0,0,0,0,{"$f":"IFERROR(VLOOKUP(VLOOKUP(B1501,TRAFOS,4,FALSE),'COSTO ELEMENTOS N1'!$C$321:$C$350,1),0)","v":0}]
[1492,{"$f":"'TRAFOS MUESTRA'!B1494","v":0},0,0,0,0,0,{"$f":"IFERROR(VLOOKUP(VLOOKUP(B1502,TRAFOS,4,FALSE),'COSTO ELEMENTOS N1'!$C$321:$C$350,1),0)","v":0}]
[1493,{"$f":"'TRAFOS MUESTRA'!B1495","v":0},0,0,0,0,0,{"$f":"IFERROR(VLOOKUP(VLOOKUP(B1503,TRAFOS,4,FALSE),'COSTO ELEMENTOS N1'!$C$321:$C$350,1),0)","v":0}]
[1494,{"$f":"'TRAFOS MUESTRA'!B1496","v":0},0,0,0,0,0,{"$f":"IFERROR(VLOOKUP(VLOOKUP(B1504,TRAFOS,4,FALSE),'COSTO ELEMENTOS N1'!$C$321:$C$350,1),0)","v":0}]
[1495,{"$f":"'TRAFOS MUESTRA'!B1497","v":0},0,0,0,0,0,{"$f":"IFERROR(VLOOKUP(VLOOKUP(B1505,TRAFOS,4,FALSE),'COSTO ELEMENTOS N1'!$C$321:$C$350,1),0)","v":0}]
[1496,{"$f":"'TRAFOS MUESTRA'!B1498","v":0},0,0,0,0,0,{"$f":"IFERROR(VLOOKUP(VLOOKUP(B1506,TRAFOS,4,FALSE),'COSTO ELEMENTOS N1'!$C$321:$C$350,1),0)","v":0}]
[1497,{"$f":"'TRAFOS MUESTRA'!B1499","v":0},0,0,0,0,0,{"$f":"IFERROR(VLOOKUP(VLOOKUP(B1507,TRAFOS,4,FALSE),'COSTO ELEMENTOS N1'!$C$321:$C$350,1),0)","v":0}]
[1498,{"$f":"'TRAFOS MUESTRA'!B1500","v":0},0,0,0,0,0,{"$f":"IFERROR(VLOOKUP(VLOOKUP(B1508,TRAFOS,4,FALSE),'COSTO ELEMENTOS N1'!$C$321:$C$350,1),0)","v":0}]
[1499,{"$f":"'TRAFOS MUESTRA'!B1501","v":0},0,0,0,0,0,{"$f":"IFERROR(VLOOKUP(VLOOKUP(B1509,TRAFOS,4,FALSE),'COSTO ELEMENTOS N1'!$C$321:$C$350,1),0)","v":0}]
[1500,{"$f":"'TRAFOS MUESTRA'!B1502","v":0},0,0,0,0,0,{"$f":"IFERROR(VLOOKUP(VLOOKUP(B1510,TRAFOS,4,FALSE),'COSTO ELEMENTOS N1'!$C$321:$C$350,1),0)","v":0}]
[1501,{"$f":"'TRAFOS MUESTRA'!B1503","v":0},0,0,0,0,0,{"$f":"IFERROR(VLOOKUP(VLOOKUP(B1511,TRAFOS,4,FALSE),'COSTO ELEMENTOS N1'!$C$321:$C$350,1),0)","v":0}]
[1502,{"$f":"'TRAFOS MUESTRA'!B1504","v":0},0,0,0,0,0,{"$f":"IFERROR(VLOOKUP(VLOOKUP(B1512,TRAFOS,4,FALSE),'COSTO ELEMENTOS N1'!$C$321:$C$350,1),0)","v":0}]
[1503,{"$f":"'TRAFOS MUESTRA'!B1505","v":0},0,0,0,0,0,{"$f":"IFERROR(VLOOKUP(VLOOKUP(B1513,TRAFOS,4,FALSE),'COSTO ELEMENTOS N1'!$C$321:$C$350,1),0)","v":0}]
[1504,{"$f":"'TRAFOS MUESTRA'!B1506","v":0},0,0,0,0,0,{"$f":"IFERROR(VLOOKUP(VLOOKUP(B1514,TRAFOS,4,FALSE),'COSTO ELEMENTOS N1'!$C$321:$C$350,1),0)","v":0}]
[1505,{"$f":"'TRAFOS MUESTRA'!B1507","v":0},0,0,0,0,0,{"$f":"IFERROR(VLOOKUP(VLOOKUP(B1515,TRAFOS,4,FALSE),'COSTO ELEMENTOS N1'!$C$321:$C$350,1),0)","v":0}]
[1506,{"$f":"'TRAFOS MUESTRA'!B1508","v":0},0,0,0,0,0,{"$f":"IFERROR(VLOOKUP(VLOOKUP(B1516,TRAFOS,4,FALSE),'COSTO ELEMENTOS N1'!$C$321:$C$350,1),0)","v":0}]
[1507,{"$f":"'TRAFOS MUESTRA'!B1509","v":0},0,0,0,0,0,{"$f":"IFERROR(VLOOKUP(VLOOKUP(B1517,TRAFOS,4,FALSE),'COSTO ELEMENTOS N1'!$C$321:$C$350,1),0)","v":0}]
[1508,{"$f":"'TRAFOS MUESTRA'!B1510","v":0},0,0,0,0,0,{"$f":"IFERROR(VLOOKUP(VLOOKUP(B1518,TRAFOS,4,FALSE),'COSTO ELEMENTOS N1'!$C$321:$C$350,1),0)","v":0}]
[1509,{"$f":"'TRAFOS MUESTRA'!B1511","v":0},0,0,0,0,0,{"$f":"IFERROR(VLOOKUP(VLOOKUP(B1519,TRAFOS,4,FALSE),'COSTO ELEMENTOS N1'!$C$321:$C$350,1),0)","v":0}]
[1510,{"$f":"'TRAFOS MUESTRA'!B1512","v":0},0,0,0,0,0,{"$f":"IFERROR(VLOOKUP(VLOOKUP(B1520,TRAFOS,4,FALSE),'COSTO ELEMENTOS N1'!$C$321:$C$350,1),0)","v":0}]
[1511,{"$f":"'TRAFOS MUESTRA'!B1513","v":0},0,0,0,0,0,{"$f":"IFERROR(VLOOKUP(VLOOKUP(B1521,TRAFOS,4,FALSE),'COSTO ELEMENTOS N1'!$C$321:$C$350,1),0)","v":0}]
[1512,{"$f":"'TRAFOS MUESTRA'!B1514","v":0},0,0,0,0,0,{"$f":"IFERROR(VLOOKUP(VLOOKUP(B1522,TRAFOS,4,FALSE),'COSTO ELEMENTOS N1'!$C$321:$C$350,1),0)","v":0}]
[1513,{"$f":"'TRAFOS MUESTRA'!B1515","v":0},0,0,0,0,0,{"$f":"IFERROR(VLOOKUP(VLOOKUP(B1523,TRAFOS,4,FALSE),'COSTO ELEMENTOS N1'!$C$321:$C$350,1),0)","v":0}]
[1514,{"$f":"'TRAFOS MUESTRA'!B1516","v":0},0,0,0,0,0,{"$f":"IFERROR(VLOOKUP(VLOOKUP(B1524,TRAFOS,4,FALSE),'COSTO ELEMENTOS N1'!$C$321:$C$350,1),0)","v":0}]
[1515,{"$f":"'TRAFOS MUESTRA'!B1517","v":0},0,0,0,0,0,{"$f":"IFERROR(VLOOKUP(VLOOKUP(B1525,TRAFOS,4,FALSE),'COSTO ELEMENTOS N1'!$C$321:$C$350,1),0)","v":0}]
[1516,{"$f":"'TRAFOS MUESTRA'!B1518","v":0},0,0,0,0,0,{"$f":"IFERROR(VLOOKUP(VLOOKUP(B1526,TRAFOS,4,FALSE),'COSTO ELEMENTOS N1'!$C$321:$C$350,1),0)","v":0}]
[1517,{"$f":"'TRAFOS MUESTRA'!B1519","v":0},0,0,0,0,0,{"$f":"IFERROR(VLOOKUP(VLOOKUP(B1527,TRAFOS,4,FALSE),'COSTO ELEMENTOS N1'!$C$321:$C$350,1),0)","v":0}]
[1518,{"$f":"'TRAFOS MUESTRA'!B1520","v":0},0,0,0,0,0,{"$f":"IFERROR(VLOOKUP(VLOOKUP(B1528,TRAFOS,4,FALSE),'COSTO ELEMENTOS N1'!$C$321:$C$350,1),0)","v":0}]
[1519,{"$f":"'TRAFOS MUESTRA'!B1521","v":0},0,0,0,0,0,{"$f":"IFERROR(VLOOKUP(VLOOKUP(B1529,TRAFOS,4,FALSE),'COSTO ELEMENTOS N1'!$C$321:$C$350,1),0)","v":0}]
[1520,{"$f":"'TRAFOS MUESTRA'!B1522","v":0},0,0,0,0,0,{"$f":"IFERROR(VLOOKUP(VLOOKUP(B1530,TRAFOS,4,FALSE),'COSTO ELEMENTOS N1'!$C$321:$C$350,1),0)","v":0}]
[1521,{"$f":"'TRAFOS MUESTRA'!B1523","v":0},0,0,0,0,0,{"$f":"IFERROR(VLOOKUP(VLOOKUP(B1531,TRAFOS,4,FALSE),'COSTO ELEMENTOS N1'!$C$321:$C$350,1),0)","v":0}]
[1522,{"$f":"'TRAFOS MUESTRA'!B1524","v":0},0,0,0,0,0,{"$f":"IFERROR(VLOOKUP(VLOOKUP(B1532,TRAFOS,4,FALSE),'COSTO ELEMENTOS N1'!$C$321:$C$350,1),0)","v":0}]
[1523,{"$f":"'TRAFOS MUESTRA'!B1525","v":0},0,0,0,0,0,{"$f":"IFERROR(VLOOKUP(VLOOKUP(B1533,TRAFOS,4,FALSE),'COSTO ELEMENTOS N1'!$C$321:$C$350,1),0)","v":0}]
[1524,{"$f":"'TRAFOS MUESTRA'!B1526","v":0},0,0,0,0,0,{"$f":"IFERROR(VLOOKUP(VLOOKUP(B1534,TRAFOS,4,FALSE),'COSTO ELEMENTOS N1'!$C$321:$C$350,1),0)","v":0}]
[1525,{"$f":"'TRAFOS MUESTRA'!B1527","v":0},0,0,0,0,0,{"$f":"IFERROR(VLOOKUP(VLOOKUP(B1535,TRAFOS,4,FALSE),'COSTO ELEMENTOS N1'!$C$321:$C$350,1),0)","v":0}]
[1526,{"$f":"'TRAFOS MUESTRA'!B1528","v":0},0,0,0,0,0,{"$f":"IFERROR(VLOOKUP(VLOOKUP(B1536,TRAFOS,4,FALSE),'COSTO ELEMENTOS N1'!$C$321:$C$350,1),0)","v":0}]
[1527,{"$f":"'TRAFOS MUESTRA'!B1529","v":0},0,0,0,0,0,{"$f":"IFERROR(VLOOKUP(VLOOKUP(B1537,TRAFOS,4,FALSE),'COSTO ELEMENTOS N1'!$C$321:$C$350,1),0)","v":0}]
[1528,{"$f":"'TRAFOS MUESTRA'!B1530","v":0},0,0,0,0,0,{"$f":"IFERROR(VLOOKUP(VLOOKUP(B1538,TRAFOS,4,FALSE),'COSTO ELEMENTOS N1'!$C$321:$C$350,1),0)","v":0}]
[1529,{"$f":"'TRAFOS MUESTRA'!B1531","v":0},0,0,0,0,0,{"$f":"IFERROR(VLOOKUP(VLOOKUP(B1539,TRAFOS,4,FALSE),'COSTO ELEMENTOS N1'!$C$321:$C$350,1),0)","v":0}]
[1530,{"$f":"'TRAFOS MUESTRA'!B1532","v":0},0,0,0,0,0,{"$f":"IFERROR(VLOOKUP(VLOOKUP(B1540,TRAFOS,4,FALSE),'COSTO ELEMENTOS N1'!$C$321:$C$350,1),0)","v":0}]
[1531,{"$f":"'TRAFOS MUESTRA'!B1533","v":0},0,0,0,0,0,{"$f":"IFERROR(VLOOKUP(VLOOKUP(B1541,TRAFOS,4,FALSE),'COSTO ELEMENTOS N1'!$C$321:$C$350,1),0)","v":0}]
[1532,{"$f":"'TRAFOS MUESTRA'!B1534","v":0},0,0,0,0,0,{"$f":"IFERROR(VLOOKUP(VLOOKUP(B1542,TRAFOS,4,FALSE),'COSTO ELEMENTOS N1'!$C$321:$C$350,1),0)","v":0}]
[1533,{"$f":"'TRAFOS MUESTRA'!B1535","v":0},0,0,0,0,0,{"$f":"IFERROR(VLOOKUP(VLOOKUP(B1543,TRAFOS,4,FALSE),'COSTO ELEMENTOS N1'!$C$321:$C$350,1),0)","v":0}]
[1534,{"$f":"'TRAFOS MUESTRA'!B1536","v":0},0,0,0,0,0,{"$f":"IFERROR(VLOOKUP(VLOOKUP(B1544,TRAFOS,4,FALSE),'COSTO ELEMENTOS N1'!$C$321:$C$350,1),0)","v":0}]
[1535,{"$f":"'TRAFOS MUESTRA'!B1537","v":0},0,0,0,0,0,{"$f":"IFERROR(VLOOKUP(VLOOKUP(B1545,TRAFOS,4,FALSE),'COSTO ELEMENTOS N1'!$C$321:$C$350,1),0)","v":0}]
[1536,{"$f":"'TRAFOS MUESTRA'!B1538","v":0},0,0,0,0,0,{"$f":"IFERROR(VLOOKUP(VLOOKUP(B1546,TRAFOS,4,FALSE),'COSTO ELEMENTOS N1'!$C$321:$C$350,1),0)","v":0}]
[1537,{"$f":"'TRAFOS MUESTRA'!B1539","v":0},{"$f":"IFERROR(VLOOKUP(B1547,TRAFOS,3,FALSE),0)","v":0},{"$f":"IFERROR(SUMIF(CODIGO_TRAFOS_REDES,$B1547,COSTO_CONDUCTOR_TRAMO),0)","v":0},{"$f":"IFERROR(SUMIF(CODIGO_TRAFOS_REDES,$B1547,COSTO_APOYOS_TRAMO),0)","v":0},{"$f":"IFERROR(IF(H1547>15,VLOOKUP(H1547,COSTO_TRAFOS_3F,6,FALSE),VLOOKUP(H1547,COSTO_TRAFOS_1F,6,FALSE)),0)","v":0},0,{"$f":"IFERROR(VLOOKUP(VLOOKUP(B1547,TRAFOS,4,FALSE),'COSTO ELEMENTOS N1'!$C$321:$C$350,1),0)","v":0}]
[1538,{"$f":"'TRAFOS MUESTRA'!B1540","v":0},0,0,0,0,{"$f":"SUM(D1548:F1548)","v":0},{"$f":"IFERROR(VLOOKUP(VLOOKUP(B1548,TRAFOS,4,FALSE),'COSTO ELEMENTOS N1'!$C$321:$C$350,1),0)","v":0}]
[{"$f":"A1548+1","v":1539},{"$f":"'TRAFOS MUESTRA'!B1541","v":0},0,0,0,0,0,{"$f":"IFERROR(VLOOKUP(VLOOKUP(B1549,TRAFOS,4,FALSE),'COSTO ELEMENTOS N1'!$C$321:$C$350,1),0)","v":0}]
[1540,{"$f":"'TRAFOS MUESTRA'!B1542","v":0},0,0,0,0,0,{"$f":"IFERROR(VLOOKUP(VLOOKUP(B1550,TRAFOS,4,FALSE),'COSTO ELEMENTOS N1'!$C$321:$C$350,1),0)","v":0}]
[1541,{"$f":"'TRAFOS MUESTRA'!B1543","v":0},0,0,0,0,0,{"$f":"IFERROR(VLOOKUP(VLOOKUP(B1551,TRAFOS,4,FALSE),'COSTO ELEMENTOS N1'!$C$321:$C$350,1),0)","v":0}]
[1542,{"$f":"'TRAFOS MUESTRA'!B1544","v":0},0,0,0,0,0,{"$f":"IFERROR(VLOOKUP(VLOOKUP(B1552,TRAFOS,4,FALSE),'COSTO ELEMENTOS N1'!$C$321:$C$350,1),0)","v":0}]
[1543,{"$f":"'TRAFOS MUESTRA'!B1545","v":0},0,0,0,0,0,{"$f":"IFERROR(VLOOKUP(VLOOKUP(B1553,TRAFOS,4,FALSE),'COSTO ELEMENTOS N1'!$C$321:$C$350,1),0)","v":0}]
[1544,{"$f":"'TRAFOS MUESTRA'!B1546","v":0},0,0,0,0,0,{"$f":"IFERROR(VLOOKUP(VLOOKUP(B1554,TRAFOS,4,FALSE),'COSTO ELEMENTOS N1'!$C$321:$C$350,1),0)","v":0}]
[1545,{"$f":"'TRAFOS MUESTRA'!B1547","v":0},0,0,0,0,0,{"$f":"IFERROR(VLOOKUP(VLOOKUP(B1555,TRAFOS,4,FALSE),'COSTO ELEMENTOS N1'!$C$321:$C$350,1),0)","v":0}]
[1546,{"$f":"'TRAFOS MUESTRA'!B1548","v":0},0,0,0,0,0,{"$f":"IFERROR(VLOOKUP(VLOOKUP(B1556,TRAFOS,4,FALSE),'COSTO ELEMENTOS N1'!$C$321:$C$350,1),0)","v":0}]
[1547,{"$f":"'TRAFOS MUESTRA'!B1549","v":0},0,0,0,0,0,{"$f":"IFERROR(VLOOKUP(VLOOKUP(B1557,TRAFOS,4,FALSE),'COSTO ELEMENTOS N1'!$C$321:$C$350,1),0)","v":0}]
[1548,{"$f":"'TRAFOS MUESTRA'!B1550","v":0},0,0,0,0,0,{"$f":"IFERROR(VLOOKUP(VLOOKUP(B1558,TRAFOS,4,FALSE),'COSTO ELEMENTOS N1'!$C$321:$C$350,1),0)","v":0}]
[1549,{"$f":"'TRAFOS MUESTRA'!B1551","v":0},0,0,0,0,0,{"$f":"IFERROR(VLOOKUP(VLOOKUP(B1559,TRAFOS,4,FALSE),'COSTO ELEMENTOS N1'!$C$321:$C$350,1),0)","v":0}]
[1550,{"$f":"'TRAFOS MUESTRA'!B1552","v":0},0,0,0,0,0,{"$f":"IFERROR(VLOOKUP(VLOOKUP(B1560,TRAFOS,4,FALSE),'COSTO ELEMENTOS N1'!$C$321:$C$350,1),0)","v":0}]
[1551,{"$f":"'TRAFOS MUESTRA'!B1553","v":0},0,0,0,0,0,{"$f":"IFERROR(VLOOKUP(VLOOKUP(B1561,TRAFOS,4,FALSE),'COSTO ELEMENTOS N1'!$C$321:$C$350,1),0)","v":0}]
[1552,{"$f":"'TRAFOS MUESTRA'!B1554","v":0},0,0,0,0,0,{"$f":"IFERROR(VLOOKUP(VLOOKUP(B1562,TRAFOS,4,FALSE),'COSTO ELEMENTOS N1'!$C$321:$C$350,1),0)","v":0}]
[1553,{"$f":"'TRAFOS MUESTRA'!B1555","v":0},0,0,0,0,0,{"$f":"IFERROR(VLOOKUP(VLOOKUP(B1563,TRAFOS,4,FALSE),'COSTO ELEMENTOS N1'!$C$321:$C$350,1),0)","v":0}]
[1554,{"$f":"'TRAFOS MUESTRA'!B1556","v":0},0,0,0,0,0,{"$f":"IFERROR(VLOOKUP(VLOOKUP(B1564,TRAFOS,4,FALSE),'COSTO ELEMENTOS N1'!$C$321:$C$350,1),0)","v":0}]
[1555,{"$f":"'TRAFOS MUESTRA'!B1557","v":0},0,0,0,0,0,{"$f":"IFERROR(VLOOKUP(VLOOKUP(B1565,TRAFOS,4,FALSE),'COSTO ELEMENTOS N1'!$C$321:$C$350,1),0)","v":0}]
[1556,{"$f":"'TRAFOS MUESTRA'!B1558","v":0},0,0,0,0,0,{"$f":"IFERROR(VLOOKUP(VLOOKUP(B1566,TRAFOS,4,FALSE),'COSTO ELEMENTOS N1'!$C$321:$C$350,1),0)","v":0}]
[1557,{"$f":"'TRAFOS MUESTRA'!B1559","v":0},0,0,0,0,0,{"$f":"IFERROR(VLOOKUP(VLOOKUP(B1567,TRAFOS,4,FALSE),'COSTO ELEMENTOS N1'!$C$321:$C$350,1),0)","v":0}]
[1558,{"$f":"'TRAFOS MUESTRA'!B1560","v":0},0,0,0,0,0,{"$f":"IFERROR(VLOOKUP(VLOOKUP(B1568,TRAFOS,4,FALSE),'COSTO ELEMENTOS N1'!$C$321:$C$350,1),0)","v":0}]
[1559,{"$f":"'TRAFOS MUESTRA'!B1561","v":0},0,0,0,0,0,{"$f":"IFERROR(VLOOKUP(VLOOKUP(B1569,TRAFOS,4,FALSE),'COSTO ELEMENTOS N1'!$C$321:$C$350,1),0)","v":0}]
[1560,{"$f":"'TRAFOS MUESTRA'!B1562","v":0},0,0,0,0,0,{"$f":"IFERROR(VLOOKUP(VLOOKUP(B1570,TRAFOS,4,FALSE),'COSTO ELEMENTOS N1'!$C$321:$C$350,1),0)","v":0}]
[1561,{"$f":"'TRAFOS MUESTRA'!B1563","v":0},0,0,0,0,0,{"$f":"IFERROR(VLOOKUP(VLOOKUP(B1571,TRAFOS,4,FALSE),'COSTO ELEMENTOS N1'!$C$321:$C$350,1),0)","v":0}]
[1562,{"$f":"'TRAFOS MUESTRA'!B1564","v":0},0,0,0,0,0,{"$f":"IFERROR(VLOOKUP(VLOOKUP(B1572,TRAFOS,4,FALSE),'COSTO ELEMENTOS N1'!$C$321:$C$350,1),0)","v":0}]
[1563,{"$f":"'TRAFOS MUESTRA'!B1565","v":0},0,0,0,0,0,{"$f":"IFERROR(VLOOKUP(VLOOKUP(B1573,TRAFOS,4,FALSE),'COSTO ELEMENTOS N1'!$C$321:$C$350,1),0)","v":0}]
[1564,{"$f":"'TRAFOS MUESTRA'!B1566","v":0},0,0,0,0,0,{"$f":"IFERROR(VLOOKUP(VLOOKUP(B1574,TRAFOS,4,FALSE),'COSTO ELEMENTOS N1'!$C$321:$C$350,1),0)","v":0}]
[1565,{"$f":"'TRAFOS MUESTRA'!B1567","v":0},0,0,0,0,0,{"$f":"IFERROR(VLOOKUP(VLOOKUP(B1575,TRAFOS,4,FALSE),'COSTO ELEMENTOS N1'!$C$321:$C$350,1),0)","v":0}]
[1566,{"$f":"'TRAFOS MUESTRA'!B1568","v":0},0,0,0,0,0,{"$f":"IFERROR(VLOOKUP(VLOOKUP(B1576,TRAFOS,4,FALSE),'COSTO ELEMENTOS N1'!$C$321:$C$350,1),0)","v":0}]
[1567,{"$f":"'TRAFOS MUESTRA'!B1569","v":0},0,0,0,0,0,{"$f":"IFERROR(VLOOKUP(VLOOKUP(B1577,TRAFOS,4,FALSE),'COSTO ELEMENTOS N1'!$C$321:$C$350,1),0)","v":0}]
[1568,{"$f":"'TRAFOS MUESTRA'!B1570","v":0},0,0,0,0,0,{"$f":"IFERROR(VLOOKUP(VLOOKUP(B1578,TRAFOS,4,FALSE),'COSTO ELEMENTOS N1'!$C$321:$C$350,1),0)","v":0}]
[1569,{"$f":"'TRAFOS MUESTRA'!B1571","v":0},0,0,0,0,0,{"$f":"IFERROR(VLOOKUP(VLOOKUP(B1579,TRAFOS,4,FALSE),'COSTO ELEMENTOS N1'!$C$321:$C$350,1),0)","v":0}]
[1570,{"$f":"'TRAFOS MUESTRA'!B1572","v":0},0,0,0,0,0,{"$f":"IFERROR(VLOOKUP(VLOOKUP(B1580,TRAFOS,4,FALSE),'COSTO ELEMENTOS N1'!$C$321:$C$350,1),0)","v":0}]
[1571,{"$f":"'TRAFOS MUESTRA'!B1573","v":0},0,0,0,0,0,{"$f":"IFERROR(VLOOKUP(VLOOKUP(B1581,TRAFOS,4,FALSE),'COSTO ELEMENTOS N1'!$C$321:$C$350,1),0)","v":0}]
[1572,{"$f":"'TRAFOS MUESTRA'!B1574","v":0},0,0,0,0,0,{"$f":"IFERROR(VLOOKUP(VLOOKUP(B1582,TRAFOS,4,FALSE),'COSTO ELEMENTOS N1'!$C$321:$C$350,1),0)","v":0}]
[1573,{"$f":"'TRAFOS MUESTRA'!B1575","v":0},0,0,0,0,0,{"$f":"IFERROR(VLOOKUP(VLOOKUP(B1583,TRAFOS,4,FALSE),'COSTO ELEMENTOS N1'!$C$321:$C$350,1),0)","v":0}]
[1574,{"$f":"'TRAFOS MUESTRA'!B1576","v":0},0,0,0,0,0,{"$f":"IFERROR(VLOOKUP(VLOOKUP(B1584,TRAFOS,4,FALSE),'COSTO ELEMENTOS N1'!$C$321:$C$350,1),0)","v":0}]
[1575,{"$f":"'TRAFOS MUESTRA'!B1577","v":0},0,0,0,0,0,{"$f":"IFERROR(VLOOKUP(VLOOKUP(B1585,TRAFOS,4,FALSE),'COSTO ELEMENTOS N1'!$C$321:$C$350,1),0)","v":0}]
[1576,{"$f":"'TRAFOS MUESTRA'!B1578","v":0},0,0,0,0,0,{"$f":"IFERROR(VLOOKUP(VLOOKUP(B1586,TRAFOS,4,FALSE),'COSTO ELEMENTOS N1'!$C$321:$C$350,1),0)","v":0}]
[1577,{"$f":"'TRAFOS MUESTRA'!B1579","v":0},0,0,0,0,0,{"$f":"IFERROR(VLOOKUP(VLOOKUP(B1587,TRAFOS,4,FALSE),'COSTO ELEMENTOS N1'!$C$321:$C$350,1),0)","v":0}]
[1578,{"$f":"'TRAFOS MUESTRA'!B1580","v":0},0,0,0,0,0,{"$f":"IFERROR(VLOOKUP(VLOOKUP(B1588,TRAFOS,4,FALSE),'COSTO ELEMENTOS N1'!$C$321:$C$350,1),0)","v":0}]
[1579,{"$f":"'TRAFOS MUESTRA'!B1581","v":0},0,0,0,0,0,{"$f":"IFERROR(VLOOKUP(VLOOKUP(B1589,TRAFOS,4,FALSE),'COSTO ELEMENTOS N1'!$C$321:$C$350,1),0)","v":0}]
[1580,{"$f":"'TRAFOS MUESTRA'!B1582","v":0},0,0,0,0,0,{"$f":"IFERROR(VLOOKUP(VLOOKUP(B1590,TRAFOS,4,FALSE),'COSTO ELEMENTOS N1'!$C$321:$C$350,1),0)","v":0}]
[1581,{"$f":"'TRAFOS MUESTRA'!B1583","v":0},0,0,0,0,0,{"$f":"IFERROR(VLOOKUP(VLOOKUP(B1591,TRAFOS,4,FALSE),'COSTO ELEMENTOS N1'!$C$321:$C$350,1),0)","v":0}]
[1582,{"$f":"'TRAFOS MUESTRA'!B1584","v":0},0,0,0,0,0,{"$f":"IFERROR(VLOOKUP(VLOOKUP(B1592,TRAFOS,4,FALSE),'COSTO ELEMENTOS N1'!$C$321:$C$350,1),0)","v":0}]
[1583,{"$f":"'TRAFOS MUESTRA'!B1585","v":0},0,0,0,0,0,{"$f":"IFERROR(VLOOKUP(VLOOKUP(B1593,TRAFOS,4,FALSE),'COSTO ELEMENTOS N1'!$C$321:$C$350,1),0)","v":0}]
[1584,{"$f":"'TRAFOS MUESTRA'!B1586","v":0},0,0,0,0,0,{"$f":"IFERROR(VLOOKUP(VLOOKUP(B1594,TRAFOS,4,FALSE),'COSTO ELEMENTOS N1'!$C$321:$C$350,1),0)","v":0}]
[1585,{"$f":"'TRAFOS MUESTRA'!B1587","v":0},0,0,0,0,0,{"$f":"IFERROR(VLOOKUP(VLOOKUP(B1595,TRAFOS,4,FALSE),'COSTO ELEMENTOS N1'!$C$321:$C$350,1),0)","v":0}]
[1586,{"$f":"'TRAFOS MUESTRA'!B1588","v":0},0,0,0,0,0,{"$f":"IFERROR(VLOOKUP(VLOOKUP(B1596,TRAFOS,4,FALSE),'COSTO ELEMENTOS N1'!$C$321:$C$350,1),0)","v":0}]
[1587,{"$f":"'TRAFOS MUESTRA'!B1589","v":0},0,0,0,0,0,{"$f":"IFERROR(VLOOKUP(VLOOKUP(B1597,TRAFOS,4,FALSE),'COSTO ELEMENTOS N1'!$C$321:$C$350,1),0)","v":0}]
[1588,{"$f":"'TRAFOS MUESTRA'!B1590","v":0},0,0,0,0,0,{"$f":"IFERROR(VLOOKUP(VLOOKUP(B1598,TRAFOS,4,FALSE),'COSTO ELEMENTOS N1'!$C$321:$C$350,1),0)","v":0}]
[1589,{"$f":"'TRAFOS MUESTRA'!B1591","v":0},0,0,0,0,0,{"$f":"IFERROR(VLOOKUP(VLOOKUP(B1599,TRAFOS,4,FALSE),'COSTO ELEMENTOS N1'!$C$321:$C$350,1),0)","v":0}]
[1590,{"$f":"'TRAFOS MUESTRA'!B1592","v":0},0,0,0,0,0,{"$f":"IFERROR(VLOOKUP(VLOOKUP(B1600,TRAFOS,4,FALSE),'COSTO ELEMENTOS N1'!$C$321:$C$350,1),0)","v":0}]
[1591,{"$f":"'TRAFOS MUESTRA'!B1593","v":0},0,0,0,0,0,{"$f":"IFERROR(VLOOKUP(VLOOKUP(B1601,TRAFOS,4,FALSE),'COSTO ELEMENTOS N1'!$C$321:$C$350,1),0)","v":0}]
[1592,{"$f":"'TRAFOS MUESTRA'!B1594","v":0},0,0,0,0,0,{"$f":"IFERROR(VLOOKUP(VLOOKUP(B1602,TRAFOS,4,FALSE),'COSTO ELEMENTOS N1'!$C$321:$C$350,1),0)","v":0}]
[1593,{"$f":"'TRAFOS MUESTRA'!B1595","v":0},0,0,0,0,0,{"$f":"IFERROR(VLOOKUP(VLOOKUP(B1603,TRAFOS,4,FALSE),'COSTO ELEMENTOS N1'!$C$321:$C$350,1),0)","v":0}]
[1594,{"$f":"'TRAFOS MUESTRA'!B1596","v":0},0,0,0,0,0,{"$f":"IFERROR(VLOOKUP(VLOOKUP(B1604,TRAFOS,4,FALSE),'COSTO ELEMENTOS N1'!$C$321:$C$350,1),0)","v":0}]
[1595,{"$f":"'TRAFOS MUESTRA'!B1597","v":0},0,0,0,0,0,{"$f":"IFERROR(VLOOKUP(VLOOKUP(B1605,TRAFOS,4,FALSE),'COSTO ELEMENTOS N1'!$C$321:$C$350,1),0)","v":0}]
[1596,{"$f":"'TRAFOS MUESTRA'!B1598","v":0},0,0,0,0,0,{"$f":"IFERROR(VLOOKUP(VLOOKUP(B1606,TRAFOS,4,FALSE),'COSTO ELEMENTOS N1'!$C$321:$C$350,1),0)","v":0}]
[1597,{"$f":"'TRAFOS MUESTRA'!B1599","v":0},0,0,0,0,0,{"$f":"IFERROR(VLOOKUP(VLOOKUP(B1607,TRAFOS,4,FALSE),'COSTO ELEMENTOS N1'!$C$321:$C$350,1),0)","v":0}]
[1598,{"$f":"'TRAFOS MUESTRA'!B1600","v":0},0,0,0,0,0,{"$f":"IFERROR(VLOOKUP(VLOOKUP(B1608,TRAFOS,4,FALSE),'COSTO ELEMENTOS N1'!$C$321:$C$350,1),0)","v":0}]
[1599,{"$f":"'TRAFOS MUESTRA'!B1601","v":0},0,0,0,0,0,{"$f":"IFERROR(VLOOKUP(VLOOKUP(B1609,TRAFOS,4,FALSE),'COSTO ELEMENTOS N1'!$C$321:$C$350,1),0)","v":0}]
[1600,{"$f":"'TRAFOS MUESTRA'!B1602","v":0},0,0,0,0,0,{"$f":"IFERROR(VLOOKUP(VLOOKUP(B1610,TRAFOS,4,FALSE),'COSTO ELEMENTOS N1'!$C$321:$C$350,1),0)","v":0}]
[1601,{"$f":"'TRAFOS MUESTRA'!B1603","v":0},{"$f":"IFERROR(VLOOKUP(B1611,TRAFOS,3,FALSE),0)","v":0},{"$f":"IFERROR(SUMIF(CODIGO_TRAFOS_REDES,$B1611,COSTO_CONDUCTOR_TRAMO),0)","v":0},{"$f":"IFERROR(SUMIF(CODIGO_TRAFOS_REDES,$B1611,COSTO_APOYOS_TRAMO),0)","v":0},{"$f":"IFERROR(IF(H1611>15,VLOOKUP(H1611,COSTO_TRAFOS_3F,6,FALSE),VLOOKUP(H1611,COSTO_TRAFOS_1F,6,FALSE)),0)","v":0},0,{"$f":"IFERROR(VLOOKUP(VLOOKUP(B1611,TRAFOS,4,FALSE),'COSTO ELEMENTOS N1'!$C$321:$C$350,1),0)","v":0}]
[1602,{"$f":"'TRAFOS MUESTRA'!B1604","v":0},0,0,0,0,{"$f":"SUM(D1612:F1612)","v":0},{"$f":"IFERROR(VLOOKUP(VLOOKUP(B1612,TRAFOS,4,FALSE),'COSTO ELEMENTOS N1'!$C$321:$C$350,1),0)","v":0}]
[{"$f":"A1612+1","v":1603},{"$f":"'TRAFOS MUESTRA'!B1605","v":0},0,0,0,0,0,{"$f":"IFERROR(VLOOKUP(VLOOKUP(B1613,TRAFOS,4,FALSE),'COSTO ELEMENTOS N1'!$C$321:$C$350,1),0)","v":0}]
[1604,{"$f":"'TRAFOS MUESTRA'!B1606","v":0},0,0,0,0,0,{"$f":"IFERROR(VLOOKUP(VLOOKUP(B1614,TRAFOS,4,FALSE),'COSTO ELEMENTOS N1'!$C$321:$C$350,1),0)","v":0}]
[1605,{"$f":"'TRAFOS MUESTRA'!B1607","v":0},0,0,0,0,0,{"$f":"IFERROR(VLOOKUP(VLOOKUP(B1615,TRAFOS,4,FALSE),'COSTO ELEMENTOS N1'!$C$321:$C$350,1),0)","v":0}]
[1606,{"$f":"'TRAFOS MUESTRA'!B1608","v":0},0,0,0,0,0,{"$f":"IFERROR(VLOOKUP(VLOOKUP(B1616,TRAFOS,4,FALSE),'COSTO ELEMENTOS N1'!$C$321:$C$350,1),0)","v":0}]
[1607,{"$f":"'TRAFOS MUESTRA'!B1609","v":0},0,0,0,0,0,{"$f":"IFERROR(VLOOKUP(VLOOKUP(B1617,TRAFOS,4,FALSE),'COSTO ELEMENTOS N1'!$C$321:$C$350,1),0)","v":0}]
[1608,{"$f":"'TRAFOS MUESTRA'!B1610","v":0},0,0,0,0,0,{"$f":"IFERROR(VLOOKUP(VLOOKUP(B1618,TRAFOS,4,FALSE),'COSTO ELEMENTOS N1'!$C$321:$C$350,1),0)","v":0}]
[1609,{"$f":"'TRAFOS MUESTRA'!B1611","v":0},0,0,0,0,0,{"$f":"IFERROR(VLOOKUP(VLOOKUP(B1619,TRAFOS,4,FALSE),'COSTO ELEMENTOS N1'!$C$321:$C$350,1),0)","v":0}]
[1610,{"$f":"'TRAFOS MUESTRA'!B1612","v":0},0,0,0,0,0,{"$f":"IFERROR(VLOOKUP(VLOOKUP(B1620,TRAFOS,4,FALSE),'COSTO ELEMENTOS N1'!$C$321:$C$350,1),0)","v":0}]
[1611,{"$f":"'TRAFOS MUESTRA'!B1613","v":0},0,0,0,0,0,{"$f":"IFERROR(VLOOKUP(VLOOKUP(B1621,TRAFOS,4,FALSE),'COSTO ELEMENTOS N1'!$C$321:$C$350,1),0)","v":0}]
[1612,{"$f":"'TRAFOS MUESTRA'!B1614","v":0},0,0,0,0,0,{"$f":"IFERROR(VLOOKUP(VLOOKUP(B1622,TRAFOS,4,FALSE),'COSTO ELEMENTOS N1'!$C$321:$C$350,1),0)","v":0}]
[1613,{"$f":"'TRAFOS MUESTRA'!B1615","v":0},0,0,0,0,0,{"$f":"IFERROR(VLOOKUP(VLOOKUP(B1623,TRAFOS,4,FALSE),'COSTO ELEMENTOS N1'!$C$321:$C$350,1),0)","v":0}]
[1614,{"$f":"'TRAFOS MUESTRA'!B1616","v":0},0,0,0,0,0,{"$f":"IFERROR(VLOOKUP(VLOOKUP(B1624,TRAFOS,4,FALSE),'COSTO ELEMENTOS N1'!$C$321:$C$350,1),0)","v":0}]
[1615,{"$f":"'TRAFOS MUESTRA'!B1617","v":0},0,0,0,0,0,{"$f":"IFERROR(VLOOKUP(VLOOKUP(B1625,TRAFOS,4,FALSE),'COSTO ELEMENTOS N1'!$C$321:$C$350,1),0)","v":0}]
[1616,{"$f":"'TRAFOS MUESTRA'!B1618","v":0},0,0,0,0,0,{"$f":"IFERROR(VLOOKUP(VLOOKUP(B1626,TRAFOS,4,FALSE),'COSTO ELEMENTOS N1'!$C$321:$C$350,1),0)","v":0}]
[1617,{"$f":"'TRAFOS MUESTRA'!B1619","v":0},0,0,0,0,0,{"$f":"IFERROR(VLOOKUP(VLOOKUP(B1627,TRAFOS,4,FALSE),'COSTO ELEMENTOS N1'!$C$321:$C$350,1),0)","v":0}]
[1618,{"$f":"'TRAFOS MUESTRA'!B1620","v":0},0,0,0,0,0,{"$f":"IFERROR(VLOOKUP(VLOOKUP(B1628,TRAFOS,4,FALSE),'COSTO ELEMENTOS N1'!$C$321:$C$350,1),0)","v":0}]
[1619,{"$f":"'TRAFOS MUESTRA'!B1621","v":0},0,0,0,0,0,{"$f":"IFERROR(VLOOKUP(VLOOKUP(B1629,TRAFOS,4,FALSE),'COSTO ELEMENTOS N1'!$C$321:$C$350,1),0)","v":0}]
[1620,{"$f":"'TRAFOS MUESTRA'!B1622","v":0},0,0,0,0,0,{"$f":"IFERROR(VLOOKUP(VLOOKUP(B1630,TRAFOS,4,FALSE),'COSTO ELEMENTOS N1'!$C$321:$C$350,1),0)","v":0}]
[1621,{"$f":"'TRAFOS MUESTRA'!B1623","v":0},0,0,0,0,0,{"$f":"IFERROR(VLOOKUP(VLOOKUP(B1631,TRAFOS,4,FALSE),'COSTO ELEMENTOS N1'!$C$321:$C$350,1),0)","v":0}]
[1622,{"$f":"'TRAFOS MUESTRA'!B1624","v":0},0,0,0,0,0,{"$f":"IFERROR(VLOOKUP(VLOOKUP(B1632,TRAFOS,4,FALSE),'COSTO ELEMENTOS N1'!$C$321:$C$350,1),0)","v":0}]
[1623,{"$f":"'TRAFOS MUESTRA'!B1625","v":0},0,0,0,0,0,{"$f":"IFERROR(VLOOKUP(VLOOKUP(B1633,TRAFOS,4,FALSE),'COSTO ELEMENTOS N1'!$C$321:$C$350,1),0)","v":0}]
[1624,{"$f":"'TRAFOS MUESTRA'!B1626","v":0},0,0,0,0,0,{"$f":"IFERROR(VLOOKUP(VLOOKUP(B1634,TRAFOS,4,FALSE),'COSTO ELEMENTOS N1'!$C$321:$C$350,1),0)","v":0}]
[1625,{"$f":"'TRAFOS MUESTRA'!B1627","v":0},0,0,0,0,0,{"$f":"IFERROR(VLOOKUP(VLOOKUP(B1635,TRAFOS,4,FALSE),'COSTO ELEMENTOS N1'!$C$321:$C$350,1),0)","v":0}]
[1626,{"$f":"'TRAFOS MUESTRA'!B1628","v":0},0,0,0,0,0,{"$f":"IFERROR(VLOOKUP(VLOOKUP(B1636,TRAFOS,4,FALSE),'COSTO ELEMENTOS N1'!$C$321:$C$350,1),0)","v":0}]
[1627,{"$f":"'TRAFOS MUESTRA'!B1629","v":0},0,0,0,0,0,{"$f":"IFERROR(VLOOKUP(VLOOKUP(B1637,TRAFOS,4,FALSE),'COSTO ELEMENTOS N1'!$C$321:$C$350,1),0)","v":0}]
[1628,{"$f":"'TRAFOS MUESTRA'!B1630","v":0},0,0,0,0,0,{"$f":"IFERROR(VLOOKUP(VLOOKUP(B1638,TRAFOS,4,FALSE),'COSTO ELEMENTOS N1'!$C$321:$C$350,1),0)","v":0}]
[1629,{"$f":"'TRAFOS MUESTRA'!B1631","v":0},0,0,0,0,0,{"$f":"IFERROR(VLOOKUP(VLOOKUP(B1639,TRAFOS,4,FALSE),'COSTO ELEMENTOS N1'!$C$321:$C$350,1),0)","v":0}]
[1630,{"$f":"'TRAFOS MUESTRA'!B1632","v":0},0,0,0,0,0,{"$f":"IFERROR(VLOOKUP(VLOOKUP(B1640,TRAFOS,4,FALSE),'COSTO ELEMENTOS N1'!$C$321:$C$350,1),0)","v":0}]
[1631,{"$f":"'TRAFOS MUESTRA'!B1633","v":0},0,0,0,0,0,{"$f":"IFERROR(VLOOKUP(VLOOKUP(B1641,TRAFOS,4,FALSE),'COSTO ELEMENTOS N1'!$C$321:$C$350,1),0)","v":0}]
[1632,{"$f":"'TRAFOS MUESTRA'!B1634","v":0},0,0,0,0,0,{"$f":"IFERROR(VLOOKUP(VLOOKUP(B1642,TRAFOS,4,FALSE),'COSTO ELEMENTOS N1'!$C$321:$C$350,1),0)","v":0}]
[1633,{"$f":"'TRAFOS MUESTRA'!B1635","v":0},0,0,0,0,0,{"$f":"IFERROR(VLOOKUP(VLOOKUP(B1643,TRAFOS,4,FALSE),'COSTO ELEMENTOS N1'!$C$321:$C$350,1),0)","v":0}]
[1634,{"$f":"'TRAFOS MUESTRA'!B1636","v":0},0,0,0,0,0,{"$f":"IFERROR(VLOOKUP(VLOOKUP(B1644,TRAFOS,4,FALSE),'COSTO ELEMENTOS N1'!$C$321:$C$350,1),0)","v":0}]
[1635,{"$f":"'TRAFOS MUESTRA'!B1637","v":0},0,0,0,0,0,{"$f":"IFERROR(VLOOKUP(VLOOKUP(B1645,TRAFOS,4,FALSE),'COSTO ELEMENTOS N1'!$C$321:$C$350,1),0)","v":0}]
[1636,{"$f":"'TRAFOS MUESTRA'!B1638","v":0},0,0,0,0,0,{"$f":"IFERROR(VLOOKUP(VLOOKUP(B1646,TRAFOS,4,FALSE),'COSTO ELEMENTOS N1'!$C$321:$C$350,1),0)","v":0}]
[1637,{"$f":"'TRAFOS MUESTRA'!B1639","v":0},0,0,0,0,0,{"$f":"IFERROR(VLOOKUP(VLOOKUP(B1647,TRAFOS,4,FALSE),'COSTO ELEMENTOS N1'!$C$321:$C$350,1),0)","v":0}]
[1638,{"$f":"'TRAFOS MUESTRA'!B1640","v":0},0,0,0,0,0,{"$f":"IFERROR(VLOOKUP(VLOOKUP(B1648,TRAFOS,4,FALSE),'COSTO ELEMENTOS N1'!$C$321:$C$350,1),0)","v":0}]
[1639,{"$f":"'TRAFOS MUESTRA'!B1641","v":0},0,0,0,0,0,{"$f":"IFERROR(VLOOKUP(VLOOKUP(B1649,TRAFOS,4,FALSE),'COSTO ELEMENTOS N1'!$C$321:$C$350,1),0)","v":0}]
[1640,{"$f":"'TRAFOS MUESTRA'!B1642","v":0},0,0,0,0,0,{"$f":"IFERROR(VLOOKUP(VLOOKUP(B1650,TRAFOS,4,FALSE),'COSTO ELEMENTOS N1'!$C$321:$C$350,1),0)","v":0}]
[1641,{"$f":"'TRAFOS MUESTRA'!B1643","v":0},0,0,0,0,0,{"$f":"IFERROR(VLOOKUP(VLOOKUP(B1651,TRAFOS,4,FALSE),'COSTO ELEMENTOS N1'!$C$321:$C$350,1),0)","v":0}]
[1642,{"$f":"'TRAFOS MUESTRA'!B1644","v":0},0,0,0,0,0,{"$f":"IFERROR(VLOOKUP(VLOOKUP(B1652,TRAFOS,4,FALSE),'COSTO ELEMENTOS N1'!$C$321:$C$350,1),0)","v":0}]
[1643,{"$f":"'TRAFOS MUESTRA'!B1645","v":0},0,0,0,0,0,{"$f":"IFERROR(VLOOKUP(VLOOKUP(B1653,TRAFOS,4,FALSE),'COSTO ELEMENTOS N1'!$C$321:$C$350,1),0)","v":0}]
[1644,{"$f":"'TRAFOS MUESTRA'!B1646","v":0},0,0,0,0,0,{"$f":"IFERROR(VLOOKUP(VLOOKUP(B1654,TRAFOS,4,FALSE),'COSTO ELEMENTOS N1'!$C$321:$C$350,1),0)","v":0}]
[1645,{"$f":"'TRAFOS MUESTRA'!B1647","v":0},0,0,0,0,0,{"$f":"IFERROR(VLOOKUP(VLOOKUP(B1655,TRAFOS,4,FALSE),'COSTO ELEMENTOS N1'!$C$321:$C$350,1),0)","v":0}]
[1646,{"$f":"'TRAFOS MUESTRA'!B1648","v":0},0,0,0,0,0,{"$f":"IFERROR(VLOOKUP(VLOOKUP(B1656,TRAFOS,4,FALSE),'COSTO ELEMENTOS N1'!$C$321:$C$350,1),0)","v":0}]
[1647,{"$f":"'TRAFOS MUESTRA'!B1649","v":0},0,0,0,0,0,{"$f":"IFERROR(VLOOKUP(VLOOKUP(B1657,TRAFOS,4,FALSE),'COSTO ELEMENTOS N1'!$C$321:$C$350,1),0)","v":0}]
[1648,{"$f":"'TRAFOS MUESTRA'!B1650","v":0},0,0,0,0,0,{"$f":"IFERROR(VLOOKUP(VLOOKUP(B1658,TRAFOS,4,FALSE),'COSTO ELEMENTOS N1'!$C$321:$C$350,1),0)","v":0}]
[1649,{"$f":"'TRAFOS MUESTRA'!B1651","v":0},0,0,0,0,0,{"$f":"IFERROR(VLOOKUP(VLOOKUP(B1659,TRAFOS,4,FALSE),'COSTO ELEMENTOS N1'!$C$321:$C$350,1),0)","v":0}]
[1650,{"$f":"'TRAFOS MUESTRA'!B1652","v":0},0,0,0,0,0,{"$f":"IFERROR(VLOOKUP(VLOOKUP(B1660,TRAFOS,4,FALSE),'COSTO ELEMENTOS N1'!$C$321:$C$350,1),0)","v":0}]

{"sheet":"REDES MUESTRA","index":3,"n_rows":33646,"n_cols":46,"rows_kept":33646,"cut":false,"hidden":false,"merged":[]}
[]
[null,"INFORMACIÓN DE LA MUESTRA DE LAS REDES DE NIVEL 1 PRESENTADA POR LOS OPERADORES DE RED",null,null,null,null,null,null,null,null,null,null,null,null,null,null,null,null,null,null,null,null,null,null,null,null,null,"COSTO CONDUCTOR ",null,null,null,null,null,null,null,null,"COSTO APOYOS (POSTES / CAMARAS)",null,null,null,"CÓDIGOS TRAMOS Y APOYOS"]
["No.","CÓDIGO TRANSFORMADOR","No.","POSTE MATERIAL","POSTE ALTURA","POSTE COMPARTIDO","CAJA TIPO","CAJA NO. DUCTOS","CAJA COMPARTIDO","LUMINARIA TIPO","LUMINARIA POTENCIA","PUESTA A TIERRA","CÓDIGOS DE USUARIOS","TRAMO NODO INICIAL","TRAMO NODO FINAL","TRAMO TIPO","TRAMO LONGITUD","TIPO DE CABLE","FASE NO. CONDUCTORES","FASE CALIBRE","FASE CLASE","NEUTRO CALIBRE","NEUTRO CLASE","ALUMBRADO CALIBRE","ALUMBRADO CLASE","OBSERVACIONES","GRUPO DE CALIDAD"," CONDUCTOR DE FASE "," INSTALACIÓN FASE"," CANALIZACIÓN","INSTALACIÓN  CANALIZACIÓN"," CONDUCTOR DE NEUTRO  ","INSTALACIÓN NEUTRO","TOTAL INVERSIÓN","TOTAL INSTALACIÓN ","TOTAL CONDUCTOR","COSTO APOYOS (POSTES / CÁMARAS)","ACCESORIOS (INCLUYE PUESTA A TIERRA","INSTALACIÓN","TOTAL APOYOS","TIPO CONDUCTOR FASE","TIPO CONDUCTOR NEUTRO","TIPO RED / CONDUCTOR","GRUPO / TIPO CONDUCTOR","TIPO APOYO","CLASE APOYO"]
[1,10100006,1,"Co",10,1,null,null,null,null,null,"S","17408/17409/17397/17398/17399/17400/17401/17388/17389/17390/17391/17392/17393/17394/17395/17379/17380/17381/17382/17383/17384/17385/17386/17370/17371/17372/17374/17375/17376/17377/17245/51018/49455/17244/17369/17368",0,1,"A",67.400000000000006,"D",3,4,"Al",4,"Al",4,"Al","-",{"$f":"IFERROR(VLOOKUP(B4,'TRAFOS MUESTRA'!$B$3:$D$2000,3,FALSE),\"NA\")","v":2},{"$f":"IFERROR((VLOOKUP(AO4,COSTO_CONDUCTORES,5,FALSE))*Q4*S4,0)","v":198972.21330502519},{"$f":"IFERROR(VLOOKUP($AQ4,COSTO_INSTALACIÓN_CONDUCTOR,2,FALSE)*Q4*S4,0)","v":375998.70087599999},{"$f":"IFERROR(VLOOKUP(AT4,COSTO_CANALIZACION_SUBTERRANEO,2,FALSE),0)*Q4","v":0},{"$f":"IF(AD4>0,'COSTO ELEMENTOS N1'!$B$74*Q4,0)","v":0},{"$f":"IFERROR(VLOOKUP(AP4,COSTO_CONDUCTORES,5,FALSE),0)*Q4","v":66324.071101675057},{"$f":"IFERROR(VLOOKUP($AQ4,COSTO_INSTALACIÓN_CONDUCTOR,2,FALSE),0)*Q4","v":125332.90029200001},{"$f":"AB4+AD4+AF4","v":265296.28440670023},{"$f":"AC4+AE4+AG4","v":501331.60116800002},{"$f":"SUM(AH4:AI4)","v":766627.88557470031},{"$f":"IFERROR(VLOOKUP($AT4,COSTO_APOYOS,5,FALSE),0)","v":266710.97483328887},{"$f":"IF(AS4=\"SD\",0,IF(AS4=\"A\",IFERROR(VLOOKUP(AR4,COSTO_INSTALACIÓN_APOYOS,2,FALSE),0),0))+IF(L4=\"S\",PUESTA_TIERRA,0)","v":95211.405083106889},{"$f":"IF(AS4=\"SD\",0,IF(AS4=\"S\",IFERROR(VLOOKUP(G4,COSTO_INSTALACION_CAMARAS,2,FALSE),0),IF(AT4=\"N2\",0,IFERROR(VLOOKUP(AR4,COSTO_INSTALACIÓN_APOYOS,3,FALSE),0))))","v":233556.26303030306},{"$f":"SUM(AK4:AM4)","v":595478.64294669882},{"$f":"$R4&\"-\"&$U4&\"-\"&$T4","v":"D-Al-4"},{"$f":"$R4&\"-\"&$W4&\"-\"&$V4","v":"D-Al-4"},{"$f":"P4&\"-\"&R4","v":"A-D"},{"$f":"AA4&\"-\"&IF(R4=\"\",\"D\",R4)","v":"2-D"},{"$f":"IFERROR(VLOOKUP(D4&\"-\"&E4,COSTO_APOYOS,2,FALSE),IFERROR(VLOOKUP(G4&\"-\"&H4,COSTO_APOYOS,2,FALSE),\"SD\"))","v":"A"},{"$f":"IF(AS4=\"S\",G4&\"-\"&H4,IF(E4>10,\"N2\",D4&\"-\"&E4))","v":"Co-10"}]
[{"$f":"A4+1","v":2},10100107,2,"Co",10,1,null,null,null,null,null,"S","23417/23418/SD3432",0,1,"A",67.400000000000006,"D",3,4,"Al",4,"Al",4,"Al","-",{"$f":"IFERROR(VLOOKUP(B5,'TRAFOS MUESTRA'!$B$3:$D$2000,3,FALSE),\"NA\")","v":2},{"$f":"IFERROR((VLOOKUP(AO5,COSTO_CONDUCTORES,5,FALSE))*Q5*S5,0)","v":198972.21330502519},375998.70087599999,0,{"$f":"IF(AD5>0,'COSTO ELEMENTOS N1'!$B$74*Q5,0)","v":0},66324.071101675057,125332.90029200001,{"$f":"AB5+AD5+AF5","v":265296.28440670023},{"$f":"AC5+AE5+AG5","v":501331.60116800002},{"$f":"SUM(AH5:AI5)","v":766627.88557470031},266710.97483328887,95211.405083106889,233556.26303030306,{"$f":"SUM(AK5:AM5)","v":595478.64294669882},{"$f":"$R5&\"-\"&$U5&\"-\"&$T5","v":"D-Al-4"},{"$f":"$R5&\"-\"&$W5&\"-\"&$V5","v":"D-Al-4"},{"$f":"P5&\"-\"&R5","v":"A-D"},{"$f":"AA5&\"-\"&IF(R5=\"\",\"D\",R5)","v":"2-D"},"A",{"$f":"IF(AS5=\"S\",G5&\"-\"&H5,IF(E5>10,\"N2\",D5&\"-\"&E5))","v":"Co-10"}]
[{"$f":"A5+1","v":3},10200408,3,"Co",10,1,null,null,null,"S",70,"S",19246,0,1,"A",67.400000000000006,"D",3,4,"Al",4,"Al",4,"Al","-",{"$f":"IFERROR(VLOOKUP(B6,'TRAFOS MUESTRA'!$B$3:$D$2000,3,FALSE),\"NA\")","v":2},198972.21330502519,375998.70087599999,0,{"$f":"IF(AD6>0,'COSTO ELEMENTOS N1'!$B$74*Q6,0)","v":0},66324.071101675057,125332.90029200001,265296.28440670023,501331.60116800002,766627.88557470031,266710.97483328887,95211.405083106889,233556.26303030306,595478.64294669882,"D-Al-4","D-Al-4","A-D","2-D","A","Co-10"]
[4,10200421,4,"Co",10,1,null,null,null,"S",70,"S",19383,0,1,"A",7.6,"D",3,4,"Al",4,"Al",4,"Al","-",{"$f":"IFERROR(VLOOKUP(B7,'TRAFOS MUESTRA'!$B$3:$D$2000,3,FALSE),\"NA\")","v":2},22436.035921634881,42397.479623999992,0,{"$f":"IF(AD7>0,'COSTO ELEMENTOS N1'!$B$74*Q7,0)","v":0},7478.6786405449602,14132.493207999998,29914.714562179841,56529.972831999992,86444.68739417984,266710.97483328887,95211.405083106889,233556.26303030306,595478.64294669882,"D-Al-4","D-Al-4","A-D","2-D","A","Co-10"]
[5,10200801,5,"Co",10,1,null,null,null,null,null,"S",21719,0,1,"A",7.6,"D",3,4,"Al",4,"Al",4,"Al","-",{"$f":"IFERROR(VLOOKUP(B8,'TRAFOS MUESTRA'!$B$3:$D$2000,3,FALSE),\"NA\")","v":2},22436.035921634881,42397.479623999992,0,{"$f":"IF(AD8>0,'COSTO ELEMENTOS N1'!$B$74*Q8,0)","v":0},7478.6786405449602,14132.493207999998,29914.714562179841,56529.972831999992,86444.68739417984,266710.97483328887,95211.405083106889,233556.26303030306,595478.64294669882,"D-Al-4","D-Al-4","A-D","2-D","A","Co-10"]
[6,10201013,6,"Co",10,1,null,null,null,null,null,"S",54624,0,1,"A",7.6,"D",3,4,"Al",4,"Al",4,"Al","-",{"$f":"IFERROR(VLOOKUP(B9,'TRAFOS MUESTRA'!$B$3:$D$2000,3,FALSE),\"NA\")","v":2},22436.035921634881,42397.479623999992,0,{"$f":"IF(AD9>0,'COSTO ELEMENTOS N1'!$B$74*Q9,0)","v":0},7478.6786405449602,14132.493207999998,29914.714562179841,56529.972831999992,86444.68739417984,266710.97483328887,95211.405083106889,233556.26303030306,595478.64294669882,"D-Al-4","D-Al-4","A-D","2-D","A","Co-10"]
[7,10201510,7,"Co",10,1,null,null,null,"S",70,"S",34665,0,1,"A",8.8000000000000007,"D",3,4,"Al",4,"Al",4,"Al","-",{"$f":"IFERROR(VLOOKUP(B10,'TRAFOS MUESTRA'!$B$3:$D$2000,3,FALSE),\"NA\")","v":2},25978.567909261445,49091.818511999998,0,{"$f":"IF(AD10>0,'COSTO ELEMENTOS N1'!$B$74*Q10,0)","v":0},8659.5226364204809,16363.939504,34638.090545681924,65455.758016,100093.84856168192,266710.97483328887,95211.405083106889,233556.26303030306,595478.64294669882,"D-Al-4","D-Al-4","A-D","2-D","A","Co-10"]
[8,10202702,8,"Co",10,1,null,null,null,null,null,"S",55415,0,1,"A",8.8000000000000007,"D",3,4,"Al",4,"Al",4,"Al","-",{"$f":"IFERROR(VLOOKUP(B11,'TRAFOS MUESTRA'!$B$3:$D$2000,3,FALSE),\"NA\")","v":1},25978.567909261445,49091.818511999998,0,{"$f":"IF(AD11>0,'COSTO ELEMENTOS N1'!$B$74*Q11,0)","v":0},8659.5226364204809,16363.939504,34638.090545681924,65455.758016,100093.84856168192,266710.97483328887,95211.405083106889,233556.26303030306,595478.64294669882,"D-Al-4","D-Al-4","A-D","1-D","A","Co-10"]
[9,10300011,9,"Co",10,1,null,null,null,"M",125,"S",15462,0,1,"A",8.8000000000000007,"D",3,4,"Al",4,"Al",4,"Al","-",{"$f":"IFERROR(VLOOKUP(B12,'TRAFOS MUESTRA'!$B$3:$D$2000,3,FALSE),\"NA\")","v":2},25978.567909261445,49091.818511999998,0,{"$f":"IF(AD12>0,'COSTO ELEMENTOS N1'!$B$74*Q12,0)","v":0},8659.5226364204809,16363.939504,34638.090545681924,65455.758016,100093.84856168192,266710.97483328887,95211.405083106889,233556.26303030306,595478.64294669882,"D-Al-4","D-Al-4","A-D","2-D","A","Co-10"]
[10,10300201,10,"Co",10,1,null,null,null,null,null,"S",16096,0,1,"A",7.6,"D",3,4,"Al",4,"Al",4,"Al","-",{"$f":"IFERROR(VLOOKUP(B13,'TRAFOS MUESTRA'!$B$3:$D$2000,3,FALSE),\"NA\")","v":1},22436.035921634881,42397.479623999992,0,{"$f":"IF(AD13>0,'COSTO ELEMENTOS N1'!$B$74*Q13,0)","v":0},7478.6786405449602,14132.493207999998,29914.714562179841,56529.972831999992,86444.68739417984,266710.97483328887,95211.405083106889,233556.26303030306,595478.64294669882,"D-Al-4","D-Al-4","A-D","1-D","A","Co-10"]
[11,10300806,11,"Co",10,1,null,null,null,"S",70,"S",20855,0,1,"A",7.6,"D",3,4,"Al",4,"Al",4,"Al","-",{"$f":"IFERROR(VLOOKUP(B14,'TRAFOS MUESTRA'!$B$3:$D$2000,3,FALSE),\"NA\")","v":2},22436.035921634881,42397.479623999992,0,{"$f":"IF(AD14>0,'COSTO ELEMENTOS N1'!$B$74*Q14,0)","v":0},7478.6786405449602,14132.493207999998,29914.714562179841,56529.972831999992,86444.68739417984,266710.97483328887,95211.405083106889,233556.26303030306,595478.64294669882,"D-Al-4","D-Al-4","A-D","2-D","A","Co-10"]
[12,10301107,12,"Co",10,1,null,null,null,null,null,"S",23510,0,1,"A",7.6,"D",3,4,"Al",4,"Al",4,"Al","-",{"$f":"IFERROR(VLOOKUP(B15,'TRAFOS MUESTRA'!$B$3:$D$2000,3,FALSE),\"NA\")","v":2},22436.035921634881,42397.479623999992,0,{"$f":"IF(AD15>0,'COSTO ELEMENTOS N1'!$B$74*Q15,0)","v":0},7478.6786405449602,14132.493207999998,29914.714562179841,56529.972831999992,86444.68739417984,266710.97483328887,95211.405083106889,233556.26303030306,595478.64294669882,"D-Al-4","D-Al-4","A-D","2-D","A","Co-10"]
[13,10301606,13,"Co",10,1,null,null,null,null,null,"S","17945/59580",0,1,"A",5.2,"D",3,4,"Al",4,"Al",4,"Al","-",{"$f":"IFERROR(VLOOKUP(B16,'TRAFOS MUESTRA'!$B$3:$D$2000,3,FALSE),\"NA\")","v":2},15350.971946381762,29008.801847999999,0,{"$f":"IF(AD16>0,'COSTO ELEMENTOS N1'!$B$74*Q16,0)","v":0},5116.9906487939206,9669.6006159999997,20467.962595175683,38678.402463999999,59146.365059175681,266710.97483328887,95211.405083106889,233556.26303030306,595478.64294669882,"D-Al-4","D-Al-4","A-D","2-D","A","Co-10"]
[14,10301607,14,"Co",10,1,null,null,null,null,null,"S","17973/17974/17975/17976",0,1,"A",5.2,"D",3,4,"Al",4,"Al",4,"Al","-",{"$f":"IFERROR(VLOOKUP(B17,'TRAFOS MUESTRA'!$B$3:$D$2000,3,FALSE),\"NA\")","v":1},15350.971946381762,29008.801847999999,0,{"$f":"IF(AD17>0,'COSTO ELEMENTOS N1'!$B$74*Q17,0)","v":0},5116.9906487939206,9669.6006159999997,20467.962595175683,38678.402463999999,59146.365059175681,266710.97483328887,95211.405083106889,233556.26303030306,595478.64294669882,"D-Al-4","D-Al-4","A-D","1-D","A","Co-10"]
[15,10400601,15,"Co",10,1,null,null,null,null,null,"S",16396,0,1,"A",5.2,"D",3,4,"Al",4,"Al",4,"Al","-",{"$f":"IFERROR(VLOOKUP(B18,'TRAFOS MUESTRA'!$B$3:$D$2000,3,FALSE),\"NA\")","v":1},15350.971946381762,29008.801847999999,0,{"$f":"IF(AD18>0,'COSTO ELEMENTOS N1'!$B$74*Q18,0)","v":0},5116.9906487939206,9669.6006159999997,20467.962595175683,38678.402463999999,59146.365059175681,266710.97483328887,95211.405083106889,233556.26303030306,595478.64294669882,"D-Al-4","D-Al-4","A-D","1-D","A","Co-10"]
[16,10401301,16,"Co",10,1,null,null,null,null,null,"S",23199,0,1,"A",11,"D",3,4,"Al",4,"Al",4,"Al","-",{"$f":"IFERROR(VLOOKUP(B19,'TRAFOS MUESTRA'!$B$3:$D$2000,3,FALSE),\"NA\")","v":2},32473.209886576802,61364.773140000005,0,{"$f":"IF(AD19>0,'COSTO ELEMENTOS N1'!$B$74*Q19,0)","v":0},10824.403295525601,20454.92438,43297.613182102403,81819.697520000002,125117.3107021024,266710.97483328887,95211.405083106889,233556.26303030306,595478.64294669882,"D-Al-4","D-Al-4","A-D","2-D","A","Co-10"]
[17,10500011,17,"Co",10,1,null,null,null,null,null,"S",50710,0,1,"A",11,"D",3,4,"Al",4,"Al",4,"Al","-",{"$f":"IFERROR(VLOOKUP(B20,'TRAFOS MUESTRA'!$B$3:$D$2000,3,FALSE),\"NA\")","v":2},32473.209886576802,61364.773140000005,0,{"$f":"IF(AD20>0,'COSTO ELEMENTOS N1'!$B$74*Q20,0)","v":0},10824.403295525601,20454.92438,43297.613182102403,81819.697520000002,125117.3107021024,266710.97483328887,95211.405083106889,233556.26303030306,595478.64294669882,"D-Al-4","D-Al-4","A-D","2-D","A","Co-10"]
[18,10500301,18,"Co",10,1,null,null,null,null,null,"S",47317,0,1,"A",11,"D",3,4,"Al",4,"Al",4,"Al","Uso esporadico",{"$f":"IFERROR(VLOOKUP(B21,'TRAFOS MUESTRA'!$B$3:$D$2000,3,FALSE),\"NA\")","v":1},32473.209886576802,61364.773140000005,0,{"$f":"IF(AD21>0,'COSTO ELEMENTOS N1'!$B$74*Q21,0)","v":0},10824.403295525601,20454.92438,43297.613182102403,81819.697520000002,125117.3107021024,266710.97483328887,95211.405083106889,233556.26303030306,595478.64294669882,"D-Al-4","D-Al-4","A-D","1-D","A","Co-10"]
[19,10500511,19,"Co",10,1,null,null,null,null,null,"S",22216,0,1,"A",11,"D",3,4,"Al",4,"Al",4,"Al","-",{"$f":"IFERROR(VLOOKUP(B22,'TRAFOS MUESTRA'!$B$3:$D$2000,3,FALSE),\"NA\")","v":2},32473.209886576802,61364.773140000005,0,{"$f":"IF(AD22>0,'COSTO ELEMENTOS N1'!$B$74*Q22,0)","v":0},10824.403295525601,20454.92438,43297.613182102403,81819.697520000002,125117.3107021024,266710.97483328887,95211.405083106889,233556.26303030306,595478.64294669882,"D-Al-4","D-Al-4","A-D","2-D","A","Co-10"]
[20,10500518,20,"Co",10,1,null,null,null,null,null,"S",22221,0,1,"A",11,"D",3,4,"Al",4,"Al",4,"Al","-",{"$f":"IFERROR(VLOOKUP(B23,'TRAFOS MUESTRA'!$B$3:$D$2000,3,FALSE),\"NA\")","v":1},32473.209886576802,61364.773140000005,0,{"$f":"IF(AD23>0,'COSTO ELEMENTOS N1'!$B$74*Q23,0)","v":0},10824.403295525601,20454.92438,43297.613182102403,81819.697520000002,125117.3107021024,266710.97483328887,95211.405083106889,233556.26303030306,595478.64294669882,"D-Al-4","D-Al-4","A-D","1-D","A","Co-10"]
[21,10500518,21,"Co",10,1,null,null,null,null,null,"S",22221,0,1,"A",11,"D",3,4,"Al",4,"Al",4,"Al","-",{"$f":"IFERROR(VLOOKUP(B24,'TRAFOS MUESTRA'!$B$3:$D$2000,3,FALSE),\"NA\")","v":1},32473.209886576802,61364.773140000005,0,{"$f":"IF(AD24>0,'COSTO ELEMENTOS N1'!$B$74*Q24,0)","v":0},10824.403295525601,20454.92438,43297.613182102403,81819.697520000002,125117.3107021024,266710.97483328887,95211.405083106889,233556.26303030306,595478.64294669882,"D-Al-4","D-Al-4","A-D","1-D","A","Co-10"]
[22,10500518,22,"Co",10,1,null,null,null,null,null,"S",22221,0,1,"A",11,"D",3,4,"Al",4,"Al",4,"Al","-",{"$f":"IFERROR(VLOOKUP(B25,'TRAFOS MUESTRA'!$B$3:$D$2000,3,FALSE),\"NA\")","v":1},32473.209886576802,61364.773140000005,0,{"$f":"IF(AD25>0,'COSTO ELEMENTOS N1'!$B$74*Q25,0)","v":0},10824.403295525601,20454.92438,43297.613182102403,81819.697520000002,125117.3107021024,266710.97483328887,95211.405083106889,233556.26303030306,595478.64294669882,"D-Al-4","D-Al-4","A-D","1-D","A","Co-10"]
[23,10500518,28,"Co",8,0,null,null,null,null,null,"N",null,2,3,"A",7.6,"D",3,4,"Al",4,"Al",4,"Al","-",{"$f":"IFERROR(VLOOKUP(B26,'TRAFOS MUESTRA'!$B$3:$D$2000,3,FALSE),\"NA\")","v":1},22436.035921634881,42397.479623999992,0,{"$f":"IF(AD26>0,'COSTO ELEMENTOS N1'!$B$74*Q26,0)","v":0},7478.6786405449602,14132.493207999998,29914.714562179841,56529.972831999992,86444.68739417984,266710.97483328887,24117.880109620462,233556.26303030306,524385.11797321239,"D-Al-4","D-Al-4","A-D","1-D","A","Co-8"]
[24,10500518,29,"Co",8,0,null,null,null,"S",70,"N",null,3,4,"A",8.8000000000000007,"D",3,4,"Al",4,"Al",4,"Al","-",{"$f":"IFERROR(VLOOKUP(B27,'TRAFOS MUESTRA'!$B$3:$D$2000,3,FALSE),\"NA\")","v":1},25978.567909261445,49091.818511999998,0,{"$f":"IF(AD27>0,'COSTO ELEMENTOS N1'!$B$74*Q27,0)","v":0},8659.5226364204809,16363.939504,34638.090545681924,65455.758016,100093.84856168192,266710.97483328887,24117.880109620462,233556.26303030306,524385.11797321239,"D-Al-4","D-Al-4","A-D","1-D","A","Co-8"]
[25,10500518,30,"Co",8,0,null,null,null,"S",70,"N",null,3,4,"A",8.8000000000000007,"D",3,4,"Al",4,"Al",4,"Al","-",{"$f":"IFERROR(VLOOKUP(B28,'TRAFOS MUESTRA'!$B$3:$D$2000,3,FALSE),\"NA\")","v":1},25978.567909261445,49091.818511999998,0,{"$f":"IF(AD28>0,'COSTO ELEMENTOS N1'!$B$74*Q28,0)","v":0},8659.5226364204809,16363.939504,34638.090545681924,65455.758016,100093.84856168192,266710.97483328887,24117.880109620462,233556.26303030306,524385.11797321239,"D-Al-4","D-Al-4","A-D","1-D","A","Co-8"]
[26,10500518,31,"Co",8,0,null,null,null,"S",70,"N",null,3,4,"A",8.8000000000000007,"D",3,4,"Al",4,"Al",4,"Al","-",{"$f":"IFERROR(VLOOKUP(B29,'TRAFOS MUESTRA'!$B$3:$D$2000,3,FALSE),\"NA\")","v":1},25978.567909261445,49091.818511999998,0,{"$f":"IF(AD29>0,'COSTO ELEMENTOS N1'!$B$74*Q29,0)","v":0},8659.5226364204809,16363.939504,34638.090545681924,65455.758016,100093.84856168192,266710.97483328887,24117.880109620462,233556.26303030306,524385.11797321239,"D-Al-4","D-Al-4","A-D","1-D","A","Co-8"]
[27,10500518,32,"Co",8,0,null,null,null,null,null,"N",null,4,5,"A",7.6,"D",3,4,"Al",4,"Al",4,"Al","-",{"$f":"IFERROR(VLOOKUP(B30,'TRAFOS MUESTRA'!$B$3:$D$2000,3,FALSE),\"NA\")","v":1},22436.035921634881,42397.479623999992,0,{"$f":"IF(AD30>0,'COSTO ELEMENTOS N1'!$B$74*Q30,0)","v":0},7478.6786405449602,14132.493207999998,29914.714562179841,56529.972831999992,86444.68739417984,266710.97483328887,24117.880109620462,233556.26303030306,524385.11797321239,"D-Al-4","D-Al-4","A-D","1-D","A","Co-8"]
[28,10500518,33,"Co",8,0,null,null,null,null,null,"N",null,4,5,"A",7.6,"D",3,4,"Al",4,"Al",4,"Al","-",{"$f":"IFERROR(VLOOKUP(B31,'TRAFOS MUESTRA'!$B$3:$D$2000,3,FALSE),\"NA\")","v":1},22436.035921634881,42397.479623999992,0,{"$f":"IF(AD31>0,'COSTO ELEMENTOS N1'!$B$74*Q31,0)","v":0},7478.6786405449602,14132.493207999998,29914.714562179841,56529.972831999992,86444.68739417984,266710.97483328887,24117.880109620462,233556.26303030306,524385.11797321239,"D-Al-4","D-Al-4","A-D","1-D","A","Co-8"]
[29,10500518,34,"Co",8,0,null,null,null,null,null,"N",null,4,5,"A",7.6,"D",3,4,"Al",4,"Al",4,"Al","-",{"$f":"IFERROR(VLOOKUP(B32,'TRAFOS MUESTRA'!$B$3:$D$2000,3,FALSE),\"NA\")","v":1},22436.035921634881,42397.479623999992,0,{"$f":"IF(AD32>0,'COSTO ELEMENTOS N1'!$B$74*Q32,0)","v":0},7478.6786405449602,14132.493207999998,29914.714562179841,56529.972831999992,86444.68739417984,266710.97483328887,24117.880109620462,233556.26303030306,524385.11797321239,"D-Al-4","D-Al-4","A-D","1-D","A","Co-8"]
[30,10500518,35,"Co",8,0,null,null,null,"S",70,"N","23210/47318",5,6,"A",5.2,"D",3,4,"Al",4,"Al",4,"Al","-",{"$f":"IFERROR(VLOOKUP(B33,'TRAFOS MUESTRA'!$B$3:$D$2000,3,FALSE),\"NA\")","v":1},15350.971946381762,29008.801847999999,0,{"$f":"IF(AD33>0,'COSTO ELEMENTOS N1'!$B$74*Q33,0)","v":0},5116.9906487939206,9669.6006159999997,20467.962595175683,38678.402463999999,59146.365059175681,266710.97483328887,24117.880109620462,233556.26303030306,524385.11797321239,"D-Al-4","D-Al-4","A-D","1-D","A","Co-8"]
[31,10500518,36,"Co",8,0,null,null,null,"S",70,"N","23210/47318",5,6,"A",5.2,"D",3,4,"Al",4,"Al",4,"Al","-",{"$f":"IFERROR(VLOOKUP(B34,'TRAFOS MUESTRA'!$B$3:$D$2000,3,FALSE),\"NA\")","v":1},15350.971946381762,29008.801847999999,0,{"$f":"IF(AD34>0,'COSTO ELEMENTOS N1'!$B$74*Q34,0)","v":0},5116.9906487939206,9669.6006159999997,20467.962595175683,38678.402463999999,59146.365059175681,266710.97483328887,24117.880109620462,233556.26303030306,524385.11797321239,"D-Al-4","D-Al-4","A-D","1-D","A","Co-8"]
[32,10500518,37,"Co",8,0,null,null,null,"S",70,"N","23210/47318",5,6,"A",5.2,"D",3,4,"Al",4,"Al",4,"Al","-",{"$f":"IFERROR(VLOOKUP(B35,'TRAFOS MUESTRA'!$B$3:$D$2000,3,FALSE),\"NA\")","v":1},15350.971946381762,29008.801847999999,0,{"$f":"IF(AD35>0,'COSTO ELEMENTOS N1'!$B$74*Q35,0)","v":0},5116.9906487939206,9669.6006159999997,20467.962595175683,38678.402463999999,59146.365059175681,266710.97483328887,24117.880109620462,233556.26303030306,524385.11797321239,"D-Al-4","D-Al-4","A-D","1-D","A","Co-8"]
[33,10500518,38,"Co",8,0,null,null,null,"S",70,"N",null,6,7,"A",11,"D",3,4,"Al",4,"Al",4,"Al","-",{"$f":"IFERROR(VLOOKUP(B36,'TRAFOS MUESTRA'!$B$3:$D$2000,3,FALSE),\"NA\")","v":1},32473.209886576802,61364.773140000005,0,{"$f":"IF(AD36>0,'COSTO ELEMENTOS N1'!$B$74*Q36,0)","v":0},10824.403295525601,20454.92438,43297.613182102403,81819.697520000002,125117.3107021024,266710.97483328887,24117.880109620462,233556.26303030306,524385.11797321239,"D-Al-4","D-Al-4","A-D","1-D","A","Co-8"]
[34,10500518,39,"Co",8,0,null,null,null,"S",70,"N",null,6,7,"A",11,"D",3,4,"Al",4,"Al",4,"Al","-",{"$f":"IFERROR(VLOOKUP(B37,'TRAFOS MUESTRA'!$B$3:$D$2000,3,FALSE),\"NA\")","v":1},32473.209886576802,61364.773140000005,0,{"$f":"IF(AD37>0,'COSTO ELEMENTOS N1'!$B$74*Q37,0)","v":0},10824.403295525601,20454.92438,43297.613182102403,81819.697520000002,125117.3107021024,266710.97483328887,24117.880109620462,233556.26303030306,524385.11797321239,"D-Al-4","D-Al-4","A-D","1-D","A","Co-8"]
[35,10500518,40,"Co",8,0,null,null,null,"S",70,"N",null,6,7,"A",11,"D",3,4,"Al",4,"Al",4,"Al","-",{"$f":"IFERROR(VLOOKUP(B38,'TRAFOS MUESTRA'!$B$3:$D$2000,3,FALSE),\"NA\")","v":1},32473.209886576802,61364.773140000005,0,{"$f":"IF(AD38>0,'COSTO ELEMENTOS N1'!$B$74*Q38,0)","v":0},10824.403295525601,20454.92438,43297.613182102403,81819.697520000002,125117.3107021024,266710.97483328887,24117.880109620462,233556.26303030306,524385.11797321239,"D-Al-4","D-Al-4","A-D","1-D","A","Co-8"]
[36,10500518,41,"Co",8,0,null,null,null,"S",70,"N",null,7,8,"A",13.5,"A",3,8,"Cu",8,"Cu",8,"Cu","-",{"$f":"IFERROR(VLOOKUP(B39,'TRAFOS MUESTRA'!$B$3:$D$2000,3,FALSE),\"NA\")","v":1},80710.958707610873,75311.312489999997,0,{"$f":"IF(AD39>0,'COSTO ELEMENTOS N1'!$B$74*Q39,0)","v":0},26903.65290253696,25103.770829999998,107614.61161014784,100415.08331999999,208029.69493014785,266710.97483328887,24117.880109620462,233556.26303030306,524385.11797321239,"A-Cu-8","A-Cu-8","A-A","1-A","A","Co-8"]
[37,10500518,42,"Co",8,0,null,null,null,"S",70,"N",null,7,8,"A",13.5,"A",3,8,"Cu",8,"Cu",8,"Cu","-",{"$f":"IFERROR(VLOOKUP(B40,'TRAFOS MUESTRA'!$B$3:$D$2000,3,FALSE),\"NA\")","v":1},80710.958707610873,75311.312489999997,0,{"$f":"IF(AD40>0,'COSTO ELEMENTOS N1'!$B$74*Q40,0)","v":0},26903.65290253696,25103.770829999998,107614.61161014784,100415.08331999999,208029.69493014785,266710.97483328887,24117.880109620462,233556.26303030306,524385.11797321239,"A-Cu-8","A-Cu-8","A-A","1-A","A","Co-8"]
[38,10500518,43,"Co",8,0,null,null,null,"S",70,"N",null,7,8,"A",13.5,"A",3,8,"Cu",8,"Cu",8,"Cu","-",{"$f":"IFERROR(VLOOKUP(B41,'TRAFOS MUESTRA'!$B$3:$D$2000,3,FALSE),\"NA\")","v":1},80710.958707610873,75311.312489999997,0,{"$f":"IF(AD41>0,'COSTO ELEMENTOS N1'!$B$74*Q41,0)","v":0},26903.65290253696,25103.770829999998,107614.61161014784,100415.08331999999,208029.69493014785,266710.97483328887,24117.880109620462,233556.26303030306,524385.11797321239,"A-Cu-8","A-Cu-8","A-A","1-A","A","Co-8"]
[39,10500518,44,"Co",8,0,null,null,null,"S",70,"N",null,8,9,"A",11,"A",3,8,"Cu",8,"Cu",8,"Cu","-",{"$f":"IFERROR(VLOOKUP(B42,'TRAFOS MUESTRA'!$B$3:$D$2000,3,FALSE),\"NA\")","v":1},65764.484872868125,61364.773140000005,0,{"$f":"IF(AD42>0,'COSTO ELEMENTOS N1'!$B$74*Q42,0)","v":0},21921.494957622708,20454.92438,87685.979830490833,81819.697520000002,169505.67735049082,266710.97483328887,24117.880109620462,233556.26303030306,524385.11797321239,"A-Cu-8","A-Cu-8","A-A","1-A","A","Co-8"]
[40,10500518,45,"Co",8,0,null,null,null,"S",70,"N",null,8,9,"A",11,"A",3,8,"Cu",8,"Cu",8,"Cu","-",{"$f":"IFERROR(VLOOKUP(B43,'TRAFOS MUESTRA'!$B$3:$D$2000,3,FALSE),\"NA\")","v":1},65764.484872868125,61364.773140000005,0,{"$f":"IF(AD43>0,'COSTO ELEMENTOS N1'!$B$74*Q43,0)","v":0},21921.494957622708,20454.92438,87685.979830490833,81819.697520000002,169505.67735049082,266710.97483328887,24117.880109620462,233556.26303030306,524385.11797321239,"A-Cu-8","A-Cu-8","A-A","1-A","A","Co-8"]
[41,10500518,46,"Co",8,0,null,null,null,"S",70,"N",null,8,9,"A",11,"A",3,8,"Cu",8,"Cu",8,"Cu","-",{"$f":"IFERROR(VLOOKUP(B44,'TRAFOS MUESTRA'!$B$3:$D$2000,3,FALSE),\"NA\")","v":1},65764.484872868125,61364.773140000005,0,{"$f":"IF(AD44>0,'COSTO ELEMENTOS N1'!$B$74*Q44,0)","v":0},21921.494957622708,20454.92438,87685.979830490833,81819.697520000002,169505.67735049082,266710.97483328887,24117.880109620462,233556.26303030306,524385.11797321239,"A-Cu-8","A-Cu-8","A-A","1-A","A","Co-8"]
[42,10500518,47,"Co",8,0,null,null,null,"S",70,"N",null,9,10,"A",11.3,"A",3,10,"Cu",10,"Cu",10,"Cu","-",{"$f":"IFERROR(VLOOKUP(B45,'TRAFOS MUESTRA'!$B$3:$D$2000,3,FALSE),\"NA\")","v":1},46718.77854875812,63038.357861999997,0,{"$f":"IF(AD45>0,'COSTO ELEMENTOS N1'!$B$74*Q45,0)","v":0},15572.926182919373,21012.785953999999,62291.704731677492,84051.143815999996,146342.84854767748,266710.97483328887,24117.880109620462,233556.26303030306,524385.11797321239,"A-Cu-10","A-Cu-10","A-A","1-A","A","Co-8"]
[43,10500518,48,"Co",8,0,null,null,null,"S",70,"N",null,9,10,"A",11.3,"A",3,10,"Cu",10,"Cu",10,"Cu","-",{"$f":"IFERROR(VLOOKUP(B46,'TRAFOS MUESTRA'!$B$3:$D$2000,3,FALSE),\"NA\")","v":1},46718.77854875812,63038.357861999997,0,{"$f":"IF(AD46>0,'COSTO ELEMENTOS N1'!$B$74*Q46,0)","v":0},15572.926182919373,21012.785953999999,62291.704731677492,84051.143815999996,146342.84854767748,266710.97483328887,24117.880109620462,233556.26303030306,524385.11797321239,"A-Cu-10","A-Cu-10","A-A","1-A","A","Co-8"]
[44,10500518,49,"Co",8,0,null,null,null,"S",70,"N",null,9,10,"A",11.3,"A",3,10,"Cu",10,"Cu",10,"Cu","-",{"$f":"IFERROR(VLOOKUP(B47,'TRAFOS MUESTRA'!$B$3:$D$2000,3,FALSE),\"NA\")","v":1},46718.77854875812,63038.357861999997,0,{"$f":"IF(AD47>0,'COSTO ELEMENTOS N1'!$B$74*Q47,0)","v":0},15572.926182919373,21012.785953999999,62291.704731677492,84051.143815999996,146342.84854767748,266710.97483328887,24117.880109620462,233556.26303030306,524385.11797321239,"A-Cu-10","A-Cu-10","A-A","1-A","A","Co-8"]
[45,10500518,50,"Co",8,0,null,null,null,"S",70,"N",null,10,11,"A",5.9,"A",3,10,"Cu",10,"Cu",10,"Cu","-",{"$f":"IFERROR(VLOOKUP(B48,'TRAFOS MUESTRA'!$B$3:$D$2000,3,FALSE),\"NA\")","v":1},24392.990569705566,32913.832865999997,0,{"$f":"IF(AD48>0,'COSTO ELEMENTOS N1'!$B$74*Q48,0)","v":0},8130.9968565685222,10971.277622,32523.987426274089,43885.110487999998,76409.097914274083,266710.97483328887,24117.880109620462,233556.26303030306,524385.11797321239,"A-Cu-10","A-Cu-10","A-A","1-A","A","Co-8"]
[46,10500518,51,"Co",8,0,null,null,null,"S",70,"N",null,10,11,"A",5.9,"A",3,10,"Cu",10,"Cu",10,"Cu","-",{"$f":"IFERROR(VLOOKUP(B49,'TRAFOS MUESTRA'!$B$3:$D$2000,3,FALSE),\"NA\")","v":1},24392.990569705566,32913.832865999997,0,{"$f":"IF(AD49>0,'COSTO ELEMENTOS N1'!$B$74*Q49,0)","v":0},8130.9968565685222,10971.277622,32523.987426274089,43885.110487999998,76409.097914274083,266710.97483328887,24117.880109620462,233556.26303030306,524385.11797321239,"A-Cu-10","A-Cu-10","A-A","1-A","A","Co-8"]
[47,10500518,52,"Co",8,0,null,null,null,"S",70,"N",null,10,11,"A",5.9,"A",3,10,"Cu",10,"Cu",10,"Cu","-",{"$f":"IFERROR(VLOOKUP(B50,'TRAFOS MUESTRA'!$B$3:$D$2000,3,FALSE),\"NA\")","v":1},24392.990569705566,32913.832865999997,0,{"$f":"IF(AD50>0,'COSTO ELEMENTOS N1'!$B$74*Q50,0)","v":0},8130.9968565685222,10971.277622,32523.987426274089,43885.110487999998,76409.097914274083,266710.97483328887,24117.880109620462,233556.26303030306,524385.11797321239,"A-Cu-10","A-Cu-10","A-A","1-A","A","Co-8"]
[48,10500518,53,"Co",8,0,null,null,null,"S",70,"S",null,11,12,"A",7,"A",3,10,"Cu",10,"Cu",10,"Cu","-",{"$f":"IFERROR(VLOOKUP(B51,'TRAFOS MUESTRA'!$B$3:$D$2000,3,FALSE),\"NA\")","v":1},28940.836269142193,39050.31018,0,{"$f":"IF(AD51>0,'COSTO ELEMENTOS N1'!$B$74*Q51,0)","v":0},9646.9454230473984,13016.770059999999,38587.781692189594,52067.080239999996,90654.861932189582,266710.97483328887,95211.405083106889,233556.26303030306,595478.64294669882,"A-Cu-10","A-Cu-10","A-A","1-A","A","Co-8"]
[49,10500518,54,"Co",8,0,null,null,null,"S",70,"S",null,11,12,"A",7,"A",3,10,"Cu",10,"Cu",10,"Cu","-",{"$f":"IFERROR(VLOOKUP(B52,'TRAFOS MUESTRA'!$B$3:$D$2000,3,FALSE),\"NA\")","v":1},28940.836269142193,39050.31018,0,{"$f":"IF(AD52>0,'COSTO ELEMENTOS N1'!$B$74*Q52,0)","v":0},9646.9454230473984,13016.770059999999,38587.781692189594,52067.080239999996,90654.861932189582,266710.97483328887,95211.405083106889,233556.26303030306,595478.64294669882,"A-Cu-10","A-Cu-10","A-A","1-A","A","Co-8"]
[50,10500518,55,"Co",8,0,null,null,null,"S",70,"S",null,11,12,"A",7,"A",3,10,"Cu",10,"Cu",10,"Cu","-",{"$f":"IFERROR(VLOOKUP(B53,'TRAFOS MUESTRA'!$B$3:$D$2000,3,FALSE),\"NA\")","v":1},28940.836269142193,39050.31018,0,{"$f":"IF(AD53>0,'COSTO ELEMENTOS N1'!$B$74*Q53,0)","v":0},9646.9454230473984,13016.770059999999,38587.781692189594,52067.080239999996,90654.861932189582,266710.97483328887,95211.405083106889,233556.26303030306,595478.64294669882,"A-Cu-10","A-Cu-10","A-A","1-A","A","Co-8"]
[51,10500518,56,"Co",8,0,null,null,null,null,null,"N",null,2,13,"A",17.100000000000001,"D",3,2,"Al",2,"Al",2,"Al","-",{"$f":"IFERROR(VLOOKUP(B54,'TRAFOS MUESTRA'!$B$3:$D$2000,3,FALSE),\"NA\")","v":1},71820.682594059137,95394.329154000006,0,{"$f":"IF(AD54>0,'COSTO ELEMENTOS N1'!$B$74*Q54,0)","v":0},23940.227531353044,31798.109718,95760.910125412178,127192.438872,222953.34899741219,266710.97483328887,24117.880109620462,233556.26303030306,524385.11797321239,"D-Al-2","D-Al-2","A-D","1-D","A","Co-8"]
[52,10500518,57,"Co",8,0,null,null,null,null,null,"N",null,2,13,"A",17.100000000000001,"D",3,2,"Al",2,"Al",2,"Al","-",{"$f":"IFERROR(VLOOKUP(B55,'TRAFOS MUESTRA'!$B$3:$D$2000,3,FALSE),\"NA\")","v":1},71820.682594059137,95394.329154000006,0,{"$f":"IF(AD55>0,'COSTO ELEMENTOS N1'!$B$74*Q55,0)","v":0},23940.227531353044,31798.109718,95760.910125412178,127192.438872,222953.34899741219,266710.97483328887,24117.880109620462,233556.26303030306,524385.11797321239,"D-Al-2","D-Al-2","A-D","1-D","A","Co-8"]
[53,10500518,58,"Co",8,0,null,null,null,null,null,"N",null,2,13,"A",17.100000000000001,"D",3,2,"Al",2,"Al",2,"Al","-",{"$f":"IFERROR(VLOOKUP(B56,'TRAFOS MUESTRA'!$B$3:$D$2000,3,FALSE),\"NA\")","v":1},71820.682594059137,95394.329154000006,0,{"$f":"IF(AD56>0,'COSTO ELEMENTOS N1'!$B$74*Q56,0)","v":0},23940.227531353044,31798.109718,95760.910125412178,127192.438872,222953.34899741219,266710.97483328887,24117.880109620462,233556.26303030306,524385.11797321239,"D-Al-2","D-Al-2","A-D","1-D","A","Co-8"]
[54,10500518,59,"Co",8,0,null,null,null,null,null,"N",null,13,14,"A",9.9,"D",3,2,"Al",2,"Al",2,"Al","-",{"$f":"IFERROR(VLOOKUP(B57,'TRAFOS MUESTRA'!$B$3:$D$2000,3,FALSE),\"NA\")","v":1},41580.395186034235,55228.295826000001,0,{"$f":"IF(AD57>0,'COSTO ELEMENTOS N1'!$B$74*Q57,0)","v":0},13860.131728678078,18409.431941999999,55440.526914712311,73637.727767999997,129078.25468271232,266710.97483328887,24117.880109620462,233556.26303030306,524385.11797321239,"D-Al-2","D-Al-2","A-D","1-D","A","Co-8"]
[55,10500518,60,"Co",8,0,null,null,null,null,null,"N",null,13,14,"A",9.9,"D",3,2,"Al",2,"Al",2,"Al","-",{"$f":"IFERROR(VLOOKUP(B58,'TRAFOS MUESTRA'!$B$3:$D$2000,3,FALSE),\"NA\")","v":1},41580.395186034235,55228.295826000001,0,{"$f":"IF(AD58>0,'COSTO ELEMENTOS N1'!$B$74*Q58,0)","v":0},13860.131728678078,18409.431941999999,55440.526914712311,73637.727767999997,129078.25468271232,266710.97483328887,24117.880109620462,233556.26303030306,524385.11797321239,"D-Al-2","D-Al-2","A-D","1-D","A","Co-8"]
[56,10500518,61,"Co",8,0,null,null,null,null,null,"N",null,13,14,"A",9.9,"D",3,2,"Al",2,"Al",2,"Al","-",{"$f":"IFERROR(VLOOKUP(B59,'TRAFOS MUESTRA'!$B$3:$D$2000,3,FALSE),\"NA\")","v":1},41580.395186034235,55228.295826000001,0,{"$f":"IF(AD59>0,'COSTO ELEMENTOS N1'!$B$74*Q59,0)","v":0},13860.131728678078,18409.431941999999,55440.526914712311,73637.727767999997,129078.25468271232,266710.97483328887,24117.880109620462,233556.26303030306,524385.11797321239,"D-Al-2","D-Al-2","A-D","1-D","A","Co-8"]
[57,10500518,62,"Co",8,0,null,null,null,null,null,"N",null,14,15,"A",10,"D",3,2,"Al",2,"Al",2,"Al","-",{"$f":"IFERROR(VLOOKUP(B60,'TRAFOS MUESTRA'!$B$3:$D$2000,3,FALSE),\"NA\")","v":1},42000.39917781236,55786.157399999996,0,{"$f":"IF(AD60>0,'COSTO ELEMENTOS N1'!$B$74*Q60,0)","v":0},14000.133059270785,18595.3858,56000.532237083142,74381.5432,130382.07543708314,266710.97483328887,24117.880109620462,233556.26303030306,524385.11797321239,"D-Al-2","D-Al-2","A-D","1-D","A","Co-8"]
[58,10500518,63,"Co",8,0,null,null,null,null,null,"N",null,14,15,"A",10,"D",3,2,"Al",2,"Al",2,"Al","-",{"$f":"IFERROR(VLOOKUP(B61,'TRAFOS MUESTRA'!$B$3:$D$2000,3,FALSE),\"NA\")","v":1},42000.39917781236,55786.157399999996,0,{"$f":"IF(AD61>0,'COSTO ELEMENTOS N1'!$B$74*Q61,0)","v":0},14000.133059270785,18595.3858,56000.532237083142,74381.5432,130382.07543708314,266710.97483328887,24117.880109620462,233556.26303030306,524385.11797321239,"D-Al-2","D-Al-2","A-D","1-D","A","Co-8"]
[59,10500518,64,"Co",8,0,null,null,null,null,null,"N",null,14,15,"A",10,"D",3,2,"Al",2,"Al",2,"Al","-",{"$f":"IFERROR(VLOOKUP(B62,'TRAFOS MUESTRA'!$B$3:$D$2000,3,FALSE),\"NA\")","v":1},42000.39917781236,55786.157399999996,0,{"$f":"IF(AD62>0,'COSTO ELEMENTOS N1'!$B$74*Q62,0)","v":0},14000.133059270785,18595.3858,56000.532237083142,74381.5432,130382.07543708314,266710.97483328887,24117.880109620462,233556.26303030306,524385.11797321239,"D-Al-2","D-Al-2","A-D","1-D","A","Co-8"]
[60,10500518,65,"Co",8,0,null,null,null,"S",70,"N",null,5,16,"A",38.700000000000003,"A",2,10,"Cu",10,"Cu",10,"Cu","-",{"$f":"IFERROR(VLOOKUP(B63,'TRAFOS MUESTRA'!$B$3:$D$2000,3,FALSE),\"NA\")","v":1},{"$f":"IFERROR((VLOOKUP(AO63,COSTO_CONDUCTORES,5,FALSE))*Q63*S63,0)","v":106667.65367769553},{"$f":"IFERROR(VLOOKUP($AQ63,COSTO_INSTALACIÓN_CONDUCTOR,2,FALSE)*Q63*S63,0)","v":143928.28609199999},{"$f":"IFERROR(VLOOKUP(AT63,COSTO_CANALIZACION_SUBTERRANEO,2,FALSE),0)*Q63","v":0},{"$f":"IF(AD63>0,'COSTO ELEMENTOS N1'!$B$74*Q63,0)","v":0},{"$f":"IFERROR(VLOOKUP(AP63,COSTO_CONDUCTORES,5,FALSE),0)*Q63","v":53333.826838847766},{"$f":"IFERROR(VLOOKUP($AQ63,COSTO_INSTALACIÓN_CONDUCTOR,2,FALSE),0)*Q63","v":71964.143045999997},160001.48051654329,215892.42913800001,375893.90965454327,{"$f":"IFERROR(VLOOKUP($AT63,COSTO_APOYOS,5,FALSE),0)","v":266710.97483328887},{"$f":"IF(AS63=\"SD\",0,IF(AS63=\"A\",IFERROR(VLOOKUP(AR63,COSTO_INSTALACIÓN_APOYOS,2,FALSE),0),0))+IF(L63=\"S\",PUESTA_TIERRA,0)","v":24117.880109620462},{"$f":"IF(AS63=\"SD\",0,IF(AS63=\"S\",IFERROR(VLOOKUP(G63,COSTO_INSTALACION_CAMARAS,2,FALSE),0),IF(AT63=\"N2\",0,IFERROR(VLOOKUP(AR63,COSTO_INSTALACIÓN_APOYOS,3,FALSE),0))))","v":233556.26303030306},524385.11797321239,"A-Cu-10","A-Cu-10","A-A","1-A",{"$f":"IFERROR(VLOOKUP(D63&\"-\"&E63,COSTO_APOYOS,2,FALSE),IFERROR(VLOOKUP(G63&\"-\"&H63,COSTO_APOYOS,2,FALSE),\"SD\"))","v":"A"},"Co-8"]
[61,10500518,66,"Co",8,0,null,null,null,"S",70,"N",null,5,16,"A",38.700000000000003,"A",2,10,"Cu",10,"Cu",10,"Cu","-",{"$f":"IFERROR(VLOOKUP(B64,'TRAFOS MUESTRA'!$B$3:$D$2000,3,FALSE),\"NA\")","v":1},106667.65367769553,143928.28609199999,0,{"$f":"IF(AD64>0,'COSTO ELEMENTOS N1'!$B$74*Q64,0)","v":0},53333.826838847766,71964.143045999997,{"$f":"AB64+AD64+AF64","v":160001.48051654329},{"$f":"AC64+AE64+AG64","v":215892.42913800001},{"$f":"SUM(AH64:AI64)","v":375893.90965454327},266710.97483328887,24117.880109620462,233556.26303030306,{"$f":"SUM(AK64:AM64)","v":524385.11797321239},{"$f":"$R64&\"-\"&$U64&\"-\"&$T64","v":"A-Cu-10"},{"$f":"$R64&\"-\"&$W64&\"-\"&$V64","v":"A-Cu-10"},{"$f":"P64&\"-\"&R64","v":"A-A"},{"$f":"AA64&\"-\"&IF(R64=\"\",\"D\",R64)","v":"1-A"},"A",{"$f":"IF(AS64=\"S\",G64&\"-\"&H64,IF(E64>10,\"N2\",D64&\"-\"&E64))","v":"Co-8"}]
[62,10500518,67,"Co",8,0,null,null,null,"S",70,"N",null,5,16,"A",38.700000000000003,"A",1,10,"Cu",10,"Cu",10,"Cu","-",{"$f":"IFERROR(VLOOKUP(B65,'TRAFOS MUESTRA'!$B$3:$D$2000,3,FALSE),\"NA\")","v":1},53333.826838847766,71964.143045999997,0,{"$f":"IF(AD65>0,'COSTO ELEMENTOS N1'!$B$74*Q65,0)","v":0},53333.826838847766,71964.143045999997,106667.65367769553,143928.28609199999,250595.93976969551,266710.97483328887,24117.880109620462,233556.26303030306,524385.11797321239,"A-Cu-10","A-Cu-10","A-A","1-A","A","Co-8"]
[63,10501108,68,"Co",12,1,null,null,null,null,null,"S","56680, 58773, 58774, 58775, 58776, 58777, 58778, 58779, 58780, 58781, 58782, 58783, 58784, 58785, 58786,60964, 60973, 60975, 60976, 60977, 60978, 60979, 60984, 60985",0,1,null,null,null,null,null,null,null,null,null,null,"-",{"$f":"IFERROR(VLOOKUP(B66,'TRAFOS MUESTRA'!$B$3:$D$2000,3,FALSE),\"NA\")","v":1},0,0,0,{"$f":"IF(AD66>0,'COSTO ELEMENTOS N1'!$B$74*Q66,0)","v":0},0,0,0,0,0,0,95211.405083106889,0,95211.405083106889,"--","--","-","1-D","A","N2"]
[64,10503202,69,"Co",12,1,null,null,null,null,null,"S",null,0,1,null,null,null,null,null,null,null,null,null,null,"-",{"$f":"IFERROR(VLOOKUP(B67,'TRAFOS MUESTRA'!$B$3:$D$2000,3,FALSE),\"NA\")","v":"NA"},0,0,0,{"$f":"IF(AD67>0,'COSTO ELEMENTOS N1'!$B$74*Q67,0)","v":0},0,0,0,0,0,0,71093.524973486434,0,71093.524973486434,"--","--","-","NA-D","A","N2"]
[65,10503202,70,"Co",8,0,null,null,null,null,null,"N",null,1,2,"A",22.1,"D",2,2,"Al",2,"Al",null,null,"-",{"$f":"IFERROR(VLOOKUP(B68,'TRAFOS MUESTRA'!$B$3:$D$2000,3,FALSE),\"NA\")","v":"NA"},61880.588121976878,82191.605236000003,0,{"$f":"IF(AD68>0,'COSTO ELEMENTOS N1'!$B$74*Q68,0)","v":0},30940.294060988439,41095.802618000002,92820.882182965317,123287.407854,216108.29003696534,266710.97483328887,0,0,266710.97483328887,"D-Al-2","D-Al-2","A-D","NA-D","A","Co-8"]
[66,10503202,71,"Co",8,0,null,null,null,null,null,"N",null,2,3,"A",28.7,"D",2,2,"Al",2,"Al",null,null,"-",{"$f":"IFERROR(VLOOKUP(B69,'TRAFOS MUESTRA'!$B$3:$D$2000,3,FALSE),\"NA\")","v":"NA"},80360.763760214308,106737.51449199999,0,{"$f":"IF(AD69>0,'COSTO ELEMENTOS N1'!$B$74*Q69,0)","v":0},40180.381880107154,53368.757245999994,120541.14564032145,160106.27173799998,280647.41737832141,266710.97483328887,0,0,266710.97483328887,"D-Al-2","D-Al-2","A-D","NA-D","A","Co-8"]
[{"$f":"A69+1","v":67},10503202,72,"Co",8,0,null,null,null,null,null,"N","34355, 59531",3,4,"A",28.5,"D",2,2,"Al",2,"Al",null,null,"-",{"$f":"IFERROR(VLOOKUP(B70,'TRAFOS MUESTRA'!$B$3:$D$2000,3,FALSE),\"NA\")","v":"NA"},79800.758437843484,105993.69906,0,{"$f":"IF(AD70>0,'COSTO ELEMENTOS N1'!$B$74*Q70,0)","v":0},39900.379218921742,52996.84953,119701.13765676523,158990.54858999999,278691.6862467652,266710.97483328887,0,0,266710.97483328887,"D-Al-2","D-Al-2","A-D","NA-D","A","Co-8"]
[68,10503203,73,"Co",12,1,null,null,null,null,null,"S",24363,0,1,"A",38.5,"D",2,2,"Al",2,"Al",null,null,"-",{"$f":"IFERROR(VLOOKUP(B71,'TRAFOS MUESTRA'!$B$3:$D$2000,3,FALSE),\"NA\")","v":"NA"},107801.02455638505,143184.47065999999,0,{"$f":"IF(AD71>0,'COSTO ELEMENTOS N1'!$B$74*Q71,0)","v":0},53900.512278192524,71592.235329999996,161701.53683457756,214776.70598999999,376478.24282457755,0,71093.524973486434,0,71093.524973486434,"D-Al-2","D-Al-2","A-D","NA-D","A","N2"]
[69,10506901,74,"Co",12,1,null,null,null,null,null,"S",57593,0,1,"A",38.5,"D",2,2,"Al",2,"Al",null,null,"-",{"$f":"IFERROR(VLOOKUP(B72,'TRAFOS MUESTRA'!$B$3:$D$2000,3,FALSE),\"NA\")","v":"NA"},107801.02455638505,143184.47065999999,0,{"$f":"IF(AD72>0,'COSTO ELEMENTOS N1'!$B$74*Q72,0)","v":0},53900.512278192524,71592.235329999996,161701.53683457756,214776.70598999999,376478.24282457755,0,71093.524973486434,0,71093.524973486434,"D-Al-2","D-Al-2","A-D","NA-D","A","N2"]
[70,20100101,75,"Co",12,1,null,null,null,null,null,"S",10639,0,1,"A",38.5,"D",2,2,"Al",2,"Al",null,null,"-",{"$f":"IFERROR(VLOOKUP(B73,'TRAFOS MUESTRA'!$B$3:$D$2000,3,FALSE),\"NA\")","v":3},107801.02455638505,143184.47065999999,0,{"$f":"IF(AD73>0,'COSTO ELEMENTOS N1'!$B$74*Q73,0)","v":0},53900.512278192524,71592.235329999996,161701.53683457756,214776.70598999999,376478.24282457755,0,95211.405083106889,0,95211.405083106889,"D-Al-2","D-Al-2","A-D","3-D","A","N2"]
[71,20101201,76,"Co",12,1,null,null,null,null,null,"S",null,0,1,"A",38.5,"D",2,2,"Al",2,"Al",null,null,"-",{"$f":"IFERROR(VLOOKUP(B74,'TRAFOS MUESTRA'!$B$3:$D$2000,3,FALSE),\"NA\")","v":4},107801.02455638505,143184.47065999999,0,{"$f":"IF(AD74>0,'COSTO ELEMENTOS N1'!$B$74*Q74,0)","v":0},53900.512278192524,71592.235329999996,161701.53683457756,214776.70598999999,376478.24282457755,0,95211.405083106889,0,95211.405083106889,"D-Al-2","D-Al-2","A-D","4-D","A","N2"]
[72,20101201,77,"Co",12,1,null,null,null,null,null,"S",null,0,1,"A",38.5,"D",2,2,"Al",2,"Al",null,null,"-",{"$f":"IFERROR(VLOOKUP(B75,'TRAFOS MUESTRA'!$B$3:$D$2000,3,FALSE),\"NA\")","v":4},107801.02455638505,143184.47065999999,0,{"$f":"IF(AD75>0,'COSTO ELEMENTOS N1'!$B$74*Q75,0)","v":0},53900.512278192524,71592.235329999996,161701.53683457756,214776.70598999999,376478.24282457755,0,95211.405083106889,0,95211.405083106889,"D-Al-2","D-Al-2","A-D","4-D","A","N2"]
[73,20101201,78,"Co",12,1,null,null,null,null,null,"S",null,0,1,"A",38.5,"D",2,2,"Al",2,"Al",null,null,"-",{"$f":"IFERROR(VLOOKUP(B76,'TRAFOS MUESTRA'!$B$3:$D$2000,3,FALSE),\"NA\")","v":4},107801.02455638505,143184.47065999999,0,{"$f":"IF(AD76>0,'COSTO ELEMENTOS N1'!$B$74*Q76,0)","v":0},53900.512278192524,71592.235329999996,161701.53683457756,214776.70598999999,376478.24282457755,0,95211.405083106889,0,95211.405083106889,"D-Al-2","D-Al-2","A-D","4-D","A","N2"]
[74,20200508,79,"Co",12,1,null,null,null,null,null,"S","11814/11815/11816",0,1,"A",38.5,"D",2,2,"Al",2,"Al",null,null,"Limitacion orden publico",{"$f":"IFERROR(VLOOKUP(B77,'TRAFOS MUESTRA'!$B$3:$D$2000,3,FALSE),\"NA\")","v":4},107801.02455638505,143184.47065999999,0,{"$f":"IF(AD77>0,'COSTO ELEMENTOS N1'!$B$74*Q77,0)","v":0},53900.512278192524,71592.235329999996,161701.53683457756,214776.70598999999,376478.24282457755,0,95211.405083106889,0,95211.405083106889,"D-Al-2","D-Al-2","A-D","4-D","A","N2"]
[75,20204908,80,"Co",12,1,null,null,null,null,null,"S",24055,0,1,"A",38.5,"D",2,2,"Al",2,"Al",null,null,"-",{"$f":"IFERROR(VLOOKUP(B78,'TRAFOS MUESTRA'!$B$3:$D$2000,3,FALSE),\"NA\")","v":"NA"},107801.02455638505,143184.47065999999,0,{"$f":"IF(AD78>0,'COSTO ELEMENTOS N1'!$B$74*Q78,0)","v":0},53900.512278192524,71592.235329999996,161701.53683457756,214776.70598999999,376478.24282457755,0,71093.524973486434,0,71093.524973486434,"D-Al-2","D-Al-2","A-D","NA-D","A","N2"]
[76,20204913,81,"Co",12,1,null,null,null,null,null,"S","12475, 12477",0,1,"A",38.5,"D",2,2,"Al",2,"Al",null,null,"-",{"$f":"IFERROR(VLOOKUP(B79,'TRAFOS MUESTRA'!$B$3:$D$2000,3,FALSE),\"NA\")","v":"NA"},107801.02455638505,143184.47065999999,0,{"$f":"IF(AD79>0,'COSTO ELEMENTOS N1'!$B$74*Q79,0)","v":0},53900.512278192524,71592.235329999996,161701.53683457756,214776.70598999999,376478.24282457755,0,71093.524973486434,0,71093.524973486434,"D-Al-2","D-Al-2","A-D","NA-D","A","N2"]
[77,20205902,82,"Co",12,1,null,null,null,null,null,"S","12178/12171/12180/12181",0,1,"A",38.5,"D",2,2,"Al",2,"Al",null,null,"Limitacion orden publico",{"$f":"IFERROR(VLOOKUP(B80,'TRAFOS MUESTRA'!$B$3:$D$2000,3,FALSE),\"NA\")","v":4},107801.02455638505,143184.47065999999,0,{"$f":"IF(AD80>0,'COSTO ELEMENTOS N1'!$B$74*Q80,0)","v":0},53900.512278192524,71592.235329999996,161701.53683457756,214776.70598999999,376478.24282457755,0,95211.405083106889,0,95211.405083106889,"D-Al-2","D-Al-2","A-D","4-D","A","N2"]
[78,20211205,83,"Co",12,1,null,null,null,null,null,"S",null,0,1,"A",38.5,"D",2,2,"Al",2,"Al",null,null,"-",{"$f":"IFERROR(VLOOKUP(B81,'TRAFOS MUESTRA'!$B$3:$D$2000,3,FALSE),\"NA\")","v":"NA"},107801.02455638505,143184.47065999999,0,{"$f":"IF(AD81>0,'COSTO ELEMENTOS N1'!$B$74*Q81,0)","v":0},53900.512278192524,71592.235329999996,161701.53683457756,214776.70598999999,376478.24282457755,0,71093.524973486434,0,71093.524973486434,"D-Al-2","D-Al-2","A-D","NA-D","A","N2"]
[79,20211205,84,"Co",8,0,null,null,null,null,null,"N","48980, 48954",1,2,"A",38.5,"D",2,2,"Al",2,"Al",null,null,"-",{"$f":"IFERROR(VLOOKUP(B82,'TRAFOS MUESTRA'!$B$3:$D$2000,3,FALSE),\"NA\")","v":"NA"},107801.02455638505,143184.47065999999,0,{"$f":"IF(AD82>0,'COSTO ELEMENTOS N1'!$B$74*Q82,0)","v":0},53900.512278192524,71592.235329999996,161701.53683457756,214776.70598999999,376478.24282457755,266710.97483328887,0,0,266710.97483328887,"D-Al-2","D-Al-2","A-D","NA-D","A","Co-8"]
[80,20211205,85,"Co",8,0,null,null,null,null,null,"N","48976, 48981",2,3,"A",37.5,"D",2,2,"Al",2,"Al",null,null,"-",{"$f":"IFERROR(VLOOKUP(B83,'TRAFOS MUESTRA'!$B$3:$D$2000,3,FALSE),\"NA\")","v":"NA"},105000.9979445309,139465.39350000001,0,{"$f":"IF(AD83>0,'COSTO ELEMENTOS N1'!$B$74*Q83,0)","v":0},52500.49897226545,69732.696750000003,157501.49691679634,209198.09025000001,366699.58716679632,266710.97483328887,0,0,266710.97483328887,"D-Al-2","D-Al-2","A-D","NA-D","A","Co-8"]
[81,20211205,86,"Co",8,0,null,null,null,null,null,"N",null,3,4,"A",37.9,"D",2,2,"Al",2,"Al",null,null,"-",{"$f":"IFERROR(VLOOKUP(B84,'TRAFOS MUESTRA'!$B$3:$D$2000,3,FALSE),\"NA\")","v":"NA"},106121.00858927255,140953.02436399998,0,{"$f":"IF(AD84>0,'COSTO ELEMENTOS N1'!$B$74*Q84,0)","v":0},53060.504294636274,70476.512181999991,159181.51288390881,211429.53654599999,370611.0494299088,266710.97483328887,0,0,266710.97483328887,"D-Al-2","D-Al-2","A-D","NA-D","A","Co-8"]
[82,20211205,87,"Co",8,0,null,null,null,null,null,"N",null,4,5,"A",36.6,"D",2,2,"Al",2,"Al",null,null,"-",{"$f":"IFERROR(VLOOKUP(B85,'TRAFOS MUESTRA'!$B$3:$D$2000,3,FALSE),\"NA\")","v":"NA"},102480.97399386215,136118.22405600001,0,{"$f":"IF(AD85>0,'COSTO ELEMENTOS N1'!$B$74*Q85,0)","v":0},51240.486996931075,68059.112028000003,153721.46099079322,204177.33608400001,357898.79707479326,266710.97483328887,0,0,266710.97483328887,"D-Al-2","D-Al-2","A-D","NA-D","A","Co-8"]
[83,20211205,88,"Co",8,0,null,null,null,null,null,"N",null,5,6,"A",37,"D",2,2,"Al",2,"Al",null,null,"-",{"$f":"IFERROR(VLOOKUP(B86,'TRAFOS MUESTRA'!$B$3:$D$2000,3,FALSE),\"NA\")","v":"NA"},103600.98463860381,137605.85491999998,0,{"$f":"IF(AD86>0,'COSTO ELEMENTOS N1'!$B$74*Q86,0)","v":0},51800.492319301906,68802.927459999992,155401.47695790572,206408.78237999999,361810.25933790568,266710.97483328887,0,0,266710.97483328887,"D-Al-2","D-Al-2","A-D","NA-D","A","Co-8"]
[84,20211205,89,"Co",8,0,null,null,null,null,null,"N",null,6,7,"A",61.6,"D",2,2,"Al",2,"Al",null,null,"-",{"$f":"IFERROR(VLOOKUP(B87,'TRAFOS MUESTRA'!$B$3:$D$2000,3,FALSE),\"NA\")","v":"NA"},172481.63929021609,229095.15305599998,0,{"$f":"IF(AD87>0,'COSTO ELEMENTOS N1'!$B$74*Q87,0)","v":0},86240.819645108044,114547.57652799999,258722.45893532413,343642.72958399996,602365.18851932406,266710.97483328887,0,0,266710.97483328887,"D-Al-2","D-Al-2","A-D","NA-D","A","Co-8"]
[85,20211205,90,"Co",8,0,null,null,null,null,null,"N",null,7,8,"A",60.5,"D",2,2,"Al",2,"Al",null,null,"-",{"$f":"IFERROR(VLOOKUP(B88,'TRAFOS MUESTRA'!$B$3:$D$2000,3,FALSE),\"NA\")","v":"NA"},169401.61001717651,225004.16817999998,0,{"$f":"IF(AD88>0,'COSTO ELEMENTOS N1'!$B$74*Q88,0)","v":0},84700.805008588257,112502.08408999999,254102.41502576479,337506.25226999994,591608.66729576467,266710.97483328887,0,0,266710.97483328887,"D-Al-2","D-Al-2","A-D","NA-D","A","Co-8"]
[86,20211205,91,"Co",8,0,null,null,null,null,null,"N",48837,8,9,"A",61.1,"D",2,2,"Al",2,"Al",null,null,"-",{"$f":"IFERROR(VLOOKUP(B89,'TRAFOS MUESTRA'!$B$3:$D$2000,3,FALSE),\"NA\")","v":"NA"},171081.62598428901,227235.61447599999,0,{"$f":"IF(AD89>0,'COSTO ELEMENTOS N1'!$B$74*Q89,0)","v":0},85540.812992144507,113617.80723799999,256622.43897643354,340853.421714,597475.86069043353,266710.97483328887,0,0,266710.97483328887,"D-Al-2","D-Al-2","A-D","NA-D","A","Co-8"]
[87,20211205,92,"Co",8,0,null,null,null,null,null,"N",null,9,10,"A",45.3,"D",2,2,"Al",2,"Al",null,null,"-",{"$f":"IFERROR(VLOOKUP(B90,'TRAFOS MUESTRA'!$B$3:$D$2000,3,FALSE),\"NA\")","v":"NA"},126841.20551699332,168474.19534799998,0,{"$f":"IF(AD90>0,'COSTO ELEMENTOS N1'!$B$74*Q90,0)","v":0},63420.602758496658,84237.09767399999,190261.80827548998,252711.29302199997,442973.10129748995,266710.97483328887,0,0,266710.97483328887,"D-Al-2","D-Al-2","A-D","NA-D","A","Co-8"]
[88,20211205,93,"Co",8,0,null,null,null,null,null,"N",null,10,11,"A",37.9,"D",1,2,"Al",2,"Al",null,null,"-",{"$f":"IFERROR(VLOOKUP(B91,'TRAFOS MUESTRA'!$B$3:$D$2000,3,FALSE),\"NA\")","v":"NA"},53060.504294636274,70476.512181999991,0,{"$f":"IF(AD91>0,'COSTO ELEMENTOS N1'!$B$74*Q91,0)","v":0},53060.504294636274,70476.512181999991,106121.00858927255,140953.02436399998,247074.03295327252,266710.97483328887,0,0,266710.97483328887,"D-Al-2","D-Al-2","A-D","NA-D","A","Co-8"]
[89,20211205,94,"Co",8,0,null,null,null,null,null,"N",null,11,12,"A",35.9,"D",1,2,"Al",2,"Al",null,null,"-",{"$f":"IFERROR(VLOOKUP(B92,'TRAFOS MUESTRA'!$B$3:$D$2000,3,FALSE),\"NA\")","v":"NA"},50260.477682782119,66757.435021999991,0,{"$f":"IF(AD92>0,'COSTO ELEMENTOS N1'!$B$74*Q92,0)","v":0},50260.477682782119,66757.435021999991,100520.95536556424,133514.87004399998,234035.82540956422,266710.97483328887,0,0,266710.97483328887,"D-Al-2","D-Al-2","A-D","NA-D","A","Co-8"]
[90,20211205,95,"Co",8,0,null,null,null,null,null,"N","48975, 48835",2,13,"A",42.9,"D",2,2,"Al",2,"Al",null,null,"-",{"$f":"IFERROR(VLOOKUP(B93,'TRAFOS MUESTRA'!$B$3:$D$2000,3,FALSE),\"NA\")","v":"NA"},120121.14164854334,159548.410164,0,{"$f":"IF(AD93>0,'COSTO ELEMENTOS N1'!$B$74*Q93,0)","v":0},60060.570824271672,79774.205082,180181.71247281501,239322.615246,419504.32771881501,266710.97483328887,0,0,266710.97483328887,"D-Al-2","D-Al-2","A-D","NA-D","A","Co-8"]
[91,20211205,96,"Co",8,0,null,null,null,null,null,"N","48834, 48985",13,14,"A",44.5,"D",2,2,"Al",2,"Al",null,null,"-",{"$f":"IFERROR(VLOOKUP(B94,'TRAFOS MUESTRA'!$B$3:$D$2000,3,FALSE),\"NA\")","v":"NA"},124601.18422750999,165498.93362,0,{"$f":"IF(AD94>0,'COSTO ELEMENTOS N1'!$B$74*Q94,0)","v":0},62300.592113754996,82749.466809999998,186901.77634126498,248248.40042999998,435150.17677126499,266710.97483328887,0,0,266710.97483328887,"D-Al-2","D-Al-2","A-D","NA-D","A","Co-8"]
[92,20211205,97,"Co",8,0,null,null,null,null,null,"N",49473,14,15,"A",41.9,"D",2,2,"Al",2,"Al",null,null,"-",{"$f":"IFERROR(VLOOKUP(B95,'TRAFOS MUESTRA'!$B$3:$D$2000,3,FALSE),\"NA\")","v":"NA"},117321.11503668918,155829.33300399999,0,{"$f":"IF(AD95>0,'COSTO ELEMENTOS N1'!$B$74*Q95,0)","v":0},58660.557518344591,77914.666501999993,175981.67255503376,233743.99950599996,409725.67206103372,266710.97483328887,0,0,266710.97483328887,"D-Al-2","D-Al-2","A-D","NA-D","A","Co-8"]
[93,20211205,98,"Co",8,0,null,null,null,null,null,"N",48984,2,16,"A",47.8,"D",2,2,"Al",2,"Al",null,null,"-",{"$f":"IFERROR(VLOOKUP(B96,'TRAFOS MUESTRA'!$B$3:$D$2000,3,FALSE),\"NA\")","v":"NA"},133841.2720466287,177771.88824799997,0,{"$f":"IF(AD96>0,'COSTO ELEMENTOS N1'!$B$74*Q96,0)","v":0},66920.63602331435,88885.944123999987,200761.90806994305,266657.83237199998,467419.74044194305,266710.97483328887,0,0,266710.97483328887,"D-Al-2","D-Al-2","A-D","NA-D","A","Co-8"]
[94,20211205,99,"Co",8,0,null,null,null,null,null,"N",null,16,17,"A",47.1,"D",2,2,"Al",2,"Al",null,null,"-",{"$f":"IFERROR(VLOOKUP(B97,'TRAFOS MUESTRA'!$B$3:$D$2000,3,FALSE),\"NA\")","v":"NA"},131881.2534183308,175168.53423600001,0,{"$f":"IF(AD97>0,'COSTO ELEMENTOS N1'!$B$74*Q97,0)","v":0},65940.626709165401,87584.267118000003,197821.8801274962,262752.801354,460574.6814814962,266710.97483328887,0,0,266710.97483328887,"D-Al-2","D-Al-2","A-D","NA-D","A","Co-8"]
[95,20300701,100,"Co",12,1,null,null,null,null,null,"S","11588/11593",0,1,null,null,null,null,null,null,null,null,null,null,"Limitacion orden publico",{"$f":"IFERROR(VLOOKUP(B98,'TRAFOS MUESTRA'!$B$3:$D$2000,3,FALSE),\"NA\")","v":4},0,0,0,{"$f":"IF(AD98>0,'COSTO ELEMENTOS N1'!$B$74*Q98,0)","v":0},0,0,0,0,0,0,95211.405083106889,0,95211.405083106889,"--","--","-","4-D","A","N2"]
[96,20301202,101,"Co",12,1,null,null,null,null,null,"S",35160,0,1,"A",null,"D",null,null,null,null,null,null,null,"-",{"$f":"IFERROR(VLOOKUP(B99,'TRAFOS MUESTRA'!$B$3:$D$2000,3,FALSE),\"NA\")","v":"NA"},0,0,0,{"$f":"IF(AD99>0,'COSTO ELEMENTOS N1'!$B$74*Q99,0)","v":0},0,0,0,0,0,0,71093.524973486434,0,71093.524973486434,"D--","D--","A-D","NA-D","A","N2"]
[97,20301202,102,"Co",8,0,null,null,null,null,null,"N",null,1,2,"A",48.1,"D",2,"1/0","Al","1/0","Al",null,null,"-",{"$f":"IFERROR(VLOOKUP(B100,'TRAFOS MUESTRA'!$B$3:$D$2000,3,FALSE),\"NA\")","v":"NA"},198330.03945292725,178887.61139599999,0,{"$f":"IF(AD100>0,'COSTO ELEMENTOS N1'!$B$74*Q100,0)","v":0},99165.019726463623,89443.805697999996,297495.0591793909,268331.41709399997,565826.47627339093,266710.97483328887,0,0,266710.97483328887,"D-Al-1/0","D-Al-1/0","A-D","NA-D","A","Co-8"]
[98,20301202,103,"Co",12,1,null,null,null,null,null,"N",null,2,3,"A",54.6,"D",2,"1/0","Al","1/0","Al",null,null,"-",{"$f":"IFERROR(VLOOKUP(B101,'TRAFOS MUESTRA'!$B$3:$D$2000,3,FALSE),\"NA\")","v":"NA"},225131.39613575526,203061.61293599999,0,{"$f":"IF(AD101>0,'COSTO ELEMENTOS N1'!$B$74*Q101,0)","v":0},112565.69806787763,101530.806468,337697.09420363291,304592.41940399999,642289.51360763283,0,0,0,0,"D-Al-1/0","D-Al-1/0","A-D","NA-D","A","N2"]
[99,20301202,104,"Co",8,0,null,null,null,null,null,"N",null,3,4,"A",49,"D",2,"1/0","Al","1/0","Al",null,null,"-",{"$f":"IFERROR(VLOOKUP(B102,'TRAFOS MUESTRA'!$B$3:$D$2000,3,FALSE),\"NA\")","v":"NA"},202040.99653208806,182234.78083999999,0,{"$f":"IF(AD102>0,'COSTO ELEMENTOS N1'!$B$74*Q102,0)","v":0},101020.49826604403,91117.390419999996,303061.4947981321,273352.17125999997,576413.66605813208,266710.97483328887,0,0,266710.97483328887,"D-Al-1/0","D-Al-1/0","A-D","NA-D","A","Co-8"]
[100,20301202,105,"Co",12,1,null,null,null,null,null,"N",null,4,5,"A",50,"D",2,"1/0","Al","1/0","Al",null,null,"-",{"$f":"IFERROR(VLOOKUP(B103,'TRAFOS MUESTRA'!$B$3:$D$2000,3,FALSE),\"NA\")","v":"NA"},206164.28217560006,185953.85799999998,0,{"$f":"IF(AD103>0,'COSTO ELEMENTOS N1'!$B$74*Q103,0)","v":0},103082.14108780003,92976.928999999989,309246.42326340009,278930.78699999995,588177.21026340011,0,0,0,0,"D-Al-1/0","D-Al-1/0","A-D","NA-D","A","N2"]
[101,20301202,106,"Co",8,0,null,null,null,null,null,"N",31161,5,6,"A",69.5,"D",2,"1/0","Al","1/0","Al",null,null,"-",{"$f":"IFERROR(VLOOKUP(B104,'TRAFOS MUESTRA'!$B$3:$D$2000,3,FALSE),\"NA\")","v":"NA"},286568.35222408408,258475.86262,0,{"$f":"IF(AD104>0,'COSTO ELEMENTOS N1'!$B$74*Q104,0)","v":0},143284.17611204204,129237.93131,429852.52833612612,387713.79392999999,817566.32226612605,266710.97483328887,0,0,266710.97483328887,"D-Al-1/0","D-Al-1/0","A-D","NA-D","A","Co-8"]
[102,20301202,107,"Co",8,0,null,null,null,null,null,"N","SD39154",5,7,"A",53.8,"D",2,"1/0","Al","1/0","Al",null,null,"-",{"$f":"IFERROR(VLOOKUP(B105,'TRAFOS MUESTRA'!$B$3:$D$2000,3,FALSE),\"NA\")","v":"NA"},221832.76762094564,200086.35120799998,0,{"$f":"IF(AD105>0,'COSTO ELEMENTOS N1'!$B$74*Q105,0)","v":0},110916.38381047282,100043.17560399999,332749.15143141849,300129.52681199997,632878.67824341846,266710.97483328887,0,0,266710.97483328887,"D-Al-1/0","D-Al-1/0","A-D","NA-D","A","Co-8"]
[103,20400302,108,"Co",12,1,null,null,null,null,null,"S","74 usuarios",0,1,null,null,null,null,null,null,null,null,null,null,"Limitacion orden publico",{"$f":"IFERROR(VLOOKUP(B106,'TRAFOS MUESTRA'!$B$3:$D$2000,3,FALSE),\"NA\")","v":"NA"},0,0,0,{"$f":"IF(AD106>0,'COSTO ELEMENTOS N1'!$B$74*Q106,0)","v":0},0,0,0,0,0,0,71093.524973486434,0,71093.524973486434,"--","--","-","NA-D","A","N2"]
[104,30100105,109,"Co",12,1,null,null,null,null,null,"S",null,0,1,null,null,null,null,null,null,null,null,null,null,"-",{"$f":"IFERROR(VLOOKUP(B107,'TRAFOS MUESTRA'!$B$3:$D$2000,3,FALSE),\"NA\")","v":1},0,0,0,{"$f":"IF(AD107>0,'COSTO ELEMENTOS N1'!$B$74*Q107,0)","v":0},0,0,0,0,0,0,95211.405083106889,0,95211.405083106889,"--","--","-","1-D","A","N2"]
[105,30100105,110,"Co",8,0,null,null,null,"S",70,"N",31335,2,3,"A",35,"D",3,"1/0","Al",2,"Al",4,"Al","-",{"$f":"IFERROR(VLOOKUP(B108,'TRAFOS MUESTRA'!$B$3:$D$2000,3,FALSE),\"NA\")","v":1},216472.49628438009,195251.5509,0,{"$f":"IF(AD108>0,'COSTO ELEMENTOS N1'!$B$74*Q108,0)","v":0},49000.465707447751,65083.850299999998,265472.96199182782,260335.40119999999,525808.36319182778,266710.97483328887,24117.880109620462,233556.26303030306,524385.11797321239,"D-Al-1/0","D-Al-2","A-D","1-D","A","Co-8"]
[106,30100105,111,"Co",8,0,null,null,null,"M",125,"N","31336, 31337",4,5,"A",11.6,"D",3,"1/0","Al",2,"Al",4,"Al","-",{"$f":"IFERROR(VLOOKUP(B109,'TRAFOS MUESTRA'!$B$3:$D$2000,3,FALSE),\"NA\")","v":1},71745.170197108819,64711.942583999989,0,{"$f":"IF(AD109>0,'COSTO ELEMENTOS N1'!$B$74*Q109,0)","v":0},16240.154348754111,21570.647527999998,87985.324545862924,86282.590111999991,174267.91465786292,266710.97483328887,24117.880109620462,233556.26303030306,524385.11797321239,"D-Al-1/0","D-Al-2","A-D","1-D","A","Co-8"]
[107,30100105,112,"Co",8,0,null,null,null,"M",125,"N","31334, 31331, 31332",5,6,"A",21.4,"D",3,"1/0","Al",2,"Al",4,"Al","-",{"$f":"IFERROR(VLOOKUP(B110,'TRAFOS MUESTRA'!$B$3:$D$2000,3,FALSE),\"NA\")","v":1},132357.46915673523,119382.37683599998,0,{"$f":"IF(AD110>0,'COSTO ELEMENTOS N1'!$B$74*Q110,0)","v":0},29960.284746839479,39794.125611999996,162317.75390357472,159176.50244799998,321494.25635157467,266710.97483328887,24117.880109620462,233556.26303030306,524385.11797321239,"D-Al-1/0","D-Al-2","A-D","1-D","A","Co-8"]
[108,30100105,113,"Co",8,0,null,null,null,"M",125,"N","SD33402",4,7,"A",9.1999999999999993,"D",3,"1/0","Al",2,"Al",4,"Al","-",{"$f":"IFERROR(VLOOKUP(B111,'TRAFOS MUESTRA'!$B$3:$D$2000,3,FALSE),\"NA\")","v":1},56901.34188046561,51323.264807999993,0,{"$f":"IF(AD111>0,'COSTO ELEMENTOS N1'!$B$74*Q111,0)","v":0},12880.122414529122,17107.754935999998,69781.46429499473,68431.01974399999,138212.48403899471,266710.97483328887,24117.880109620462,233556.26303030306,524385.11797321239,"D-Al-1/0","D-Al-2","A-D","1-D","A","Co-8"]
[109,30100105,114,"Co",8,0,null,null,null,"M",125,"N",null,7,8,"A",32.1,"D",3,"1/0","Al",2,"Al",4,"Al","-",{"$f":"IFERROR(VLOOKUP(B112,'TRAFOS MUESTRA'!$B$3:$D$2000,3,FALSE),\"NA\")","v":1},198536.20373510284,179073.56525399999,0,{"$f":"IF(AD112>0,'COSTO ELEMENTOS N1'!$B$74*Q112,0)","v":0},44940.427120259228,59691.188417999998,243476.63085536208,238764.75367199999,482241.38452736207,266710.97483328887,24117.880109620462,233556.26303030306,524385.11797321239,"D-Al-1/0","D-Al-2","A-D","1-D","A","Co-8"]
[110,30100105,115,"Co",8,0,null,null,null,"M",125,"N","31338, 30176, 31339, 31340",4,9,"A",30.3,"D",3,"1/0","Al",2,"Al",4,"Al","-",{"$f":"IFERROR(VLOOKUP(B113,'TRAFOS MUESTRA'!$B$3:$D$2000,3,FALSE),\"NA\")","v":1},187403.33249762043,169032.05692199999,0,{"$f":"IF(AD113>0,'COSTO ELEMENTOS N1'!$B$74*Q113,0)","v":0},42420.403169590485,56344.018973999999,229823.73566721092,225376.07589599999,455199.81156321091,266710.97483328887,24117.880109620462,233556.26303030306,524385.11797321239,"D-Al-1/0","D-Al-2","A-D","1-D","A","Co-8"]
[111,30100105,116,"Co",8,0,null,null,null,"M",125,"N",null,9,10,"A",39,"D",3,"1/0","Al",2,"Al",4,"Al","-",{"$f":"IFERROR(VLOOKUP(B114,'TRAFOS MUESTRA'!$B$3:$D$2000,3,FALSE),\"NA\")","v":1},241212.21014545206,217566.01385999998,0,{"$f":"IF(AD114>0,'COSTO ELEMENTOS N1'!$B$74*Q114,0)","v":0},54600.518931156068,72522.004619999992,295812.72907660814,290088.01847999997,585900.74755660817,266710.97483328887,24117.880109620462,233556.26303030306,524385.11797321239,"D-Al-1/0","D-Al-2","A-D","1-D","A","Co-8"]
[112,30100105,117,"Co",8,0,null,null,null,"S",70,"N","31433, 30182, 31435",11,12,"A",26.9,"D",3,"1/0","Al",2,"Al",4,"Al","-",{"$f":"IFERROR(VLOOKUP(B115,'TRAFOS MUESTRA'!$B$3:$D$2000,3,FALSE),\"NA\")","v":1},166374.57571570924,150064.76340599998,0,{"$f":"IF(AD115>0,'COSTO ELEMENTOS N1'!$B$74*Q115,0)","v":0},37660.357929438411,50021.587801999995,204034.93364514766,200086.35120799998,404121.28485314763,266710.97483328887,24117.880109620462,233556.26303030306,524385.11797321239,"D-Al-1/0","D-Al-2","A-D","1-D","A","Co-8"]
[113,30100105,118,"Co",12,1,null,null,null,"M",125,"N","31432, 31431, 31430",12,13,"A",36,"D",3,"1/0","Al",2,"Al",4,"Al","-",{"$f":"IFERROR(VLOOKUP(B116,'TRAFOS MUESTRA'!$B$3:$D$2000,3,FALSE),\"NA\")","v":1},222657.42474964808,200830.16664000001,0,{"$f":"IF(AD116>0,'COSTO ELEMENTOS N1'!$B$74*Q116,0)","v":0},50400.479013374832,66943.388879999999,273057.90376302291,267773.55551999999,540831.45928302291,0,24117.880109620462,0,24117.880109620462,"D-Al-1/0","D-Al-2","A-D","1-D","A","N2"]
[114,30100105,119,"Co",8,0,null,null,null,"M",125,"N","31436, 33354",11,14,"A",9.8000000000000007,"D",3,"1/0","Al",2,"Al",4,"Al","-",{"$f":"IFERROR(VLOOKUP(B117,'TRAFOS MUESTRA'!$B$3:$D$2000,3,FALSE),\"NA\")","v":1},60612.298959626423,54670.434252000006,0,{"$f":"IF(AD117>0,'COSTO ELEMENTOS N1'!$B$74*Q117,0)","v":0},13720.130398085372,18223.478084000002,74332.429357711793,72893.912336000009,147226.34169371182,266710.97483328887,24117.880109620462,233556.26303030306,524385.11797321239,"D-Al-1/0","D-Al-2","A-D","1-D","A","Co-8"]
[115,30100105,120,"Co",12,1,null,null,null,"M",125,"N","52537, 33354",14,15,"A",21.4,"D",3,"1/0","Al",2,"Al",4,"Al","-",{"$f":"IFERROR(VLOOKUP(B118,'TRAFOS MUESTRA'!$B$3:$D$2000,3,FALSE),\"NA\")","v":1},132357.46915673523,119382.37683599998,0,{"$f":"IF(AD118>0,'COSTO ELEMENTOS N1'!$B$74*Q118,0)","v":0},29960.284746839479,39794.125611999996,162317.75390357472,159176.50244799998,321494.25635157467,0,24117.880109620462,0,24117.880109620462,"D-Al-1/0","D-Al-2","A-D","1-D","A","N2"]
[116,30100105,121,"Co",12,1,null,null,null,"M",125,"N","31437, 30183",11,16,"A",30.8,"D",3,"1/0","Al",2,"Al",4,"Al","-",{"$f":"IFERROR(VLOOKUP(B119,'TRAFOS MUESTRA'!$B$3:$D$2000,3,FALSE),\"NA\")","v":1},190495.79673025446,171821.36479199998,0,{"$f":"IF(AD119>0,'COSTO ELEMENTOS N1'!$B$74*Q119,0)","v":0},43120.409822554022,57273.788263999995,233616.20655280846,229095.15305599998,462711.35960880842,0,24117.880109620462,0,24117.880109620462,"D-Al-1/0","D-Al-2","A-D","1-D","A","N2"]
[117,30100105,122,"Co",8,0,null,null,null,"M",125,"N","30188, 30190, 30184, 30185, 30186",16,17,"A",24.3,"D",3,"1/0","Al",2,"Al",4,"Al","-",{"$f":"IFERROR(VLOOKUP(B120,'TRAFOS MUESTRA'!$B$3:$D$2000,3,FALSE),\"NA\")","v":1},150293.76170601245,135560.362482,0,{"$f":"IF(AD120>0,'COSTO ELEMENTOS N1'!$B$74*Q120,0)","v":0},34020.323334028013,45186.787493999997,184314.08504004046,180747.14997599999,365061.23501604045,266710.97483328887,24117.880109620462,233556.26303030306,524385.11797321239,"D-Al-1/0","D-Al-2","A-D","1-D","A","Co-8"]
[118,30100105,123,"Co",12,1,null,null,null,"M",125,"N",30187,17,18,"A",26.1,"D",3,"1/0","Al",2,"Al",4,"Al","-",{"$f":"IFERROR(VLOOKUP(B121,'TRAFOS MUESTRA'!$B$3:$D$2000,3,FALSE),\"NA\")","v":1},161426.63294349483,145601.87081400002,0,{"$f":"IF(AD121>0,'COSTO ELEMENTOS N1'!$B$74*Q121,0)","v":0},36540.347284696756,48533.956938000003,197966.98022819159,194135.82775200001,392102.8079801916,0,24117.880109620462,0,24117.880109620462,"D-Al-1/0","D-Al-2","A-D","1-D","A","N2"]
[119,30100105,124,"Co",8,0,null,null,null,"M",125,"N",null,18,19,"A",29.3,"D",3,"1/0","Al",2,"Al",4,"Al","-",{"$f":"IFERROR(VLOOKUP(B122,'TRAFOS MUESTRA'!$B$3:$D$2000,3,FALSE),\"NA\")","v":1},181218.40403235247,163453.44118199998,0,{"$f":"IF(AD122>0,'COSTO ELEMENTOS N1'!$B$74*Q122,0)","v":0},41020.389863663404,54484.480393999998,222238.79389601588,217937.92157599999,440176.7154720159,266710.97483328887,24117.880109620462,233556.26303030306,524385.11797321239,"D-Al-1/0","D-Al-2","A-D","1-D","A","Co-8"]
[120,30100506,125,"Co",12,1,null,null,null,null,null,"S",44497,0,1,"A",38.5,"D",2,2,"Al",2,"Al",null,null,"-",{"$f":"IFERROR(VLOOKUP(B123,'TRAFOS MUESTRA'!$B$3:$D$2000,3,FALSE),\"NA\")","v":"NA"},107801.02455638505,143184.47065999999,0,{"$f":"IF(AD123>0,'COSTO ELEMENTOS N1'!$B$74*Q123,0)","v":0},53900.512278192524,71592.235329999996,161701.53683457756,214776.70598999999,376478.24282457755,0,71093.524973486434,0,71093.524973486434,"D-Al-2","D-Al-2","A-D","NA-D","A","N2"]
[121,30100701,126,"Co",12,1,null,null,null,null,null,"S",33141,0,1,"A",38.5,"D",2,2,"Al",2,"Al",null,null,"-",{"$f":"IFERROR(VLOOKUP(B124,'TRAFOS MUESTRA'!$B$3:$D$2000,3,FALSE),\"NA\")","v":3},107801.02455638505,143184.47065999999,0,{"$f":"IF(AD124>0,'COSTO ELEMENTOS N1'!$B$74*Q124,0)","v":0},53900.512278192524,71592.235329999996,161701.53683457756,214776.70598999999,376478.24282457755,0,95211.405083106889,0,95211.405083106889,"D-Al-2","D-Al-2","A-D","3-D","A","N2"]
[122,30101001,127,"Co",12,1,null,null,null,null,null,"S","34049/35788/45205",0,1,"A",38.5,"D",2,2,"Al",2,"Al",null,null,"Limitacion orden publico",{"$f":"IFERROR(VLOOKUP(B125,'TRAFOS MUESTRA'!$B$3:$D$2000,3,FALSE),\"NA\")","v":"NA"},107801.02455638505,143184.47065999999,0,{"$f":"IF(AD125>0,'COSTO ELEMENTOS N1'!$B$74*Q125,0)","v":0},53900.512278192524,71592.235329999996,161701.53683457756,214776.70598999999,376478.24282457755,0,71093.524973486434,0,71093.524973486434,"D-Al-2","D-Al-2","A-D","NA-D","A","N2"]
[123,30101606,128,"Co",12,1,null,null,null,null,null,"S","45 usuarios",0,1,"A",38.5,"D",2,2,"Al",2,"Al",null,null,"Limitacion orden publico",{"$f":"IFERROR(VLOOKUP(B126,'TRAFOS MUESTRA'!$B$3:$D$2000,3,FALSE),\"NA\")","v":"NA"},107801.02455638505,143184.47065999999,0,{"$f":"IF(AD126>0,'COSTO ELEMENTOS N1'!$B$74*Q126,0)","v":0},53900.512278192524,71592.235329999996,161701.53683457756,214776.70598999999,376478.24282457755,0,71093.524973486434,0,71093.524973486434,"D-Al-2","D-Al-2","A-D","NA-D","A","N2"]
[124,30102009,129,"Co",12,1,null,null,null,null,null,"S",52575,0,1,"A",38.5,"D",2,2,"Al",2,"Al",null,null,"-",{"$f":"IFERROR(VLOOKUP(B127,'TRAFOS MUESTRA'!$B$3:$D$2000,3,FALSE),\"NA\")","v":"NA"},{"$f":"IFERROR((VLOOKUP(AO127,COSTO_CONDUCTORES,5,FALSE))*Q127*S127,0)","v":107801.02455638505},{"$f":"IFERROR(VLOOKUP($AQ127,COSTO_INSTALACIÓN_CONDUCTOR,2,FALSE)*Q127*S127,0)","v":143184.47065999999},{"$f":"IFERROR(VLOOKUP(AT127,COSTO_CANALIZACION_SUBTERRANEO,2,FALSE),0)*Q127","v":0},{"$f":"IF(AD127>0,'COSTO ELEMENTOS N1'!$B$74*Q127,0)","v":0},{"$f":"IFERROR(VLOOKUP(AP127,COSTO_CONDUCTORES,5,FALSE),0)*Q127","v":53900.512278192524},{"$f":"IFERROR(VLOOKUP($AQ127,COSTO_INSTALACIÓN_CONDUCTOR,2,FALSE),0)*Q127","v":71592.235329999996},161701.53683457756,214776.70598999999,376478.24282457755,{"$f":"IFERROR(VLOOKUP($AT127,COSTO_APOYOS,5,FALSE),0)","v":0},{"$f":"IF(AS127=\"SD\",0,IF(AS127=\"A\",IFERROR(VLOOKUP(AR127,COSTO_INSTALACIÓN_APOYOS,2,FALSE),0),0))+IF(L127=\"S\",PUESTA_TIERRA,0)","v":71093.524973486434},{"$f":"IF(AS127=\"SD\",0,IF(AS127=\"S\",IFERROR(VLOOKUP(G127,COSTO_INSTALACION_CAMARAS,2,FALSE),0),IF(AT127=\"N2\",0,IFERROR(VLOOKUP(AR127,COSTO_INSTALACIÓN_APOYOS,3,FALSE),0))))","v":0},71093.524973486434,"D-Al-2","D-Al-2","A-D","NA-D",{"$f":"IFERROR(VLOOKUP(D127&\"-\"&E127,COSTO_APOYOS,2,FALSE),IFERROR(VLOOKUP(G127&\"-\"&H127,COSTO_APOYOS,2,FALSE),\"SD\"))","v":"A"},"N2"]
[125,30102009,130,"Co",8,0,null,null,null,null,null,"N",null,1,2,"A",42.5,"D",2,2,"Al",4,"Al",null,null,"-",{"$f":"IFERROR(VLOOKUP(B128,'TRAFOS MUESTRA'!$B$3:$D$2000,3,FALSE),\"NA\")","v":"NA"},119001.13100380168,158060.77929999999,0,{"$f":"IF(AD128>0,'COSTO ELEMENTOS N1'!$B$74*Q128,0)","v":0},41821.558187258001,79030.389649999997,{"$f":"AB128+AD128+AF128","v":160822.68919105968},{"$f":"AC128+AE128+AG128","v":237091.16894999999},{"$f":"SUM(AH128:AI128)","v":397913.85814105964},266710.97483328887,0,0,{"$f":"SUM(AK128:AM128)","v":266710.97483328887},{"$f":"$R128&\"-\"&$U128&\"-\"&$T128","v":"D-Al-2"},{"$f":"$R128&\"-\"&$W128&\"-\"&$V128","v":"D-Al-4"},{"$f":"P128&\"-\"&R128","v":"A-D"},{"$f":"AA128&\"-\"&IF(R128=\"\",\"D\",R128)","v":"NA-D"},"A",{"$f":"IF(AS128=\"S\",G128&\"-\"&H128,IF(E128>10,\"N2\",D128&\"-\"&E128))","v":"Co-8"}]
[126,30102009,131,"Co",12,1,null,null,null,null,null,"N",null,2,3,"A",42.5,"D",2,2,"Al",4,"Al",null,null,"-",{"$f":"IFERROR(VLOOKUP(B129,'TRAFOS MUESTRA'!$B$3:$D$2000,3,FALSE),\"NA\")","v":"NA"},119001.13100380168,158060.77929999999,0,{"$f":"IF(AD129>0,'COSTO ELEMENTOS N1'!$B$74*Q129,0)","v":0},41821.558187258001,79030.389649999997,160822.68919105968,237091.16894999999,397913.85814105964,0,0,0,0,"D-Al-2","D-Al-4","A-D","NA-D","A","N2"]
[127,30102009,132,"Co",8,0,null,null,null,null,null,"N",null,3,4,"A",42.5,"D",2,2,"Al",4,"Al",null,null,"-",{"$f":"IFERROR(VLOOKUP(B130,'TRAFOS MUESTRA'!$B$3:$D$2000,3,FALSE),\"NA\")","v":"NA"},119001.13100380168,158060.77929999999,0,{"$f":"IF(AD130>0,'COSTO ELEMENTOS N1'!$B$74*Q130,0)","v":0},41821.558187258001,79030.389649999997,160822.68919105968,237091.16894999999,397913.85814105964,266710.97483328887,0,0,266710.97483328887,"D-Al-2","D-Al-4","A-D","NA-D","A","Co-8"]
[128,30102009,133,"Co",8,0,null,null,null,null,null,"N",null,4,5,"A",42.5,"D",2,2,"Al",4,"Al",null,null,"-",{"$f":"IFERROR(VLOOKUP(B131,'TRAFOS MUESTRA'!$B$3:$D$2000,3,FALSE),\"NA\")","v":"NA"},119001.13100380168,158060.77929999999,0,{"$f":"IF(AD131>0,'COSTO ELEMENTOS N1'!$B$74*Q131,0)","v":0},41821.558187258001,79030.389649999997,160822.68919105968,237091.16894999999,397913.85814105964,266710.97483328887,0,0,266710.97483328887,"D-Al-2","D-Al-4","A-D","NA-D","A","Co-8"]
[129,30102009,134,"Co",8,0,null,null,null,null,null,"N",null,5,6,"A",58,"D",2,2,"Al",4,"Al",null,null,"-",{"$f":"IFERROR(VLOOKUP(B132,'TRAFOS MUESTRA'!$B$3:$D$2000,3,FALSE),\"NA\")","v":"NA"},162401.54348754112,215706.47527999998,0,{"$f":"IF(AD132>0,'COSTO ELEMENTOS N1'!$B$74*Q132,0)","v":0},57074.126467316804,107853.23763999999,219475.66995485791,323559.71291999996,543035.38287485787,266710.97483328887,0,0,266710.97483328887,"D-Al-2","D-Al-4","A-D","NA-D","A","Co-8"]
[130,30102009,135,"Co",8,0,null,null,null,null,null,"S",33027,6,7,"A",58,"D",2,2,"Al",4,"Al",null,null,"-",{"$f":"IFERROR(VLOOKUP(B133,'TRAFOS MUESTRA'!$B$3:$D$2000,3,FALSE),\"NA\")","v":"NA"},162401.54348754112,215706.47527999998,0,{"$f":"IF(AD133>0,'COSTO ELEMENTOS N1'!$B$74*Q133,0)","v":0},57074.126467316804,107853.23763999999,219475.66995485791,323559.71291999996,543035.38287485787,266710.97483328887,71093.524973486434,0,337804.4998067753,"D-Al-2","D-Al-4","A-D","NA-D","A","Co-8"]
[{"$f":"A133+1","v":131},30102009,136,"Co",8,0,null,null,null,null,null,"N",null,7,8,"A",58,"D",2,2,"Al",4,"Al",null,null,"-",{"$f":"IFERROR(VLOOKUP(B134,'TRAFOS MUESTRA'!$B$3:$D$2000,3,FALSE),\"NA\")","v":"NA"},162401.54348754112,215706.47527999998,0,{"$f":"IF(AD134>0,'COSTO ELEMENTOS N1'!$B$74*Q134,0)","v":0},57074.126467316804,107853.23763999999,219475.66995485791,323559.71291999996,543035.38287485787,266710.97483328887,0,0,266710.97483328887,"D-Al-2","D-Al-4","A-D","NA-D","A","Co-8"]
[132,30102009,137,"Co",12,1,null,null,null,null,null,"N",null,1,9,"A",58,"D",2,2,"Al",4,"Al",null,null,"-",{"$f":"IFERROR(VLOOKUP(B135,'TRAFOS MUESTRA'!$B$3:$D$2000,3,FALSE),\"NA\")","v":"NA"},162401.54348754112,215706.47527999998,0,{"$f":"IF(AD135>0,'COSTO ELEMENTOS N1'!$B$74*Q135,0)","v":0},57074.126467316804,107853.23763999999,219475.66995485791,323559.71291999996,543035.38287485787,0,0,0,0,"D-Al-2","D-Al-4","A-D","NA-D","A","N2"]
[133,30102009,138,"Co",8,0,null,null,null,null,null,"N",null,9,10,"A",63,"D",2,2,"Al",4,"Al",null,null,"-",{"$f":"IFERROR(VLOOKUP(B136,'TRAFOS MUESTRA'!$B$3:$D$2000,3,FALSE),\"NA\")","v":"NA"},176401.67654681191,234301.86108,0,{"$f":"IF(AD136>0,'COSTO ELEMENTOS N1'!$B$74*Q136,0)","v":0},61994.309783464807,117150.93054,238395.9863302767,351452.79162000003,589848.77795027674,266710.97483328887,0,0,266710.97483328887,"D-Al-2","D-Al-4","A-D","NA-D","A","Co-8"]
[134,30102009,139,"Co",8,0,null,null,null,null,null,"S",33733,10,11,"A",64,"D",2,2,"Al",4,"Al",null,null,"-",{"$f":"IFERROR(VLOOKUP(B137,'TRAFOS MUESTRA'!$B$3:$D$2000,3,FALSE),\"NA\")","v":"NA"},179201.70315866606,238020.93823999999,0,{"$f":"IF(AD137>0,'COSTO ELEMENTOS N1'!$B$74*Q137,0)","v":0},62978.346446694406,119010.46911999999,242180.04960536046,357031.40735999995,599211.45696536044,266710.97483328887,71093.524973486434,0,337804.4998067753,"D-Al-2","D-Al-4","A-D","NA-D","A","Co-8"]
[135,30102205,140,"Co",12,1,null,null,null,null,null,"S",null,0,1,null,null,null,null,null,null,null,null,null,null,"-",{"$f":"IFERROR(VLOOKUP(B138,'TRAFOS MUESTRA'!$B$3:$D$2000,3,FALSE),\"NA\")","v":1},0,0,0,{"$f":"IF(AD138>0,'COSTO ELEMENTOS N1'!$B$74*Q138,0)","v":0},0,0,0,0,0,0,95211.405083106889,0,95211.405083106889,"--","--","-","1-D","A","N2"]
[136,30102205,141,"Co",8,0,null,null,null,null,null,"N",null,1,2,"A",52.7,"D",1,2,"Al",4,"Al",null,null,"-",{"$f":"IFERROR(VLOOKUP(B139,'TRAFOS MUESTRA'!$B$3:$D$2000,3,FALSE),\"NA\")","v":1},73780.701222357049,97997.683166000003,0,{"$f":"IF(AD139>0,'COSTO ELEMENTOS N1'!$B$74*Q139,0)","v":0},51858.732152199926,97997.683166000003,125639.43337455697,195995.36633200001,321634.79970655695,266710.97483328887,24117.880109620462,233556.26303030306,524385.11797321239,"D-Al-2","D-Al-4","A-D","1-D","A","Co-8"]
[137,30102205,142,"Co",8,0,null,null,null,null,null,"N",null,2,3,"A",49.6,"D",1,2,"Al",4,"Al",null,null,"-",{"$f":"IFERROR(VLOOKUP(B140,'TRAFOS MUESTRA'!$B$3:$D$2000,3,FALSE),\"NA\")","v":1},69440.6599739831,92233.113568000001,0,{"$f":"IF(AD140>0,'COSTO ELEMENTOS N1'!$B$74*Q140,0)","v":0},48808.218496188165,92233.113568000001,118248.87847017127,184466.227136,302715.1056061713,266710.97483328887,24117.880109620462,233556.26303030306,524385.11797321239,"D-Al-2","D-Al-4","A-D","1-D","A","Co-8"]
[138,30102205,143,"Co",8,0,null,null,null,null,null,"N",null,3,4,"A",50.3,"D",1,2,"Al",4,"Al",null,null,"-",{"$f":"IFERROR(VLOOKUP(B141,'TRAFOS MUESTRA'!$B$3:$D$2000,3,FALSE),\"NA\")","v":1},70420.669288132049,93534.790573999984,0,{"$f":"IF(AD141>0,'COSTO ELEMENTOS N1'!$B$74*Q141,0)","v":0},49497.044160448881,93534.790573999984,119917.71344858094,187069.58114799997,306987.2945965809,266710.97483328887,24117.880109620462,233556.26303030306,524385.11797321239,"D-Al-2","D-Al-4","A-D","1-D","A","Co-8"]
[139,30102205,144,"Co",8,0,null,null,null,null,null,"N",36497,4,5,"A",68.5,"D",1,2,"Al",4,"Al",null,null,"-",{"$f":"IFERROR(VLOOKUP(B142,'TRAFOS MUESTRA'!$B$3:$D$2000,3,FALSE),\"NA\")","v":1},95900.911456004877,127378.39272999999,0,{"$f":"IF(AD142>0,'COSTO ELEMENTOS N1'!$B$74*Q142,0)","v":0},67406.511431227613,127378.39272999999,163307.4228872325,254756.78545999998,418064.20834723249,266710.97483328887,24117.880109620462,233556.26303030306,524385.11797321239,"D-Al-2","D-Al-4","A-D","1-D","A","Co-8"]
[140,30102205,145,"Co",8,0,null,null,null,null,null,"N",null,5,6,"A",54.6,"D",1,2,"Al",4,"Al",null,null,"-",{"$f":"IFERROR(VLOOKUP(B143,'TRAFOS MUESTRA'!$B$3:$D$2000,3,FALSE),\"NA\")","v":1},76440.726503618498,101530.806468,0,{"$f":"IF(AD143>0,'COSTO ELEMENTOS N1'!$B$74*Q143,0)","v":0},53728.401812336167,101530.806468,130169.12831595467,203061.61293599999,333230.74125195469,266710.97483328887,24117.880109620462,233556.26303030306,524385.11797321239,"D-Al-2","D-Al-4","A-D","1-D","A","Co-8"]
[141,30102205,146,"Co",8,0,null,null,null,null,null,"N",null,6,7,"A",50.3,"D",1,2,"Al",4,"Al",null,null,"-",{"$f":"IFERROR(VLOOKUP(B144,'TRAFOS MUESTRA'!$B$3:$D$2000,3,FALSE),\"NA\")","v":1},70420.669288132049,93534.790573999984,0,{"$f":"IF(AD144>0,'COSTO ELEMENTOS N1'!$B$74*Q144,0)","v":0},49497.044160448881,93534.790573999984,119917.71344858094,187069.58114799997,306987.2945965809,266710.97483328887,24117.880109620462,233556.26303030306,524385.11797321239,"D-Al-2","D-Al-4","A-D","1-D","A","Co-8"]
[142,30102205,147,"Co",8,0,null,null,null,null,null,"N",36498,7,8,"A",63.7,"D",1,2,"Al",4,"Al",null,null,"-",{"$f":"IFERROR(VLOOKUP(B145,'TRAFOS MUESTRA'!$B$3:$D$2000,3,FALSE),\"NA\")","v":1},89180.847587554905,118452.607546,0,{"$f":"IF(AD145>0,'COSTO ELEMENTOS N1'!$B$74*Q145,0)","v":0},62683.13544772553,118452.607546,151863.98303528043,236905.215092,388769.19812728046,266710.97483328887,24117.880109620462,233556.26303030306,524385.11797321239,"D-Al-2","D-Al-4","A-D","1-D","A","Co-8"]
[143,30102205,148,"Co",8,0,null,null,null,null,null,"N",null,1,9,"A",72.400000000000006,"D",2,2,"Al",4,"Al",null,null,"-",{"$f":"IFERROR(VLOOKUP(B146,'TRAFOS MUESTRA'!$B$3:$D$2000,3,FALSE),\"NA\")","v":1},202721.926698241,269261.186384,0,{"$f":"IF(AD146>0,'COSTO ELEMENTOS N1'!$B$74*Q146,0)","v":0},71244.254417823046,134630.593192,273966.18111606408,403891.779576,677857.96069206414,266710.97483328887,24117.880109620462,233556.26303030306,524385.11797321239,"D-Al-2","D-Al-4","A-D","1-D","A","Co-8"]
[144,30102205,149,"Co",12,1,null,null,null,null,null,"N",null,9,10,"A",69.099999999999994,"D",2,2,"Al",4,"Al",null,null,"-",{"$f":"IFERROR(VLOOKUP(B147,'TRAFOS MUESTRA'!$B$3:$D$2000,3,FALSE),\"NA\")","v":1},193481.83887912225,256988.23175599996,0,{"$f":"IF(AD147>0,'COSTO ELEMENTOS N1'!$B$74*Q147,0)","v":0},67996.933429165365,128494.11587799998,261478.77230828762,385482.34763399995,646961.11994228757,0,24117.880109620462,0,24117.880109620462,"D-Al-2","D-Al-4","A-D","1-D","A","N2"]
[145,30102205,150,"Co",8,0,null,null,null,null,null,"N",null,10,11,"A",69.900000000000006,"D",2,2,"Al",4,"Al",null,null,"-",{"$f":"IFERROR(VLOOKUP(B148,'TRAFOS MUESTRA'!$B$3:$D$2000,3,FALSE),\"NA\")","v":1},195721.86016860561,259963.49348400001,0,{"$f":"IF(AD148>0,'COSTO ELEMENTOS N1'!$B$74*Q148,0)","v":0},68784.162759749059,129981.746742,264506.02292835468,389945.24022600002,654451.26315435464,266710.97483328887,24117.880109620462,233556.26303030306,524385.11797321239,"D-Al-2","D-Al-4","A-D","1-D","A","Co-8"]
[146,30102205,151,"Co",12,1,null,null,null,null,null,"N",null,11,12,"A",71.2,"D",2,2,"Al",4,"Al",null,null,"-",{"$f":"IFERROR(VLOOKUP(B149,'TRAFOS MUESTRA'!$B$3:$D$2000,3,FALSE),\"NA\")","v":1},199361.894764016,264798.29379199998,0,{"$f":"IF(AD149>0,'COSTO ELEMENTOS N1'!$B$74*Q149,0)","v":0},70063.410421947527,132399.14689599999,269425.30518596352,397197.44068799994,666622.74587396346,0,24117.880109620462,0,24117.880109620462,"D-Al-2","D-Al-4","A-D","1-D","A","N2"]
[147,30102205,152,"Co",8,0,null,null,null,null,null,"N",36499,12,13,"A",55.5,"D",2,2,"Al",4,"Al",null,null,"-",{"$f":"IFERROR(VLOOKUP(B150,'TRAFOS MUESTRA'!$B$3:$D$2000,3,FALSE),\"NA\")","v":1},155401.47695790572,206408.78237999999,0,{"$f":"IF(AD150>0,'COSTO ELEMENTOS N1'!$B$74*Q150,0)","v":0},54614.034809242803,103204.39118999999,210015.51176714851,309613.17356999998,519628.68533714849,266710.97483328887,24117.880109620462,233556.26303030306,524385.11797321239,"D-Al-2","D-Al-4","A-D","1-D","A","Co-8"]
[148,30102205,153,"Co",8,0,null,null,null,null,null,"N",36496,13,14,"A",61.6,"D",2,2,"Al",4,"Al",null,null,"-",{"$f":"IFERROR(VLOOKUP(B151,'TRAFOS MUESTRA'!$B$3:$D$2000,3,FALSE),\"NA\")","v":1},172481.63929021609,229095.15305599998,0,{"$f":"IF(AD151>0,'COSTO ELEMENTOS N1'!$B$74*Q151,0)","v":0},60616.658454943368,114547.57652799999,233098.29774515945,343642.72958399996,576741.02732915943,266710.97483328887,24117.880109620462,233556.26303030306,524385.11797321239,"D-Al-2","D-Al-4","A-D","1-D","A","Co-8"]
[149,30102205,154,"Co",8,0,null,null,null,null,null,"N",null,14,15,"A",59.7,"D",2,2,"Al",4,"Al",null,null,"-",{"$f":"IFERROR(VLOOKUP(B152,'TRAFOS MUESTRA'!$B$3:$D$2000,3,FALSE),\"NA\")","v":1},167161.58872769319,222028.906452,0,{"$f":"IF(AD152>0,'COSTO ELEMENTOS N1'!$B$74*Q152,0)","v":0},58746.988794807126,111014.453226,225908.5775225003,333043.35967799998,558951.93720050028,266710.97483328887,24117.880109620462,233556.26303030306,524385.11797321239,"D-Al-2","D-Al-4","A-D","1-D","A","Co-8"]
[150,30102205,155,"Co",8,0,null,null,null,null,null,"N",null,15,16,"A",65,"D",1,2,"Al",4,"Al",null,null,"-",{"$f":"IFERROR(VLOOKUP(B153,'TRAFOS MUESTRA'!$B$3:$D$2000,3,FALSE),\"NA\")","v":1},91000.864885260104,120870.00769999999,0,{"$f":"IF(AD153>0,'COSTO ELEMENTOS N1'!$B$74*Q153,0)","v":0},63962.383109924005,120870.00769999999,154963.24799518409,241740.01539999997,396703.26339518407,266710.97483328887,24117.880109620462,233556.26303030306,524385.11797321239,"D-Al-2","D-Al-4","A-D","1-D","A","Co-8"]
[151,30102911,156,"Co",12,1,null,null,null,null,null,"S",52835,0,1,null,null,null,null,null,null,null,null,null,null,"Limitacion orden publico",{"$f":"IFERROR(VLOOKUP(B154,'TRAFOS MUESTRA'!$B$3:$D$2000,3,FALSE),\"NA\")","v":"NA"},0,0,0,{"$f":"IF(AD154>0,'COSTO ELEMENTOS N1'!$B$74*Q154,0)","v":0},0,0,0,0,0,0,71093.524973486434,0,71093.524973486434,"--","--","-","NA-D","A","N2"]
[152,30200601,157,"Co",12,1,null,null,null,"M",125,"S",31470,0,1,null,null,null,null,null,null,null,null,null,null,"-",{"$f":"IFERROR(VLOOKUP(B155,'TRAFOS MUESTRA'!$B$3:$D$2000,3,FALSE),\"NA\")","v":3},0,0,0,{"$f":"IF(AD155>0,'COSTO ELEMENTOS N1'!$B$74*Q155,0)","v":0},0,0,0,0,0,0,95211.405083106889,0,95211.405083106889,"--","--","-","3-D","A","N2"]
[153,30200801,158,"Co",12,1,null,null,null,null,null,"S",28499,0,1,null,null,null,null,null,null,null,null,null,null,"-",{"$f":"IFERROR(VLOOKUP(B156,'TRAFOS MUESTRA'!$B$3:$D$2000,3,FALSE),\"NA\")","v":3},0,0,0,{"$f":"IF(AD156>0,'COSTO ELEMENTOS N1'!$B$74*Q156,0)","v":0},0,0,0,0,0,0,95211.405083106889,0,95211.405083106889,"--","--","-","3-D","A","N2"]
[154,30201507,159,"Co",12,1,null,null,null,null,null,"S",null,0,1,null,null,null,null,null,null,null,null,null,null,"-",{"$f":"IFERROR(VLOOKUP(B157,'TRAFOS MUESTRA'!$B$3:$D$2000,3,FALSE),\"NA\")","v":"NA"},0,0,0,{"$f":"IF(AD157>0,'COSTO ELEMENTOS N1'!$B$74*Q157,0)","v":0},0,0,0,0,0,0,71093.524973486434,0,71093.524973486434,"--","--","-","NA-D","A","N2"]
[155,30201507,160,"Co",8,0,null,null,null,null,null,"N",37034,1,2,"A",57.1,"D",2,2,"Al",2,"Al",null,null,"-",{"$f":"IFERROR(VLOOKUP(B158,'TRAFOS MUESTRA'!$B$3:$D$2000,3,FALSE),\"NA\")","v":"NA"},159881.51953687237,212359.30583599998,0,{"$f":"IF(AD158>0,'COSTO ELEMENTOS N1'!$B$74*Q158,0)","v":0},79940.759768436183,106179.65291799999,239822.27930530853,318538.95875399996,558361.2380593085,266710.97483328887,0,0,266710.97483328887,"D-Al-2","D-Al-2","A-D","NA-D","A","Co-8"]
[156,30201507,161,"Co",8,0,null,null,null,null,null,"N",null,2,3,"A",53.2,"D",2,2,"Al",2,"Al",null,null,"-",{"$f":"IFERROR(VLOOKUP(B159,'TRAFOS MUESTRA'!$B$3:$D$2000,3,FALSE),\"NA\")","v":"NA"},148961.41575064117,197854.904912,0,{"$f":"IF(AD159>0,'COSTO ELEMENTOS N1'!$B$74*Q159,0)","v":0},74480.707875320586,98927.452455999999,223442.12362596177,296782.35736799997,520224.48099396174,266710.97483328887,0,0,266710.97483328887,"D-Al-2","D-Al-2","A-D","NA-D","A","Co-8"]
[157,30201507,162,"Co",8,0,null,null,null,null,null,"N",null,3,4,"A",61.2,"D",2,2,"Al",2,"Al",null,null,"-",{"$f":"IFERROR(VLOOKUP(B160,'TRAFOS MUESTRA'!$B$3:$D$2000,3,FALSE),\"NA\")","v":"NA"},171361.62864547444,227607.522192,0,{"$f":"IF(AD160>0,'COSTO ELEMENTOS N1'!$B$74*Q160,0)","v":0},85680.81432273722,113803.761096,257042.44296821166,341411.28328800004,598453.72625621175,266710.97483328887,0,0,266710.97483328887,"D-Al-2","D-Al-2","A-D","NA-D","A","Co-8"]
[158,30201507,163,"Co",8,0,null,null,null,null,null,"N",46256,4,5,"A",60,"D",2,2,"Al",2,"Al",null,null,"-",{"$f":"IFERROR(VLOOKUP(B161,'TRAFOS MUESTRA'!$B$3:$D$2000,3,FALSE),\"NA\")","v":"NA"},168001.59671124944,223144.62959999999,0,{"$f":"IF(AD161>0,'COSTO ELEMENTOS N1'!$B$74*Q161,0)","v":0},84000.79835562472,111572.31479999999,252002.39506687416,334716.94439999998,586719.33946687414,266710.97483328887,0,0,266710.97483328887,"D-Al-2","D-Al-2","A-D","NA-D","A","Co-8"]
[159,30201507,164,"Co",8,0,null,null,null,null,null,"N",32943,1,6,"A",56.8,"D",2,2,"Al",2,"Al",null,null,"-",{"$f":"IFERROR(VLOOKUP(B162,'TRAFOS MUESTRA'!$B$3:$D$2000,3,FALSE),\"NA\")","v":"NA"},159041.51155331612,211243.58268799997,0,{"$f":"IF(AD162>0,'COSTO ELEMENTOS N1'!$B$74*Q162,0)","v":0},79520.755776658058,105621.79134399998,238562.26732997416,316865.37403199996,555427.64136197418,266710.97483328887,0,0,266710.97483328887,"D-Al-2","D-Al-2","A-D","NA-D","A","Co-8"]
[160,30201516,165,"Co",12,1,null,null,null,null,null,"S",null,0,1,null,null,null,null,null,null,null,null,null,null,"-",{"$f":"IFERROR(VLOOKUP(B163,'TRAFOS MUESTRA'!$B$3:$D$2000,3,FALSE),\"NA\")","v":4},0,0,0,{"$f":"IF(AD163>0,'COSTO ELEMENTOS N1'!$B$74*Q163,0)","v":0},0,0,0,0,0,0,95211.405083106889,0,95211.405083106889,"--","--","-","4-D","A","N2"]
[161,30201516,166,"Co",8,0,null,null,null,null,null,"N",null,1,2,"A",78,"D",2,2,"Al",2,"Al",null,null,"-",{"$f":"IFERROR(VLOOKUP(B164,'TRAFOS MUESTRA'!$B$3:$D$2000,3,FALSE),\"NA\")","v":4},218402.07572462427,290088.01847999997,0,{"$f":"IF(AD164>0,'COSTO ELEMENTOS N1'!$B$74*Q164,0)","v":0},109201.03786231214,145044.00923999998,327603.11358693638,435132.02771999995,762735.14130693628,266710.97483328887,24117.880109620462,314042.72022727266,604871.57517018192,"D-Al-2","D-Al-2","A-D","4-D","A","Co-8"]
[162,30201516,167,"Co",8,0,null,null,null,null,null,"N",null,1,3,"A",78,"D",2,2,"Al",2,"Al",null,null,"-",{"$f":"IFERROR(VLOOKUP(B165,'TRAFOS MUESTRA'!$B$3:$D$2000,3,FALSE),\"NA\")","v":4},218402.07572462427,290088.01847999997,0,{"$f":"IF(AD165>0,'COSTO ELEMENTOS N1'!$B$74*Q165,0)","v":0},109201.03786231214,145044.00923999998,327603.11358693638,435132.02771999995,762735.14130693628,266710.97483328887,24117.880109620462,314042.72022727266,604871.57517018192,"D-Al-2","D-Al-2","A-D","4-D","A","Co-8"]
[163,30201516,168,"Co",8,0,null,null,null,null,null,"N",null,1,4,"A",78,"D",2,2,"Al",2,"Al",null,null,"-",{"$f":"IFERROR(VLOOKUP(B166,'TRAFOS MUESTRA'!$B$3:$D$2000,3,FALSE),\"NA\")","v":4},218402.07572462427,290088.01847999997,0,{"$f":"IF(AD166>0,'COSTO ELEMENTOS N1'!$B$74*Q166,0)","v":0},109201.03786231214,145044.00923999998,327603.11358693638,435132.02771999995,762735.14130693628,266710.97483328887,24117.880109620462,314042.72022727266,604871.57517018192,"D-Al-2","D-Al-2","A-D","4-D","A","Co-8"]
[164,30201516,169,"Co",8,0,null,null,null,null,null,"S","55926/IL16325",4,5,"A",80,"D",2,2,"Al",2,"Al",null,null,"-",{"$f":"IFERROR(VLOOKUP(B167,'TRAFOS MUESTRA'!$B$3:$D$2000,3,FALSE),\"NA\")","v":4},224002.12894833257,297526.1728,0,{"$f":"IF(AD167>0,'COSTO ELEMENTOS N1'!$B$74*Q167,0)","v":0},112001.06447416628,148763.0864,336003.19342249888,446289.25919999997,782292.45262249885,266710.97483328887,95211.405083106889,314042.72022727266,675965.10014366847,"D-Al-2","D-Al-2","A-D","4-D","A","Co-8"]
[165,40100401,170,"Co",12,1,null,null,null,null,null,"S","SD14553, SD14554",0,1,null,null,null,null,null,null,null,null,null,null,"-",{"$f":"IFERROR(VLOOKUP(B168,'TRAFOS MUESTRA'!$B$3:$D$2000,3,FALSE),\"NA\")","v":"NA"},0,0,0,{"$f":"IF(AD168>0,'COSTO ELEMENTOS N1'!$B$74*Q168,0)","v":0},0,0,0,0,0,0,71093.524973486434,0,71093.524973486434,"--","--","-","NA-D","A","N2"]
[166,40100401,171,"Ma",8,0,null,null,null,null,null,"N",null,1,2,"A",41.9,"D",2,2,"Al",2,"Al",null,null,"-",{"$f":"IFERROR(VLOOKUP(B169,'TRAFOS MUESTRA'!$B$3:$D$2000,3,FALSE),\"NA\")","v":"NA"},117321.11503668918,155829.33300399999,0,{"$f":"IF(AD169>0,'COSTO ELEMENTOS N1'!$B$74*Q169,0)","v":0},58660.557518344591,77914.666501999993,175981.67255503376,233743.99950599996,409725.67206103372,221698.63360320294,0,0,221698.63360320294,"D-Al-2","D-Al-2","A-D","NA-D","A","Ma-8"]
[167,40100401,172,"Ma",8,0,null,null,null,null,null,"N",null,2,3,"A",40.200000000000003,"D",2,2,"Al",2,"Al",null,null,"-",{"$f":"IFERROR(VLOOKUP(B170,'TRAFOS MUESTRA'!$B$3:$D$2000,3,FALSE),\"NA\")","v":"NA"},112561.06979653712,149506.901832,0,{"$f":"IF(AD170>0,'COSTO ELEMENTOS N1'!$B$74*Q170,0)","v":0},56280.534898268561,74753.450916000002,168841.60469480569,224260.352748,393101.95744280569,221698.63360320294,0,0,221698.63360320294,"D-Al-2","D-Al-2","A-D","NA-D","A","Ma-8"]
[168,40100401,173,"Ma",8,0,null,null,null,null,null,"N",null,3,4,"A",41.5,"D",2,2,"Al",2,"Al",null,null,"-",{"$f":"IFERROR(VLOOKUP(B171,'TRAFOS MUESTRA'!$B$3:$D$2000,3,FALSE),\"NA\")","v":"NA"},116201.10439194752,154341.70213999998,0,{"$f":"IF(AD171>0,'COSTO ELEMENTOS N1'!$B$74*Q171,0)","v":0},58100.55219597376,77170.85106999999,174301.65658792129,231512.55320999998,405814.20979792124,221698.63360320294,0,0,221698.63360320294,"D-Al-2","D-Al-2","A-D","NA-D","A","Ma-8"]
[169,40100401,174,"Ma",8,0,null,null,null,null,null,"N",null,4,5,"A",41.4,"D",2,2,"Al",2,"Al",null,null,"-",{"$f":"IFERROR(VLOOKUP(B172,'TRAFOS MUESTRA'!$B$3:$D$2000,3,FALSE),\"NA\")","v":"NA"},115921.10173076211,153969.79442399999,0,{"$f":"IF(AD172>0,'COSTO ELEMENTOS N1'!$B$74*Q172,0)","v":0},57960.550865381054,76984.897211999996,173881.65259614316,230954.691636,404836.34423214314,221698.63360320294,0,0,221698.63360320294,"D-Al-2","D-Al-2","A-D","NA-D","A","Ma-8"]
[170,40100401,175,"Ma",8,0,null,null,null,null,null,"N",null,5,6,"A",41.3,"D",2,2,"Al",2,"Al",null,null,"-",{"$f":"IFERROR(VLOOKUP(B173,'TRAFOS MUESTRA'!$B$3:$D$2000,3,FALSE),\"NA\")","v":"NA"},115641.09906957668,153597.88670799998,0,{"$f":"IF(AD173>0,'COSTO ELEMENTOS N1'!$B$74*Q173,0)","v":0},57820.549534788341,76798.943353999988,173461.64860436501,230396.83006199996,403858.47866636497,221698.63360320294,0,0,221698.63360320294,"D-Al-2","D-Al-2","A-D","NA-D","A","Ma-8"]
[171,40100401,176,"Co",8,0,null,null,null,null,null,"N","SD14556",6,7,"A",40.6,"D",2,2,"Al",2,"Al",null,null,"-",{"$f":"IFERROR(VLOOKUP(B174,'TRAFOS MUESTRA'!$B$3:$D$2000,3,FALSE),\"NA\")","v":"NA"},113681.08044127878,150994.53269600001,0,{"$f":"IF(AD174>0,'COSTO ELEMENTOS N1'!$B$74*Q174,0)","v":0},56840.540220639392,75497.266348000005,170521.62066191819,226491.79904400001,397013.41970591818,266710.97483328887,0,0,266710.97483328887,"D-Al-2","D-Al-2","A-D","NA-D","A","Co-8"]
[172,40100401,177,"Co",12,1,null,null,null,null,null,"N",null,7,8,"A",104.2,"D",2,2,"Al",2,"Al",null,null,"-",{"$f":"IFERROR(VLOOKUP(B175,'TRAFOS MUESTRA'!$B$3:$D$2000,3,FALSE),\"NA\")","v":"NA"},291762.7729552032,387527.84007199999,0,{"$f":"IF(AD175>0,'COSTO ELEMENTOS N1'!$B$74*Q175,0)","v":0},145881.3864776016,193763.920036,437644.15943280479,581291.76010800002,1018935.9195408048,0,0,0,0,"D-Al-2","D-Al-2","A-D","NA-D","A","N2"]
[173,40100401,178,"Co",12,1,null,null,null,null,null,"N",null,8,9,"A",103.6,"D",2,2,"Al",2,"Al",null,null,"-",{"$f":"IFERROR(VLOOKUP(B176,'TRAFOS MUESTRA'!$B$3:$D$2000,3,FALSE),\"NA\")","v":"NA"},290082.7569880907,385296.39377599995,0,{"$f":"IF(AD176>0,'COSTO ELEMENTOS N1'!$B$74*Q176,0)","v":0},145041.37849404535,192648.19688799998,435124.13548213604,577944.5906639999,1013068.7261461359,0,0,0,0,"D-Al-2","D-Al-2","A-D","NA-D","A","N2"]
[174,40100401,179,"Co",8,0,null,null,null,null,null,"N","SD14555",9,10,"A",30.2,"D",2,2,"Al",2,"Al",null,null,"-",{"$f":"IFERROR(VLOOKUP(B177,'TRAFOS MUESTRA'!$B$3:$D$2000,3,FALSE),\"NA\")","v":"NA"},84560.803677995544,112316.130232,0,{"$f":"IF(AD177>0,'COSTO ELEMENTOS N1'!$B$74*Q177,0)","v":0},42280.401838997772,56158.065115999998,126841.20551699332,168474.19534799998,295315.40086499328,266710.97483328887,0,0,266710.97483328887,"D-Al-2","D-Al-2","A-D","NA-D","A","Co-8"]
[175,40100806,180,"Co",12,1,null,null,null,null,null,"S",null,0,1,null,null,null,null,null,null,null,null,null,null,"-",{"$f":"IFERROR(VLOOKUP(B178,'TRAFOS MUESTRA'!$B$3:$D$2000,3,FALSE),\"NA\")","v":"NA"},0,0,0,{"$f":"IF(AD178>0,'COSTO ELEMENTOS N1'!$B$74*Q178,0)","v":0},0,0,0,0,0,0,71093.524973486434,0,71093.524973486434,"--","--","-","NA-D","A","N2"]
[176,40100806,181,"Co",8,0,null,null,null,null,null,"N",34433,1,2,"A",56.9,"D",2,6,"Al",6,"Al",null,null,"-",{"$f":"IFERROR(VLOOKUP(B179,'TRAFOS MUESTRA'!$B$3:$D$2000,3,FALSE),\"NA\")","v":"NA"},82207.377546286647,211615.49040399998,0,{"$f":"IF(AD179>0,'COSTO ELEMENTOS N1'!$B$74*Q179,0)","v":0},41103.688773143323,105807.74520199999,123311.06631942997,317423.23560599994,440734.3019254299,266710.97483328887,0,0,266710.97483328887,"D-Al-6","D-Al-6","A-D","NA-D","A","Co-8"]
[177,40200105,182,"Co",12,1,null,null,null,null,null,"S",58168,0,1,null,null,null,null,null,null,null,null,null,null,"-",{"$f":"IFERROR(VLOOKUP(B180,'TRAFOS MUESTRA'!$B$3:$D$2000,3,FALSE),\"NA\")","v":1},0,0,0,{"$f":"IF(AD180>0,'COSTO ELEMENTOS N1'!$B$74*Q180,0)","v":0},0,0,0,0,0,0,95211.405083106889,0,95211.405083106889,"--","--","-","1-D","A","N2"]
[178,50100208,183,"Co",12,1,null,null,null,null,null,"S","IL28312",0,1,null,null,null,null,null,null,null,null,null,null,"-",{"$f":"IFERROR(VLOOKUP(B181,'TRAFOS MUESTRA'!$B$3:$D$2000,3,FALSE),\"NA\")","v":3},0,0,0,{"$f":"IF(AD181>0,'COSTO ELEMENTOS N1'!$B$74*Q181,0)","v":0},0,0,0,0,0,0,95211.405083106889,0,95211.405083106889,"--","--","-","3-D","A","N2"]
[179,50100208,184,"Co",8,1,null,null,null,null,null,"N","49004/48962",1,2,"A",44.9,"A",1,8,"Cu",8,"Cu",null,null,"-",{"$f":"IFERROR(VLOOKUP(B182,'TRAFOS MUESTRA'!$B$3:$D$2000,3,FALSE),\"NA\")","v":3},89479.556690659956,83493.282241999987,0,{"$f":"IF(AD182>0,'COSTO ELEMENTOS N1'!$B$74*Q182,0)","v":0},89479.556690659956,83493.282241999987,178959.11338131991,166986.56448399997,345945.67786531989,266710.97483328887,24117.880109620462,233556.26303030306,524385.11797321239,"A-Cu-8","A-Cu-8","A-A","3-A","A","Co-8"]
[180,50100208,185,"Co",8,1,null,null,null,null,null,"S",49005,2,3,"A",54.9,"A",1,8,"Cu",8,"Cu",null,null,"-",{"$f":"IFERROR(VLOOKUP(B183,'TRAFOS MUESTRA'!$B$3:$D$2000,3,FALSE),\"NA\")","v":3},109408.18847031696,102088.66804199999,0,{"$f":"IF(AD183>0,'COSTO ELEMENTOS N1'!$B$74*Q183,0)","v":0},109408.18847031696,102088.66804199999,218816.37694063393,204177.33608399998,422993.71302463394,266710.97483328887,95211.405083106889,233556.26303030306,595478.64294669882,"A-Cu-8","A-Cu-8","A-A","3-A","A","Co-8"]
[181,50100303,186,"Co",12,1,null,null,null,null,null,"S",null,0,1,"A",null,null,null,null,null,null,null,null,null,"-",{"$f":"IFERROR(VLOOKUP(B184,'TRAFOS MUESTRA'!$B$3:$D$2000,3,FALSE),\"NA\")","v":"NA"},0,0,0,{"$f":"IF(AD184>0,'COSTO ELEMENTOS N1'!$B$74*Q184,0)","v":0},0,0,0,0,0,0,71093.524973486434,0,71093.524973486434,"--","--","A-","NA-D","A","N2"]
[182,50100303,187,"Co",8,0,null,null,null,null,null,"N",null,1,2,"A",38.9,"D",2,2,"Al",2,"Al",null,null,"-",{"$f":"IFERROR(VLOOKUP(B185,'TRAFOS MUESTRA'!$B$3:$D$2000,3,FALSE),\"NA\")","v":"NA"},108921.03520112671,144672.101524,0,{"$f":"IF(AD185>0,'COSTO ELEMENTOS N1'!$B$74*Q185,0)","v":0},54460.517600563355,72336.050761999999,163381.55280169006,217008.152286,380389.70508769003,266710.97483328887,0,0,266710.97483328887,"D-Al-2","D-Al-2","A-D","NA-D","A","Co-8"]
[183,50100303,188,"Co",8,0,null,null,null,null,null,"N",null,2,3,"A",44,"D",2,2,"Al",2,"Al",null,null,"-",{"$f":"IFERROR(VLOOKUP(B186,'TRAFOS MUESTRA'!$B$3:$D$2000,3,FALSE),\"NA\")","v":"NA"},123201.17092158292,163639.39504,0,{"$f":"IF(AD186>0,'COSTO ELEMENTOS N1'!$B$74*Q186,0)","v":0},61600.585460791459,81819.697520000002,184801.75638237438,245459.09256000002,430260.8489423744,266710.97483328887,0,0,266710.97483328887,"D-Al-2","D-Al-2","A-D","NA-D","A","Co-8"]
[184,50100303,189,"Co",8,0,null,null,null,null,null,"N",null,3,4,"A",39.6,"D",2,2,"Al",2,"Al",null,null,"-",{"$f":"IFERROR(VLOOKUP(B187,'TRAFOS MUESTRA'!$B$3:$D$2000,3,FALSE),\"NA\")","v":"NA"},110881.05382942462,147275.45553599999,0,{"$f":"IF(AD187>0,'COSTO ELEMENTOS N1'!$B$74*Q187,0)","v":0},55440.526914712311,73637.727767999997,166321.58074413694,220913.18330400001,387234.76404813695,266710.97483328887,0,0,266710.97483328887,"D-Al-2","D-Al-2","A-D","NA-D","A","Co-8"]
[185,50100303,190,"Co",8,0,null,null,null,null,null,"N",null,4,5,"A",42.7,"D",2,2,"Al",2,"Al",null,null,"-",{"$f":"IFERROR(VLOOKUP(B188,'TRAFOS MUESTRA'!$B$3:$D$2000,3,FALSE),\"NA\")","v":"NA"},119561.13632617252,158804.594732,0,{"$f":"IF(AD188>0,'COSTO ELEMENTOS N1'!$B$74*Q188,0)","v":0},59780.56816308626,79402.297365999999,179341.70448925879,238206.89209799998,417548.59658725874,266710.97483328887,0,0,266710.97483328887,"D-Al-2","D-Al-2","A-D","NA-D","A","Co-8"]
[186,50100303,191,"Co",8,0,null,null,null,null,null,"N",null,5,6,"A",41.7,"D",2,2,"Al",2,"Al",null,null,"-",{"$f":"IFERROR(VLOOKUP(B189,'TRAFOS MUESTRA'!$B$3:$D$2000,3,FALSE),\"NA\")","v":"NA"},116761.10971431836,155085.51757200001,0,{"$f":"IF(AD189>0,'COSTO ELEMENTOS N1'!$B$74*Q189,0)","v":0},58380.554857159179,77542.758786000006,175141.66457147754,232628.276358,407769.94092947757,266710.97483328887,0,0,266710.97483328887,"D-Al-2","D-Al-2","A-D","NA-D","A","Co-8"]
[187,50100303,192,"Co",8,0,null,null,null,null,null,"N",45600,6,7,"A",42.8,"D",2,2,"Al",2,"Al",null,null,"-",{"$f":"IFERROR(VLOOKUP(B190,'TRAFOS MUESTRA'!$B$3:$D$2000,3,FALSE),\"NA\")","v":"NA"},119841.13898735792,159176.50244799998,0,{"$f":"IF(AD190>0,'COSTO ELEMENTOS N1'!$B$74*Q190,0)","v":0},59920.569493678959,79588.251223999992,179761.70848103688,238764.75367199996,418526.46215303685,266710.97483328887,0,0,266710.97483328887,"D-Al-2","D-Al-2","A-D","NA-D","A","Co-8"]
[188,50100303,193,"Co",8,0,null,null,null,null,null,"N",43184,1,8,"A",38,"D",2,2,"Al",2,"Al",null,null,"-",{"$f":"IFERROR(VLOOKUP(B191,'TRAFOS MUESTRA'!$B$3:$D$2000,3,FALSE),\"NA\")","v":"NA"},{"$f":"IFERROR((VLOOKUP(AO191,COSTO_CONDUCTORES,5,FALSE))*Q191*S191,0)","v":106401.01125045797},{"$f":"IFERROR(VLOOKUP($AQ191,COSTO_INSTALACIÓN_CONDUCTOR,2,FALSE)*Q191*S191,0)","v":141324.93208},{"$f":"IFERROR(VLOOKUP(AT191,COSTO_CANALIZACION_SUBTERRANEO,2,FALSE),0)*Q191","v":0},{"$f":"IF(AD191>0,'COSTO ELEMENTOS N1'!$B$74*Q191,0)","v":0},{"$f":"IFERROR(VLOOKUP(AP191,COSTO_CONDUCTORES,5,FALSE),0)*Q191","v":53200.505625228987},{"$f":"IFERROR(VLOOKUP($AQ191,COSTO_INSTALACIÓN_CONDUCTOR,2,FALSE),0)*Q191","v":70662.466039999999},159601.51687568697,211987.39812,371588.91499568697,{"$f":"IFERROR(VLOOKUP($AT191,COSTO_APOYOS,5,FALSE),0)","v":266710.97483328887},{"$f":"IF(AS191=\"SD\",0,IF(AS191=\"A\",IFERROR(VLOOKUP(AR191,COSTO_INSTALACIÓN_APOYOS,2,FALSE),0),0))+IF(L191=\"S\",PUESTA_TIERRA,0)","v":0},{"$f":"IF(AS191=\"SD\",0,IF(AS191=\"S\",IFERROR(VLOOKUP(G191,COSTO_INSTALACION_CAMARAS,2,FALSE),0),IF(AT191=\"N2\",0,IFERROR(VLOOKUP(AR191,COSTO_INSTALACIÓN_APOYOS,3,FALSE),0))))","v":0},266710.97483328887,"D-Al-2","D-Al-2","A-D","NA-D",{"$f":"IFERROR(VLOOKUP(D191&\"-\"&E191,COSTO_APOYOS,2,FALSE),IFERROR(VLOOKUP(G191&\"-\"&H191,COSTO_APOYOS,2,FALSE),\"SD\"))","v":"A"},"Co-8"]
[189,50100303,194,"Co",8,0,null,null,null,null,null,"N",null,1,9,"A",47.9,"D",2,2,"Al",2,"Al",null,null,"-",{"$f":"IFERROR(VLOOKUP(B192,'TRAFOS MUESTRA'!$B$3:$D$2000,3,FALSE),\"NA\")","v":"NA"},134121.27470781413,178143.79596399999,0,{"$f":"IF(AD192>0,'COSTO ELEMENTOS N1'!$B$74*Q192,0)","v":0},67060.637353907063,89071.897981999995,{"$f":"AB192+AD192+AF192","v":201181.9120617212},{"$f":"AC192+AE192+AG192","v":267215.69394599996},{"$f":"SUM(AH192:AI192)","v":468397.60600772116},266710.97483328887,0,0,{"$f":"SUM(AK192:AM192)","v":266710.97483328887},{"$f":"$R192&\"-\"&$U192&\"-\"&$T192","v":"D-Al-2"},{"$f":"$R192&\"-\"&$W192&\"-\"&$V192","v":"D-Al-2"},{"$f":"P192&\"-\"&R192","v":"A-D"},{"$f":"AA192&\"-\"&IF(R192=\"\",\"D\",R192)","v":"NA-D"},"A",{"$f":"IF(AS192=\"S\",G192&\"-\"&H192,IF(E192>10,\"N2\",D192&\"-\"&E192))","v":"Co-8"}]
[190,50100303,195,"Co",12,1,null,null,null,null,null,"N",null,9,10,"A",47.7,"D",2,2,"Al",2,"Al",null,null,"-",{"$f":"IFERROR(VLOOKUP(B193,'TRAFOS MUESTRA'!$B$3:$D$2000,3,FALSE),\"NA\")","v":"NA"},133561.2693854433,177399.98053200002,0,{"$f":"IF(AD193>0,'COSTO ELEMENTOS N1'!$B$74*Q193,0)","v":0},66780.634692721651,88699.990266000008,200341.90407816495,266099.97079799999,466441.87487616495,0,0,0,0,"D-Al-2","D-Al-2","A-D","NA-D","A","N2"]
[191,50100303,196,"Co",8,0,null,null,null,null,null,"N",null,1,11,"A",91.4,"D",3,2,"Al",2,"Al",null,null,"-",{"$f":"IFERROR(VLOOKUP(B194,'TRAFOS MUESTRA'!$B$3:$D$2000,3,FALSE),\"NA\")","v":"NA"},383883.64848520496,509885.47863600007,0,{"$f":"IF(AD194>0,'COSTO ELEMENTOS N1'!$B$74*Q194,0)","v":0},127961.21616173499,169961.82621200001,511844.86464693997,679847.30484800006,1191692.16949494,266710.97483328887,0,0,266710.97483328887,"D-Al-2","D-Al-2","A-D","NA-D","A","Co-8"]
[192,50100303,197,"Co",12,1,null,null,null,null,null,"N",43356,11,12,"A",90.3,"D",3,2,"Al",2,"Al",null,null,"-",{"$f":"IFERROR(VLOOKUP(B195,'TRAFOS MUESTRA'!$B$3:$D$2000,3,FALSE),\"NA\")","v":"NA"},379263.60457564559,503749.001322,0,{"$f":"IF(AD195>0,'COSTO ELEMENTOS N1'!$B$74*Q195,0)","v":0},126421.20152521519,167916.333774,505684.80610086076,671665.335096,1177350.1411968607,0,0,0,0,"D-Al-2","D-Al-2","A-D","NA-D","A","N2"]
[193,50100303,198,"Co",8,0,null,null,null,null,null,"N",42873,12,13,"A",223.8,"D",3,2,"Al",2,"Al",null,null,"-",{"$f":"IFERROR(VLOOKUP(B196,'TRAFOS MUESTRA'!$B$3:$D$2000,3,FALSE),\"NA\")","v":"NA"},939968.93359944061,1248494.2026120001,0,{"$f":"IF(AD196>0,'COSTO ELEMENTOS N1'!$B$74*Q196,0)","v":0},313322.97786648019,416164.73420399998,1253291.9114659207,1664658.9368159999,2917950.8482819209,266710.97483328887,0,0,266710.97483328887,"D-Al-2","D-Al-2","A-D","NA-D","A","Co-8"]
[194,50100303,199,"Co",8,0,null,null,null,null,null,"N",null,12,14,"A",49.8,"D",3,2,"Al",2,"Al",null,null,"-",{"$f":"IFERROR(VLOOKUP(B197,'TRAFOS MUESTRA'!$B$3:$D$2000,3,FALSE),\"NA\")","v":"NA"},209161.98790550552,277815.06385199993,0,{"$f":"IF(AD197>0,'COSTO ELEMENTOS N1'!$B$74*Q197,0)","v":0},69720.662635168512,92605.021283999988,278882.65054067405,370420.08513599995,649302.73567667394,266710.97483328887,0,0,266710.97483328887,"D-Al-2","D-Al-2","A-D","NA-D","A","Co-8"]
[{"$f":"A197+1","v":195},50100303,200,"Co",8,0,null,null,null,null,null,"N",null,14,15,"A",47.9,"D",3,2,"Al",2,"Al",null,null,"-",{"$f":"IFERROR(VLOOKUP(B198,'TRAFOS MUESTRA'!$B$3:$D$2000,3,FALSE),\"NA\")","v":"NA"},201181.9120617212,267215.69394599996,0,{"$f":"IF(AD198>0,'COSTO ELEMENTOS N1'!$B$74*Q198,0)","v":0},67060.637353907063,89071.897981999995,268242.54941562825,356287.59192799998,624530.14134362829,266710.97483328887,0,0,266710.97483328887,"D-Al-2","D-Al-2","A-D","NA-D","A","Co-8"]
[196,50100303,201,"Co",8,0,null,null,null,null,null,"N",null,15,16,"A",47.4,"D",3,2,"Al",2,"Al",null,null,"-",{"$f":"IFERROR(VLOOKUP(B199,'TRAFOS MUESTRA'!$B$3:$D$2000,3,FALSE),\"NA\")","v":"NA"},199081.89210283058,264426.386076,0,{"$f":"IF(AD199>0,'COSTO ELEMENTOS N1'!$B$74*Q199,0)","v":0},66360.630700943526,88142.128691999998,265442.5228037741,352568.51476799999,618011.0375717741,266710.97483328887,0,0,266710.97483328887,"D-Al-2","D-Al-2","A-D","NA-D","A","Co-8"]
[197,50200010,202,"Co",12,1,null,null,null,null,null,"S","39079/37935/40922/40921/48671",0,1,null,null,null,null,null,null,null,null,null,null,"-",{"$f":"IFERROR(VLOOKUP(B200,'TRAFOS MUESTRA'!$B$3:$D$2000,3,FALSE),\"NA\")","v":3},0,0,0,{"$f":"IF(AD200>0,'COSTO ELEMENTOS N1'!$B$74*Q200,0)","v":0},0,0,0,0,0,0,95211.405083106889,0,95211.405083106889,"--","--","-","3-D","A","N2"]
[198,50200712,203,"Co",12,1,null,null,null,null,null,"S",null,0,1,null,null,null,null,null,null,null,null,null,null,"-",{"$f":"IFERROR(VLOOKUP(B201,'TRAFOS MUESTRA'!$B$3:$D$2000,3,FALSE),\"NA\")","v":"NA"},0,0,0,{"$f":"IF(AD201>0,'COSTO ELEMENTOS N1'!$B$74*Q201,0)","v":0},0,0,0,0,0,0,71093.524973486434,0,71093.524973486434,"--","--","-","NA-D","A","N2"]
[199,50200712,204,"Co",8,0,null,null,null,null,null,"N",42325,1,2,"A",46.2,"D",2,2,"Al",2,"Al",null,null,"-",{"$f":"IFERROR(VLOOKUP(B202,'TRAFOS MUESTRA'!$B$3:$D$2000,3,FALSE),\"NA\")","v":"NA"},129361.22946766207,171821.36479200001,0,{"$f":"IF(AD202>0,'COSTO ELEMENTOS N1'!$B$74*Q202,0)","v":0},64680.614733831033,85910.682396000004,194041.84420149311,257732.047188,451773.89138949313,266710.97483328887,0,0,266710.97483328887,"D-Al-2","D-Al-2","A-D","NA-D","A","Co-8"]
[200,50200712,205,"Co",8,0,null,null,null,null,null,"N",43633,1,3,"A",48.3,"D",2,2,"Al",2,"Al",null,null,"-",{"$f":"IFERROR(VLOOKUP(B203,'TRAFOS MUESTRA'!$B$3:$D$2000,3,FALSE),\"NA\")","v":"NA"},135241.28535255577,179631.42682799997,0,{"$f":"IF(AD203>0,'COSTO ELEMENTOS N1'!$B$74*Q203,0)","v":0},67620.642676277886,89815.713413999983,202861.92802883364,269447.14024199994,472309.06827083358,266710.97483328887,0,0,266710.97483328887,"D-Al-2","D-Al-2","A-D","NA-D","A","Co-8"]
[201,50200712,206,"Co",12,1,null,null,null,null,null,"N",null,1,4,"A",97.1,"D",2,2,"Al",2,"Al",null,null,"-",{"$f":"IFERROR(VLOOKUP(B204,'TRAFOS MUESTRA'!$B$3:$D$2000,3,FALSE),\"NA\")","v":"NA"},271882.58401103865,361122.39223599999,0,{"$f":"IF(AD204>0,'COSTO ELEMENTOS N1'!$B$74*Q204,0)","v":0},135941.29200551932,180561.19611799999,407823.87601655797,541683.58835400001,949507.46437055804,0,0,0,0,"D-Al-2","D-Al-2","A-D","NA-D","A","N2"]
[202,50200712,207,"Co",8,0,null,null,null,null,null,"N",null,4,5,"A",44.1,"D",2,2,"Al",2,"Al",null,null,"-",{"$f":"IFERROR(VLOOKUP(B205,'TRAFOS MUESTRA'!$B$3:$D$2000,3,FALSE),\"NA\")","v":"NA"},123481.17358276833,164011.30275599999,0,{"$f":"IF(AD205>0,'COSTO ELEMENTOS N1'!$B$74*Q205,0)","v":0},61740.586791384165,82005.651377999995,185221.76037415251,246016.954134,431238.71450815251,266710.97483328887,0,0,266710.97483328887,"D-Al-2","D-Al-2","A-D","NA-D","A","Co-8"]
[203,50200712,208,"Co",8,0,null,null,null,null,null,"N",42256,5,6,"A",38.700000000000003,"D",2,2,"Al",2,"Al",null,null,"-",{"$f":"IFERROR(VLOOKUP(B206,'TRAFOS MUESTRA'!$B$3:$D$2000,3,FALSE),\"NA\")","v":"NA"},108361.02987875589,143928.28609199999,0,{"$f":"IF(AD206>0,'COSTO ELEMENTOS N1'!$B$74*Q206,0)","v":0},54180.514939377943,71964.143045999997,162541.54481813381,215892.42913800001,378433.97395613382,266710.97483328887,0,0,266710.97483328887,"D-Al-2","D-Al-2","A-D","NA-D","A","Co-8"]
[204,50202301,209,"Co",12,1,null,null,null,null,null,"S",60157,0,1,"A",12.8,"D",2,4,"Al",4,"Al",4,"Al","-",{"$f":"IFERROR(VLOOKUP(B207,'TRAFOS MUESTRA'!$B$3:$D$2000,3,FALSE),\"NA\")","v":"NA"},25191.338578677765,47604.187647999999,0,{"$f":"IF(AD207>0,'COSTO ELEMENTOS N1'!$B$74*Q207,0)","v":0},12595.669289338883,23802.093824,37787.007868016648,71406.281472000002,109193.28934001665,0,71093.524973486434,0,71093.524973486434,"D-Al-4","D-Al-4","A-D","NA-D","A","N2"]
[205,50301305,210,"Co",12,1,null,null,null,null,null,"S","46057/43872/43871",0,1,"A",12.8,"D",2,4,"Al",4,"Al",4,"Al","Limitacion orden publico",{"$f":"IFERROR(VLOOKUP(B208,'TRAFOS MUESTRA'!$B$3:$D$2000,3,FALSE),\"NA\")","v":1},25191.338578677765,47604.187647999999,0,{"$f":"IF(AD208>0,'COSTO ELEMENTOS N1'!$B$74*Q208,0)","v":0},12595.669289338883,23802.093824,37787.007868016648,71406.281472000002,109193.28934001665,0,95211.405083106889,0,95211.405083106889,"D-Al-4","D-Al-4","A-D","1-D","A","N2"]
[206,50301405,211,"Co",12,1,null,null,null,null,null,"S","41648/41389/44091",0,1,"A",12.8,"D",2,4,"Al",4,"Al",4,"Al","-",{"$f":"IFERROR(VLOOKUP(B209,'TRAFOS MUESTRA'!$B$3:$D$2000,3,FALSE),\"NA\")","v":"NA"},25191.338578677765,47604.187647999999,0,{"$f":"IF(AD209>0,'COSTO ELEMENTOS N1'!$B$74*Q209,0)","v":0},12595.669289338883,23802.093824,37787.007868016648,71406.281472000002,109193.28934001665,0,71093.524973486434,0,71093.524973486434,"D-Al-4","D-Al-4","A-D","NA-D","A","N2"]
[207,50303003,212,"Co",12,1,null,null,null,null,null,"S","43754/43755/43756/43757/43758/43759/46533/43580/45795/49994/49995/49997/51939/52444",0,1,"A",12.8,"D",2,4,"Al",4,"Al",4,"Al","Limitacion orden publico",{"$f":"IFERROR(VLOOKUP(B210,'TRAFOS MUESTRA'!$B$3:$D$2000,3,FALSE),\"NA\")","v":"NA"},25191.338578677765,47604.187647999999,0,{"$f":"IF(AD210>0,'COSTO ELEMENTOS N1'!$B$74*Q210,0)","v":0},12595.669289338883,23802.093824,37787.007868016648,71406.281472000002,109193.28934001665,0,71093.524973486434,0,71093.524973486434,"D-Al-4","D-Al-4","A-D","NA-D","A","N2"]
[208,50500702,213,"Co",12,1,null,null,null,null,null,"S",15142,0,1,"A",12.8,"D",2,4,"Al",4,"Al",4,"Al","-",{"$f":"IFERROR(VLOOKUP(B211,'TRAFOS MUESTRA'!$B$3:$D$2000,3,FALSE),\"NA\")","v":"NA"},25191.338578677765,47604.187647999999,0,{"$f":"IF(AD211>0,'COSTO ELEMENTOS N1'!$B$74*Q211,0)","v":0},12595.669289338883,23802.093824,37787.007868016648,71406.281472000002,109193.28934001665,0,71093.524973486434,0,71093.524973486434,"D-Al-4","D-Al-4","A-D","NA-D","A","N2"]
[209,50501502,214,"Co",12,1,null,null,null,"M",125,"S",55788,0,1,"A",12.8,"D",2,4,"Al",4,"Al",4,"Al","-",{"$f":"IFERROR(VLOOKUP(B212,'TRAFOS MUESTRA'!$B$3:$D$2000,3,FALSE),\"NA\")","v":3},25191.338578677765,47604.187647999999,0,{"$f":"IF(AD212>0,'COSTO ELEMENTOS N1'!$B$74*Q212,0)","v":0},12595.669289338883,23802.093824,37787.007868016648,71406.281472000002,109193.28934001665,0,95211.405083106889,0,95211.405083106889,"D-Al-4","D-Al-4","A-D","3-D","A","N2"]
[210,50501502,215,"Co",12,1,null,null,null,"M",125,"S",55788,0,1,"A",12.8,"D",2,4,"Al",4,"Al",4,"Al","-",{"$f":"IFERROR(VLOOKUP(B213,'TRAFOS MUESTRA'!$B$3:$D$2000,3,FALSE),\"NA\")","v":3},25191.338578677765,47604.187647999999,0,{"$f":"IF(AD213>0,'COSTO ELEMENTOS N1'!$B$74*Q213,0)","v":0},12595.669289338883,23802.093824,37787.007868016648,71406.281472000002,109193.28934001665,0,95211.405083106889,0,95211.405083106889,"D-Al-4","D-Al-4","A-D","3-D","A","N2"]
[211,50501502,216,"Co",12,1,null,null,null,"M",125,"S",55788,0,1,"A",12.8,"D",2,4,"Al",4,"Al",4,"Al","-",{"$f":"IFERROR(VLOOKUP(B214,'TRAFOS MUESTRA'!$B$3:$D$2000,3,FALSE),\"NA\")","v":3},25191.338578677765,47604.187647999999,0,{"$f":"IF(AD214>0,'COSTO ELEMENTOS N1'!$B$74*Q214,0)","v":0},12595.669289338883,23802.093824,37787.007868016648,71406.281472000002,109193.28934001665,0,95211.405083106889,0,95211.405083106889,"D-Al-4","D-Al-4","A-D","3-D","A","N2"]
[212,50501502,217,"Co",12,1,null,null,null,"M",125,"S",55788,0,1,"A",12.8,"D",2,4,"Al",4,"Al",4,"Al","-",{"$f":"IFERROR(VLOOKUP(B215,'TRAFOS MUESTRA'!$B$3:$D$2000,3,FALSE),\"NA\")","v":3},25191.338578677765,47604.187647999999,0,{"$f":"IF(AD215>0,'COSTO ELEMENTOS N1'!$B$74*Q215,0)","v":0},12595.669289338883,23802.093824,37787.007868016648,71406.281472000002,109193.28934001665,0,95211.405083106889,0,95211.405083106889,"D-Al-4","D-Al-4","A-D","3-D","A","N2"]
[213,50501502,218,"Co",8,0,null,null,null,null,null,"N",null,1,2,"A",12.8,"D",2,4,"Al",4,"Al",4,"Al","-",{"$f":"IFERROR(VLOOKUP(B216,'TRAFOS MUESTRA'!$B$3:$D$2000,3,FALSE),\"NA\")","v":3},25191.338578677765,47604.187647999999,0,{"$f":"IF(AD216>0,'COSTO ELEMENTOS N1'!$B$74*Q216,0)","v":0},12595.669289338883,23802.093824,37787.007868016648,71406.281472000002,109193.28934001665,266710.97483328887,24117.880109620462,233556.26303030306,524385.11797321239,"D-Al-4","D-Al-4","A-D","3-D","A","Co-8"]
[214,50501502,219,"Co",8,0,null,null,null,null,null,"N",null,1,2,"A",12.8,"D",2,4,"Al",4,"Al",4,"Al","-",{"$f":"IFERROR(VLOOKUP(B217,'TRAFOS MUESTRA'!$B$3:$D$2000,3,FALSE),\"NA\")","v":3},25191.338578677765,47604.187647999999,0,{"$f":"IF(AD217>0,'COSTO ELEMENTOS N1'!$B$74*Q217,0)","v":0},12595.669289338883,23802.093824,37787.007868016648,71406.281472000002,109193.28934001665,266710.97483328887,24117.880109620462,233556.26303030306,524385.11797321239,"D-Al-4","D-Al-4","A-D","3-D","A","Co-8"]
[215,50501502,220,"Co",8,0,null,null,null,null,null,"N",null,1,2,"A",12.8,"D",2,4,"Al",4,"Al",4,"Al","-",{"$f":"IFERROR(VLOOKUP(B218,'TRAFOS MUESTRA'!$B$3:$D$2000,3,FALSE),\"NA\")","v":3},25191.338578677765,47604.187647999999,0,{"$f":"IF(AD218>0,'COSTO ELEMENTOS N1'!$B$74*Q218,0)","v":0},12595.669289338883,23802.093824,37787.007868016648,71406.281472000002,109193.28934001665,266710.97483328887,24117.880109620462,233556.26303030306,524385.11797321239,"D-Al-4","D-Al-4","A-D","3-D","A","Co-8"]
[216,50501502,221,"Co",8,0,null,null,null,"M",125,"N",null,2,3,"A",14,"D",2,4,"Al",4,"Al",4,"Al","-",{"$f":"IFERROR(VLOOKUP(B219,'TRAFOS MUESTRA'!$B$3:$D$2000,3,FALSE),\"NA\")","v":3},27553.026570428803,52067.080239999996,0,{"$f":"IF(AD219>0,'COSTO ELEMENTOS N1'!$B$74*Q219,0)","v":0},13776.513285214402,26033.540119999998,41329.539855643205,78100.620360000001,119430.16021564321,266710.97483328887,24117.880109620462,233556.26303030306,524385.11797321239,"D-Al-4","D-Al-4","A-D","3-D","A","Co-8"]
[217,50501502,222,"Co",8,0,null,null,null,"M",125,"N",null,2,3,"A",14,"D",2,4,"Al",4,"Al",4,"Al","-",{"$f":"IFERROR(VLOOKUP(B220,'TRAFOS MUESTRA'!$B$3:$D$2000,3,FALSE),\"NA\")","v":3},27553.026570428803,52067.080239999996,0,{"$f":"IF(AD220>0,'COSTO ELEMENTOS N1'!$B$74*Q220,0)","v":0},13776.513285214402,26033.540119999998,41329.539855643205,78100.620360000001,119430.16021564321,266710.97483328887,24117.880109620462,233556.26303030306,524385.11797321239,"D-Al-4","D-Al-4","A-D","3-D","A","Co-8"]
[218,50501502,223,"Co",8,0,null,null,null,"M",125,"N",null,2,3,"A",14,"D",2,4,"Al",4,"Al",4,"Al","-",{"$f":"IFERROR(VLOOKUP(B221,'TRAFOS MUESTRA'!$B$3:$D$2000,3,FALSE),\"NA\")","v":3},27553.026570428803,52067.080239999996,0,{"$f":"IF(AD221>0,'COSTO ELEMENTOS N1'!$B$74*Q221,0)","v":0},13776.513285214402,26033.540119999998,41329.539855643205,78100.620360000001,119430.16021564321,266710.97483328887,24117.880109620462,233556.26303030306,524385.11797321239,"D-Al-4","D-Al-4","A-D","3-D","A","Co-8"]
[219,50501502,224,"Co",12,1,null,null,null,null,null,"N",null,3,4,"A",16.8,"D",2,4,"Al",4,"Al",4,"Al","-",{"$f":"IFERROR(VLOOKUP(B222,'TRAFOS MUESTRA'!$B$3:$D$2000,3,FALSE),\"NA\")","v":3},33063.631884514565,62480.496288000002,0,{"$f":"IF(AD222>0,'COSTO ELEMENTOS N1'!$B$74*Q222,0)","v":0},16531.815942257283,31240.248144000001,49595.447826771851,93720.744432000007,143316.19225877186,0,24117.880109620462,0,24117.880109620462,"D-Al-4","D-Al-4","A-D","3-D","A","N2"]
[220,50501502,225,"Co",12,1,null,null,null,null,null,"N",null,3,4,"A",16.8,"D",2,4,"Al",4,"Al",4,"Al","-",{"$f":"IFERROR(VLOOKUP(B223,'TRAFOS MUESTRA'!$B$3:$D$2000,3,FALSE),\"NA\")","v":3},33063.631884514565,62480.496288000002,0,{"$f":"IF(AD223>0,'COSTO ELEMENTOS N1'!$B$74*Q223,0)","v":0},16531.815942257283,31240.248144000001,49595.447826771851,93720.744432000007,143316.19225877186,0,24117.880109620462,0,24117.880109620462,"D-Al-4","D-Al-4","A-D","3-D","A","N2"]
[221,50501502,226,"Co",12,1,null,null,null,null,null,"N",null,3,4,"A",16.8,"D",2,4,"Al",4,"Al",4,"Al","-",{"$f":"IFERROR(VLOOKUP(B224,'TRAFOS MUESTRA'!$B$3:$D$2000,3,FALSE),\"NA\")","v":3},33063.631884514565,62480.496288000002,0,{"$f":"IF(AD224>0,'COSTO ELEMENTOS N1'!$B$74*Q224,0)","v":0},16531.815942257283,31240.248144000001,49595.447826771851,93720.744432000007,143316.19225877186,0,24117.880109620462,0,24117.880109620462,"D-Al-4","D-Al-4","A-D","3-D","A","N2"]
[222,50501502,227,"Co",8,0,null,null,null,null,null,"N",null,4,5,"A",17,"D",2,4,"Al",4,"Al",4,"Al","-",{"$f":"IFERROR(VLOOKUP(B225,'TRAFOS MUESTRA'!$B$3:$D$2000,3,FALSE),\"NA\")","v":3},33457.246549806405,63224.311719999998,0,{"$f":"IF(AD225>0,'COSTO ELEMENTOS N1'!$B$74*Q225,0)","v":0},16728.623274903202,31612.155859999999,50185.869824709604,94836.467579999997,145022.3374047096,266710.97483328887,24117.880109620462,233556.26303030306,524385.11797321239,"D-Al-4","D-Al-4","A-D","3-D","A","Co-8"]
[223,50501502,228,"Co",8,0,null,null,null,null,null,"N",null,4,5,"A",17,"D",2,4,"Al",4,"Al",4,"Al","-",{"$f":"IFERROR(VLOOKUP(B226,'TRAFOS MUESTRA'!$B$3:$D$2000,3,FALSE),\"NA\")","v":3},33457.246549806405,63224.311719999998,0,{"$f":"IF(AD226>0,'COSTO ELEMENTOS N1'!$B$74*Q226,0)","v":0},16728.623274903202,31612.155859999999,50185.869824709604,94836.467579999997,145022.3374047096,266710.97483328887,24117.880109620462,233556.26303030306,524385.11797321239,"D-Al-4","D-Al-4","A-D","3-D","A","Co-8"]
[224,50501502,229,"Co",8,0,null,null,null,null,null,"N",null,4,5,"A",17,"D",2,4,"Al",4,"Al",4,"Al","-",{"$f":"IFERROR(VLOOKUP(B227,'TRAFOS MUESTRA'!$B$3:$D$2000,3,FALSE),\"NA\")","v":3},33457.246549806405,63224.311719999998,0,{"$f":"IF(AD227>0,'COSTO ELEMENTOS N1'!$B$74*Q227,0)","v":0},16728.623274903202,31612.155859999999,50185.869824709604,94836.467579999997,145022.3374047096,266710.97483328887,24117.880109620462,233556.26303030306,524385.11797321239,"D-Al-4","D-Al-4","A-D","3-D","A","Co-8"]
[225,50501502,230,"Co",12,1,null,null,null,"M",125,"S","59408/60808",5,6,"A",14.7,"D",2,4,"Al",4,"Al",4,"Al","-",{"$f":"IFERROR(VLOOKUP(B228,'TRAFOS MUESTRA'!$B$3:$D$2000,3,FALSE),\"NA\")","v":3},28930.677898950242,54670.434251999992,0,{"$f":"IF(AD228>0,'COSTO ELEMENTOS N1'!$B$74*Q228,0)","v":0},14465.338949475121,27335.217125999996,43396.016848425366,82005.65137799998,125401.66822642535,0,95211.405083106889,0,95211.405083106889,"D-Al-4","D-Al-4","A-D","3-D","A","N2"]
[226,50501502,231,"Co",12,1,null,null,null,"M",125,"S","59408/60808",5,6,"A",14.7,"D",2,4,"Al",4,"Al",4,"Al","-",{"$f":"IFERROR(VLOOKUP(B229,'TRAFOS MUESTRA'!$B$3:$D$2000,3,FALSE),\"NA\")","v":3},28930.677898950242,54670.434251999992,0,{"$f":"IF(AD229>0,'COSTO ELEMENTOS N1'!$B$74*Q229,0)","v":0},14465.338949475121,27335.217125999996,43396.016848425366,82005.65137799998,125401.66822642535,0,95211.405083106889,0,95211.405083106889,"D-Al-4","D-Al-4","A-D","3-D","A","N2"]
[227,50501502,232,"Co",12,1,null,null,null,"M",125,"S","59408/60808",5,6,"A",14.7,"D",2,4,"Al",4,"Al",4,"Al","-",{"$f":"IFERROR(VLOOKUP(B230,'TRAFOS MUESTRA'!$B$3:$D$2000,3,FALSE),\"NA\")","v":3},28930.677898950242,54670.434251999992,0,{"$f":"IF(AD230>0,'COSTO ELEMENTOS N1'!$B$74*Q230,0)","v":0},14465.338949475121,27335.217125999996,43396.016848425366,82005.65137799998,125401.66822642535,0,95211.405083106889,0,95211.405083106889,"D-Al-4","D-Al-4","A-D","3-D","A","N2"]
[228,50501502,233,"Co",8,0,null,null,null,null,null,"N",null,6,7,"A",24.7,"D",2,4,"Al",4,"Al",4,"Al","-",{"$f":"IFERROR(VLOOKUP(B231,'TRAFOS MUESTRA'!$B$3:$D$2000,3,FALSE),\"NA\")","v":3},48611.411163542245,91861.205851999999,0,{"$f":"IF(AD231>0,'COSTO ELEMENTOS N1'!$B$74*Q231,0)","v":0},24305.705581771123,45930.602926,72917.116745313368,137791.80877800001,210708.92552331337,266710.97483328887,24117.880109620462,233556.26303030306,524385.11797321239,"D-Al-4","D-Al-4","A-D","3-D","A","Co-8"]
[229,50501502,234,"Co",8,0,null,null,null,null,null,"N",null,6,7,"A",24.7,"D",2,4,"Al",4,"Al",4,"Al","-",{"$f":"IFERROR(VLOOKUP(B232,'TRAFOS MUESTRA'!$B$3:$D$2000,3,FALSE),\"NA\")","v":3},48611.411163542245,91861.205851999999,0,{"$f":"IF(AD232>0,'COSTO ELEMENTOS N1'!$B$74*Q232,0)","v":0},24305.705581771123,45930.602926,72917.116745313368,137791.80877800001,210708.92552331337,266710.97483328887,24117.880109620462,233556.26303030306,524385.11797321239,"D-Al-4","D-Al-4","A-D","3-D","A","Co-8"]
[230,50501502,242,"Co",8,0,null,null,null,"M",125,"N",null,9,10,"A",18.5,"D",2,4,"Al",4,"Al",4,"Al","-",{"$f":"IFERROR(VLOOKUP(B233,'TRAFOS MUESTRA'!$B$3:$D$2000,3,FALSE),\"NA\")","v":3},36409.356539495202,68802.927459999992,0,{"$f":"IF(AD233>0,'COSTO ELEMENTOS N1'!$B$74*Q233,0)","v":0},18204.678269747601,34401.463729999996,54614.034809242803,103204.39118999999,157818.42599924281,266710.97483328887,24117.880109620462,233556.26303030306,524385.11797321239,"D-Al-4","D-Al-4","A-D","3-D","A","Co-8"]
[231,50501502,243,"Co",8,0,null,null,null,"M",125,"N",null,9,10,"A",18.5,"D",2,4,"Al",4,"Al",4,"Al","-",{"$f":"IFERROR(VLOOKUP(B234,'TRAFOS MUESTRA'!$B$3:$D$2000,3,FALSE),\"NA\")","v":3},36409.356539495202,68802.927459999992,0,{"$f":"IF(AD234>0,'COSTO ELEMENTOS N1'!$B$74*Q234,0)","v":0},18204.678269747601,34401.463729999996,54614.034809242803,103204.39118999999,157818.42599924281,266710.97483328887,24117.880109620462,233556.26303030306,524385.11797321239,"D-Al-4","D-Al-4","A-D","3-D","A","Co-8"]
[232,50501502,244,"Co",8,0,null,null,null,"M",125,"N",null,9,10,"A",18.5,"D",2,4,"Al",4,"Al",4,"Al","-",{"$f":"IFERROR(VLOOKUP(B235,'TRAFOS MUESTRA'!$B$3:$D$2000,3,FALSE),\"NA\")","v":3},36409.356539495202,68802.927459999992,0,{"$f":"IF(AD235>0,'COSTO ELEMENTOS N1'!$B$74*Q235,0)","v":0},18204.678269747601,34401.463729999996,54614.034809242803,103204.39118999999,157818.42599924281,266710.97483328887,24117.880109620462,233556.26303030306,524385.11797321239,"D-Al-4","D-Al-4","A-D","3-D","A","Co-8"]
[233,50501502,245,"Co",12,1,null,null,null,"M",125,"N",52610,10,11,"A",14.7,"D",2,4,"Al",4,"Al",4,"Al","-",{"$f":"IFERROR(VLOOKUP(B236,'TRAFOS MUESTRA'!$B$3:$D$2000,3,FALSE),\"NA\")","v":3},28930.677898950242,54670.434251999992,0,{"$f":"IF(AD236>0,'COSTO ELEMENTOS N1'!$B$74*Q236,0)","v":0},14465.338949475121,27335.217125999996,43396.016848425366,82005.65137799998,125401.66822642535,0,24117.880109620462,0,24117.880109620462,"D-Al-4","D-Al-4","A-D","3-D","A","N2"]
[234,50501502,246,"Co",12,1,null,null,null,"M",125,"N",52610,10,11,"A",14.7,"D",2,4,"Al",4,"Al",4,"Al","-",{"$f":"IFERROR(VLOOKUP(B237,'TRAFOS MUESTRA'!$B$3:$D$2000,3,FALSE),\"NA\")","v":3},28930.677898950242,54670.434251999992,0,{"$f":"IF(AD237>0,'COSTO ELEMENTOS N1'!$B$74*Q237,0)","v":0},14465.338949475121,27335.217125999996,43396.016848425366,82005.65137799998,125401.66822642535,0,24117.880109620462,0,24117.880109620462,"D-Al-4","D-Al-4","A-D","3-D","A","N2"]
[235,50501502,247,"Co",12,1,null,null,null,"M",125,"N",52610,10,11,"A",14.7,"D",2,4,"Al",4,"Al",4,"Al","-",{"$f":"IFERROR(VLOOKUP(B238,'TRAFOS MUESTRA'!$B$3:$D$2000,3,FALSE),\"NA\")","v":3},28930.677898950242,54670.434251999992,0,{"$f":"IF(AD238>0,'COSTO ELEMENTOS N1'!$B$74*Q238,0)","v":0},14465.338949475121,27335.217125999996,43396.016848425366,82005.65137799998,125401.66822642535,0,24117.880109620462,0,24117.880109620462,"D-Al-4","D-Al-4","A-D","3-D","A","N2"]
[236,50501502,248,"Co",8,0,null,null,null,"M",125,"N","48161/25201",11,12,"A",17.399999999999999,"D",2,4,"Al",4,"Al",4,"Al","-",{"$f":"IFERROR(VLOOKUP(B239,'TRAFOS MUESTRA'!$B$3:$D$2000,3,FALSE),\"NA\")","v":3},34244.475880390084,64711.942583999989,0,{"$f":"IF(AD239>0,'COSTO ELEMENTOS N1'!$B$74*Q239,0)","v":0},17122.237940195042,32355.971291999995,51366.713820585122,97067.913875999977,148434.62769658508,266710.97483328887,24117.880109620462,233556.26303030306,524385.11797321239,"D-Al-4","D-Al-4","A-D","3-D","A","Co-8"]
[237,50501502,249,"Co",8,0,null,null,null,"M",125,"N","48161/25201",11,12,"A",17.399999999999999,"D",2,4,"Al",4,"Al",4,"Al","-",{"$f":"IFERROR(VLOOKUP(B240,'TRAFOS MUESTRA'!$B$3:$D$2000,3,FALSE),\"NA\")","v":3},34244.475880390084,64711.942583999989,0,{"$f":"IF(AD240>0,'COSTO ELEMENTOS N1'!$B$74*Q240,0)","v":0},17122.237940195042,32355.971291999995,51366.713820585122,97067.913875999977,148434.62769658508,266710.97483328887,24117.880109620462,233556.26303030306,524385.11797321239,"D-Al-4","D-Al-4","A-D","3-D","A","Co-8"]
[238,50501502,250,"Co",8,0,null,null,null,"M",125,"N","48161/25201",11,12,"A",17.399999999999999,"D",2,4,"Al",4,"Al",4,"Al","-",{"$f":"IFERROR(VLOOKUP(B241,'TRAFOS MUESTRA'!$B$3:$D$2000,3,FALSE),\"NA\")","v":3},34244.475880390084,64711.942583999989,0,{"$f":"IF(AD241>0,'COSTO ELEMENTOS N1'!$B$74*Q241,0)","v":0},17122.237940195042,32355.971291999995,51366.713820585122,97067.913875999977,148434.62769658508,266710.97483328887,24117.880109620462,233556.26303030306,524385.11797321239,"D-Al-4","D-Al-4","A-D","3-D","A","Co-8"]
[239,50501502,251,"Co",8,0,null,null,null,"M",125,"N","48162/55416/54261",12,13,"A",32,"D",2,4,"Al",4,"Al",4,"Al","-",{"$f":"IFERROR(VLOOKUP(B242,'TRAFOS MUESTRA'!$B$3:$D$2000,3,FALSE),\"NA\")","v":3},62978.346446694406,119010.46911999999,0,{"$f":"IF(AD242>0,'COSTO ELEMENTOS N1'!$B$74*Q242,0)","v":0},31489.173223347203,59505.234559999997,94467.519670041613,178515.70367999998,272983.2233500416,266710.97483328887,24117.880109620462,233556.26303030306,524385.11797321239,"D-Al-4","D-Al-4","A-D","3-D","A","Co-8"]
[240,50501502,252,"Co",8,0,null,null,null,"M",125,"N","48162/55416/54261",12,13,"A",32,"D",2,4,"Al",4,"Al",4,"Al","-",{"$f":"IFERROR(VLOOKUP(B243,'TRAFOS MUESTRA'!$B$3:$D$2000,3,FALSE),\"NA\")","v":3},62978.346446694406,119010.46911999999,0,{"$f":"IF(AD243>0,'COSTO ELEMENTOS N1'!$B$74*Q243,0)","v":0},31489.173223347203,59505.234559999997,94467.519670041613,178515.70367999998,272983.2233500416,266710.97483328887,24117.880109620462,233556.26303030306,524385.11797321239,"D-Al-4","D-Al-4","A-D","3-D","A","Co-8"]
[241,50501502,253,"Co",8,0,null,null,null,"M",125,"N","48162/55416/54261",12,13,"A",32,"D",2,4,"Al",4,"Al",4,"Al","-",{"$f":"IFERROR(VLOOKUP(B244,'TRAFOS MUESTRA'!$B$3:$D$2000,3,FALSE),\"NA\")","v":3},62978.346446694406,119010.46911999999,0,{"$f":"IF(AD244>0,'COSTO ELEMENTOS N1'!$B$74*Q244,0)","v":0},31489.173223347203,59505.234559999997,94467.519670041613,178515.70367999998,272983.2233500416,266710.97483328887,24117.880109620462,233556.26303030306,524385.11797321239,"D-Al-4","D-Al-4","A-D","3-D","A","Co-8"]
[242,50501502,254,"Co",12,1,null,null,null,null,null,"N",51178,13,14,"A",43.6,"D",2,4,"Al",4,"Al",4,"Al","-",{"$f":"IFERROR(VLOOKUP(B245,'TRAFOS MUESTRA'!$B$3:$D$2000,3,FALSE),\"NA\")","v":3},85807.997033621126,162151.764176,0,{"$f":"IF(AD245>0,'COSTO ELEMENTOS N1'!$B$74*Q245,0)","v":0},42903.998516810563,81075.882087999998,128711.99555043169,243227.64626399998,371939.64181443164,0,24117.880109620462,0,24117.880109620462,"D-Al-4","D-Al-4","A-D","3-D","A","N2"]
[243,50501502,255,"Co",12,1,null,null,null,null,null,"N",51178,13,14,"A",43.6,"D",2,4,"Al",4,"Al",4,"Al","-",{"$f":"IFERROR(VLOOKUP(B246,'TRAFOS MUESTRA'!$B$3:$D$2000,3,FALSE),\"NA\")","v":3},85807.997033621126,162151.764176,0,{"$f":"IF(AD246>0,'COSTO ELEMENTOS N1'!$B$74*Q246,0)","v":0},42903.998516810563,81075.882087999998,128711.99555043169,243227.64626399998,371939.64181443164,0,24117.880109620462,0,24117.880109620462,"D-Al-4","D-Al-4","A-D","3-D","A","N2"]
[244,50501502,256,"Co",12,1,null,null,null,null,null,"N",51178,13,14,"A",43.6,"D",2,4,"Al",4,"Al",4,"Al","-",{"$f":"IFERROR(VLOOKUP(B247,'TRAFOS MUESTRA'!$B$3:$D$2000,3,FALSE),\"NA\")","v":3},85807.997033621126,162151.764176,0,{"$f":"IF(AD247>0,'COSTO ELEMENTOS N1'!$B$74*Q247,0)","v":0},42903.998516810563,81075.882087999998,128711.99555043169,243227.64626399998,371939.64181443164,0,24117.880109620462,0,24117.880109620462,"D-Al-4","D-Al-4","A-D","3-D","A","N2"]
[245,50501502,257,"Co",8,0,null,null,null,null,null,"N",54731,14,15,"A",24.3,"D",2,4,"Al",4,"Al",4,"Al","-",{"$f":"IFERROR(VLOOKUP(B248,'TRAFOS MUESTRA'!$B$3:$D$2000,3,FALSE),\"NA\")","v":3},{"$f":"IFERROR((VLOOKUP(AO248,COSTO_CONDUCTORES,5,FALSE))*Q248*S248,0)","v":47824.181832958566},{"$f":"IFERROR(VLOOKUP($AQ248,COSTO_INSTALACIÓN_CONDUCTOR,2,FALSE)*Q248*S248,0)","v":90373.574987999993},{"$f":"IFERROR(VLOOKUP(AT248,COSTO_CANALIZACION_SUBTERRANEO,2,FALSE),0)*Q248","v":0},{"$f":"IF(AD248>0,'COSTO ELEMENTOS N1'!$B$74*Q248,0)","v":0},{"$f":"IFERROR(VLOOKUP(AP248,COSTO_CONDUCTORES,5,FALSE),0)*Q248","v":23912.090916479283},{"$f":"IFERROR(VLOOKUP($AQ248,COSTO_INSTALACIÓN_CONDUCTOR,2,FALSE),0)*Q248","v":45186.787493999997},71736.272749437849,135560.362482,207296.63523143786,{"$f":"IFERROR(VLOOKUP($AT248,COSTO_APOYOS,5,FALSE),0)","v":266710.97483328887},{"$f":"IF(AS248=\"SD\",0,IF(AS248=\"A\",IFERROR(VLOOKUP(AR248,COSTO_INSTALACIÓN_APOYOS,2,FALSE),0),0))+IF(L248=\"S\",PUESTA_TIERRA,0)","v":24117.880109620462},{"$f":"IF(AS248=\"SD\",0,IF(AS248=\"S\",IFERROR(VLOOKUP(G248,COSTO_INSTALACION_CAMARAS,2,FALSE),0),IF(AT248=\"N2\",0,IFERROR(VLOOKUP(AR248,COSTO_INSTALACIÓN_APOYOS,3,FALSE),0))))","v":233556.26303030306},524385.11797321239,"D-Al-4","D-Al-4","A-D","3-D",{"$f":"IFERROR(VLOOKUP(D248&\"-\"&E248,COSTO_APOYOS,2,FALSE),IFERROR(VLOOKUP(G248&\"-\"&H248,COSTO_APOYOS,2,FALSE),\"SD\"))","v":"A"},"Co-8"]
[246,50501502,258,"Co",8,0,null,null,null,null,null,"N",54731,14,15,"A",24.3,"D",2,4,"Al",4,"Al",4,"Al","-",{"$f":"IFERROR(VLOOKUP(B249,'TRAFOS MUESTRA'!$B$3:$D$2000,3,FALSE),\"NA\")","v":3},47824.181832958566,90373.574987999993,0,{"$f":"IF(AD249>0,'COSTO ELEMENTOS N1'!$B$74*Q249,0)","v":0},23912.090916479283,45186.787493999997,{"$f":"AB249+AD249+AF249","v":71736.272749437849},{"$f":"AC249+AE249+AG249","v":135560.362482},{"$f":"SUM(AH249:AI249)","v":207296.63523143786},266710.97483328887,24117.880109620462,233556.26303030306,{"$f":"SUM(AK249:AM249)","v":524385.11797321239},{"$f":"$R249&\"-\"&$U249&\"-\"&$T249","v":"D-Al-4"},{"$f":"$R249&\"-\"&$W249&\"-\"&$V249","v":"D-Al-4"},{"$f":"P249&\"-\"&R249","v":"A-D"},{"$f":"AA249&\"-\"&IF(R249=\"\",\"D\",R249)","v":"3-D"},"A",{"$f":"IF(AS249=\"S\",G249&\"-\"&H249,IF(E249>10,\"N2\",D249&\"-\"&E249))","v":"Co-8"}]
[247,50501502,259,"Co",8,0,null,null,null,null,null,"N",54731,14,15,"A",24.3,"D",2,4,"Al",4,"Al",4,"Al","-",{"$f":"IFERROR(VLOOKUP(B250,'TRAFOS MUESTRA'!$B$3:$D$2000,3,FALSE),\"NA\")","v":3},47824.181832958566,90373.574987999993,0,{"$f":"IF(AD250>0,'COSTO ELEMENTOS N1'!$B$74*Q250,0)","v":0},23912.090916479283,45186.787493999997,71736.272749437849,135560.362482,207296.63523143786,266710.97483328887,24117.880109620462,233556.26303030306,524385.11797321239,"D-Al-4","D-Al-4","A-D","3-D","A","Co-8"]
[248,50501502,260,"Co",8,0,null,null,null,null,null,"N","55571/36203/SD29549",15,16,"A",32.700000000000003,"D",2,4,"Al",4,"Al",4,"Al","-",{"$f":"IFERROR(VLOOKUP(B251,'TRAFOS MUESTRA'!$B$3:$D$2000,3,FALSE),\"NA\")","v":3},64355.997775215852,121613.823132,0,{"$f":"IF(AD251>0,'COSTO ELEMENTOS N1'!$B$74*Q251,0)","v":0},32177.998887607926,60806.911566000002,96533.996662823774,182420.73469800001,278954.73136082379,266710.97483328887,24117.880109620462,233556.26303030306,524385.11797321239,"D-Al-4","D-Al-4","A-D","3-D","A","Co-8"]
[249,50501502,261,"Co",8,0,null,null,null,null,null,"N","55571/36203/SD29549",15,16,"A",32.700000000000003,"D",2,4,"Al",4,"Al",4,"Al","-",{"$f":"IFERROR(VLOOKUP(B252,'TRAFOS MUESTRA'!$B$3:$D$2000,3,FALSE),\"NA\")","v":3},64355.997775215852,121613.823132,0,{"$f":"IF(AD252>0,'COSTO ELEMENTOS N1'!$B$74*Q252,0)","v":0},32177.998887607926,60806.911566000002,96533.996662823774,182420.73469800001,278954.73136082379,266710.97483328887,24117.880109620462,233556.26303030306,524385.11797321239,"D-Al-4","D-Al-4","A-D","3-D","A","Co-8"]
[250,50501502,262,"Co",8,0,null,null,null,null,null,"N","55571/36203/SD29549",15,16,"A",32.700000000000003,"D",2,4,"Al",4,"Al",4,"Al","-",{"$f":"IFERROR(VLOOKUP(B253,'TRAFOS MUESTRA'!$B$3:$D$2000,3,FALSE),\"NA\")","v":3},64355.997775215852,121613.823132,0,{"$f":"IF(AD253>0,'COSTO ELEMENTOS N1'!$B$74*Q253,0)","v":0},32177.998887607926,60806.911566000002,96533.996662823774,182420.73469800001,278954.73136082379,266710.97483328887,24117.880109620462,233556.26303030306,524385.11797321239,"D-Al-4","D-Al-4","A-D","3-D","A","Co-8"]
[251,50501502,266,"Co",8,0,null,null,null,null,null,"S",54730,17,18,"A",29.9,"D",2,4,"Al",4,"Al",4,"Al","-",{"$f":"IFERROR(VLOOKUP(B254,'TRAFOS MUESTRA'!$B$3:$D$2000,3,FALSE),\"NA\")","v":3},58845.392461130083,111200.40708399999,0,{"$f":"IF(AD254>0,'COSTO ELEMENTOS N1'!$B$74*Q254,0)","v":0},29422.696230565041,55600.203541999996,88268.088691695128,166800.61062599998,255068.69931769511,266710.97483328887,95211.405083106889,233556.26303030306,595478.64294669882,"D-Al-4","D-Al-4","A-D","3-D","A","Co-8"]
[252,50501502,267,"Co",8,0,null,null,null,null,null,"S",54730,17,18,"A",29.9,"D",2,4,"Al",4,"Al",4,"Al","-",{"$f":"IFERROR(VLOOKUP(B255,'TRAFOS MUESTRA'!$B$3:$D$2000,3,FALSE),\"NA\")","v":3},58845.392461130083,111200.40708399999,0,{"$f":"IF(AD255>0,'COSTO ELEMENTOS N1'!$B$74*Q255,0)","v":0},29422.696230565041,55600.203541999996,88268.088691695128,166800.61062599998,255068.69931769511,266710.97483328887,95211.405083106889,233556.26303030306,595478.64294669882,"D-Al-4","D-Al-4","A-D","3-D","A","Co-8"]
[253,50501502,268,"Co",8,0,null,null,null,null,null,"S",54730,17,18,"A",29.9,"D",2,4,"Al",4,"Al",4,"Al","-",{"$f":"IFERROR(VLOOKUP(B256,'TRAFOS MUESTRA'!$B$3:$D$2000,3,FALSE),\"NA\")","v":3},58845.392461130083,111200.40708399999,0,{"$f":"IF(AD256>0,'COSTO ELEMENTOS N1'!$B$74*Q256,0)","v":0},29422.696230565041,55600.203541999996,88268.088691695128,166800.61062599998,255068.69931769511,266710.97483328887,95211.405083106889,233556.26303030306,595478.64294669882,"D-Al-4","D-Al-4","A-D","3-D","A","Co-8"]
[254,50501703,269,"Co",12,1,null,null,null,null,null,"S",34277,0,1,null,null,null,null,null,null,null,null,null,null,"-",{"$f":"IFERROR(VLOOKUP(B257,'TRAFOS MUESTRA'!$B$3:$D$2000,3,FALSE),\"NA\")","v":3},0,0,0,{"$f":"IF(AD257>0,'COSTO ELEMENTOS N1'!$B$74*Q257,0)","v":0},0,0,0,0,0,0,95211.405083106889,0,95211.405083106889,"--","--","-","3-D","A","N2"]
[255,50501705,270,"Co",12,1,null,null,null,null,null,"S",48163,0,1,null,null,null,null,null,null,null,null,null,null,"-",{"$f":"IFERROR(VLOOKUP(B258,'TRAFOS MUESTRA'!$B$3:$D$2000,3,FALSE),\"NA\")","v":3},0,0,0,{"$f":"IF(AD258>0,'COSTO ELEMENTOS N1'!$B$74*Q258,0)","v":0},0,0,0,0,0,0,95211.405083106889,0,95211.405083106889,"--","--","-","3-D","A","N2"]
[256,50501707,271,"Co",12,1,null,null,null,null,null,"S",15033,0,1,null,null,null,null,null,null,null,null,null,null,"-",{"$f":"IFERROR(VLOOKUP(B259,'TRAFOS MUESTRA'!$B$3:$D$2000,3,FALSE),\"NA\")","v":3},0,0,0,{"$f":"IF(AD259>0,'COSTO ELEMENTOS N1'!$B$74*Q259,0)","v":0},0,0,0,0,0,0,95211.405083106889,0,95211.405083106889,"--","--","-","3-D","A","N2"]
[257]
[258]
[{"$f":"A261+1","v":259}]
[260]
[261]
[262]
[263]
[264]
[265]
[266]
[267]
[268]
[269]
[270]
[271]
[272]
[273]
[274]
[275]
[276]
[277]
[278]
[279]
[280]
[281]
[282]
[283]
[284]
[285]
[286]
[287]
[288]
[289]
[290]
[291]
[292]
[293]
[294]
[295]
[296]
[297]
[298]
[299]
[300]
[301]
[302]
[303]
[304]
[305]
[306]
[307]
[308]
[309]
[310]
[311]
[312]
[313]
[314]
[315]
[316]
[317]
[318]
[319]
[320]
[321]
[322]
[{"$f":"A325+1","v":323}]
[324]
[325]
[326]
[327]
[328]
[329]
[330]
[331]
[332]
[333]
[334]
[335]
[336]
[337]
[338]
[339]
[340]
[341]
[342]
[343]
[344]
[345]
[346]
[347]
[348]
[349]
[350]
[351]
[352]
[353]
[354]
[355]
[356]
[357]
[358]
[359]
[360]
[361]
[362]
[363]
[364]
[365]
[366]
[367]
[368]
[369]
[370]
[371]
[372]
[373]
[374]
[375]
[376]
[377]
[378]
[379]
[380]
[381]
[382]
[383]
[384]
[385]
[386]
[{"$f":"A389+1","v":387}]
[388]
[389]
[390]
[391]
[392]
[393]
[394]
[395]
[396]
[397]
[398]
[399]
[400]
[401]
[402]
[403]
[404]
[405]
[406]
[407]
[408]
[409]
[410]
[411]
[412]
[413]
[414]
[415]
[416]
[417]
[418]
[419]
[420]
[421]
[422]
[423]
[424]
[425]
[426]
[427]
[428]
[429]
[430]
[431]
[432]
[433]
[434]
[435]
[436]
[437]
[438]
[439]
[440]
[441]
[442]
[443]
[444]
[445]
[446]
[447]
[448]
[449]
[450]
[{"$f":"A453+1","v":451}]
[452]
[453]
[454]
[455]
[456]
[457]
[458]
[459]
[460]
[461]
[462]
[463]
[464]
[465]
[466]
[467]
[468]
[469]
[470]
[471]
[472]
[473]
[474]
[475]
[476]
[477]
[478]
[479]
[480]
[481]
[482]
[483]
[484]
[485]
[486]
[487]
[488]
[489]
[490]
[491]
[492]
[493]
[494]
[495]
[496]
[497]
[498]
[499]
[500]
[501]
[502]
[503]
[504]
[505]
[506]
[507]
[508]
[509]
[510]
[511]
[512]
[513]
[514]
[{"$f":"A517+1","v":515}]
[516]
[517]
[518]
[519]
[520]
[521]
[522]
[523]
[524]
[525]
[526]
[527]
[528]
[529]
[530]
[531]
[532]
[533]
[534]
[535]
[536]
[537]
[538]
[539]
[540]
[541]
[542]
[543]
[544]
[545]
[546]
[547]
[548]
[549]
[550]
[551]
[552]
[553]
[554]
[555]
[556]
[557]
[558]
[559]
[560]
[561]
[562]
[563]
[564]
[565]
[566]
[567]
[568]
[569]
[570]
[571]
[572]
[573]
[574]
[575]
[576]
[577]
[578]
[{"$f":"A581+1","v":579}]
[580]
[581]
[582]
[583]
[584]
[585]
[586]
[587]
[588]
[589]
[590]
[591]
[592]
[593]
[594]
[595]
[596]
[597]
[598]
[599]
[600]
[601]
[602]
[603]
[604]
[605]
[606]
[607]
[608]
[609]
[610]
[611]
[612]
[613]
[614]
[615]
[616]
[617]
[618]
[619]
[620]
[621]
[622]
[623]
[624]
[625]
[626]
[627]
[628]
[629]
[630]
[631]
[632]
[633]
[634]
[635]
[636]
[637]
[638]
[639]
[640]
[641]
[642]
[{"$f":"A645+1","v":643}]
[644]
[645]
[646]
[647]
[648]
[649]
[650]
[651]
[652]
[653]
[654]
[655]
[656]
[657]
[658]
[659]
[660]
[661]
[662]
[663]
[664]
[665]
[666]
[667]
[668]
[669]
[670]
[671]
[672]
[673]
[674]
[675]
[676]
[677]
[678]
[679]
[680]
[681]
[682]
[683]
[684]
[685]
[686]
[687]
[688]
[689]
[690]
[691]
[692]
[693]
[694]
[695]
[696]
[697]
[698]
[699]
[700]
[701]
[702]
[703]
[704]
[705]
[706]
[{"$f":"A709+1","v":707}]
[708]
[709]
[710]
[711]
[712]
[713]
[714]
[715]
[716]
[717]
[718]
[719]
[720]
[721]
[722]
[723]
[724]
[725]
[726]
[727]
[728]
[729]
[730]
[731]
[732]
[733]
[734]
[735]
[736]
[737]
[738]
[739]
[740]
[741]
[742]
[743]
[744]
[745]
[746]
[747]
[748]
[749]
[750]
[751]
[752]
[753]
[754]
[755]
[756]
[757]
[758]
[759]
[760]
[761]
[762]
[763]
[764]
[765]
[766]
[767]
[768]
[769]
[770]
[{"$f":"A773+1","v":771}]
[772]
[773]
[774]
[775]
[776]
[777]
[778]
[779]
[780]
[781]
[782]
[783]
[784]
[785]
[786]
[787]
[788]
[789]
[790]
[791]
[792]
[793]
[794]
[795]
[796]
[797]
[798]
[799]
[800]
[801]
[802]
[803]
[804]
[805]
[806]
[807]
[808]
[809]
[810]
[811]
[812]
[813]
[814]
[815]
[816]
[817]
[818]
[819]
[820]
[821]
[822]
[823]
[824]
[825]
[826]
[827]
[828]
[829]
[830]
[831]
[832]
[833]
[834]
[{"$f":"A837+1","v":835}]
[836]
[837]
[838]
[839]
[840]
[841]
[842]
[843]
[844]
[845]
[846]
[847]
[848]
[849]
[850]
[851]
[852]
[853]
[854]
[855]
[856]
[857]
[858]
[859]
[860]
[861]
[862]
[863]
[864]
[865]
[866]
[867]
[868]
[869]
[870]
[871]
[872]
[873]
[874]
[875]
[876]
[877]
[878]
[879]
[880]
[881]
[882]
[883]
[884]
[885]
[886]
[887]
[888]
[889]
[890]
[891]
[892]
[893]
[894]
[895]
[896]
[897]
[898]
[{"$f":"A901+1","v":899}]
[900]
[901]
[902]
[903]
[904]
[905]
[906]
[907]
[908]
[909]
[910]
[911]
[912]
[913]
[914]
[915]
[916]
[917]
[918]
[919]
[920]
[921]
[922]
[923]
[924]
[925]
[926]
[927]
[928]
[929]
[930]
[931]
[932]
[933]
[934]
[935]
[936]
[937]
[938]
[939]
[940]
[941]
[942]
[943]
[944]
[945]
[946]
[947]
[948]
[949]
[950]
[951]
[952]
[953]
[954]
[955]
[956]
[957]
[958]
[959]
[960]
[961]
[962]
[{"$f":"A965+1","v":963}]
[964]
[965]
[966]
[967]
[968]
[969]
[970]
[971]
[972]
[973]
[974]
[975]
[976]
[977]
[978]
[979]
[980]
[981]
[982]
[983]
[984]
[985]
[986]
[987]
[988]
[989]
[990]
[991]
[992]
[993]
[994]
[995]
[996]
[997]
[998]
[999]
[1000]
[1001]
[1002]
[1003]
[1004]
[1005]
[1006]
[1007]
[1008]
[1009]
[1010]
[1011]
[1012]
[1013]
[1014]
[1015]
[1016]
[1017]
[1018]
[1019]
[1020]
[1021]
[1022]
[1023]
[1024]
[1025]
[1026]
[{"$f":"A1029+1","v":1027}]
[1028]
[1029]
[1030]
[1031]
[1032]
[1033]
[1034]
[1035]
[1036]
[1037]
[1038]
[1039]
[1040]
[1041]
[1042]
[1043]
[1044]
[1045]
[1046]
[1047]
[1048]
[1049]
[1050]
[1051]
[1052]
[1053]
[1054]
[1055]
[1056]
[1057]
[1058]
[1059]
[1060]
[1061]
[1062]
[1063]
[1064]
[1065]
[1066]
[1067]
[1068]
[1069]
[1070]
[1071]
[1072]
[1073]
[1074]
[1075]
[1076]
[1077]
[1078]
[1079]
[1080]
[1081]
[1082]
[1083]
[1084]
[1085]
[1086]
[1087]
[1088]
[1089]
[1090]
[{"$f":"A1093+1","v":1091}]
[1092]
[1093]
[1094]
[1095]
[1096]
[1097]
[1098]
[1099]
[1100]
[1101]
[1102]
[1103]
[1104]
[1105]
[1106]
[1107]
[1108]
[1109]
[1110]
[1111]
[1112]
[1113]
[1114]
[1115]
[1116]
[1117]
[1118]
[1119]
[1120]
[1121]
[1122]
[1123]
[1124]
[1125]
[1126]
[1127]
[1128]
[1129]
[1130]
[1131]
[1132]
[1133]
[1134]
[1135]
[1136]
[1137]
[1138]
[1139]
[1140]
[1141]
[1142]
[1143]
[1144]
[1145]
[1146]
[1147]
[1148]
[1149]
[1150]
[1151]
[1152]
[1153]
[1154]
[{"$f":"A1157+1","v":1155}]
[1156]
[1157]
[1158]
[1159]
[1160]
[1161]
[1162]
[1163]
[1164]
[1165]
[1166]
[1167]
[1168]
[1169]
[1170]
[1171]
[1172]
[1173]
[1174]
[1175]
[1176]
[1177]
[1178]
[1179]
[1180]
[1181]
[1182]
[1183]
[1184]
[1185]
[1186]
[1187]
[1188]
[1189]
[1190]
[1191]
[1192]
[1193]
[1194]
[1195]
[1196]
[1197]
[1198]
[1199]
[1200]
[1201]
[1202]
[1203]
[1204]
[1205]
[1206]
[1207]
[1208]
[1209]
[1210]
[1211]
[1212]
[1213]
[1214]
[1215]
[1216]
[1217]
[1218]
[{"$f":"A1221+1","v":1219}]
[1220]
[1221]
[1222]
[1223]
[1224]
[1225]
[1226]
[1227]
[1228]
[1229]
[1230]
[1231]
[1232]
[1233]
[1234]
[1235]
[1236]
[1237]
[1238]
[1239]
[1240]
[1241]
[1242]
[1243]
[1244]
[1245]
[1246]
[1247]
[1248]
[1249]
[1250]
[1251]
[1252]
[1253]
[1254]
[1255]
[1256]
[1257]
[1258]
[1259]
[1260]
[1261]
[1262]
[1263]
[1264]
[1265]
[1266]
[1267]
[1268]
[1269]
[1270]
[1271]
[1272]
[1273]
[1274]
[1275]
[1276]
[1277]
[1278]
[1279]
[1280]
[1281]
[1282]
[{"$f":"A1285+1","v":1283}]
[1284]
[1285]
[1286]
[1287]
[1288]
[1289]
[1290]
[1291]
[1292]
[1293]
[1294]
[1295]
[1296]
[1297]
[1298]
[1299]
[1300]
[1301]
[1302]
[1303]
[1304]
[1305]
[1306]
[1307]
[1308]
[1309]
[1310]
[1311]
[1312]
[1313]
[1314]
[1315]
[1316]
[1317]
[1318]
[1319]
[1320]
[1321]
[1322]
[1323]
[1324]
[1325]
[1326]
[1327]
[1328]
[1329]
[1330]
[1331]
[1332]
[1333]
[1334]
[1335]
[1336]
[1337]
[1338]
[1339]
[1340]
[1341]
[1342]
[1343]
[1344]
[1345]
[1346]
[{"$f":"A1349+1","v":1347}]
[1348]
[1349]
[1350]
[1351]
[1352]
[1353]
[1354]
[1355]
[1356]
[1357]
[1358]
[1359]
[1360]
[1361]
[1362]
[1363]
[1364]
[1365]
[1366]
[1367]
[1368]
[1369]
[1370]
[1371]
[1372]
[1373]
[1374]
[1375]
[1376]
[1377]
[1378]
[1379]
[1380]
[1381]
[1382]
[1383]
[1384]
[1385]
[1386]
[1387]
[1388]
[1389]
[1390]
[1391]
[1392]
[1393]
[1394]
[1395]
[1396]
[1397]
[1398]
[1399]
[1400]
[1401]
[1402]
[1403]
[1404]
[1405]
[1406]
[1407]
[1408]
[1409]
[1410]
[{"$f":"A1413+1","v":1411}]
[1412]
[1413]
[1414]
[1415]
[1416]
[1417]
[1418]
[1419]
[1420]
[1421]
[1422]
[1423]
[1424]
[1425]
[1426]
[1427]
[1428]
[1429]
[1430]
[1431]
[1432]
[1433]
[1434]
[1435]
[1436]
[1437]
[1438]
[1439]
[1440]
[1441]
[1442]
[1443]
[1444]
[1445]
[1446]
[1447]
[1448]
[1449]
[1450]
[1451]
[1452]
[1453]
[1454]
[1455]
[1456]
[1457]
[1458]
[1459]
[1460]
[1461]
[1462]
[1463]
[1464]
[1465]
[1466]
[1467]
[1468]
[1469]
[1470]
[1471]
[1472]
[1473]
[1474]
[{"$f":"A1477+1","v":1475}]
[1476]
[1477]
[1478]
[1479]
[1480]
[1481]
[1482]
[1483]
[1484]
[1485]
[1486]
[1487]
[1488]
[1489]
[1490]
[1491]
[1492]
[1493]
[1494]
[1495]
[1496]
[1497]
[1498]
[1499]
[1500]
[1501]
[1502]
[1503]
[1504]
[1505]
[1506]
[1507]
[1508]
[1509]
[1510]
[1511]
[1512]
[1513]
[1514]
[1515]
[1516]
[1517]
[1518]
[1519]
[1520]
[1521]
[1522]
[1523]
[1524]
[1525]
[1526]
[1527]
[1528]
[1529]
[1530]
[1531]
[1532]
[1533]
[1534]
[1535]
[1536]
[1537]
[1538]
[{"$f":"A1541+1","v":1539}]
[1540]
[1541]
[1542]
[1543]
[1544]
[1545]
[1546]
[1547]
[1548]
[1549]
[1550]
[1551]
[1552]
[1553]
[1554]
[1555]
[1556]
[1557]
[1558]
[1559]
[1560]
[1561]
[1562]
[1563]
[1564]
[1565]
[1566]
[1567]
[1568]
[1569]
[1570]
[1571]
[1572]
[1573]
[1574]
[1575]
[1576]
[1577]
[1578]
[1579]
[1580]
[1581]
[1582]
[1583]
[1584]
[1585]
[1586]
[1587]
[1588]
[1589]
[1590]
[1591]
[1592]
[1593]
[1594]
[1595]
[1596]
[1597]
[1598]
[1599]
[1600]
[1601]
[1602]
[{"$f":"A1605+1","v":1603}]
[1604]
[1605]
[1606]
[1607]
[1608]
[1609]
[1610]
[1611]
[1612]
[1613]
[1614]
[1615]
[1616]
[1617]
[1618]
[1619]
[1620]
[1621]
[1622]
[1623]
[1624]
[1625]
[1626]
[1627]
[1628]
[1629]
[1630]
[1631]
[1632]
[1633]
[1634]
[1635]
[1636]
[1637]
[1638]
[1639]
[1640]
[1641]
[1642]
[1643]
[1644]
[1645]
[1646]
[1647]
[1648]
[1649]
[1650]
[1651]
[1652]
[1653]
[1654]
[1655]
[1656]
[1657]
[1658]
[1659]
[1660]
[1661]
[1662]
[1663]
[1664]
[1665]
[1666]
[{"$f":"A1669+1","v":1667}]
[1668]
[1669]
[1670]
[1671]
[1672]
[1673]
[1674]
[1675]
[1676]
[1677]
[1678]
[1679]
[1680]
[1681]
[1682]
[1683]
[1684]
[1685]
[1686]
[1687]
[1688]
[1689]
[1690]
[1691]
[1692]
[1693]
[1694]
[1695]
[1696]
[1697]
[1698]
[1699]
[1700]
[1701]
[1702]
[1703]
[1704]
[1705]
[1706]
[1707]
[1708]
[1709]
[1710]
[1711]
[1712]
[1713]
[1714]
[1715]
[1716]
[1717]
[1718]
[1719]
[1720]
[1721]
[1722]
[1723]
[1724]
[1725]
[1726]
[1727]
[1728]
[1729]
[1730]
[{"$f":"A1733+1","v":1731}]
[1732]
[1733]
[1734]
[1735]
[1736]
[1737]
[1738]
[1739]
[1740]
[1741]
[1742]
[1743]
[1744]
[1745]
[1746]
[1747]
[1748]
[1749]
[1750]
[1751]
[1752]
[1753]
[1754]
[1755]
[1756]
[1757]
[1758]
[1759]
[1760]
[1761]
[1762]
[1763]
[1764]
[1765]
[1766]
[1767]
[1768]
[1769]
[1770]
[1771]
[1772]
[1773]
[1774]
[1775]
[1776]
[1777]
[1778]
[1779]
[1780]
[1781]
[1782]
[1783]
[1784]
[1785]
[1786]
[1787]
[1788]
[1789]
[1790]
[1791]
[1792]
[1793]
[1794]
[{"$f":"A1797+1","v":1795}]
[1796]
[1797]
[1798]
[1799]
[1800]
[1801]
[1802]
[1803]
[1804]
[1805]
[1806]
[1807]
[1808]
[1809]
[1810]
[1811]
[1812]
[1813]
[1814]
[1815]
[1816]
[1817]
[1818]
[1819]
[1820]
[1821]
[1822]
[1823]
[1824]
[1825]
[1826]
[1827]
[1828]
[1829]
[1830]
[1831]
[1832]
[1833]
[1834]
[1835]
[1836]
[1837]
[1838]
[1839]
[1840]
[1841]
[1842]
[1843]
[1844]
[1845]
[1846]
[1847]
[1848]
[1849]
[1850]
[1851]
[1852]
[1853]
[1854]
[1855]
[1856]
[1857]
[1858]
[{"$f":"A1861+1","v":1859}]
[1860]
[1861]
[1862]
[1863]
[1864]
[1865]
[1866]
[1867]
[1868]
[1869]
[1870]
[1871]
[1872]
[1873]
[1874]
[1875]
[1876]
[1877]
[1878]
[1879]
[1880]
[1881]
[1882]
[1883]
[1884]
[1885]
[1886]
[1887]
[1888]
[1889]
[1890]
[1891]
[1892]
[1893]
[1894]
[1895]
[1896]
[1897]
[1898]
[1899]
[1900]
[1901]
[1902]
[1903]
[1904]
[1905]
[1906]
[1907]
[1908]
[1909]
[1910]
[1911]
[1912]
[1913]
[1914]
[1915]
[1916]
[1917]
[1918]
[1919]
[1920]
[1921]
[1922]
[{"$f":"A1925+1","v":1923}]
[1924]
[1925]
[1926]
[1927]
[1928]
[1929]
[1930]
[1931]
[1932]
[1933]
[1934]
[1935]
[1936]
[1937]
[1938]
[1939]
[1940]
[1941]
[1942]
[1943]
[1944]
[1945]
[1946]
[1947]
[1948]
[1949]
[1950]
[1951]
[1952]
[1953]
[1954]
[1955]
[1956]
[1957]
[1958]
[1959]
[1960]
[1961]
[1962]
[1963]
[1964]
[1965]
[1966]
[1967]
[1968]
[1969]
[1970]
[1971]
[1972]
[1973]
[1974]
[1975]
[1976]
[1977]
[1978]
[1979]
[1980]
[1981]
[1982]
[1983]
[1984]
[1985]
[1986]
[{"$f":"A1989+1","v":1987}]
[1988]
[1989]
[1990]
[1991]
[1992]
[1993]
[1994]
[1995]
[1996]
[1997]
[1998]
[1999]
[2000]
[2001]
[2002]
[2003]
[2004]
[2005]
[2006]
[2007]
[2008]
[2009]
[2010]
[2011]
[2012]
[2013]
[2014]
[2015]
[2016]
[2017]
[2018]
[2019]
[2020]
[2021]
[2022]
[2023]
[2024]
[2025]
[2026]
[2027]
[2028]
[2029]
[2030]
[2031]
[2032]
[2033]
[2034]
[2035]
[2036]
[2037]
[2038]
[2039]
[2040]
[2041]
[2042]
[2043]
[2044]
[2045]
[2046]
[2047]
[2048]
[2049]
[2050]
[{"$f":"A2053+1","v":2051}]
[2052]
[2053]
[2054]
[2055]
[2056]
[2057]
[2058]
[2059]
[2060]
[2061]
[2062]
[2063]
[2064]
[2065]
[2066]
[2067]
[2068]
[2069]
[2070]
[2071]
[2072]
[2073]
[2074]
[2075]
[2076]
[2077]
[2078]
[2079]
[2080]
[2081]
[2082]
[2083]
[2084]
[2085]
[2086]
[2087]
[2088]
[2089]
[2090]
[2091]
[2092]
[2093]
[2094]
[2095]
[2096]
[2097]
[2098]
[2099]
[2100]
[2101]
[2102]
[2103]
[2104]
[2105]
[2106]
[2107]
[2108]
[2109]
[2110]
[2111]
[2112]
[2113]
[2114]
[{"$f":"A2117+1","v":2115}]
[2116]
[2117]
[2118]
[2119]
[2120]
[2121]
[2122]
[2123]
[2124]
[2125]
[2126]
[2127]
[2128]
[2129]
[2130]
[2131]
[2132]
[2133]
[2134]
[2135]
[2136]
[2137]
[2138]
[2139]
[2140]
[2141]
[2142]
[2143]
[2144]
[2145]
[2146]
[2147]
[2148]
[2149]
[2150]
[2151]
[2152]
[2153]
[2154]
[2155]
[2156]
[2157]
[2158]
[2159]
[2160]
[2161]
[2162]
[2163]
[2164]
[2165]
[2166]
[2167]
[2168]
[2169]
[2170]
[2171]
[2172]
[2173]
[2174]
[2175]
[2176]
[2177]
[2178]
[{"$f":"A2181+1","v":2179}]
[2180]
[2181]
[2182]
[2183]
[2184]
[2185]
[2186]
[2187]
[2188]
[2189]
[2190]
[2191]
[2192]
[2193]
[2194]
[2195]
[2196]
[2197]
[2198]
[2199]
[2200]
[2201]
[2202]
[2203]
[2204]
[2205]
[2206]
[2207]
[2208]
[2209]
[2210]
[2211]
[2212]
[2213]
[2214]
[2215]
[2216]
[2217]
[2218]
[2219]
[2220]
[2221]
[2222]
[2223]
[2224]
[2225]
[2226]
[2227]
[2228]
[2229]
[2230]
[2231]
[2232]
[2233]
[2234]
[2235]
[2236]
[2237]
[2238]
[2239]
[2240]
[2241]
[2242]
[{"$f":"A2245+1","v":2243}]
[2244]
[2245]
[2246]
[2247]
[2248]
[2249]
[2250]
[2251]
[2252]
[2253]
[2254]
[2255]
[2256]
[2257]
[2258]
[2259]
[2260]
[2261]
[2262]
[2263]
[2264]
[2265]
[2266]
[2267]
[2268]
[2269]
[2270]
[2271]
[2272]
[2273]
[2274]
[2275]
[2276]
[2277]
[2278]
[2279]
[2280]
[2281]
[2282]
[2283]
[2284]
[2285]
[2286]
[2287]
[2288]
[2289]
[2290]
[2291]
[2292]
[2293]
[2294]
[2295]
[2296]
[2297]
[2298]
[2299]
[2300]
[2301]
[2302]
[2303]
[2304]
[2305]
[2306]
[{"$f":"A2309+1","v":2307}]
[2308]
[2309]
[2310]
[2311]
[2312]
[2313]
[2314]
[2315]
[2316]
[2317]
[2318]
[2319]
[2320]
[2321]
[2322]
[2323]
[2324]
[2325]
[2326]
[2327]
[2328]
[2329]
[2330]
[2331]
[2332]
[2333]
[2334]
[2335]
[2336]
[2337]
[2338]
[2339]
[2340]
[2341]
[2342]
[2343]
[2344]
[2345]
[2346]
[2347]
[2348]
[2349]
[2350]
[2351]
[2352]
[2353]
[2354]
[2355]
[2356]
[2357]
[2358]
[2359]
[2360]
[2361]
[2362]
[2363]
[2364]
[2365]
[2366]
[2367]
[2368]
[2369]
[2370]
[{"$f":"A2373+1","v":2371}]
[2372]
[2373]
[2374]
[2375]
[2376]
[2377]
[2378]
[2379]
[2380]
[2381]
[2382]
[2383]
[2384]
[2385]
[2386]
[2387]
[2388]
[2389]
[2390]
[2391]
[2392]
[2393]
[2394]
[2395]
[2396]
[2397]
[2398]
[2399]
[2400]
[2401]
[2402]
[2403]
[2404]
[2405]
[2406]
[2407]
[2408]
[2409]
[2410]
[2411]
[2412]
[2413]
[2414]
[2415]
[2416]
[2417]
[2418]
[2419]
[2420]
[2421]
[2422]
[2423]
[2424]
[2425]
[2426]
[2427]
[2428]
[2429]
[2430]
[2431]
[2432]
[2433]
[2434]
[{"$f":"A2437+1","v":2435}]
[2436]
[2437]
[2438]
[2439]
[2440]
[2441]
[2442]
[2443]
[2444]
[2445]
[2446]
[2447]
[2448]
[2449]
[2450]
[2451]
[2452]
[2453]
[2454]
[2455]
[2456]
[2457]
[2458]
[2459]
[2460]
[2461]
[2462]
[2463]
[2464]
[2465]
[2466]
[2467]
[2468]
[2469]
[2470]
[2471]
[2472]
[2473]
[2474]
[2475]
[2476]
[2477]
[2478]
[2479]
[2480]
[2481]
[2482]
[2483]
[2484]
[2485]
[2486]
[2487]
[2488]
[2489]
[2490]
[2491]
[2492]
[2493]
[2494]
[2495]
[2496]
[2497]
[2498]
[{"$f":"A2501+1","v":2499}]
[2500]
[2501]
[2502]
[2503]
[2504]
[2505]
[2506]
[2507]
[2508]
[2509]
[2510]
[2511]
[2512]
[2513]
[2514]
[2515]
[2516]
[2517]
[2518]
[2519]
[2520]
[2521]
[2522]
[2523]
[2524]
[2525]
[2526]
[2527]
[2528]
[2529]
[2530]
[2531]
[2532]
[2533]
[2534]
[2535]
[2536]
[2537]
[2538]
[2539]
[2540]
[2541]
[2542]
[2543]
[2544]
[2545]
[2546]
[2547]
[2548]
[2549]
[2550]
[2551]
[2552]
[2553]
[2554]
[2555]
[2556]
[2557]
[2558]
[2559]
[2560]
[2561]
[2562]
[{"$f":"A2565+1","v":2563}]
[2564]
[2565]
[2566]
[2567]
[2568]
[2569]
[2570]
[2571]
[2572]
[2573]
[2574]
[2575]
[2576]
[2577]
[2578]
[2579]
[2580]
[2581]
[2582]
[2583]
[2584]
[2585]
[2586]
[2587]
[2588]
[2589]
[2590]
[2591]
[2592]
[2593]
[2594]
[2595]
[2596]
[2597]
[2598]
[2599]
[2600]
[2601]
[2602]
[2603]
[2604]
[2605]
[2606]
[2607]
[2608]
[2609]
[2610]
[2611]
[2612]
[2613]
[2614]
[2615]
[2616]
[2617]
[2618]
[2619]
[2620]
[2621]
[2622]
[2623]
[2624]
[2625]
[2626]
[{"$f":"A2629+1","v":2627}]
[2628]
[2629]
[2630]
[2631]
[2632]
[2633]
[2634]
[2635]
[2636]
[2637]
[2638]
[2639]
[2640]
[2641]
[2642]
[2643]
[2644]
[2645]
[2646]
[2647]
[2648]
[2649]
[2650]
[2651]
[2652]
[2653]
[2654]
[2655]
[2656]
[2657]
[2658]
[2659]
[2660]
[2661]
[2662]
[2663]
[2664]
[2665]
[2666]
[2667]
[2668]
[2669]
[2670]
[2671]
[2672]
[2673]
[2674]
[2675]
[2676]
[2677]
[2678]
[2679]
[2680]
[2681]
[2682]
[2683]
[2684]
[2685]
[2686]
[2687]
[2688]
[2689]
[2690]
[{"$f":"A2693+1","v":2691}]
[2692]
[2693]
[2694]
[2695]
[2696]
[2697]
[2698]
[2699]
[2700]
[2701]
[2702]
[2703]
[2704]
[2705]
[2706]
[2707]
[2708]
[2709]
[2710]
[2711]
[2712]
[2713]
[2714]
[2715]
[2716]
[2717]
[2718]
[2719]
[2720]
[2721]
[2722]
[2723]
[2724]
[2725]
[2726]
[2727]
[2728]
[2729]
[2730]
[2731]
[2732]
[2733]
[2734]
[2735]
[2736]
[2737]
[2738]
[2739]
[2740]
[2741]
[2742]
[2743]
[2744]
[2745]
[2746]
[2747]
[2748]
[2749]
[2750]
[2751]
[2752]
[2753]
[2754]
[{"$f":"A2757+1","v":2755}]
[2756]
[2757]
[2758]
[2759]
[2760]
[2761]
[2762]
[2763]
[2764]
[2765]
[2766]
[2767]
[2768]
[2769]
[2770]
[2771]
[2772]
[2773]
[2774]
[2775]
[2776]
[2777]
[2778]
[2779]
[2780]
[2781]
[2782]
[2783]
[2784]
[2785]
[2786]
[2787]
[2788]
[2789]
[2790]
[2791]
[2792]
[2793]
[2794]
[2795]
[2796]
[2797]
[2798]
[2799]
[2800]
[2801]
[2802]
[2803]
[2804]
[2805]
[2806]
[2807]
[2808]
[2809]
[2810]
[2811]
[2812]
[2813]
[2814]
[2815]
[2816]
[2817]
[2818]
[{"$f":"A2821+1","v":2819}]
[2820]
[2821]
[2822]
[2823]
[2824]
[2825]
[2826]
[2827]
[2828]
[2829]
[2830]
[2831]
[2832]
[2833]
[2834]
[2835]
[2836]
[2837]
[2838]
[2839]
[2840]
[2841]
[2842]
[2843]
[2844]
[2845]
[2846]
[2847]
[2848]
[2849]
[2850]
[2851]
[2852]
[2853]
[2854]
[2855]
[2856]
[2857]
[2858]
[2859]
[2860]
[2861]
[2862]
[2863]
[2864]
[2865]
[2866]
[2867]
[2868]
[2869]
[2870]
[2871]
[2872]
[2873]
[2874]
[2875]
[2876]
[2877]
[2878]
[2879]
[2880]
[2881]
[2882]
[{"$f":"A2885+1","v":2883}]
[2884]
[2885]
[2886]
[2887]
[2888]
[2889]
[2890]
[2891]
[2892]
[2893]
[2894]
[2895]
[2896]
[2897]
[2898]
[2899]
[2900]
[2901]
[2902]
[2903]
[2904]
[2905]
[2906]
[2907]
[2908]
[2909]
[2910]
[2911]
[2912]
[2913]
[2914]
[2915]
[2916]
[2917]
[2918]
[2919]
[2920]
[2921]
[2922]
[2923]
[2924]
[2925]
[2926]
[2927]
[2928]
[2929]
[2930]
[2931]
[2932]
[2933]
[2934]
[2935]
[2936]
[2937]
[2938]
[2939]
[2940]
[2941]
[2942]
[2943]
[2944]
[2945]
[2946]
[{"$f":"A2949+1","v":2947}]
[2948]
[2949]
[2950]
[2951]
[2952]
[2953]
[2954]
[2955]
[2956]
[2957]
[2958]
[2959]
[2960]
[2961]
[2962]
[2963]
[2964]
[2965]
[2966]
[2967]
[2968]
[2969]
[2970]
[2971]
[2972]
[2973]
[2974]
[2975]
[2976]
[2977]
[2978]
[2979]
[2980]
[2981]
[2982]
[2983]
[2984]
[2985]
[2986]
[2987]
[2988]
[2989]
[2990]
[2991]
[2992]
[2993]
[2994]
[2995]
[2996]
[2997]
[2998]
[2999]
[3000]
[3001]
[3002]
[3003]
[3004]
[3005]
[3006]
[3007]
[3008]
[3009]
[3010]
[{"$f":"A3013+1","v":3011}]
[3012]
[3013]
[3014]
[3015]
[3016]
[3017]
[3018]
[3019]
[3020]
[3021]
[3022]
[3023]
[3024]
[3025]
[3026]
[3027]
[3028]
[3029]
[3030]
[3031]
[3032]
[3033]
[3034]
[3035]
[3036]
[3037]
[3038]
[3039]
[3040]
[3041]
[3042]
[3043]
[3044]
[3045]
[3046]
[3047]
[3048]
[3049]
[3050]
[3051]
[3052]
[3053]
[3054]
[3055]
[3056]
[3057]
[3058]
[3059]
[3060]
[3061]
[3062]
[3063]
[3064]
[3065]
[3066]
[3067]
[3068]
[3069]
[3070]
[3071]
[3072]
[3073]
[3074]
[{"$f":"A3077+1","v":3075}]
[3076]
[3077]
[3078]
[3079]
[3080]
[3081]
[3082]
[3083]
[3084]
[3085]
[3086]
[3087]
[3088]
[3089]
[3090]
[3091]
[3092]
[3093]
[3094]
[3095]
[3096]
[3097]
[3098]
[3099]
[3100]
[3101]
[3102]
[3103]
[3104]
[3105]
[3106]
[3107]
[3108]
[3109]
[3110]
[3111]
[3112]
[3113]
[3114]
[3115]
[3116]
[3117]
[3118]
[3119]
[3120]
[3121]
[3122]
[3123]
[3124]
[3125]
[3126]
[3127]
[3128]
[3129]
[3130]
[3131]
[3132]
[3133]
[3134]
[3135]
[3136]
[3137]
[3138]
[{"$f":"A3141+1","v":3139}]
[3140]
[3141]
[3142]
[3143]
[3144]
[3145]
[3146]
[3147]
[3148]
[3149]
[3150]
[3151]
[3152]
[3153]
[3154]
[3155]
[3156]
[3157]
[3158]
[3159]
[3160]
[3161]
[3162]
[3163]
[3164]
[3165]
[3166]
[3167]
[3168]
[3169]
[3170]
[3171]
[3172]
[3173]
[3174]
[3175]
[3176]
[3177]
[3178]
[3179]
[3180]
[3181]
[3182]
[3183]
[3184]
[3185]
[3186]
[3187]
[3188]
[3189]
[3190]
[3191]
[3192]
[3193]
[3194]
[3195]
[3196]
[3197]
[3198]
[3199]
[3200]
[3201]
[3202]
[{"$f":"A3205+1","v":3203}]
[3204]
[3205]
[3206]
[3207]
[3208]
[3209]
[3210]
[3211]
[3212]
[3213]
[3214]
[3215]
[3216]
[3217]
[3218]
[3219]
[3220]
[3221]
[3222]
[3223]
[3224]
[3225]
[3226]
[3227]
[3228]
[3229]
[3230]
[3231]
[3232]
[3233]
[3234]
[3235]
[3236]
[3237]
[3238]
[3239]
[3240]
[3241]
[3242]
[3243]
[3244]
[3245]
[3246]
[3247]
[3248]
[3249]
[3250]
[3251]
[3252]
[3253]
[3254]
[3255]
[3256]
[3257]
[3258]
[3259]
[3260]
[3261]
[3262]
[3263]
[3264]
[3265]
[3266]
[{"$f":"A3269+1","v":3267}]
[3268]
[3269]
[3270]
[3271]
[3272]
[3273]
[3274]
[3275]
[3276]
[3277]
[3278]
[3279]
[3280]
[3281]
[3282]
[3283]
[3284]
[3285]
[3286]
[3287]
[3288]
[3289]
[3290]
[3291]
[3292]
[3293]
[3294]
[3295]
[3296]
[3297]
[3298]
[3299]
[3300]
[3301]
[3302]
[3303]
[3304]
[3305]
[3306]
[3307]
[3308]
[3309]
[3310]
[3311]
[3312]
[3313]
[3314]
[3315]
[3316]
[3317]
[3318]
[3319]
[3320]
[3321]
[3322]
[3323]
[3324]
[3325]
[3326]
[3327]
[3328]
[3329]
[3330]
[{"$f":"A3333+1","v":3331}]
[3332]
[3333]
[3334]
[3335]
[3336]
[3337]
[3338]
[3339]
[3340]
[3341]
[3342]
[3343]
[3344]
[3345]
[3346]
[3347]
[3348]
[3349]
[3350]
[3351]
[3352]
[3353]
[3354]
[3355]
[3356]
[3357]
[3358]
[3359]
[3360]
[3361]
[3362]
[3363]
[3364]
[3365]
[3366]
[3367]
[3368]
[3369]
[3370]
[3371]
[3372]
[3373]
[3374]
[3375]
[3376]
[3377]
[3378]
[3379]
[3380]
[3381]
[3382]
[3383]
[3384]
[3385]
[3386]
[3387]
[3388]
[3389]
[3390]
[3391]
[3392]
[3393]
[3394]
[{"$f":"A3397+1","v":3395}]
[3396]
[3397]
[3398]
[3399]
[3400]
[3401]
[3402]
[3403]
[3404]
[3405]
[3406]
[3407]
[3408]
[3409]
[3410]
[3411]
[3412]
[3413]
[3414]
[3415]
[3416]
[3417]
[3418]
[3419]
[3420]
[3421]
[3422]
[3423]
[3424]
[3425]
[3426]
[3427]
[3428]
[3429]
[3430]
[3431]
[3432]
[3433]
[3434]
[3435]
[3436]
[3437]
[3438]
[3439]
[3440]
[3441]
[3442]
[3443]
[3444]
[3445]
[3446]
[3447]
[3448]
[3449]
[3450]
[3451]
[3452]
[3453]
[3454]
[3455]
[3456]
[3457]
[3458]
[{"$f":"A3461+1","v":3459}]
[3460]
[3461]
[3462]
[3463]
[3464]
[3465]
[3466]
[3467]
[3468]
[3469]
[3470]
[3471]
[3472]
[3473]
[3474]
[3475]
[3476]
[3477]
[3478]
[3479]
[3480]
[3481]
[3482]
[3483]
[3484]
[3485]
[3486]
[3487]
[3488]
[3489]
[3490]
[3491]
[3492]
[3493]
[3494]
[3495]
[3496]
[3497]
[3498]
[3499]
[3500]
[3501]
[3502]
[3503]
[3504]
[3505]
[3506]
[3507]
[3508]
[3509]
[3510]
[3511]
[3512]
[3513]
[3514]
[3515]
[3516]
[3517]
[3518]
[3519]
[3520]
[3521]
[3522]
[{"$f":"A3525+1","v":3523}]
[3524]
[3525]
[3526]
[3527]
[3528]
[3529]
[3530]
[3531]
[3532]
[3533]
[3534]
[3535]
[3536]
[3537]
[3538]
[3539]
[3540]
[3541]
[3542]
[3543]
[3544]
[3545]
[3546]
[3547]
[3548]
[3549]
[3550]
[3551]
[3552]
[3553]
[3554]
[3555]
[3556]
[3557]
[3558]
[3559]
[3560]
[3561]
[3562]
[3563]
[3564]
[3565]
[3566]
[3567]
[3568]
[3569]
[3570]
[3571]
[3572]
[3573]
[3574]
[3575]
[3576]
[3577]
[3578]
[3579]
[3580]
[3581]
[3582]
[3583]
[3584]
[3585]
[3586]
[{"$f":"A3589+1","v":3587}]
[3588]
[3589]
[3590]
[3591]
[3592]
[3593]
[3594]
[3595]
[3596]
[3597]
[3598]
[3599]
[3600]
[3601]
[3602]
[3603]
[3604]
[3605]
[3606]
[3607]
[3608]
[3609]
[3610]
[3611]
[3612]
[3613]
[3614]
[3615]
[3616]
[3617]
[3618]
[3619]
[3620]
[3621]
[3622]
[3623]
[3624]
[3625]
[3626]
[3627]
[3628]
[3629]
[3630]
[3631]
[3632]
[3633]
[3634]
[3635]
[3636]
[3637]
[3638]
[3639]
[3640]
[3641]
[3642]
[3643]
[3644]
[3645]
[3646]
[3647]
[3648]
[3649]
[3650]
[{"$f":"A3653+1","v":3651}]
[3652]
[3653]
[3654]
[3655]
[3656]
[3657]
[3658]
[3659]
[3660]
[3661]
[3662]
[3663]
[3664]
[3665]
[3666]
[3667]
[3668]
[3669]
[3670]
[3671]
[3672]
[3673]
[3674]
[3675]
[3676]
[3677]
[3678]
[3679]
[3680]
[3681]
[3682]
[3683]
[3684]
[3685]
[3686]
[3687]
[3688]
[3689]
[3690]
[3691]
[3692]
[3693]
[3694]
[3695]
[3696]
[3697]
[3698]
[3699]
[3700]
[3701]
[3702]
[3703]
[3704]
[3705]
[3706]
[3707]
[3708]
[3709]
[3710]
[3711]
[3712]
[3713]
[3714]
[{"$f":"A3717+1","v":3715}]
[3716]
[3717]
[3718]
[3719]
[3720]
[3721]
[3722]
[3723]
[3724]
[3725]
[3726]
[3727]
[3728]
[3729]
[3730]
[3731]
[3732]
[3733]
[3734]
[3735]
[3736]
[3737]
[3738]
[3739]
[3740]
[3741]
[3742]
[3743]
[3744]
[3745]
[3746]
[3747]
[3748]
[3749]
[3750]
[3751]
[3752]
[3753]
[3754]
[3755]
[3756]
[3757]
[3758]
[3759]
[3760]
[3761]
[3762]
[3763]
[3764]
[3765]
[3766]
[3767]
[3768]
[3769]
[3770]
[3771]
[3772]
[3773]
[3774]
[3775]
[3776]
[3777]
[3778]
[{"$f":"A3781+1","v":3779}]
[3780]
[3781]
[3782]
[3783]
[3784]
[3785]
[3786]
[3787]
[3788]
[3789]
[3790]
[3791]
[3792]
[3793]
[3794]
[3795]
[3796]
[3797]
[3798]
[3799]
[3800]
[3801]
[3802]
[3803]
[3804]
[3805]
[3806]
[3807]
[3808]
[3809]
[3810]
[3811]
[3812]
[3813]
[3814]
[3815]
[3816]
[3817]
[3818]
[3819]
[3820]
[3821]
[3822]
[3823]
[3824]
[3825]
[3826]
[3827]
[3828]
[3829]
[3830]
[3831]
[3832]
[3833]
[3834]
[3835]
[3836]
[3837]
[3838]
[3839]
[3840]
[3841]
[3842]
[{"$f":"A3845+1","v":3843}]
[3844]
[3845]
[3846]
[3847]
[3848]
[3849]
[3850]
[3851]
[3852]
[3853]
[3854]
[3855]
[3856]
[3857]
[3858]
[3859]
[3860]
[3861]
[3862]
[3863]
[3864]
[3865]
[3866]
[3867]
[3868]
[3869]
[3870]
[3871]
[3872]
[3873]
[3874]
[3875]
[3876]
[3877]
[3878]
[3879]
[3880]
[3881]
[3882]
[3883]
[3884]
[3885]
[3886]
[3887]
[3888]
[3889]
[3890]
[3891]
[3892]
[3893]
[3894]
[3895]
[3896]
[3897]
[3898]
[3899]
[3900]
[3901]
[3902]
[3903]
[3904]
[3905]
[3906]
[{"$f":"A3909+1","v":3907}]
[3908]
[3909]
[3910]
[3911]
[3912]
[3913]
[3914]
[3915]
[3916]
[3917]
[3918]
[3919]
[3920]
[3921]
[3922]
[3923]
[3924]
[3925]
[3926]
[3927]
[3928]
[3929]
[3930]
[3931]
[3932]
[3933]
[3934]
[3935]
[3936]
[3937]
[3938]
[3939]
[3940]
[3941]
[3942]
[3943]
[3944]
[3945]
[3946]
[3947]
[3948]
[3949]
[3950]
[3951]
[3952]
[3953]
[3954]
[3955]
[3956]
[3957]
[3958]
[3959]
[3960]
[3961]
[3962]
[3963]
[3964]
[3965]
[3966]
[3967]
[3968]
[3969]
[3970]
[{"$f":"A3973+1","v":3971}]
[3972]
[3973]
[3974]
[3975]
[3976]
[3977]
[3978]
[3979]
[3980]
[3981]
[3982]
[3983]
[3984]
[3985]
[3986]
[3987]
[3988]
[3989]
[3990]
[3991]
[3992]
[3993]
[3994]
[3995]
[3996]
[3997]
[3998]
[3999]
[4000]
[4001]
[4002]
[4003]
[4004]
[4005]
[4006]
[4007]
[4008]
[4009]
[4010]
[4011]
[4012]
[4013]
[4014]
[4015]
[4016]
[4017]
[4018]
[4019]
[4020]
[4021]
[4022]
[4023]
[4024]
[4025]
[4026]
[4027]
[4028]
[4029]
[4030]
[4031]
[4032]
[4033]
[4034]
[{"$f":"A4037+1","v":4035}]
[4036]
[4037]
[4038]
[4039]
[4040]
[4041]
[4042]
[4043]
[4044]
[4045]
[4046]
[4047]
[4048]
[4049]
[4050]
[4051]
[4052]
[4053]
[4054]
[4055]
[4056]
[4057]
[4058]
[4059]
[4060]
[4061]
[4062]
[4063]
[4064]
[4065]
[4066]
[4067]
[4068]
[4069]
[4070]
[4071]
[4072]
[4073]
[4074]
[4075]
[4076]
[4077]
[4078]
[4079]
[4080]
[4081]
[4082]
[4083]
[4084]
[4085]
[4086]
[4087]
[4088]
[4089]
[4090]
[4091]
[4092]
[4093]
[4094]
[4095]
[4096]
[4097]
[4098]
[{"$f":"A4101+1","v":4099}]
[4100]
[4101]
[4102]
[4103]
[4104]
[4105]
[4106]
[4107]
[4108]
[4109]
[4110]
[4111]
[4112]
[4113]
[4114]
[4115]
[4116]
[4117]
[4118]
[4119]
[4120]
[4121]
[4122]
[4123]
[4124]
[4125]
[4126]
[4127]
[4128]
[4129]
[4130]
[4131]
[4132]
[4133]
[4134]
[4135]
[4136]
[4137]
[4138]
[4139]
[4140]
[4141]
[4142]
[4143]
[4144]
[4145]
[4146]
[4147]
[4148]
[4149]
[4150]
[4151]
[4152]
[4153]
[4154]
[4155]
[4156]
[4157]
[4158]
[4159]
[4160]
[4161]
[4162]
[{"$f":"A4165+1","v":4163}]
[4164]
[4165]
[4166]
[4167]
[4168]
[4169]
[4170]
[4171]
[4172]
[4173]
[4174]
[4175]
[4176]
[4177]
[4178]
[4179]
[4180]
[4181]
[4182]
[4183]
[4184]
[4185]
[4186]
[4187]
[4188]
[4189]
[4190]
[4191]
[4192]
[4193]
[4194]
[4195]
[4196]
[4197]
[4198]
[4199]
[4200]
[4201]
[4202]
[4203]
[4204]
[4205]
[4206]
[4207]
[4208]
[4209]
[4210]
[4211]
[4212]
[4213]
[4214]
[4215]
[4216]
[4217]
[4218]
[4219]
[4220]
[4221]
[4222]
[4223]
[4224]
[4225]
[4226]
[{"$f":"A4229+1","v":4227}]
[4228]
[4229]
[4230]
[4231]
[4232]
[4233]
[4234]
[4235]
[4236]
[4237]
[4238]
[4239]
[4240]
[4241]
[4242]
[4243]
[4244]
[4245]
[4246]
[4247]
[4248]
[4249]
[4250]
[4251]
[4252]
[4253]
[4254]
[4255]
[4256]
[4257]
[4258]
[4259]
[4260]
[4261]
[4262]
[4263]
[4264]
[4265]
[4266]
[4267]
[4268]
[4269]
[4270]
[4271]
[4272]
[4273]
[4274]
[4275]
[4276]
[4277]
[4278]
[4279]
[4280]
[4281]
[4282]
[4283]
[4284]
[4285]
[4286]
[4287]
[4288]
[4289]
[4290]
[{"$f":"A4293+1","v":4291}]
[4292]
[4293]
[4294]
[4295]
[4296]
[4297]
[4298]
[4299]
[4300]
[4301]
[4302]
[4303]
[4304]
[4305]
[4306]
[4307]
[4308]
[4309]
[4310]
[4311]
[4312]
[4313]
[4314]
[4315]
[4316]
[4317]
[4318]
[4319]
[4320]
[4321]
[4322]
[4323]
[4324]
[4325]
[4326]
[4327]
[4328]
[4329]
[4330]
[4331]
[4332]
[4333]
[4334]
[4335]
[4336]
[4337]
[4338]
[4339]
[4340]
[4341]
[4342]
[4343]
[4344]
[4345]
[4346]
[4347]
[4348]
[4349]
[4350]
[4351]
[4352]
[4353]
[4354]
[{"$f":"A4357+1","v":4355}]
[4356]
[4357]
[4358]
[4359]
[4360]
[4361]
[4362]
[4363]
[4364]
[4365]
[4366]
[4367]
[4368]
[4369]
[4370]
[4371]
[4372]
[4373]
[4374]
[4375]
[4376]
[4377]
[4378]
[4379]
[4380]
[4381]
[4382]
[4383]
[4384]
[4385]
[4386]
[4387]
[4388]
[4389]
[4390]
[4391]
[4392]
[4393]
[4394]
[4395]
[4396]
[4397]
[4398]
[4399]
[4400]
[4401]
[4402]
[4403]
[4404]
[4405]
[4406]
[4407]
[4408]
[4409]
[4410]
[4411]
[4412]
[4413]
[4414]
[4415]
[4416]
[4417]
[4418]
[{"$f":"A4421+1","v":4419}]
[4420]
[4421]
[4422]
[4423]
[4424]
[4425]
[4426]
[4427]
[4428]
[4429]
[4430]
[4431]
[4432]
[4433]
[4434]
[4435]
[4436]
[4437]
[4438]
[4439]
[4440]
[4441]
[4442]
[4443]
[4444]
[4445]
[4446]
[4447]
[4448]
[4449]
[4450]
[4451]
[4452]
[4453]
[4454]
[4455]
[4456]
[4457]
[4458]
[4459]
[4460]
[4461]
[4462]
[4463]
[4464]
[4465]
[4466]
[4467]
[4468]
[4469]
[4470]
[4471]
[4472]
[4473]
[4474]
[4475]
[4476]
[4477]
[4478]
[4479]
[4480]
[4481]
[4482]
[{"$f":"A4485+1","v":4483}]
[4484]
[4485]
[4486]
[4487]
[4488]
[4489]
[4490]
[4491]
[4492]
[4493]
[4494]
[4495]
[4496]
[4497]
[4498]
[4499]
[4500]
[4501]
[4502]
[4503]
[4504]
[4505]
[4506]
[4507]
[4508]
[4509]
[4510]
[4511]
[4512]
[4513]
[4514]
[4515]
[4516]
[4517]
[4518]
[4519]
[4520]
[4521]
[4522]
[4523]
[4524]
[4525]
[4526]
[4527]
[4528]
[4529]
[4530]
[4531]
[4532]
[4533]
[4534]
[4535]
[4536]
[4537]
[4538]
[4539]
[4540]
[4541]
[4542]
[4543]
[4544]
[4545]
[4546]
[{"$f":"A4549+1","v":4547}]
[4548]
[4549]
[4550]
[4551]
[4552]
[4553]
[4554]
[4555]
[4556]
[4557]
[4558]
[4559]
[4560]
[4561]
[4562]
[4563]
[4564]
[4565]
[4566]
[4567]
[4568]
[4569]
[4570]
[4571]
[4572]
[4573]
[4574]
[4575]
[4576]
[4577]
[4578]
[4579]
[4580]
[4581]
[4582]
[4583]
[4584]
[4585]
[4586]
[4587]
[4588]
[4589]
[4590]
[4591]
[4592]
[4593]
[4594]
[4595]
[4596]
[4597]
[4598]
[4599]
[4600]
[4601]
[4602]
[4603]
[4604]
[4605]
[4606]
[4607]
[4608]
[4609]
[4610]
[{"$f":"A4613+1","v":4611}]
[4612]
[4613]
[4614]
[4615]
[4616]
[4617]
[4618]
[4619]
[4620]
[4621]
[4622]
[4623]
[4624]
[4625]
[4626]
[4627]
[4628]
[4629]
[4630]
[4631]
[4632]
[4633]
[4634]
[4635]
[4636]
[4637]
[4638]
[4639]
[4640]
[4641]
[4642]
[4643]
[4644]
[4645]
[4646]
[4647]
[4648]
[4649]
[4650]
[4651]
[4652]
[4653]
[4654]
[4655]
[4656]
[4657]
[4658]
[4659]
[4660]
[4661]
[4662]
[4663]
[4664]
[4665]
[4666]
[4667]
[4668]
[4669]
[4670]
[4671]
[4672]
[4673]
[4674]
[{"$f":"A4677+1","v":4675}]
[4676]
[4677]
[4678]
[4679]
[4680]
[4681]
[4682]
[4683]
[4684]
[4685]
[4686]
[4687]
[4688]
[4689]
[4690]
[4691]
[4692]
[4693]
[4694]
[4695]
[4696]
[4697]
[4698]
[4699]
[4700]
[4701]
[4702]
[4703]
[4704]
[4705]
[4706]
[4707]
[4708]
[4709]
[4710]
[4711]
[4712]
[4713]
[4714]
[4715]
[4716]
[4717]
[4718]
[4719]
[4720]
[4721]
[4722]
[4723]
[4724]
[4725]
[4726]
[4727]
[4728]
[4729]
[4730]
[4731]
[4732]
[4733]
[4734]
[4735]
[4736]
[4737]
[4738]
[{"$f":"A4741+1","v":4739}]
[4740]
[4741]
[4742]
[4743]
[4744]
[4745]
[4746]
[4747]
[4748]
[4749]
[4750]
[4751]
[4752]
[4753]
[4754]
[4755]
[4756]
[4757]
[4758]
[4759]
[4760]
[4761]
[4762]
[4763]
[4764]
[4765]
[4766]
[4767]
[4768]
[4769]
[4770]
[4771]
[4772]
[4773]
[4774]
[4775]
[4776]
[4777]
[4778]
[4779]
[4780]
[4781]
[4782]
[4783]
[4784]
[4785]
[4786]
[4787]
[4788]
[4789]
[4790]
[4791]
[4792]
[4793]
[4794]
[4795]
[4796]
[4797]
[4798]
[4799]
[4800]
[4801]
[4802]
[{"$f":"A4805+1","v":4803}]
[4804]
[4805]
[4806]
[4807]
[4808]
[4809]
[4810]
[4811]
[4812]
[4813]
[4814]
[4815]
[4816]
[4817]
[4818]
[4819]
[4820]
[4821]
[4822]
[4823]
[4824]
[4825]
[4826]
[4827]
[4828]
[4829]
[4830]
[4831]
[4832]
[4833]
[4834]
[4835]
[4836]
[4837]
[4838]
[4839]
[4840]
[4841]
[4842]
[4843]
[4844]
[4845]
[4846]
[4847]
[4848]
[4849]
[4850]
[4851]
[4852]
[4853]
[4854]
[4855]
[4856]
[4857]
[4858]
[4859]
[4860]
[4861]
[4862]
[4863]
[4864]
[4865]
[4866]
[{"$f":"A4869+1","v":4867}]
[4868]
[4869]
[4870]
[4871]
[4872]
[4873]
[4874]
[4875]
[4876]
[4877]
[4878]
[4879]
[4880]
[4881]
[4882]
[4883]
[4884]
[4885]
[4886]
[4887]
[4888]
[4889]
[4890]
[4891]
[4892]
[4893]
[4894]
[4895]
[4896]
[4897]
[4898]
[4899]
[4900]
[4901]
[4902]
[4903]
[4904]
[4905]
[4906]
[4907]
[4908]
[4909]
[4910]
[4911]
[4912]
[4913]
[4914]
[4915]
[4916]
[4917]
[4918]
[4919]
[4920]
[4921]
[4922]
[4923]
[4924]
[4925]
[4926]
[4927]
[4928]
[4929]
[4930]
[{"$f":"A4933+1","v":4931}]
[4932]
[4933]
[4934]
[4935]
[4936]
[4937]
[4938]
[4939]
[4940]
[4941]
[4942]
[4943]
[4944]
[4945]
[4946]
[4947]
[4948]
[4949]
[4950]
[4951]
[4952]
[4953]
[4954]
[4955]
[4956]
[4957]
[4958]
[4959]
[4960]
[4961]
[4962]
[4963]
[4964]
[4965]
[4966]
[4967]
[4968]
[4969]
[4970]
[4971]
[4972]
[4973]
[4974]
[4975]
[4976]
[4977]
[4978]
[4979]
[4980]
[4981]
[4982]
[4983]
[4984]
[4985]
[4986]
[4987]
[4988]
[4989]
[4990]
[4991]
[4992]
[4993]
[4994]
[{"$f":"A4997+1","v":4995}]
[4996]
[4997]
[4998]
[4999]
[5000]
[5001]
[5002]
[5003]
[5004]
[5005]
[5006]
[5007]
[5008]
[5009]
[5010]
[5011]
[5012]
[5013]
[5014]
[5015]
[5016]
[5017]
[5018]
[5019]
[5020]
[5021]
[5022]
[5023]
[5024]
[5025]
[5026]
[5027]
[5028]
[5029]
[5030]
[5031]
[5032]
[5033]
[5034]
[5035]
[5036]
[5037]
[5038]
[5039]
[5040]
[5041]
[5042]
[5043]
[5044]
[5045]
[5046]
[5047]
[5048]
[5049]
[5050]
[5051]
[5052]
[5053]
[5054]
[5055]
[5056]
[5057]
[5058]
[{"$f":"A5061+1","v":5059}]
[5060]
[5061]
[5062]
[5063]
[5064]
[5065]
[5066]
[5067]
[5068]
[5069]
[5070]
[5071]
[5072]
[5073]
[5074]
[5075]
[5076]
[5077]
[5078]
[5079]
[5080]
[5081]
[5082]
[5083]
[5084]
[5085]
[5086]
[5087]
[5088]
[5089]
[5090]
[5091]
[5092]
[5093]
[5094]
[5095]
[5096]
[5097]
[5098]
[5099]
[5100]
[5101]
[5102]
[5103]
[5104]
[5105]
[5106]
[5107]
[5108]
[5109]
[5110]
[5111]
[5112]
[5113]
[5114]
[5115]
[5116]
[5117]
[5118]
[5119]
[5120]
[5121]
[5122]
[{"$f":"A5125+1","v":5123}]
[5124]
[5125]
[5126]
[5127]
[5128]
[5129]
[5130]
[5131]
[5132]
[5133]
[5134]
[5135]
[5136]
[5137]
[5138]
[5139]
[5140]
[5141]
[5142]
[5143]
[5144]
[5145]
[5146]
[5147]
[5148]
[5149]
[5150]
[5151]
[5152]
[5153]
[5154]
[5155]
[5156]
[5157]
[5158]
[5159]
[5160]
[5161]
[5162]
[5163]
[5164]
[5165]
[5166]
[5167]
[5168]
[5169]
[5170]
[5171]
[5172]
[5173]
[5174]
[5175]
[5176]
[5177]
[5178]
[5179]
[5180]
[5181]
[5182]
[5183]
[5184]
[5185]
[5186]
[{"$f":"A5189+1","v":5187}]
[5188]
[5189]
[5190]
[5191]
[5192]
[5193]
[5194]
[5195]
[5196]
[5197]
[5198]
[5199]
[5200]
[5201]
[5202]
[5203]
[5204]
[5205]
[5206]
[5207]
[5208]
[5209]
[5210]
[5211]
[5212]
[5213]
[5214]
[5215]
[5216]
[5217]
[5218]
[5219]
[5220]
[5221]
[5222]
[5223]
[5224]
[5225]
[5226]
[5227]
[5228]
[5229]
[5230]
[5231]
[5232]
[5233]
[5234]
[5235]
[5236]
[5237]
[5238]
[5239]
[5240]
[5241]
[5242]
[5243]
[5244]
[5245]
[5246]
[5247]
[5248]
[5249]
[5250]
[{"$f":"A5253+1","v":5251}]
[5252]
[5253]
[5254]
[5255]
[5256]
[5257]
[5258]
[5259]
[5260]
[5261]
[5262]
[5263]
[5264]
[5265]
[5266]
[5267]
[5268]
[5269]
[5270]
[5271]
[5272]
[5273]
[5274]
[5275]
[5276]
[5277]
[5278]
[5279]
[5280]
[5281]
[5282]
[5283]
[5284]
[5285]
[5286]
[5287]
[5288]
[5289]
[5290]
[5291]
[5292]
[5293]
[5294]
[5295]
[5296]
[5297]
[5298]
[5299]
[5300]
[5301]
[5302]
[5303]
[5304]
[5305]
[5306]
[5307]
[5308]
[5309]
[5310]
[5311]
[5312]
[5313]
[5314]
[{"$f":"A5317+1","v":5315}]
[5316]
[5317]
[5318]
[5319]
[5320]
[5321]
[5322]
[5323]
[5324]
[5325]
[5326]
[5327]
[5328]
[5329]
[5330]
[5331]
[5332]
[5333]
[5334]
[5335]
[5336]
[5337]
[5338]
[5339]
[5340]
[5341]
[5342]
[5343]
[5344]
[5345]
[5346]
[5347]
[5348]
[5349]
[5350]
[5351]
[5352]
[5353]
[5354]
[5355]
[5356]
[5357]
[5358]
[5359]
[5360]
[5361]
[5362]
[5363]
[5364]
[5365]
[5366]
[5367]
[5368]
[5369]
[5370]
[5371]
[5372]
[5373]
[5374]
[5375]
[5376]
[5377]
[5378]
[{"$f":"A5381+1","v":5379}]
[5380]
[5381]
[5382]
[5383]
[5384]
[5385]
[5386]
[5387]
[5388]
[5389]
[5390]
[5391]
[5392]
[5393]
[5394]
[5395]
[5396]
[5397]
[5398]
[5399]
[5400]
[5401]
[5402]
[5403]
[5404]
[5405]
[5406]
[5407]
[5408]
[5409]
[5410]
[5411]
[5412]
[5413]
[5414]
[5415]
[5416]
[5417]
[5418]
[5419]
[5420]
[5421]
[5422]
[5423]
[5424]
[5425]
[5426]
[5427]
[5428]
[5429]
[5430]
[5431]
[5432]
[5433]
[5434]
[5435]
[5436]
[5437]
[5438]
[5439]
[5440]
[5441]
[5442]
[{"$f":"A5445+1","v":5443}]
[5444]
[5445]
[5446]
[5447]
[5448]
[5449]
[5450]
[5451]
[5452]
[5453]
[5454]
[5455]
[5456]
[5457]
[5458]
[5459]
[5460]
[5461]
[5462]
[5463]
[5464]
[5465]
[5466]
[5467]
[5468]
[5469]
[5470]
[5471]
[5472]
[5473]
[5474]
[5475]
[5476]
[5477]
[5478]
[5479]
[5480]
[5481]
[5482]
[5483]
[5484]
[5485]
[5486]
[5487]
[5488]
[5489]
[5490]
[5491]
[5492]
[5493]
[5494]
[5495]
[5496]
[5497]
[5498]
[5499]
[5500]
[5501]
[5502]
[5503]
[5504]
[5505]
[5506]
[{"$f":"A5509+1","v":5507}]
[5508]
[5509]
[5510]
[5511]
[5512]
[5513]
[5514]
[5515]
[5516]
[5517]
[5518]
[5519]
[5520]
[5521]
[5522]
[5523]
[5524]
[5525]
[5526]
[5527]
[5528]
[5529]
[5530]
[5531]
[5532]
[5533]
[5534]
[5535]
[5536]
[5537]
[5538]
[5539]
[5540]
[5541]
[5542]
[5543]
[5544]
[5545]
[5546]
[5547]
[5548]
[5549]
[5550]
[5551]
[5552]
[5553]
[5554]
[5555]
[5556]
[5557]
[5558]
[5559]
[5560]
[5561]
[5562]
[5563]
[5564]
[5565]
[5566]
[5567]
[5568]
[5569]
[5570]
[{"$f":"A5573+1","v":5571}]
[5572]
[5573]
[5574]
[5575]
[5576]
[5577]
[5578]
[5579]
[5580]
[5581]
[5582]
[5583]
[5584]
[5585]
[5586]
[5587]
[5588]
[5589]
[5590]
[5591]
[5592]
[5593]
[5594]
[5595]
[5596]
[5597]
[5598]
[5599]
[5600]
[5601]
[5602]
[5603]
[5604]
[5605]
[5606]
[5607]
[5608]
[5609]
[5610]
[5611]
[5612]
[5613]
[5614]
[5615]
[5616]
[5617]
[5618]
[5619]
[5620]
[5621]
[5622]
[5623]
[5624]
[5625]
[5626]
[5627]
[5628]
[5629]
[5630]
[5631]
[5632]
[5633]
[5634]
[{"$f":"A5637+1","v":5635}]
[5636]
[5637]
[5638]
[5639]
[5640]
[5641]
[5642]
[5643]
[5644]
[5645]
[5646]
[5647]
[5648]
[5649]
[5650]
[5651]
[5652]
[5653]
[5654]
[5655]
[5656]
[5657]
[5658]
[5659]
[5660]
[5661]
[5662]
[5663]
[5664]
[5665]
[5666]
[5667]
[5668]
[5669]
[5670]
[5671]
[5672]
[5673]
[5674]
[5675]
[5676]
[5677]
[5678]
[5679]
[5680]
[5681]
[5682]
[5683]
[5684]
[5685]
[5686]
[5687]
[5688]
[5689]
[5690]
[5691]
[5692]
[5693]
[5694]
[5695]
[5696]
[5697]
[5698]
[{"$f":"A5701+1","v":5699}]
[5700]
[5701]
[5702]
[5703]
[5704]
[5705]
[5706]
[5707]
[5708]
[5709]
[5710]
[5711]
[5712]
[5713]
[5714]
[5715]
[5716]
[5717]
[5718]
[5719]
[5720]
[5721]
[5722]
[5723]
[5724]
[5725]
[5726]
[5727]
[5728]
[5729]
[5730]
[5731]
[5732]
[5733]
[5734]
[5735]
[5736]
[5737]
[5738]
[5739]
[5740]
[5741]
[5742]
[5743]
[5744]
[5745]
[5746]
[5747]
[5748]
[5749]
[5750]
[5751]
[5752]
[5753]
[5754]
[5755]
[5756]
[5757]
[5758]
[5759]
[5760]
[5761]
[5762]
[{"$f":"A5765+1","v":5763}]
[5764]
[5765]
[5766]
[5767]
[5768]
[5769]
[5770]
[5771]
[5772]
[5773]
[5774]
[5775]
[5776]
[5777]
[5778]
[5779]
[5780]
[5781]
[5782]
[5783]
[5784]
[5785]
[5786]
[5787]
[5788]
[5789]
[5790]
[5791]
[5792]
[5793]
[5794]
[5795]
[5796]
[5797]
[5798]
[5799]
[5800]
[5801]
[5802]
[5803]
[5804]
[5805]
[5806]
[5807]
[5808]
[5809]
[5810]
[5811]
[5812]
[5813]
[5814]
[5815]
[5816]
[5817]
[5818]
[5819]
[5820]
[5821]
[5822]
[5823]
[5824]
[5825]
[5826]
[{"$f":"A5829+1","v":5827}]
[5828]
[5829]
[5830]
[5831]
[5832]
[5833]
[5834]
[5835]
[5836]
[5837]
[5838]
[5839]
[5840]
[5841]
[5842]
[5843]
[5844]
[5845]
[5846]
[5847]
[5848]
[5849]
[5850]
[5851]
[5852]
[5853]
[5854]
[5855]
[5856]
[5857]
[5858]
[5859]
[5860]
[5861]
[5862]
[5863]
[5864]
[5865]
[5866]
[5867]
[5868]
[5869]
[5870]
[5871]
[5872]
[5873]
[5874]
[5875]
[5876]
[5877]
[5878]
[5879]
[5880]
[5881]
[5882]
[5883]
[5884]
[5885]
[5886]
[5887]
[5888]
[5889]
[5890]
[{"$f":"A5893+1","v":5891}]
[5892]
[5893]
[5894]
[5895]
[5896]
[5897]
[5898]
[5899]
[5900]
[5901]
[5902]
[5903]
[5904]
[5905]
[5906]
[5907]
[5908]
[5909]
[5910]
[5911]
[5912]
[5913]
[5914]
[5915]
[5916]
[5917]
[5918]
[5919]
[5920]
[5921]
[5922]
[5923]
[5924]
[5925]
[5926]
[5927]
[5928]
[5929]
[5930]
[5931]
[5932]
[5933]
[5934]
[5935]
[5936]
[5937]
[5938]
[5939]
[5940]
[5941]
[5942]
[5943]
[5944]
[5945]
[5946]
[5947]
[5948]
[5949]
[5950]
[5951]
[5952]
[5953]
[5954]
[{"$f":"A5957+1","v":5955}]
[5956]
[5957]
[5958]
[5959]
[5960]
[5961]
[5962]
[5963]
[5964]
[5965]
[5966]
[5967]
[5968]
[5969]
[5970]
[5971]
[5972]
[5973]
[5974]
[5975]
[5976]
[5977]
[5978]
[5979]
[5980]
[5981]
[5982]
[5983]
[5984]
[5985]
[5986]
[5987]
[5988]
[5989]
[5990]
[5991]
[5992]
[5993]
[5994]
[5995]
[5996]
[5997]
[5998]
[5999]
[6000]
[6001]
[6002]
[6003]
[6004]
[6005]
[6006]
[6007]
[6008]
[6009]
[6010]
[6011]
[6012]
[6013]
[6014]
[6015]
[6016]
[6017]
[6018]
[{"$f":"A6021+1","v":6019}]
[6020]
[6021]
[6022]
[6023]
[6024]
[6025]
[6026]
[6027]
[6028]
[6029]
[6030]
[6031]
[6032]
[6033]
[6034]
[6035]
[6036]
[6037]
[6038]
[6039]
[6040]
[6041]
[6042]
[6043]
[6044]
[6045]
[6046]
[6047]
[6048]
[6049]
[6050]
[6051]
[6052]
[6053]
[6054]
[6055]
[6056]
[6057]
[6058]
[6059]
[6060]
[6061]
[6062]
[6063]
[6064]
[6065]
[6066]
[6067]
[6068]
[6069]
[6070]
[6071]
[6072]
[6073]
[6074]
[6075]
[6076]
[6077]
[6078]
[6079]
[6080]
[6081]
[6082]
[{"$f":"A6085+1","v":6083}]
[6084]
[6085]
[6086]
[6087]
[6088]
[6089]
[6090]
[6091]
[6092]
[6093]
[6094]
[6095]
[6096]
[6097]
[6098]
[6099]
[6100]
[6101]
[6102]
[6103]
[6104]
[6105]
[6106]
[6107]
[6108]
[6109]
[6110]
[6111]
[6112]
[6113]
[6114]
[6115]
[6116]
[6117]
[6118]
[6119]
[6120]
[6121]
[6122]
[6123]
[6124]
[6125]
[6126]
[6127]
[6128]
[6129]
[6130]
[6131]
[6132]
[6133]
[6134]
[6135]
[6136]
[6137]
[6138]
[6139]
[6140]
[6141]
[6142]
[6143]
[6144]
[6145]
[6146]
[{"$f":"A6149+1","v":6147}]
[6148]
[6149]
[6150]
[6151]
[6152]
[6153]
[6154]
[6155]
[6156]
[6157]
[6158]
[6159]
[6160]
[6161]
[6162]
[6163]
[6164]
[6165]
[6166]
[6167]
[6168]
[6169]
[6170]
[6171]
[6172]
[6173]
[6174]
[6175]
[6176]
[6177]
[6178]
[6179]
[6180]
[6181]
[6182]
[6183]
[6184]
[6185]
[6186]
[6187]
[6188]
[6189]
[6190]
[6191]
[6192]
[6193]
[6194]
[6195]
[6196]
[6197]
[6198]
[6199]
[6200]
[6201]
[6202]
[6203]
[6204]
[6205]
[6206]
[6207]
[6208]
[6209]
[6210]
[{"$f":"A6213+1","v":6211}]
[6212]
[6213]
[6214]
[6215]
[6216]
[6217]
[6218]
[6219]
[6220]
[6221]
[6222]
[6223]
[6224]
[6225]
[6226]
[6227]
[6228]
[6229]
[6230]
[6231]
[6232]
[6233]
[6234]
[6235]
[6236]
[6237]
[6238]
[6239]
[6240]
[6241]
[6242]
[6243]
[6244]
[6245]
[6246]
[6247]
[6248]
[6249]
[6250]
[6251]
[6252]
[6253]
[6254]
[6255]
[6256]
[6257]
[6258]
[6259]
[6260]
[6261]
[6262]
[6263]
[6264]
[6265]
[6266]
[6267]
[6268]
[6269]
[6270]
[6271]
[6272]
[6273]
[6274]
[{"$f":"A6277+1","v":6275}]
[6276]
[6277]
[6278]
[6279]
[6280]
[6281]
[6282]
[6283]
[6284]
[6285]
[6286]
[6287]
[6288]
[6289]
[6290]
[6291]
[6292]
[6293]
[6294]
[6295]
[6296]
[6297]
[6298]
[6299]
[6300]
[6301]
[6302]
[6303]
[6304]
[6305]
[6306]
[6307]
[6308]
[6309]
[6310]
[6311]
[6312]
[6313]
[6314]
[6315]
[6316]
[6317]
[6318]
[6319]
[6320]
[6321]
[6322]
[6323]
[6324]
[6325]
[6326]
[6327]
[6328]
[6329]
[6330]
[6331]
[6332]
[6333]
[6334]
[6335]
[6336]
[6337]
[6338]
[{"$f":"A6341+1","v":6339}]
[6340]
[6341]
[6342]
[6343]
[6344]
[6345]
[6346]
[6347]
[6348]
[6349]
[6350]
[6351]
[6352]
[6353]
[6354]
[6355]
[6356]
[6357]
[6358]
[6359]
[6360]
[6361]
[6362]
[6363]
[6364]
[6365]
[6366]
[6367]
[6368]
[6369]
[6370]
[6371]
[6372]
[6373]
[6374]
[6375]
[6376]
[6377]
[6378]
[6379]
[6380]
[6381]
[6382]
[6383]
[6384]
[6385]
[6386]
[6387]
[6388]
[6389]
[6390]
[6391]
[6392]
[6393]
[6394]
[6395]
[6396]
[6397]
[6398]
[6399]
[6400]
[6401]
[6402]
[{"$f":"A6405+1","v":6403}]
[6404]
[6405]
[6406]
[6407]
[6408]
[6409]
[6410]
[6411]
[6412]
[6413]
[6414]
[6415]
[6416]
[6417]
[6418]
[6419]
[6420]
[6421]
[6422]
[6423]
[6424]
[6425]
[6426]
[6427]
[6428]
[6429]
[6430]
[6431]
[6432]
[6433]
[6434]
[6435]
[6436]
[6437]
[6438]
[6439]
[6440]
[6441]
[6442]
[6443]
[6444]
[6445]
[6446]
[6447]
[6448]
[6449]
[6450]
[6451]
[6452]
[6453]
[6454]
[6455]
[6456]
[6457]
[6458]
[6459]
[6460]
[6461]
[6462]
[6463]
[6464]
[6465]
[6466]
[{"$f":"A6469+1","v":6467}]
[6468]
[6469]
[6470]
[6471]
[6472]
[6473]
[6474]
[6475]
[6476]
[6477]
[6478]
[6479]
[6480]
[6481]
[6482]
[6483]
[6484]
[6485]
[6486]
[6487]
[6488]
[6489]
[6490]
[6491]
[6492]
[6493]
[6494]
[6495]
[6496]
[6497]
[6498]
[6499]
[6500]
[6501]
[6502]
[6503]
[6504]
[6505]
[6506]
[6507]
[6508]
[6509]
[6510]
[6511]
[6512]
[6513]
[6514]
[6515]
[6516]
[6517]
[6518]
[6519]
[6520]
[6521]
[6522]
[6523]
[6524]
[6525]
[6526]
[6527]
[6528]
[6529]
[6530]
[{"$f":"A6533+1","v":6531}]
[6532]
[6533]
[6534]
[6535]
[6536]
[6537]
[6538]
[6539]
[6540]
[6541]
[6542]
[6543]
[6544]
[6545]
[6546]
[6547]
[6548]
[6549]
[6550]
[6551]
[6552]
[6553]
[6554]
[6555]
[6556]
[6557]
[6558]
[6559]
[6560]
[6561]
[6562]
[6563]
[6564]
[6565]
[6566]
[6567]
[6568]
[6569]
[6570]
[6571]
[6572]
[6573]
[6574]
[6575]
[6576]
[6577]
[6578]
[6579]
[6580]
[6581]
[6582]
[6583]
[6584]
[6585]
[6586]
[6587]
[6588]
[6589]
[6590]
[6591]
[6592]
[6593]
[6594]
[{"$f":"A6597+1","v":6595}]
[6596]
[6597]
[6598]
[6599]
[6600]
[6601]
[6602]
[6603]
[6604]
[6605]
[6606]
[6607]
[6608]
[6609]
[6610]
[6611]
[6612]
[6613]
[6614]
[6615]
[6616]
[6617]
[6618]
[6619]
[6620]
[6621]
[6622]
[6623]
[6624]
[6625]
[6626]
[6627]
[6628]
[6629]
[6630]
[6631]
[6632]
[6633]
[6634]
[6635]
[6636]
[6637]
[6638]
[6639]
[6640]
[6641]
[6642]
[6643]
[6644]
[6645]
[6646]
[6647]
[6648]
[6649]
[6650]
[6651]
[6652]
[6653]
[6654]
[6655]
[6656]
[6657]
[6658]
[{"$f":"A6661+1","v":6659}]
[6660]
[6661]
[6662]
[6663]
[6664]
[6665]
[6666]
[6667]
[6668]
[6669]
[6670]
[6671]
[6672]
[6673]
[6674]
[6675]
[6676]
[6677]
[6678]
[6679]
[6680]
[6681]
[6682]
[6683]
[6684]
[6685]
[6686]
[6687]
[6688]
[6689]
[6690]
[6691]
[6692]
[6693]
[6694]
[6695]
[6696]
[6697]
[6698]
[6699]
[6700]
[6701]
[6702]
[6703]
[6704]
[6705]
[6706]
[6707]
[6708]
[6709]
[6710]
[6711]
[6712]
[6713]
[6714]
[6715]
[6716]
[6717]
[6718]
[6719]
[6720]
[6721]
[6722]
[{"$f":"A6725+1","v":6723}]
[6724]
[6725]
[6726]
[6727]
[6728]
[6729]
[6730]
[6731]
[6732]
[6733]
[6734]
[6735]
[6736]
[6737]
[6738]
[6739]
[6740]
[6741]
[6742]
[6743]
[6744]
[6745]
[6746]
[6747]
[6748]
[6749]
[6750]
[6751]
[6752]
[6753]
[6754]
[6755]
[6756]
[6757]
[6758]
[6759]
[6760]
[6761]
[6762]
[6763]
[6764]
[6765]
[6766]
[6767]
[6768]
[6769]
[6770]
[6771]
[6772]
[6773]
[6774]
[6775]
[6776]
[6777]
[6778]
[6779]
[6780]
[6781]
[6782]
[6783]
[6784]
[6785]
[6786]
[{"$f":"A6789+1","v":6787}]
[6788]
[6789]
[6790]
[6791]
[6792]
[6793]
[6794]
[6795]
[6796]
[6797]
[6798]
[6799]
[6800]
[6801]
[6802]
[6803]
[6804]
[6805]
[6806]
[6807]
[6808]
[6809]
[6810]
[6811]
[6812]
[6813]
[6814]
[6815]
[6816]
[6817]
[6818]
[6819]
[6820]
[6821]
[6822]
[6823]
[6824]
[6825]
[6826]
[6827]
[6828]
[6829]
[6830]
[6831]
[6832]
[6833]
[6834]
[6835]
[6836]
[6837]
[6838]
[6839]
[6840]
[6841]
[6842]
[6843]
[6844]
[6845]
[6846]
[6847]
[6848]
[6849]
[6850]
[{"$f":"A6853+1","v":6851}]
[6852]
[6853]
[6854]
[6855]
[6856]
[6857]
[6858]
[6859]
[6860]
[6861]
[6862]
[6863]
[6864]
[6865]
[6866]
[6867]
[6868]
[6869]
[6870]
[6871]
[6872]
[6873]
[6874]
[6875]
[6876]
[6877]
[6878]
[6879]
[6880]
[6881]
[6882]
[6883]
[6884]
[6885]
[6886]
[6887]
[6888]
[6889]
[6890]
[6891]
[6892]
[6893]
[6894]
[6895]
[6896]
[6897]
[6898]
[6899]
[6900]
[6901]
[6902]
[6903]
[6904]
[6905]
[6906]
[6907]
[6908]
[6909]
[6910]
[6911]
[6912]
[6913]
[6914]
[{"$f":"A6917+1","v":6915}]
[6916]
[6917]
[6918]
[6919]
[6920]
[6921]
[6922]
[6923]
[6924]
[6925]
[6926]
[6927]
[6928]
[6929]
[6930]
[6931]
[6932]
[6933]
[6934]
[6935]
[6936]
[6937]
[6938]
[6939]
[6940]
[6941]
[6942]
[6943]
[6944]
[6945]
[6946]
[6947]
[6948]
[6949]
[6950]
[6951]
[6952]
[6953]
[6954]
[6955]
[6956]
[6957]
[6958]
[6959]
[6960]
[6961]
[6962]
[6963]
[6964]
[6965]
[6966]
[6967]
[6968]
[6969]
[6970]
[6971]
[6972]
[6973]
[6974]
[6975]
[6976]
[6977]
[6978]
[{"$f":"A6981+1","v":6979}]
[6980]
[6981]
[6982]
[6983]
[6984]
[6985]
[6986]
[6987]
[6988]
[6989]
[6990]
[6991]
[6992]
[6993]
[6994]
[6995]
[6996]
[6997]
[6998]
[6999]
[7000]
[7001]
[7002]
[7003]
[7004]
[7005]
[7006]
[7007]
[7008]
[7009]
[7010]
[7011]
[7012]
[7013]
[7014]
[7015]
[7016]
[7017]
[7018]
[7019]
[7020]
[7021]
[7022]
[7023]
[7024]
[7025]
[7026]
[7027]
[7028]
[7029]
[7030]
[7031]
[7032]
[7033]
[7034]
[7035]
[7036]
[7037]
[7038]
[7039]
[7040]
[7041]
[7042]
[{"$f":"A7045+1","v":7043}]
[7044]
[7045]
[7046]
[7047]
[7048]
[7049]
[7050]
[7051]
[7052]
[7053]
[7054]
[7055]
[7056]
[7057]
[7058]
[7059]
[7060]
[7061]
[7062]
[7063]
[7064]
[7065]
[7066]
[7067]
[7068]
[7069]
[7070]
[7071]
[7072]
[7073]
[7074]
[7075]
[7076]
[7077]
[7078]
[7079]
[7080]
[7081]
[7082]
[7083]
[7084]
[7085]
[7086]
[7087]
[7088]
[7089]
[7090]
[7091]
[7092]
[7093]
[7094]
[7095]
[7096]
[7097]
[7098]
[7099]
[7100]
[7101]
[7102]
[7103]
[7104]
[7105]
[7106]
[{"$f":"A7109+1","v":7107}]
[7108]
[7109]
[7110]
[7111]
[7112]
[7113]
[7114]
[7115]
[7116]
[7117]
[7118]
[7119]
[7120]
[7121]
[7122]
[7123]
[7124]
[7125]
[7126]
[7127]
[7128]
[7129]
[7130]
[7131]
[7132]
[7133]
[7134]
[7135]
[7136]
[7137]
[7138]
[7139]
[7140]
[7141]
[7142]
[7143]
[7144]
[7145]
[7146]
[7147]
[7148]
[7149]
[7150]
[7151]
[7152]
[7153]
[7154]
[7155]
[7156]
[7157]
[7158]
[7159]
[7160]
[7161]
[7162]
[7163]
[7164]
[7165]
[7166]
[7167]
[7168]
[7169]
[7170]
[{"$f":"A7173+1","v":7171}]
[7172]
[7173]
[7174]
[7175]
[7176]
[7177]
[7178]
[7179]
[7180]
[7181]
[7182]
[7183]
[7184]
[7185]
[7186]
[7187]
[7188]
[7189]
[7190]
[7191]
[7192]
[7193]
[7194]
[7195]
[7196]
[7197]
[7198]
[7199]
[7200]
[7201]
[7202]
[7203]
[7204]
[7205]
[7206]
[7207]
[7208]
[7209]
[7210]
[7211]
[7212]
[7213]
[7214]
[7215]
[7216]
[7217]
[7218]
[7219]
[7220]
[7221]
[7222]
[7223]
[7224]
[7225]
[7226]
[7227]
[7228]
[7229]
[7230]
[7231]
[7232]
[7233]
[7234]
[{"$f":"A7237+1","v":7235}]
[7236]
[7237]
[7238]
[7239]
[7240]
[7241]
[7242]
[7243]
[7244]
[7245]
[7246]
[7247]
[7248]
[7249]
[7250]
[7251]
[7252]
[7253]
[7254]
[7255]
[7256]
[7257]
[7258]
[7259]
[7260]
[7261]
[7262]
[7263]
[7264]
[7265]
[7266]
[7267]
[7268]
[7269]
[7270]
[7271]
[7272]
[7273]
[7274]
[7275]
[7276]
[7277]
[7278]
[7279]
[7280]
[7281]
[7282]
[7283]
[7284]
[7285]
[7286]
[7287]
[7288]
[7289]
[7290]
[7291]
[7292]
[7293]
[7294]
[7295]
[7296]
[7297]
[7298]
[{"$f":"A7301+1","v":7299}]
[7300]
[7301]
[7302]
[7303]
[7304]
[7305]
[7306]
[7307]
[7308]
[7309]
[7310]
[7311]
[7312]
[7313]
[7314]
[7315]
[7316]
[7317]
[7318]
[7319]
[7320]
[7321]
[7322]
[7323]
[7324]
[7325]
[7326]
[7327]
[7328]
[7329]
[7330]
[7331]
[7332]
[7333]
[7334]
[7335]
[7336]
[7337]
[7338]
[7339]
[7340]
[7341]
[7342]
[7343]
[7344]
[7345]
[7346]
[7347]
[7348]
[7349]
[7350]
[7351]
[7352]
[7353]
[7354]
[7355]
[7356]
[7357]
[7358]
[7359]
[7360]
[7361]
[7362]
[{"$f":"A7365+1","v":7363}]
[7364]
[7365]
[7366]
[7367]
[7368]
[7369]
[7370]
[7371]
[7372]
[7373]
[7374]
[7375]
[7376]
[7377]
[7378]
[7379]
[7380]
[7381]
[7382]
[7383]
[7384]
[7385]
[7386]
[7387]
[7388]
[7389]
[7390]
[7391]
[7392]
[7393]
[7394]
[7395]
[7396]
[7397]
[7398]
[7399]
[7400]
[7401]
[7402]
[7403]
[7404]
[7405]
[7406]
[7407]
[7408]
[7409]
[7410]
[7411]
[7412]
[7413]
[7414]
[7415]
[7416]
[7417]
[7418]
[7419]
[7420]
[7421]
[7422]
[7423]
[7424]
[7425]
[7426]
[{"$f":"A7429+1","v":7427}]
[7428]
[7429]
[7430]
[7431]
[7432]
[7433]
[7434]
[7435]
[7436]
[7437]
[7438]
[7439]
[7440]
[7441]
[7442]
[7443]
[7444]
[7445]
[7446]
[7447]
[7448]
[7449]
[7450]
[7451]
[7452]
[7453]
[7454]
[7455]
[7456]
[7457]
[7458]
[7459]
[7460]
[7461]
[7462]
[7463]
[7464]
[7465]
[7466]
[7467]
[7468]
[7469]
[7470]
[7471]
[7472]
[7473]
[7474]
[7475]
[7476]
[7477]
[7478]
[7479]
[7480]
[7481]
[7482]
[7483]
[7484]
[7485]
[7486]
[7487]
[7488]
[7489]
[7490]
[{"$f":"A7493+1","v":7491}]
[7492]
[7493]
[7494]
[7495]
[7496]
[7497]
[7498]
[7499]
[7500]
[7501]
[7502]
[7503]
[7504]
[7505]
[7506]
[7507]
[7508]
[7509]
[7510]
[7511]
[7512]
[7513]
[7514]
[7515]
[7516]
[7517]
[7518]
[7519]
[7520]
[7521]
[7522]
[7523]
[7524]
[7525]
[7526]
[7527]
[7528]
[7529]
[7530]
[7531]
[7532]
[7533]
[7534]
[7535]
[7536]
[7537]
[7538]
[7539]
[7540]
[7541]
[7542]
[7543]
[7544]
[7545]
[7546]
[7547]
[7548]
[7549]
[7550]
[7551]
[7552]
[7553]
[7554]
[{"$f":"A7557+1","v":7555}]
[7556]
[7557]
[7558]
[7559]
[7560]
[7561]
[7562]
[7563]
[7564]
[7565]
[7566]
[7567]
[7568]
[7569]
[7570]
[7571]
[7572]
[7573]
[7574]
[7575]
[7576]
[7577]
[7578]
[7579]
[7580]
[7581]
[7582]
[7583]
[7584]
[7585]
[7586]
[7587]
[7588]
[7589]
[7590]
[7591]
[7592]
[7593]
[7594]
[7595]
[7596]
[7597]
[7598]
[7599]
[7600]
[7601]
[7602]
[7603]
[7604]
[7605]
[7606]
[7607]
[7608]
[7609]
[7610]
[7611]
[7612]
[7613]
[7614]
[7615]
[7616]
[7617]
[7618]
[{"$f":"A7621+1","v":7619}]
[7620]
[7621]
[7622]
[7623]
[7624]
[7625]
[7626]
[7627]
[7628]
[7629]
[7630]
[7631]
[7632]
[7633]
[7634]
[7635]
[7636]
[7637]
[7638]
[7639]
[7640]
[7641]
[7642]
[7643]
[7644]
[7645]
[7646]
[7647]
[7648]
[7649]
[7650]
[7651]
[7652]
[7653]
[7654]
[7655]
[7656]
[7657]
[7658]
[7659]
[7660]
[7661]
[7662]
[7663]
[7664]
[7665]
[7666]
[7667]
[7668]
[7669]
[7670]
[7671]
[7672]
[7673]
[7674]
[7675]
[7676]
[7677]
[7678]
[7679]
[7680]
[7681]
[7682]
[{"$f":"A7685+1","v":7683}]
[7684]
[7685]
[7686]
[7687]
[7688]
[7689]
[7690]
[7691]
[7692]
[7693]
[7694]
[7695]
[7696]
[7697]
[7698]
[7699]
[7700]
[7701]
[7702]
[7703]
[7704]
[7705]
[7706]
[7707]
[7708]
[7709]
[7710]
[7711]
[7712]
[7713]
[7714]
[7715]
[7716]
[7717]
[7718]
[7719]
[7720]
[7721]
[7722]
[7723]
[7724]
[7725]
[7726]
[7727]
[7728]
[7729]
[7730]
[7731]
[7732]
[7733]
[7734]
[7735]
[7736]
[7737]
[7738]
[7739]
[7740]
[7741]
[7742]
[7743]
[7744]
[7745]
[7746]
[{"$f":"A7749+1","v":7747}]
[7748]
[7749]
[7750]
[7751]
[7752]
[7753]
[7754]
[7755]
[7756]
[7757]
[7758]
[7759]
[7760]
[7761]
[7762]
[7763]
[7764]
[7765]
[7766]
[7767]
[7768]
[7769]
[7770]
[7771]
[7772]
[7773]
[7774]
[7775]
[7776]
[7777]
[7778]
[7779]
[7780]
[7781]
[7782]
[7783]
[7784]
[7785]
[7786]
[7787]
[7788]
[7789]
[7790]
[7791]
[7792]
[7793]
[7794]
[7795]
[7796]
[7797]
[7798]
[7799]
[7800]
[7801]
[7802]
[7803]
[7804]
[7805]
[7806]
[7807]
[7808]
[7809]
[7810]
[{"$f":"A7813+1","v":7811}]
[7812]
[7813]
[7814]
[7815]
[7816]
[7817]
[7818]
[7819]
[7820]
[7821]
[7822]
[7823]
[7824]
[7825]
[7826]
[7827]
[7828]
[7829]
[7830]
[7831]
[7832]
[7833]
[7834]
[7835]
[7836]
[7837]
[7838]
[7839]
[7840]
[7841]
[7842]
[7843]
[7844]
[7845]
[7846]
[7847]
[7848]
[7849]
[7850]
[7851]
[7852]
[7853]
[7854]
[7855]
[7856]
[7857]
[7858]
[7859]
[7860]
[7861]
[7862]
[7863]
[7864]
[7865]
[7866]
[7867]
[7868]
[7869]
[7870]
[7871]
[7872]
[7873]
[7874]
[{"$f":"A7877+1","v":7875}]
[7876]
[7877]
[7878]
[7879]
[7880]
[7881]
[7882]
[7883]
[7884]
[7885]
[7886]
[7887]
[7888]
[7889]
[7890]
[7891]
[7892]
[7893]
[7894]
[7895]
[7896]
[7897]
[7898]
[7899]
[7900]
[7901]
[7902]
[7903]
[7904]
[7905]
[7906]
[7907]
[7908]
[7909]
[7910]
[7911]
[7912]
[7913]
[7914]
[7915]
[7916]
[7917]
[7918]
[7919]
[7920]
[7921]
[7922]
[7923]
[7924]
[7925]
[7926]
[7927]
[7928]
[7929]
[7930]
[7931]
[7932]
[7933]
[7934]
[7935]
[7936]
[7937]
[7938]
[{"$f":"A7941+1","v":7939}]
[7940]
[7941]
[7942]
[7943]
[7944]
[7945]
[7946]
[7947]
[7948]
[7949]
[7950]
[7951]
[7952]
[7953]
[7954]
[7955]
[7956]
[7957]
[7958]
[7959]
[7960]
[7961]
[7962]
[7963]
[7964]
[7965]
[7966]
[7967]
[7968]
[7969]
[7970]
[7971]
[7972]
[7973]
[7974]
[7975]
[7976]
[7977]
[7978]
[7979]
[7980]
[7981]
[7982]
[7983]
[7984]
[7985]
[7986]
[7987]
[7988]
[7989]
[7990]
[7991]
[7992]
[7993]
[7994]
[7995]
[7996]
[7997]
[7998]
[7999]
[8000]
[8001]
[8002]
[{"$f":"A8005+1","v":8003}]
[8004]
[8005]
[8006]
[8007]
[8008]
[8009]
[8010]
[8011]
[8012]
[8013]
[8014]
[8015]
[8016]
[8017]
[8018]
[8019]
[8020]
[8021]
[8022]
[8023]
[8024]
[8025]
[8026]
[8027]
[8028]
[8029]
[8030]
[8031]
[8032]
[8033]
[8034]
[8035]
[8036]
[8037]
[8038]
[8039]
[8040]
[8041]
[8042]
[8043]
[8044]
[8045]
[8046]
[8047]
[8048]
[8049]
[8050]
[8051]
[8052]
[8053]
[8054]
[8055]
[8056]
[8057]
[8058]
[8059]
[8060]
[8061]
[8062]
[8063]
[8064]
[8065]
[8066]
[{"$f":"A8069+1","v":8067}]
[8068]
[8069]
[8070]
[8071]
[8072]
[8073]
[8074]
[8075]
[8076]
[8077]
[8078]
[8079]
[8080]
[8081]
[8082]
[8083]
[8084]
[8085]
[8086]
[8087]
[8088]
[8089]
[8090]
[8091]
[8092]
[8093]
[8094]
[8095]
[8096]
[8097]
[8098]
[8099]
[8100]
[8101]
[8102]
[8103]
[8104]
[8105]
[8106]
[8107]
[8108]
[8109]
[8110]
[8111]
[8112]
[8113]
[8114]
[8115]
[8116]
[8117]
[8118]
[8119]
[8120]
[8121]
[8122]
[8123]
[8124]
[8125]
[8126]
[8127]
[8128]
[8129]
[8130]
[{"$f":"A8133+1","v":8131}]
[8132]
[8133]
[8134]
[8135]
[8136]
[8137]
[8138]
[8139]
[8140]
[8141]
[8142]
[8143]
[8144]
[8145]
[8146]
[8147]
[8148]
[8149]
[8150]
[8151]
[8152]
[8153]
[8154]
[8155]
[8156]
[8157]
[8158]
[8159]
[8160]
[8161]
[8162]
[8163]
[8164]
[8165]
[8166]
[8167]
[8168]
[8169]
[8170]
[8171]
[8172]
[8173]
[8174]
[8175]
[8176]
[8177]
[8178]
[8179]
[8180]
[8181]
[8182]
[8183]
[8184]
[8185]
[8186]
[8187]
[8188]
[8189]
[8190]
[8191]
[8192]
[8193]
[8194]
[{"$f":"A8197+1","v":8195}]
[8196]
[8197]
[8198]
[8199]
[8200]
[8201]
[8202]
[8203]
[8204]
[8205]
[8206]
[8207]
[8208]
[8209]
[8210]
[8211]
[8212]
[8213]
[8214]
[8215]
[8216]
[8217]
[8218]
[8219]
[8220]
[8221]
[8222]
[8223]
[8224]
[8225]
[8226]
[8227]
[8228]
[8229]
[8230]
[8231]
[8232]
[8233]
[8234]
[8235]
[8236]
[8237]
[8238]
[8239]
[8240]
[8241]
[8242]
[8243]
[8244]
[8245]
[8246]
[8247]
[8248]
[8249]
[8250]
[8251]
[8252]
[8253]
[8254]
[8255]
[8256]
[8257]
[8258]
[{"$f":"A8261+1","v":8259}]
[8260]
[8261]
[8262]
[8263]
[8264]
[8265]
[8266]
[8267]
[8268]
[8269]
[8270]
[8271]
[8272]
[8273]
[8274]
[8275]
[8276]
[8277]
[8278]
[8279]
[8280]
[8281]
[8282]
[8283]
[8284]
[8285]
[8286]
[8287]
[8288]
[8289]
[8290]
[8291]
[8292]
[8293]
[8294]
[8295]
[8296]
[8297]
[8298]
[8299]
[8300]
[8301]
[8302]
[8303]
[8304]
[8305]
[8306]
[8307]
[8308]
[8309]
[8310]
[8311]
[8312]
[8313]
[8314]
[8315]
[8316]
[8317]
[8318]
[8319]
[8320]
[8321]
[8322]
[{"$f":"A8325+1","v":8323}]
[8324]
[8325]
[8326]
[8327]
[8328]
[8329]
[8330]
[8331]
[8332]
[8333]
[8334]
[8335]
[8336]
[8337]
[8338]
[8339]
[8340]
[8341]
[8342]
[8343]
[8344]
[8345]
[8346]
[8347]
[8348]
[8349]
[8350]
[8351]
[8352]
[8353]
[8354]
[8355]
[8356]
[8357]
[8358]
[8359]
[8360]
[8361]
[8362]
[8363]
[8364]
[8365]
[8366]
[8367]
[8368]
[8369]
[8370]
[8371]
[8372]
[8373]
[8374]
[8375]
[8376]
[8377]
[8378]
[8379]
[8380]
[8381]
[8382]
[8383]
[8384]
[8385]
[8386]
[{"$f":"A8389+1","v":8387}]
[8388]
[8389]
[8390]
[8391]
[8392]
[8393]
[8394]
[8395]
[8396]
[8397]
[8398]
[8399]
[8400]
[8401]
[8402]
[8403]
[8404]
[8405]
[8406]
[8407]
[8408]
[8409]
[8410]
[8411]
[8412]
[8413]
[8414]
[8415]
[8416]
[8417]
[8418]
[8419]
[8420]
[8421]
[8422]
[8423]
[8424]
[8425]
[8426]
[8427]
[8428]
[8429]
[8430]
[8431]
[8432]
[8433]
[8434]
[8435]
[8436]
[8437]
[8438]
[8439]
[8440]
[8441]
[8442]
[8443]
[8444]
[8445]
[8446]
[8447]
[8448]
[8449]
[8450]
[{"$f":"A8453+1","v":8451}]
[8452]
[8453]
[8454]
[8455]
[8456]
[8457]
[8458]
[8459]
[8460]
[8461]
[8462]
[8463]
[8464]
[8465]
[8466]
[8467]
[8468]
[8469]
[8470]
[8471]
[8472]
[8473]
[8474]
[8475]
[8476]
[8477]
[8478]
[8479]
[8480]
[8481]
[8482]
[8483]
[8484]
[8485]
[8486]
[8487]
[8488]
[8489]
[8490]
[8491]
[8492]
[8493]
[8494]
[8495]
[8496]
[8497]
[8498]
[8499]
[8500]
[8501]
[8502]
[8503]
[8504]
[8505]
[8506]
[8507]
[8508]
[8509]
[8510]
[8511]
[8512]
[8513]
[8514]
[{"$f":"A8517+1","v":8515}]
[8516]
[8517]
[8518]
[8519]
[8520]
[8521]
[8522]
[8523]
[8524]
[8525]
[8526]
[8527]
[8528]
[8529]
[8530]
[8531]
[8532]
[8533]
[8534]
[8535]
[8536]
[8537]
[8538]
[8539]
[8540]
[8541]
[8542]
[8543]
[8544]
[8545]
[8546]
[8547]
[8548]
[8549]
[8550]
[8551]
[8552]
[8553]
[8554]
[8555]
[8556]
[8557]
[8558]
[8559]
[8560]
[8561]
[8562]
[8563]
[8564]
[8565]
[8566]
[8567]
[8568]
[8569]
[8570]
[8571]
[8572]
[8573]
[8574]
[8575]
[8576]
[8577]
[8578]
[{"$f":"A8581+1","v":8579}]
[8580]
[8581]
[8582]
[8583]
[8584]
[8585]
[8586]
[8587]
[8588]
[8589]
[8590]
[8591]
[8592]
[8593]
[8594]
[8595]
[8596]
[8597]
[8598]
[8599]
[8600]
[8601]
[8602]
[8603]
[8604]
[8605]
[8606]
[8607]
[8608]
[8609]
[8610]
[8611]
[8612]
[8613]
[8614]
[8615]
[8616]
[8617]
[8618]
[8619]
[8620]
[8621]
[8622]
[8623]
[8624]
[8625]
[8626]
[8627]
[8628]
[8629]
[8630]
[8631]
[8632]
[8633]
[8634]
[8635]
[8636]
[8637]
[8638]
[8639]
[8640]
[8641]
[8642]
[{"$f":"A8645+1","v":8643}]
[8644]
[8645]
[8646]
[8647]
[8648]
[8649]
[8650]
[8651]
[8652]
[8653]
[8654]
[8655]
[8656]
[8657]
[8658]
[8659]
[8660]
[8661]
[8662]
[8663]
[8664]
[8665]
[8666]
[8667]
[8668]
[8669]
[8670]
[8671]
[8672]
[8673]
[8674]
[8675]
[8676]
[8677]
[8678]
[8679]
[8680]
[8681]
[8682]
[8683]
[8684]
[8685]
[8686]
[8687]
[8688]
[8689]
[8690]
[8691]
[8692]
[8693]
[8694]
[8695]
[8696]
[8697]
[8698]
[8699]
[8700]
[8701]
[8702]
[8703]
[8704]
[8705]
[8706]
[{"$f":"A8709+1","v":8707}]
[8708]
[8709]
[8710]
[8711]
[8712]
[8713]
[8714]
[8715]
[8716]
[8717]
[8718]
[8719]
[8720]
[8721]
[8722]
[8723]
[8724]
[8725]
[8726]
[8727]
[8728]
[8729]
[8730]
[8731]
[8732]
[8733]
[8734]
[8735]
[8736]
[8737]
[8738]
[8739]
[8740]
[8741]
[8742]
[8743]
[8744]
[8745]
[8746]
[8747]
[8748]
[8749]
[8750]
[8751]
[8752]
[8753]
[8754]
[8755]
[8756]
[8757]
[8758]
[8759]
[8760]
[8761]
[8762]
[8763]
[8764]
[8765]
[8766]
[8767]
[8768]
[8769]
[8770]
[{"$f":"A8773+1","v":8771}]
[8772]
[8773]
[8774]
[8775]
[8776]
[8777]
[8778]
[8779]
[8780]
[8781]
[8782]
[8783]
[8784]
[8785]
[8786]
[8787]
[8788]
[8789]
[8790]
[8791]
[8792]
[8793]
[8794]
[8795]
[8796]
[8797]
[8798]
[8799]
[8800]
[8801]
[8802]
[8803]
[8804]
[8805]
[8806]
[8807]
[8808]
[8809]
[8810]
[8811]
[8812]
[8813]
[8814]
[8815]
[8816]
[8817]
[8818]
[8819]
[8820]
[8821]
[8822]
[8823]
[8824]
[8825]
[8826]
[8827]
[8828]
[8829]
[8830]
[8831]
[8832]
[8833]
[8834]
[{"$f":"A8837+1","v":8835}]
[8836]
[8837]
[8838]
[8839]
[8840]
[8841]
[8842]
[8843]
[8844]
[8845]
[8846]
[8847]
[8848]
[8849]
[8850]
[8851]
[8852]
[8853]
[8854]
[8855]
[8856]
[8857]
[8858]
[8859]
[8860]
[8861]
[8862]
[8863]
[8864]
[8865]
[8866]
[8867]
[8868]
[8869]
[8870]
[8871]
[8872]
[8873]
[8874]
[8875]
[8876]
[8877]
[8878]
[8879]
[8880]
[8881]
[8882]
[8883]
[8884]
[8885]
[8886]
[8887]
[8888]
[8889]
[8890]
[8891]
[8892]
[8893]
[8894]
[8895]
[8896]
[8897]
[8898]
[{"$f":"A8901+1","v":8899}]
[8900]
[8901]
[8902]
[8903]
[8904]
[8905]
[8906]
[8907]
[8908]
[8909]
[8910]
[8911]
[8912]
[8913]
[8914]
[8915]
[8916]
[8917]
[8918]
[8919]
[8920]
[8921]
[8922]
[8923]
[8924]
[8925]
[8926]
[8927]
[8928]
[8929]
[8930]
[8931]
[8932]
[8933]
[8934]
[8935]
[8936]
[8937]
[8938]
[8939]
[8940]
[8941]
[8942]
[8943]
[8944]
[8945]
[8946]
[8947]
[8948]
[8949]
[8950]
[8951]
[8952]
[8953]
[8954]
[8955]
[8956]
[8957]
[8958]
[8959]
[8960]
[8961]
[8962]
[{"$f":"A8965+1","v":8963}]
[8964]
[8965]
[8966]
[8967]
[8968]
[8969]
[8970]
[8971]
[8972]
[8973]
[8974]
[8975]
[8976]
[8977]
[8978]
[8979]
[8980]
[8981]
[8982]
[8983]
[8984]
[8985]
[8986]
[8987]
[8988]
[8989]
[8990]
[8991]
[8992]
[8993]
[8994]
[8995]
[8996]
[8997]
[8998]
[8999]
[9000]
[9001]
[9002]
[9003]
[9004]
[9005]
[9006]
[9007]
[9008]
[9009]
[9010]
[9011]
[9012]
[9013]
[9014]
[9015]
[9016]
[9017]
[9018]
[9019]
[9020]
[9021]
[9022]
[9023]
[9024]
[9025]
[9026]
[{"$f":"A9029+1","v":9027}]
[9028]
[9029]
[9030]
[9031]
[9032]
[9033]
[9034]
[9035]
[9036]
[9037]
[9038]
[9039]
[9040]
[9041]
[9042]
[9043]
[9044]
[9045]
[9046]
[9047]
[9048]
[9049]
[9050]
[9051]
[9052]
[9053]
[9054]
[9055]
[9056]
[9057]
[9058]
[9059]
[9060]
[9061]
[9062]
[9063]
[9064]
[9065]
[9066]
[9067]
[9068]
[9069]
[9070]
[9071]
[9072]
[9073]
[9074]
[9075]
[9076]
[9077]
[9078]
[9079]
[9080]
[9081]
[9082]
[9083]
[9084]
[9085]
[9086]
[9087]
[9088]
[9089]
[9090]
[{"$f":"A9093+1","v":9091}]
[9092]
[9093]
[9094]
[9095]
[9096]
[9097]
[9098]
[9099]
[9100]
[9101]
[9102]
[9103]
[9104]
[9105]
[9106]
[9107]
[9108]
[9109]
[9110]
[9111]
[9112]
[9113]
[9114]
[9115]
[9116]
[9117]
[9118]
[9119]
[9120]
[9121]
[9122]
[9123]
[9124]
[9125]
[9126]
[9127]
[9128]
[9129]
[9130]
[9131]
[9132]
[9133]
[9134]
[9135]
[9136]
[9137]
[9138]
[9139]
[9140]
[9141]
[9142]
[9143]
[9144]
[9145]
[9146]
[9147]
[9148]
[9149]
[9150]
[9151]
[9152]
[9153]
[9154]
[{"$f":"A9157+1","v":9155}]
[9156]
[9157]
[9158]
[9159]
[9160]
[9161]
[9162]
[9163]
[9164]
[9165]
[9166]
[9167]
[9168]
[9169]
[9170]
[9171]
[9172]
[9173]
[9174]
[9175]
[9176]
[9177]
[9178]
[9179]
[9180]
[9181]
[9182]
[9183]
[9184]
[9185]
[9186]
[9187]
[9188]
[9189]
[9190]
[9191]
[9192]
[9193]
[9194]
[9195]
[9196]
[9197]
[9198]
[9199]
[9200]
[9201]
[9202]
[9203]
[9204]
[9205]
[9206]
[9207]
[9208]
[9209]
[9210]
[9211]
[9212]
[9213]
[9214]
[9215]
[9216]
[9217]
[9218]
[{"$f":"A9221+1","v":9219}]
[9220]
[9221]
[9222]
[9223]
[9224]
[9225]
[9226]
[9227]
[9228]
[9229]
[9230]
[9231]
[9232]
[9233]
[9234]
[9235]
[9236]
[9237]
[9238]
[9239]
[9240]
[9241]
[9242]
[9243]
[9244]
[9245]
[9246]
[9247]
[9248]
[9249]
[9250]
[9251]
[9252]
[9253]
[9254]
[9255]
[9256]
[9257]
[9258]
[9259]
[9260]
[9261]
[9262]
[9263]
[9264]
[9265]
[9266]
[9267]
[9268]
[9269]
[9270]
[9271]
[9272]
[9273]
[9274]
[9275]
[9276]
[9277]
[9278]
[9279]
[9280]
[9281]
[9282]
[{"$f":"A9285+1","v":9283}]
[9284]
[9285]
[9286]
[9287]
[9288]
[9289]
[9290]
[9291]
[9292]
[9293]
[9294]
[9295]
[9296]
[9297]
[9298]
[9299]
[9300]
[9301]
[9302]
[9303]
[9304]
[9305]
[9306]
[9307]
[9308]
[9309]
[9310]
[9311]
[9312]
[9313]
[9314]
[9315]
[9316]
[9317]
[9318]
[9319]
[9320]
[9321]
[9322]
[9323]
[9324]
[9325]
[9326]
[9327]
[9328]
[9329]
[9330]
[9331]
[9332]
[9333]
[9334]
[9335]
[9336]
[9337]
[9338]
[9339]
[9340]
[9341]
[9342]
[9343]
[9344]
[9345]
[9346]
[{"$f":"A9349+1","v":9347}]
[9348]
[9349]
[9350]
[9351]
[9352]
[9353]
[9354]
[9355]
[9356]
[9357]
[9358]
[9359]
[9360]
[9361]
[9362]
[9363]
[9364]
[9365]
[9366]
[9367]
[9368]
[9369]
[9370]
[9371]
[9372]
[9373]
[9374]
[9375]
[9376]
[9377]
[9378]
[9379]
[9380]
[9381]
[9382]
[9383]
[9384]
[9385]
[9386]
[9387]
[9388]
[9389]
[9390]
[9391]
[9392]
[9393]
[9394]
[9395]
[9396]
[9397]
[9398]
[9399]
[9400]
[9401]
[9402]
[9403]
[9404]
[9405]
[9406]
[9407]
[9408]
[9409]
[9410]
[{"$f":"A9413+1","v":9411}]
[9412]
[9413]
[9414]
[9415]
[9416]
[9417]
[9418]
[9419]
[9420]
[9421]
[9422]
[9423]
[9424]
[9425]
[9426]
[9427]
[9428]
[9429]
[9430]
[9431]
[9432]
[9433]
[9434]
[9435]
[9436]
[9437]
[9438]
[9439]
[9440]
[9441]
[9442]
[9443]
[9444]
[9445]
[9446]
[9447]
[9448]
[9449]
[9450]
[9451]
[9452]
[9453]
[9454]
[9455]
[9456]
[9457]
[9458]
[9459]
[9460]
[9461]
[9462]
[9463]
[9464]
[9465]
[9466]
[9467]
[9468]
[9469]
[9470]
[9471]
[9472]
[9473]
[9474]
[{"$f":"A9477+1","v":9475}]
[9476]
[9477]
[9478]
[9479]
[9480]
[9481]
[9482]
[9483]
[9484]
[9485]
[9486]
[9487]
[9488]
[9489]
[9490]
[9491]
[9492]
[9493]
[9494]
[9495]
[9496]
[9497]
[9498]
[9499]
[9500]
[9501]
[9502]
[9503]
[9504]
[9505]
[9506]
[9507]
[9508]
[9509]
[9510]
[9511]
[9512]
[9513]
[9514]
[9515]
[9516]
[9517]
[9518]
[9519]
[9520]
[9521]
[9522]
[9523]
[9524]
[9525]
[9526]
[9527]
[9528]
[9529]
[9530]
[9531]
[9532]
[9533]
[9534]
[9535]
[9536]
[9537]
[9538]
[{"$f":"A9541+1","v":9539}]
[9540]
[9541]
[9542]
[9543]
[9544]
[9545]
[9546]
[9547]
[9548]
[9549]
[9550]
[9551]
[9552]
[9553]
[9554]
[9555]
[9556]
[9557]
[9558]
[9559]
[9560]
[9561]
[9562]
[9563]
[9564]
[9565]
[9566]
[9567]
[9568]
[9569]
[9570]
[9571]
[9572]
[9573]
[9574]
[9575]
[9576]
[9577]
[9578]
[9579]
[9580]
[9581]
[9582]
[9583]
[9584]
[9585]
[9586]
[9587]
[9588]
[9589]
[9590]
[9591]
[9592]
[9593]
[9594]
[9595]
[9596]
[9597]
[9598]
[9599]
[9600]
[9601]
[9602]
[{"$f":"A9605+1","v":9603}]
[9604]
[9605]
[9606]
[9607]
[9608]
[9609]
[9610]
[9611]
[9612]
[9613]
[9614]
[9615]
[9616]
[9617]
[9618]
[9619]
[9620]
[9621]
[9622]
[9623]
[9624]
[9625]
[9626]
[9627]
[9628]
[9629]
[9630]
[9631]
[9632]
[9633]
[9634]
[9635]
[9636]
[9637]
[9638]
[9639]
[9640]
[9641]
[9642]
[9643]
[9644]
[9645]
[9646]
[9647]
[9648]
[9649]
[9650]
[9651]
[9652]
[9653]
[9654]
[9655]
[9656]
[9657]
[9658]
[9659]
[9660]
[9661]
[9662]
[9663]
[9664]
[9665]
[9666]
[{"$f":"A9669+1","v":9667}]
[9668]
[9669]
[9670]
[9671]
[9672]
[9673]
[9674]
[9675]
[9676]
[9677]
[9678]
[9679]
[9680]
[9681]
[9682]
[9683]
[9684]
[9685]
[9686]
[9687]
[9688]
[9689]
[9690]
[9691]
[9692]
[9693]
[9694]
[9695]
[9696]
[9697]
[9698]
[9699]
[9700]
[9701]
[9702]
[9703]
[9704]
[9705]
[9706]
[9707]
[9708]
[9709]
[9710]
[9711]
[9712]
[9713]
[9714]
[9715]
[9716]
[9717]
[9718]
[9719]
[9720]
[9721]
[9722]
[9723]
[9724]
[9725]
[9726]
[9727]
[9728]
[9729]
[9730]
[{"$f":"A9733+1","v":9731}]
[9732]
[9733]
[9734]
[9735]
[9736]
[9737]
[9738]
[9739]
[9740]
[9741]
[9742]
[9743]
[9744]
[9745]
[9746]
[9747]
[9748]
[9749]
[9750]
[9751]
[9752]
[9753]
[9754]
[9755]
[9756]
[9757]
[9758]
[9759]
[9760]
[9761]
[9762]
[9763]
[9764]
[9765]
[9766]
[9767]
[9768]
[9769]
[9770]
[9771]
[9772]
[9773]
[9774]
[9775]
[9776]
[9777]
[9778]
[9779]
[9780]
[9781]
[9782]
[9783]
[9784]
[9785]
[9786]
[9787]
[9788]
[9789]
[9790]
[9791]
[9792]
[9793]
[9794]
[{"$f":"A9797+1","v":9795}]
[9796]
[9797]
[9798]
[9799]
[9800]
[9801]
[9802]
[9803]
[9804]
[9805]
[9806]
[9807]
[9808]
[9809]
[9810]
[9811]
[9812]
[9813]
[9814]
[9815]
[9816]
[9817]
[9818]
[9819]
[9820]
[9821]
[9822]
[9823]
[9824]
[9825]
[9826]
[9827]
[9828]
[9829]
[9830]
[9831]
[9832]
[9833]
[9834]
[9835]
[9836]
[9837]
[9838]
[9839]
[9840]
[9841]
[9842]
[9843]
[9844]
[9845]
[9846]
[9847]
[9848]
[9849]
[9850]
[9851]
[9852]
[9853]
[9854]
[9855]
[9856]
[9857]
[9858]
[{"$f":"A9861+1","v":9859}]
[9860]
[9861]
[9862]
[9863]
[9864]
[9865]
[9866]
[9867]
[9868]
[9869]
[9870]
[9871]
[9872]
[9873]
[9874]
[9875]
[9876]
[9877]
[9878]
[9879]
[9880]
[9881]
[9882]
[9883]
[9884]
[9885]
[9886]
[9887]
[9888]
[9889]
[9890]
[9891]
[9892]
[9893]
[9894]
[9895]
[9896]
[9897]
[9898]
[9899]
[9900]
[9901]
[9902]
[9903]
[9904]
[9905]
[9906]
[9907]
[9908]
[9909]
[9910]
[9911]
[9912]
[9913]
[9914]
[9915]
[9916]
[9917]
[9918]
[9919]
[9920]
[9921]
[9922]
[{"$f":"A9925+1","v":9923}]
[9924]
[9925]
[9926]
[9927]
[9928]
[9929]
[9930]
[9931]
[9932]
[9933]
[9934]
[9935]
[9936]
[9937]
[9938]
[9939]
[9940]
[9941]
[9942]
[9943]
[9944]
[9945]
[9946]
[9947]
[9948]
[9949]
[9950]
[9951]
[9952]
[9953]
[9954]
[9955]
[9956]
[9957]
[9958]
[9959]
[9960]
[9961]
[9962]
[9963]
[9964]
[9965]
[9966]
[9967]
[9968]
[9969]
[9970]
[9971]
[9972]
[9973]
[9974]
[9975]
[9976]
[9977]
[9978]
[9979]
[9980]
[9981]
[9982]
[9983]
[9984]
[9985]
[9986]
[{"$f":"A9989+1","v":9987}]
[9988]
[9989]
[9990]
[9991]
[9992]
[9993]
[9994]
[9995]
[9996]
[9997]
[9998]
[9999]
[10000]
[10001]
[10002]
[10003]
[10004]
[10005]
[10006]
[10007]
[10008]
[10009]
[10010]
[10011]
[10012]
[10013]
[10014]
[10015]
[10016]
[10017]
[10018]
[10019]
[10020]
[10021]
[10022]
[10023]
[10024]
[10025]
[10026]
[10027]
[10028]
[10029]
[10030]
[10031]
[10032]
[10033]
[10034]
[10035]
[10036]
[10037]
[10038]
[10039]
[10040]
[10041]
[10042]
[10043]
[10044]
[10045]
[10046]
[10047]
[10048]
[10049]
[10050]
[{"$f":"A10053+1","v":10051}]
[10052]
[10053]
[10054]
[10055]
[10056]
[10057]
[10058]
[10059]
[10060]
[10061]
[10062]
[10063]
[10064]
[10065]
[10066]
[10067]
[10068]
[10069]
[10070]
[10071]
[10072]
[10073]
[10074]
[10075]
[10076]
[10077]
[10078]
[10079]
[10080]
[10081]
[10082]
[10083]
[10084]
[10085]
[10086]
[10087]
[10088]
[10089]
[10090]
[10091]
[10092]
[10093]
[10094]
[10095]
[10096]
[10097]
[10098]
[10099]
[10100]
[10101]
[10102]
[10103]
[10104]
[10105]
[10106]
[10107]
[10108]
[10109]
[10110]
[10111]
[10112]
[10113]
[10114]
[{"$f":"A10117+1","v":10115}]
[10116]
[10117]
[10118]
[10119]
[10120]
[10121]
[10122]
[10123]
[10124]
[10125]
[10126]
[10127]
[10128]
[10129]
[10130]
[10131]
[10132]
[10133]
[10134]
[10135]
[10136]
[10137]
[10138]
[10139]
[10140]
[10141]
[10142]
[10143]
[10144]
[10145]
[10146]
[10147]
[10148]
[10149]
[10150]
[10151]
[10152]
[10153]
[10154]
[10155]
[10156]
[10157]
[10158]
[10159]
[10160]
[10161]
[10162]
[10163]
[10164]
[10165]
[10166]
[10167]
[10168]
[10169]
[10170]
[10171]
[10172]
[10173]
[10174]
[10175]
[10176]
[10177]
[10178]
[{"$f":"A10181+1","v":10179}]
[10180]
[10181]
[10182]
[10183]
[10184]
[10185]
[10186]
[10187]
[10188]
[10189]
[10190]
[10191]
[10192]
[10193]
[10194]
[10195]
[10196]
[10197]
[10198]
[10199]
[10200]
[10201]
[10202]
[10203]
[10204]
[10205]
[10206]
[10207]
[10208]
[10209]
[10210]
[10211]
[10212]
[10213]
[10214]
[10215]
[10216]
[10217]
[10218]
[10219]
[10220]
[10221]
[10222]
[10223]
[10224]
[10225]
[10226]
[10227]
[10228]
[10229]
[10230]
[10231]
[10232]
[10233]
[10234]
[10235]
[10236]
[10237]
[10238]
[10239]
[10240]
[10241]
[10242]
[{"$f":"A10245+1","v":10243}]
[10244]
[10245]
[10246]
[10247]
[10248]
[10249]
[10250]
[10251]
[10252]
[10253]
[10254]
[10255]
[10256]
[10257]
[10258]
[10259]
[10260]
[10261]
[10262]
[10263]
[10264]
[10265]
[10266]
[10267]
[10268]
[10269]
[10270]
[10271]
[10272]
[10273]
[10274]
[10275]
[10276]
[10277]
[10278]
[10279]
[10280]
[10281]
[10282]
[10283]
[10284]
[10285]
[10286]
[10287]
[10288]
[10289]
[10290]
[10291]
[10292]
[10293]
[10294]
[10295]
[10296]
[10297]
[10298]
[10299]
[10300]
[10301]
[10302]
[10303]
[10304]
[10305]
[10306]
[{"$f":"A10309+1","v":10307}]
[10308]
[10309]
[10310]
[10311]
[10312]
[10313]
[10314]
[10315]
[10316]
[10317]
[10318]
[10319]
[10320]
[10321]
[10322]
[10323]
[10324]
[10325]
[10326]
[10327]
[10328]
[10329]
[10330]
[10331]
[10332]
[10333]
[10334]
[10335]
[10336]
[10337]
[10338]
[10339]
[10340]
[10341]
[10342]
[10343]
[10344]
[10345]
[10346]
[10347]
[10348]
[10349]
[10350]
[10351]
[10352]
[10353]
[10354]
[10355]
[10356]
[10357]
[10358]
[10359]
[10360]
[10361]
[10362]
[10363]
[10364]
[10365]
[10366]
[10367]
[10368]
[10369]
[10370]
[{"$f":"A10373+1","v":10371}]
[10372]
[10373]
[10374]
[10375]
[10376]
[10377]
[10378]
[10379]
[10380]
[10381]
[10382]
[10383]
[10384]
[10385]
[10386]
[10387]
[10388]
[10389]
[10390]
[10391]
[10392]
[10393]
[10394]
[10395]
[10396]
[10397]
[10398]
[10399]
[10400]
[10401]
[10402]
[10403]
[10404]
[10405]
[10406]
[10407]
[10408]
[10409]
[10410]
[10411]
[10412]
[10413]
[10414]
[10415]
[10416]
[10417]
[10418]
[10419]
[10420]
[10421]
[10422]
[10423]
[10424]
[10425]
[10426]
[10427]
[10428]
[10429]
[10430]
[10431]
[10432]
[10433]
[10434]
[{"$f":"A10437+1","v":10435}]
[10436]
[10437]
[10438]
[10439]
[10440]
[10441]
[10442]
[10443]
[10444]
[10445]
[10446]
[10447]
[10448]
[10449]
[10450]
[10451]
[10452]
[10453]
[10454]
[10455]
[10456]
[10457]
[10458]
[10459]
[10460]
[10461]
[10462]
[10463]
[10464]
[10465]
[10466]
[10467]
[10468]
[10469]
[10470]
[10471]
[10472]
[10473]
[10474]
[10475]
[10476]
[10477]
[10478]
[10479]
[10480]
[10481]
[10482]
[10483]
[10484]
[10485]
[10486]
[10487]
[10488]
[10489]
[10490]
[10491]
[10492]
[10493]
[10494]
[10495]
[10496]
[10497]
[10498]
[{"$f":"A10501+1","v":10499}]
[10500]
[10501]
[10502]
[10503]
[10504]
[10505]
[10506]
[10507]
[10508]
[10509]
[10510]
[10511]
[10512]
[10513]
[10514]
[10515]
[10516]
[10517]
[10518]
[10519]
[10520]
[10521]
[10522]
[10523]
[10524]
[10525]
[10526]
[10527]
[10528]
[10529]
[10530]
[10531]
[10532]
[10533]
[10534]
[10535]
[10536]
[10537]
[10538]
[10539]
[10540]
[10541]
[10542]
[10543]
[10544]
[10545]
[10546]
[10547]
[10548]
[10549]
[10550]
[10551]
[10552]
[10553]
[10554]
[10555]
[10556]
[10557]
[10558]
[10559]
[10560]
[10561]
[10562]
[{"$f":"A10565+1","v":10563}]
[10564]
[10565]
[10566]
[10567]
[10568]
[10569]
[10570]
[10571]
[10572]
[10573]
[10574]
[10575]
[10576]
[10577]
[10578]
[10579]
[10580]
[10581]
[10582]
[10583]
[10584]
[10585]
[10586]
[10587]
[10588]
[10589]
[10590]
[10591]
[10592]
[10593]
[10594]
[10595]
[10596]
[10597]
[10598]
[10599]
[10600]
[10601]
[10602]
[10603]
[10604]
[10605]
[10606]
[10607]
[10608]
[10609]
[10610]
[10611]
[10612]
[10613]
[10614]
[10615]
[10616]
[10617]
[10618]
[10619]
[10620]
[10621]
[10622]
[10623]
[10624]
[10625]
[10626]
[{"$f":"A10629+1","v":10627}]
[10628]
[10629]
[10630]
[10631]
[10632]
[10633]
[10634]
[10635]
[10636]
[10637]
[10638]
[10639]
[10640]
[10641]
[10642]
[10643]
[10644]
[10645]
[10646]
[10647]
[10648]
[10649]
[10650]
[10651]
[10652]
[10653]
[10654]
[10655]
[10656]
[10657]
[10658]
[10659]
[10660]
[10661]
[10662]
[10663]
[10664]
[10665]
[10666]
[10667]
[10668]
[10669]
[10670]
[10671]
[10672]
[10673]
[10674]
[10675]
[10676]
[10677]
[10678]
[10679]
[10680]
[10681]
[10682]
[10683]
[10684]
[10685]
[10686]
[10687]
[10688]
[10689]
[10690]
[{"$f":"A10693+1","v":10691}]
[10692]
[10693]
[10694]
[10695]
[10696]
[10697]
[10698]
[10699]
[10700]
[10701]
[10702]
[10703]
[10704]
[10705]
[10706]
[10707]
[10708]
[10709]
[10710]
[10711]
[10712]
[10713]
[10714]
[10715]
[10716]
[10717]
[10718]
[10719]
[10720]
[10721]
[10722]
[10723]
[10724]
[10725]
[10726]
[10727]
[10728]
[10729]
[10730]
[10731]
[10732]
[10733]
[10734]
[10735]
[10736]
[10737]
[10738]
[10739]
[10740]
[10741]
[10742]
[10743]
[10744]
[10745]
[10746]
[10747]
[10748]
[10749]
[10750]
[10751]
[10752]
[10753]
[10754]
[{"$f":"A10757+1","v":10755}]
[10756]
[10757]
[10758]
[10759]
[10760]
[10761]
[10762]
[10763]
[10764]
[10765]
[10766]
[10767]
[10768]
[10769]
[10770]
[10771]
[10772]
[10773]
[10774]
[10775]
[10776]
[10777]
[10778]
[10779]
[10780]
[10781]
[10782]
[10783]
[10784]
[10785]
[10786]
[10787]
[10788]
[10789]
[10790]
[10791]
[10792]
[10793]
[10794]
[10795]
[10796]
[10797]
[10798]
[10799]
[10800]
[10801]
[10802]
[10803]
[10804]
[10805]
[10806]
[10807]
[10808]
[10809]
[10810]
[10811]
[10812]
[10813]
[10814]
[10815]
[10816]
[10817]
[10818]
[{"$f":"A10821+1","v":10819}]
[10820]
[10821]
[10822]
[10823]
[10824]
[10825]
[10826]
[10827]
[10828]
[10829]
[10830]
[10831]
[10832]
[10833]
[10834]
[10835]
[10836]
[10837]
[10838]
[10839]
[10840]
[10841]
[10842]
[10843]
[10844]
[10845]
[10846]
[10847]
[10848]
[10849]
[10850]
[10851]
[10852]
[10853]
[10854]
[10855]
[10856]
[10857]
[10858]
[10859]
[10860]
[10861]
[10862]
[10863]
[10864]
[10865]
[10866]
[10867]
[10868]
[10869]
[10870]
[10871]
[10872]
[10873]
[10874]
[10875]
[10876]
[10877]
[10878]
[10879]
[10880]
[10881]
[10882]
[{"$f":"A10885+1","v":10883}]
[10884]
[10885]
[10886]
[10887]
[10888]
[10889]
[10890]
[10891]
[10892]
[10893]
[10894]
[10895]
[10896]
[10897]
[10898]
[10899]
[10900]
[10901]
[10902]
[10903]
[10904]
[10905]
[10906]
[10907]
[10908]
[10909]
[10910]
[10911]
[10912]
[10913]
[10914]
[10915]
[10916]
[10917]
[10918]
[10919]
[10920]
[10921]
[10922]
[10923]
[10924]
[10925]
[10926]
[10927]
[10928]
[10929]
[10930]
[10931]
[10932]
[10933]
[10934]
[10935]
[10936]
[10937]
[10938]
[10939]
[10940]
[10941]
[10942]
[10943]
[10944]
[10945]
[10946]
[{"$f":"A10949+1","v":10947}]
[10948]
[10949]
[10950]
[10951]
[10952]
[10953]
[10954]
[10955]
[10956]
[10957]
[10958]
[10959]
[10960]
[10961]
[10962]
[10963]
[10964]
[10965]
[10966]
[10967]
[10968]
[10969]
[10970]
[10971]
[10972]
[10973]
[10974]
[10975]
[10976]
[10977]
[10978]
[10979]
[10980]
[10981]
[10982]
[10983]
[10984]
[10985]
[10986]
[10987]
[10988]
[10989]
[10990]
[10991]
[10992]
[10993]
[10994]
[10995]
[10996]
[10997]
[10998]
[10999]
[11000]
[11001]
[11002]
[11003]
[11004]
[11005]
[11006]
[11007]
[11008]
[11009]
[11010]
[{"$f":"A11013+1","v":11011}]
[11012]
[11013]
[11014]
[11015]
[11016]
[11017]
[11018]
[11019]
[11020]
[11021]
[11022]
[11023]
[11024]
[11025]
[11026]
[11027]
[11028]
[11029]
[11030]
[11031]
[11032]
[11033]
[11034]
[11035]
[11036]
[11037]
[11038]
[11039]
[11040]
[11041]
[11042]
[11043]
[11044]
[11045]
[11046]
[11047]
[11048]
[11049]
[11050]
[11051]
[11052]
[11053]
[11054]
[11055]
[11056]
[11057]
[11058]
[11059]
[11060]
[11061]
[11062]
[11063]
[11064]
[11065]
[11066]
[11067]
[11068]
[11069]
[11070]
[11071]
[11072]
[11073]
[11074]
[{"$f":"A11077+1","v":11075}]
[11076]
[11077]
[11078]
[11079]
[11080]
[11081]
[11082]
[11083]
[11084]
[11085]
[11086]
[11087]
[11088]
[11089]
[11090]
[11091]
[11092]
[11093]
[11094]
[11095]
[11096]
[11097]
[11098]
[11099]
[11100]
[11101]
[11102]
[11103]
[11104]
[11105]
[11106]
[11107]
[11108]
[11109]
[11110]
[11111]
[11112]
[11113]
[11114]
[11115]
[11116]
[11117]
[11118]
[11119]
[11120]
[11121]
[11122]
[11123]
[11124]
[11125]
[11126]
[11127]
[11128]
[11129]
[11130]
[11131]
[11132]
[11133]
[11134]
[11135]
[11136]
[11137]
[11138]
[{"$f":"A11141+1","v":11139}]
[11140]
[11141]
[11142]
[11143]
[11144]
[11145]
[11146]
[11147]
[11148]
[11149]
[11150]
[11151]
[11152]
[11153]
[11154]
[11155]
[11156]
[11157]
[11158]
[11159]
[11160]
[11161]
[11162]
[11163]
[11164]
[11165]
[11166]
[11167]
[11168]
[11169]
[11170]
[11171]
[11172]
[11173]
[11174]
[11175]
[11176]
[11177]
[11178]
[11179]
[11180]
[11181]
[11182]
[11183]
[11184]
[11185]
[11186]
[11187]
[11188]
[11189]
[11190]
[11191]
[11192]
[11193]
[11194]
[11195]
[11196]
[11197]
[11198]
[11199]
[11200]
[11201]
[11202]
[{"$f":"A11205+1","v":11203}]
[11204]
[11205]
[11206]
[11207]
[11208]
[11209]
[11210]
[11211]
[11212]
[11213]
[11214]
[11215]
[11216]
[11217]
[11218]
[11219]
[11220]
[11221]
[11222]
[11223]
[11224]
[11225]
[11226]
[11227]
[11228]
[11229]
[11230]
[11231]
[11232]
[11233]
[11234]
[11235]
[11236]
[11237]
[11238]
[11239]
[11240]
[11241]
[11242]
[11243]
[11244]
[11245]
[11246]
[11247]
[11248]
[11249]
[11250]
[11251]
[11252]
[11253]
[11254]
[11255]
[11256]
[11257]
[11258]
[11259]
[11260]
[11261]
[11262]
[11263]
[11264]
[11265]
[11266]
[{"$f":"A11269+1","v":11267}]
[11268]
[11269]
[11270]
[11271]
[11272]
[11273]
[11274]
[11275]
[11276]
[11277]
[11278]
[11279]
[11280]
[11281]
[11282]
[11283]
[11284]
[11285]
[11286]
[11287]
[11288]
[11289]
[11290]
[11291]
[11292]
[11293]
[11294]
[11295]
[11296]
[11297]
[11298]
[11299]
[11300]
[11301]
[11302]
[11303]
[11304]
[11305]
[11306]
[11307]
[11308]
[11309]
[11310]
[11311]
[11312]
[11313]
[11314]
[11315]
[11316]
[11317]
[11318]
[11319]
[11320]
[11321]
[11322]
[11323]
[11324]
[11325]
[11326]
[11327]
[11328]
[11329]
[11330]
[{"$f":"A11333+1","v":11331}]
[11332]
[11333]
[11334]
[11335]
[11336]
[11337]
[11338]
[11339]
[11340]
[11341]
[11342]
[11343]
[11344]
[11345]
[11346]
[11347]
[11348]
[11349]
[11350]
[11351]
[11352]
[11353]
[11354]
[11355]
[11356]
[11357]
[11358]
[11359]
[11360]
[11361]
[11362]
[11363]
[11364]
[11365]
[11366]
[11367]
[11368]
[11369]
[11370]
[11371]
[11372]
[11373]
[11374]
[11375]
[11376]
[11377]
[11378]
[11379]
[11380]
[11381]
[11382]
[11383]
[11384]
[11385]
[11386]
[11387]
[11388]
[11389]
[11390]
[11391]
[11392]
[11393]
[11394]
[{"$f":"A11397+1","v":11395}]
[11396]
[11397]
[11398]
[11399]
[11400]
[11401]
[11402]
[11403]
[11404]
[11405]
[11406]
[11407]
[11408]
[11409]
[11410]
[11411]
[11412]
[11413]
[11414]
[11415]
[11416]
[11417]
[11418]
[11419]
[11420]
[11421]
[11422]
[11423]
[11424]
[11425]
[11426]
[11427]
[11428]
[11429]
[11430]
[11431]
[11432]
[11433]
[11434]
[11435]
[11436]
[11437]
[11438]
[11439]
[11440]
[11441]
[11442]
[11443]
[11444]
[11445]
[11446]
[11447]
[11448]
[11449]
[11450]
[11451]
[11452]
[11453]
[11454]
[11455]
[11456]
[11457]
[11458]
[{"$f":"A11461+1","v":11459}]
[11460]
[11461]
[11462]
[11463]
[11464]
[11465]
[11466]
[11467]
[11468]
[11469]
[11470]
[11471]
[11472]
[11473]
[11474]
[11475]
[11476]
[11477]
[11478]
[11479]
[11480]
[11481]
[11482]
[11483]
[11484]
[11485]
[11486]
[11487]
[11488]
[11489]
[11490]
[11491]
[11492]
[11493]
[11494]
[11495]
[11496]
[11497]
[11498]
[11499]
[11500]
[11501]
[11502]
[11503]
[11504]
[11505]
[11506]
[11507]
[11508]
[11509]
[11510]
[11511]
[11512]
[11513]
[11514]
[11515]
[11516]
[11517]
[11518]
[11519]
[11520]
[11521]
[11522]
[{"$f":"A11525+1","v":11523}]
[11524]
[11525]
[11526]
[11527]
[11528]
[11529]
[11530]
[11531]
[11532]
[11533]
[11534]
[11535]
[11536]
[11537]
[11538]
[11539]
[11540]
[11541]
[11542]
[11543]
[11544]
[11545]
[11546]
[11547]
[11548]
[11549]
[11550]
[11551]
[11552]
[11553]
[11554]
[11555]
[11556]
[11557]
[11558]
[11559]
[11560]
[11561]
[11562]
[11563]
[11564]
[11565]
[11566]
[11567]
[11568]
[11569]
[11570]
[11571]
[11572]
[11573]
[11574]
[11575]
[11576]
[11577]
[11578]
[11579]
[11580]
[11581]
[11582]
[11583]
[11584]
[11585]
[11586]
[{"$f":"A11589+1","v":11587}]
[11588]
[11589]
[11590]
[11591]
[11592]
[11593]
[11594]
[11595]
[11596]
[11597]
[11598]
[11599]
[11600]
[11601]
[11602]
[11603]
[11604]
[11605]
[11606]
[11607]
[11608]
[11609]
[11610]
[11611]
[11612]
[11613]
[11614]
[11615]
[11616]
[11617]
[11618]
[11619]
[11620]
[11621]
[11622]
[11623]
[11624]
[11625]
[11626]
[11627]
[11628]
[11629]
[11630]
[11631]
[11632]
[11633]
[11634]
[11635]
[11636]
[11637]
[11638]
[11639]
[11640]
[11641]
[11642]
[11643]
[11644]
[11645]
[11646]
[11647]
[11648]
[11649]
[11650]
[{"$f":"A11653+1","v":11651}]
[11652]
[11653]
[11654]
[11655]
[11656]
[11657]
[11658]
[11659]
[11660]
[11661]
[11662]
[11663]
[11664]
[11665]
[11666]
[11667]
[11668]
[11669]
[11670]
[11671]
[11672]
[11673]
[11674]
[11675]
[11676]
[11677]
[11678]
[11679]
[11680]
[11681]
[11682]
[11683]
[11684]
[11685]
[11686]
[11687]
[11688]
[11689]
[11690]
[11691]
[11692]
[11693]
[11694]
[11695]
[11696]
[11697]
[11698]
[11699]
[11700]
[11701]
[11702]
[11703]
[11704]
[11705]
[11706]
[11707]
[11708]
[11709]
[11710]
[11711]
[11712]
[11713]
[11714]
[{"$f":"A11717+1","v":11715}]
[11716]
[11717]
[11718]
[11719]
[11720]
[11721]
[11722]
[11723]
[11724]
[11725]
[11726]
[11727]
[11728]
[11729]
[11730]
[11731]
[11732]
[11733]
[11734]
[11735]
[11736]
[11737]
[11738]
[11739]
[11740]
[11741]
[11742]
[11743]
[11744]
[11745]
[11746]
[11747]
[11748]
[11749]
[11750]
[11751]
[11752]
[11753]
[11754]
[11755]
[11756]
[11757]
[11758]
[11759]
[11760]
[11761]
[11762]
[11763]
[11764]
[11765]
[11766]
[11767]
[11768]
[11769]
[11770]
[11771]
[11772]
[11773]
[11774]
[11775]
[11776]
[11777]
[11778]
[{"$f":"A11781+1","v":11779}]
[11780]
[11781]
[11782]
[11783]
[11784]
[11785]
[11786]
[11787]
[11788]
[11789]
[11790]
[11791]
[11792]
[11793]
[11794]
[11795]
[11796]
[11797]
[11798]
[11799]
[11800]
[11801]
[11802]
[11803]
[11804]
[11805]
[11806]
[11807]
[11808]
[11809]
[11810]
[11811]
[11812]
[11813]
[11814]
[11815]
[11816]
[11817]
[11818]
[11819]
[11820]
[11821]
[11822]
[11823]
[11824]
[11825]
[11826]
[11827]
[11828]
[11829]
[11830]
[11831]
[11832]
[11833]
[11834]
[11835]
[11836]
[11837]
[11838]
[11839]
[11840]
[11841]
[11842]
[{"$f":"A11845+1","v":11843}]
[11844]
[11845]
[11846]
[11847]
[11848]
[11849]
[11850]
[11851]
[11852]
[11853]
[11854]
[11855]
[11856]
[11857]
[11858]
[11859]
[11860]
[11861]
[11862]
[11863]
[11864]
[11865]
[11866]
[11867]
[11868]
[11869]
[11870]
[11871]
[11872]
[11873]
[11874]
[11875]
[11876]
[11877]
[11878]
[11879]
[11880]
[11881]
[11882]
[11883]
[11884]
[11885]
[11886]
[11887]
[11888]
[11889]
[11890]
[11891]
[11892]
[11893]
[11894]
[11895]
[11896]
[11897]
[11898]
[11899]
[11900]
[11901]
[11902]
[11903]
[11904]
[11905]
[11906]
[{"$f":"A11909+1","v":11907}]
[11908]
[11909]
[11910]
[11911]
[11912]
[11913]
[11914]
[11915]
[11916]
[11917]
[11918]
[11919]
[11920]
[11921]
[11922]
[11923]
[11924]
[11925]
[11926]
[11927]
[11928]
[11929]
[11930]
[11931]
[11932]
[11933]
[11934]
[11935]
[11936]
[11937]
[11938]
[11939]
[11940]
[11941]
[11942]
[11943]
[11944]
[11945]
[11946]
[11947]
[11948]
[11949]
[11950]
[11951]
[11952]
[11953]
[11954]
[11955]
[11956]
[11957]
[11958]
[11959]
[11960]
[11961]
[11962]
[11963]
[11964]
[11965]
[11966]
[11967]
[11968]
[11969]
[11970]
[{"$f":"A11973+1","v":11971}]
[11972]
[11973]
[11974]
[11975]
[11976]
[11977]
[11978]
[11979]
[11980]
[11981]
[11982]
[11983]
[11984]
[11985]
[11986]
[11987]
[11988]
[11989]
[11990]
[11991]
[11992]
[11993]
[11994]
[11995]
[11996]
[11997]
[11998]
[11999]
[12000]
[12001]
[12002]
[12003]
[12004]
[12005]
[12006]
[12007]
[12008]
[12009]
[12010]
[12011]
[12012]
[12013]
[12014]
[12015]
[12016]
[12017]
[12018]
[12019]
[12020]
[12021]
[12022]
[12023]
[12024]
[12025]
[12026]
[12027]
[12028]
[12029]
[12030]
[12031]
[12032]
[12033]
[12034]
[{"$f":"A12037+1","v":12035}]
[12036]
[12037]
[12038]
[12039]
[12040]
[12041]
[12042]
[12043]
[12044]
[12045]
[12046]
[12047]
[12048]
[12049]
[12050]
[12051]
[12052]
[12053]
[12054]
[12055]
[12056]
[12057]
[12058]
[12059]
[12060]
[12061]
[12062]
[12063]
[12064]
[12065]
[12066]
[12067]
[12068]
[12069]
[12070]
[12071]
[12072]
[12073]
[12074]
[12075]
[12076]
[12077]
[12078]
[12079]
[12080]
[12081]
[12082]
[12083]
[12084]
[12085]
[12086]
[12087]
[12088]
[12089]
[12090]
[12091]
[12092]
[12093]
[12094]
[12095]
[12096]
[12097]
[12098]
[{"$f":"A12101+1","v":12099}]
[12100]
[12101]
[12102]
[12103]
[12104]
[12105]
[12106]
[12107]
[12108]
[12109]
[12110]
[12111]
[12112]
[12113]
[12114]
[12115]
[12116]
[12117]
[12118]
[12119]
[12120]
[12121]
[12122]
[12123]
[12124]
[12125]
[12126]
[12127]
[12128]
[12129]
[12130]
[12131]
[12132]
[12133]
[12134]
[12135]
[12136]
[12137]
[12138]
[12139]
[12140]
[12141]
[12142]
[12143]
[12144]
[12145]
[12146]
[12147]
[12148]
[12149]
[12150]
[12151]
[12152]
[12153]
[12154]
[12155]
[12156]
[12157]
[12158]
[12159]
[12160]
[12161]
[12162]
[{"$f":"A12165+1","v":12163}]
[12164]
[12165]
[12166]
[12167]
[12168]
[12169]
[12170]
[12171]
[12172]
[12173]
[12174]
[12175]
[12176]
[12177]
[12178]
[12179]
[12180]
[12181]
[12182]
[12183]
[12184]
[12185]
[12186]
[12187]
[12188]
[12189]
[12190]
[12191]
[12192]
[12193]
[12194]
[12195]
[12196]
[12197]
[12198]
[12199]
[12200]
[12201]
[12202]
[12203]
[12204]
[12205]
[12206]
[12207]
[12208]
[12209]
[12210]
[12211]
[12212]
[12213]
[12214]
[12215]
[12216]
[12217]
[12218]
[12219]
[12220]
[12221]
[12222]
[12223]
[12224]
[12225]
[12226]
[{"$f":"A12229+1","v":12227}]
[12228]
[12229]
[12230]
[12231]
[12232]
[12233]
[12234]
[12235]
[12236]
[12237]
[12238]
[12239]
[12240]
[12241]
[12242]
[12243]
[12244]
[12245]
[12246]
[12247]
[12248]
[12249]
[12250]
[12251]
[12252]
[12253]
[12254]
[12255]
[12256]
[12257]
[12258]
[12259]
[12260]
[12261]
[12262]
[12263]
[12264]
[12265]
[12266]
[12267]
[12268]
[12269]
[12270]
[12271]
[12272]
[12273]
[12274]
[12275]
[12276]
[12277]
[12278]
[12279]
[12280]
[12281]
[12282]
[12283]
[12284]
[12285]
[12286]
[12287]
[12288]
[12289]
[12290]
[{"$f":"A12293+1","v":12291}]
[12292]
[12293]
[12294]
[12295]
[12296]
[12297]
[12298]
[12299]
[12300]
[12301]
[12302]
[12303]
[12304]
[12305]
[12306]
[12307]
[12308]
[12309]
[12310]
[12311]
[12312]
[12313]
[12314]
[12315]
[12316]
[12317]
[12318]
[12319]
[12320]
[12321]
[12322]
[12323]
[12324]
[12325]
[12326]
[12327]
[12328]
[12329]
[12330]
[12331]
[12332]
[12333]
[12334]
[12335]
[12336]
[12337]
[12338]
[12339]
[12340]
[12341]
[12342]
[12343]
[12344]
[12345]
[12346]
[12347]
[12348]
[12349]
[12350]
[12351]
[12352]
[12353]
[12354]
[{"$f":"A12357+1","v":12355}]
[12356]
[12357]
[12358]
[12359]
[12360]
[12361]
[12362]
[12363]
[12364]
[12365]
[12366]
[12367]
[12368]
[12369]
[12370]
[12371]
[12372]
[12373]
[12374]
[12375]
[12376]
[12377]
[12378]
[12379]
[12380]
[12381]
[12382]
[12383]
[12384]
[12385]
[12386]
[12387]
[12388]
[12389]
[12390]
[12391]
[12392]
[12393]
[12394]
[12395]
[12396]
[12397]
[12398]
[12399]
[12400]
[12401]
[12402]
[12403]
[12404]
[12405]
[12406]
[12407]
[12408]
[12409]
[12410]
[12411]
[12412]
[12413]
[12414]
[12415]
[12416]
[12417]
[12418]
[{"$f":"A12421+1","v":12419}]
[12420]
[12421]
[12422]
[12423]
[12424]
[12425]
[12426]
[12427]
[12428]
[12429]
[12430]
[12431]
[12432]
[12433]
[12434]
[12435]
[12436]
[12437]
[12438]
[12439]
[12440]
[12441]
[12442]
[12443]
[12444]
[12445]
[12446]
[12447]
[12448]
[12449]
[12450]
[12451]
[12452]
[12453]
[12454]
[12455]
[12456]
[12457]
[12458]
[12459]
[12460]
[12461]
[12462]
[12463]
[12464]
[12465]
[12466]
[12467]
[12468]
[12469]
[12470]
[12471]
[12472]
[12473]
[12474]
[12475]
[12476]
[12477]
[12478]
[12479]
[12480]
[12481]
[12482]
[{"$f":"A12485+1","v":12483}]
[12484]
[12485]
[12486]
[12487]
[12488]
[12489]
[12490]
[12491]
[12492]
[12493]
[12494]
[12495]
[12496]
[12497]
[12498]
[12499]
[12500]
[12501]
[12502]
[12503]
[12504]
[12505]
[12506]
[12507]
[12508]
[12509]
[12510]
[12511]
[12512]
[12513]
[12514]
[12515]
[12516]
[12517]
[12518]
[12519]
[12520]
[12521]
[12522]
[12523]
[12524]
[12525]
[12526]
[12527]
[12528]
[12529]
[12530]
[12531]
[12532]
[12533]
[12534]
[12535]
[12536]
[12537]
[12538]
[12539]
[12540]
[12541]
[12542]
[12543]
[12544]
[12545]
[12546]
[{"$f":"A12549+1","v":12547}]
[12548]
[12549]
[12550]
[12551]
[12552]
[12553]
[12554]
[12555]
[12556]
[12557]
[12558]
[12559]
[12560]
[12561]
[12562]
[12563]
[12564]
[12565]
[12566]
[12567]
[12568]
[12569]
[12570]
[12571]
[12572]
[12573]
[12574]
[12575]
[12576]
[12577]
[12578]
[12579]
[12580]
[12581]
[12582]
[12583]
[12584]
[12585]
[12586]
[12587]
[12588]
[12589]
[12590]
[12591]
[12592]
[12593]
[12594]
[12595]
[12596]
[12597]
[12598]
[12599]
[12600]
[12601]
[12602]
[12603]
[12604]
[12605]
[12606]
[12607]
[12608]
[12609]
[12610]
[{"$f":"A12613+1","v":12611}]
[12612]
[12613]
[12614]
[12615]
[12616]
[12617]
[12618]
[12619]
[12620]
[12621]
[12622]
[12623]
[12624]
[12625]
[12626]
[12627]
[12628]
[12629]
[12630]
[12631]
[12632]
[12633]
[12634]
[12635]
[12636]
[12637]
[12638]
[12639]
[12640]
[12641]
[12642]
[12643]
[12644]
[12645]
[12646]
[12647]
[12648]
[12649]
[12650]
[12651]
[12652]
[12653]
[12654]
[12655]
[12656]
[12657]
[12658]
[12659]
[12660]
[12661]
[12662]
[12663]
[12664]
[12665]
[12666]
[12667]
[12668]
[12669]
[12670]
[12671]
[12672]
[12673]
[12674]
[{"$f":"A12677+1","v":12675}]
[12676]
[12677]
[12678]
[12679]
[12680]
[12681]
[12682]
[12683]
[12684]
[12685]
[12686]
[12687]
[12688]
[12689]
[12690]
[12691]
[12692]
[12693]
[12694]
[12695]
[12696]
[12697]
[12698]
[12699]
[12700]
[12701]
[12702]
[12703]
[12704]
[12705]
[12706]
[12707]
[12708]
[12709]
[12710]
[12711]
[12712]
[12713]
[12714]
[12715]
[12716]
[12717]
[12718]
[12719]
[12720]
[12721]
[12722]
[12723]
[12724]
[12725]
[12726]
[12727]
[12728]
[12729]
[12730]
[12731]
[12732]
[12733]
[12734]
[12735]
[12736]
[12737]
[12738]
[{"$f":"A12741+1","v":12739}]
[12740]
[12741]
[12742]
[12743]
[12744]
[12745]
[12746]
[12747]
[12748]
[12749]
[12750]
[12751]
[12752]
[12753]
[12754]
[12755]
[12756]
[12757]
[12758]
[12759]
[12760]
[12761]
[12762]
[12763]
[12764]
[12765]
[12766]
[12767]
[12768]
[12769]
[12770]
[12771]
[12772]
[12773]
[12774]
[12775]
[12776]
[12777]
[12778]
[12779]
[12780]
[12781]
[12782]
[12783]
[12784]
[12785]
[12786]
[12787]
[12788]
[12789]
[12790]
[12791]
[12792]
[12793]
[12794]
[12795]
[12796]
[12797]
[12798]
[12799]
[12800]
[12801]
[12802]
[{"$f":"A12805+1","v":12803}]
[12804]
[12805]
[12806]
[12807]
[12808]
[12809]
[12810]
[12811]
[12812]
[12813]
[12814]
[12815]
[12816]
[12817]
[12818]
[12819]
[12820]
[12821]
[12822]
[12823]
[12824]
[12825]
[12826]
[12827]
[12828]
[12829]
[12830]
[12831]
[12832]
[12833]
[12834]
[12835]
[12836]
[12837]
[12838]
[12839]
[12840]
[12841]
[12842]
[12843]
[12844]
[12845]
[12846]
[12847]
[12848]
[12849]
[12850]
[12851]
[12852]
[12853]
[12854]
[12855]
[12856]
[12857]
[12858]
[12859]
[12860]
[12861]
[12862]
[12863]
[12864]
[12865]
[12866]
[{"$f":"A12869+1","v":12867}]
[12868]
[12869]
[12870]
[12871]
[12872]
[12873]
[12874]
[12875]
[12876]
[12877]
[12878]
[12879]
[12880]
[12881]
[12882]
[12883]
[12884]
[12885]
[12886]
[12887]
[12888]
[12889]
[12890]
[12891]
[12892]
[12893]
[12894]
[12895]
[12896]
[12897]
[12898]
[12899]
[12900]
[12901]
[12902]
[12903]
[12904]
[12905]
[12906]
[12907]
[12908]
[12909]
[12910]
[12911]
[12912]
[12913]
[12914]
[12915]
[12916]
[12917]
[12918]
[12919]
[12920]
[12921]
[12922]
[12923]
[12924]
[12925]
[12926]
[12927]
[12928]
[12929]
[12930]
[{"$f":"A12933+1","v":12931}]
[12932]
[12933]
[12934]
[12935]
[12936]
[12937]
[12938]
[12939]
[12940]
[12941]
[12942]
[12943]
[12944]
[12945]
[12946]
[12947]
[12948]
[12949]
[12950]
[12951]
[12952]
[12953]
[12954]
[12955]
[12956]
[12957]
[12958]
[12959]
[12960]
[12961]
[12962]
[12963]
[12964]
[12965]
[12966]
[12967]
[12968]
[12969]
[12970]
[12971]
[12972]
[12973]
[12974]
[12975]
[12976]
[12977]
[12978]
[12979]
[12980]
[12981]
[12982]
[12983]
[12984]
[12985]
[12986]
[12987]
[12988]
[12989]
[12990]
[12991]
[12992]
[12993]
[12994]
[{"$f":"A12997+1","v":12995}]
[12996]
[12997]
[12998]
[12999]
[13000]
[13001]
[13002]
[13003]
[13004]
[13005]
[13006]
[13007]
[13008]
[13009]
[13010]
[13011]
[13012]
[13013]
[13014]
[13015]
[13016]
[13017]
[13018]
[13019]
[13020]
[13021]
[13022]
[13023]
[13024]
[13025]
[13026]
[13027]
[13028]
[13029]
[13030]
[13031]
[13032]
[13033]
[13034]
[13035]
[13036]
[13037]
[13038]
[13039]
[13040]
[13041]
[13042]
[13043]
[13044]
[13045]
[13046]
[13047]
[13048]
[13049]
[13050]
[13051]
[13052]
[13053]
[13054]
[13055]
[13056]
[13057]
[13058]
[{"$f":"A13061+1","v":13059}]
[13060]
[13061]
[13062]
[13063]
[13064]
[13065]
[13066]
[13067]
[13068]
[13069]
[13070]
[13071]
[13072]
[13073]
[13074]
[13075]
[13076]
[13077]
[13078]
[13079]
[13080]
[13081]
[13082]
[13083]
[13084]
[13085]
[13086]
[13087]
[13088]
[13089]
[13090]
[13091]
[13092]
[13093]
[13094]
[13095]
[13096]
[13097]
[13098]
[13099]
[13100]
[13101]
[13102]
[13103]
[13104]
[13105]
[13106]
[13107]
[13108]
[13109]
[13110]
[13111]
[13112]
[13113]
[13114]
[13115]
[13116]
[13117]
[13118]
[13119]
[13120]
[13121]
[13122]
[{"$f":"A13125+1","v":13123}]
[13124]
[13125]
[13126]
[13127]
[13128]
[13129]
[13130]
[13131]
[13132]
[13133]
[13134]
[13135]
[13136]
[13137]
[13138]
[13139]
[13140]
[13141]
[13142]
[13143]
[13144]
[13145]
[13146]
[13147]
[13148]
[13149]
[13150]
[13151]
[13152]
[13153]
[13154]
[13155]
[13156]
[13157]
[13158]
[13159]
[13160]
[13161]
[13162]
[13163]
[13164]
[13165]
[13166]
[13167]
[13168]
[13169]
[13170]
[13171]
[13172]
[13173]
[13174]
[13175]
[13176]
[13177]
[13178]
[13179]
[13180]
[13181]
[13182]
[13183]
[13184]
[13185]
[13186]
[{"$f":"A13189+1","v":13187}]
[13188]
[13189]
[13190]
[13191]
[13192]
[13193]
[13194]
[13195]
[13196]
[13197]
[13198]
[13199]
[13200]
[13201]
[13202]
[13203]
[13204]
[13205]
[13206]
[13207]
[13208]
[13209]
[13210]
[13211]
[13212]
[13213]
[13214]
[13215]
[13216]
[13217]
[13218]
[13219]
[13220]
[13221]
[13222]
[13223]
[13224]
[13225]
[13226]
[13227]
[13228]
[13229]
[13230]
[13231]
[13232]
[13233]
[13234]
[13235]
[13236]
[13237]
[13238]
[13239]
[13240]
[13241]
[13242]
[13243]
[13244]
[13245]
[13246]
[13247]
[13248]
[13249]
[13250]
[{"$f":"A13253+1","v":13251}]
[13252]
[13253]
[13254]
[13255]
[13256]
[13257]
[13258]
[13259]
[13260]
[13261]
[13262]
[13263]
[13264]
[13265]
[13266]
[13267]
[13268]
[13269]
[13270]
[13271]
[13272]
[13273]
[13274]
[13275]
[13276]
[13277]
[13278]
[13279]
[13280]
[13281]
[13282]
[13283]
[13284]
[13285]
[13286]
[13287]
[13288]
[13289]
[13290]
[13291]
[13292]
[13293]
[13294]
[13295]
[13296]
[13297]
[13298]
[13299]
[13300]
[13301]
[13302]
[13303]
[13304]
[13305]
[13306]
[13307]
[13308]
[13309]
[13310]
[13311]
[13312]
[13313]
[13314]
[{"$f":"A13317+1","v":13315}]
[13316]
[13317]
[13318]
[13319]
[13320]
[13321]
[13322]
[13323]
[13324]
[13325]
[13326]
[13327]
[13328]
[13329]
[13330]
[13331]
[13332]
[13333]
[13334]
[13335]
[13336]
[13337]
[13338]
[13339]
[13340]
[13341]
[13342]
[13343]
[13344]
[13345]
[13346]
[13347]
[13348]
[13349]
[13350]
[13351]
[13352]
[13353]
[13354]
[13355]
[13356]
[13357]
[13358]
[13359]
[13360]
[13361]
[13362]
[13363]
[13364]
[13365]
[13366]
[13367]
[13368]
[13369]
[13370]
[13371]
[13372]
[13373]
[13374]
[13375]
[13376]
[13377]
[13378]
[{"$f":"A13381+1","v":13379}]
[13380]
[13381]
[13382]
[13383]
[13384]
[13385]
[13386]
[13387]
[13388]
[13389]
[13390]
[13391]
[13392]
[13393]
[13394]
[13395]
[13396]
[13397]
[13398]
[13399]
[13400]
[13401]
[13402]
[13403]
[13404]
[13405]
[13406]
[13407]
[13408]
[13409]
[13410]
[13411]
[13412]
[13413]
[13414]
[13415]
[13416]
[13417]
[13418]
[13419]
[13420]
[13421]
[13422]
[13423]
[13424]
[13425]
[13426]
[13427]
[13428]
[13429]
[13430]
[13431]
[13432]
[13433]
[13434]
[13435]
[13436]
[13437]
[13438]
[13439]
[13440]
[13441]
[13442]
[{"$f":"A13445+1","v":13443}]
[13444]
[13445]
[13446]
[13447]
[13448]
[13449]
[13450]
[13451]
[13452]
[13453]
[13454]
[13455]
[13456]
[13457]
[13458]
[13459]
[13460]
[13461]
[13462]
[13463]
[13464]
[13465]
[13466]
[13467]
[13468]
[13469]
[13470]
[13471]
[13472]
[13473]
[13474]
[13475]
[13476]
[13477]
[13478]
[13479]
[13480]
[13481]
[13482]
[13483]
[13484]
[13485]
[13486]
[13487]
[13488]
[13489]
[13490]
[13491]
[13492]
[13493]
[13494]
[13495]
[13496]
[13497]
[13498]
[13499]
[13500]
[13501]
[13502]
[13503]
[13504]
[13505]
[13506]
[{"$f":"A13509+1","v":13507}]
[13508]
[13509]
[13510]
[13511]
[13512]
[13513]
[13514]
[13515]
[13516]
[13517]
[13518]
[13519]
[13520]
[13521]
[13522]
[13523]
[13524]
[13525]
[13526]
[13527]
[13528]
[13529]
[13530]
[13531]
[13532]
[13533]
[13534]
[13535]
[13536]
[13537]
[13538]
[13539]
[13540]
[13541]
[13542]
[13543]
[13544]
[13545]
[13546]
[13547]
[13548]
[13549]
[13550]
[13551]
[13552]
[13553]
[13554]
[13555]
[13556]
[13557]
[13558]
[13559]
[13560]
[13561]
[13562]
[13563]
[13564]
[13565]
[13566]
[13567]
[13568]
[13569]
[13570]
[{"$f":"A13573+1","v":13571}]
[13572]
[13573]
[13574]
[13575]
[13576]
[13577]
[13578]
[13579]
[13580]
[13581]
[13582]
[13583]
[13584]
[13585]
[13586]
[13587]
[13588]
[13589]
[13590]
[13591]
[13592]
[13593]
[13594]
[13595]
[13596]
[13597]
[13598]
[13599]
[13600]
[13601]
[13602]
[13603]
[13604]
[13605]
[13606]
[13607]
[13608]
[13609]
[13610]
[13611]
[13612]
[13613]
[13614]
[13615]
[13616]
[13617]
[13618]
[13619]
[13620]
[13621]
[13622]
[13623]
[13624]
[13625]
[13626]
[13627]
[13628]
[13629]
[13630]
[13631]
[13632]
[13633]
[13634]
[{"$f":"A13637+1","v":13635}]
[13636]
[13637]
[13638]
[13639]
[13640]
[13641]
[13642]
[13643]
[13644]
[13645]
[13646]
[13647]
[13648]
[13649]
[13650]
[13651]
[13652]
[13653]
[13654]
[13655]
[13656]
[13657]
[13658]
[13659]
[13660]
[13661]
[13662]
[13663]
[13664]
[13665]
[13666]
[13667]
[13668]
[13669]
[13670]
[13671]
[13672]
[13673]
[13674]
[13675]
[13676]
[13677]
[13678]
[13679]
[13680]
[13681]
[13682]
[13683]
[13684]
[13685]
[13686]
[13687]
[13688]
[13689]
[13690]
[13691]
[13692]
[13693]
[13694]
[13695]
[13696]
[13697]
[13698]
[{"$f":"A13701+1","v":13699}]
[13700]
[13701]
[13702]
[13703]
[13704]
[13705]
[13706]
[13707]
[13708]
[13709]
[13710]
[13711]
[13712]
[13713]
[13714]
[13715]
[13716]
[13717]
[13718]
[13719]
[13720]
[13721]
[13722]
[13723]
[13724]
[13725]
[13726]
[13727]
[13728]
[13729]
[13730]
[13731]
[13732]
[13733]
[13734]
[13735]
[13736]
[13737]
[13738]
[13739]
[13740]
[13741]
[13742]
[13743]
[13744]
[13745]
[13746]
[13747]
[13748]
[13749]
[13750]
[13751]
[13752]
[13753]
[13754]
[13755]
[13756]
[13757]
[13758]
[13759]
[13760]
[13761]
[13762]
[{"$f":"A13765+1","v":13763}]
[13764]
[13765]
[13766]
[13767]
[13768]
[13769]
[13770]
[13771]
[13772]
[13773]
[13774]
[13775]
[13776]
[13777]
[13778]
[13779]
[13780]
[13781]
[13782]
[13783]
[13784]
[13785]
[13786]
[13787]
[13788]
[13789]
[13790]
[13791]
[13792]
[13793]
[13794]
[13795]
[13796]
[13797]
[13798]
[13799]
[13800]
[13801]
[13802]
[13803]
[13804]
[13805]
[13806]
[13807]
[13808]
[13809]
[13810]
[13811]
[13812]
[13813]
[13814]
[13815]
[13816]
[13817]
[13818]
[13819]
[13820]
[13821]
[13822]
[13823]
[13824]
[13825]
[13826]
[{"$f":"A13829+1","v":13827}]
[13828]
[13829]
[13830]
[13831]
[13832]
[13833]
[13834]
[13835]
[13836]
[13837]
[13838]
[13839]
[13840]
[13841]
[13842]
[13843]
[13844]
[13845]
[13846]
[13847]
[13848]
[13849]
[13850]
[13851]
[13852]
[13853]
[13854]
[13855]
[13856]
[13857]
[13858]
[13859]
[13860]
[13861]
[13862]
[13863]
[13864]
[13865]
[13866]
[13867]
[13868]
[13869]
[13870]
[13871]
[13872]
[13873]
[13874]
[13875]
[13876]
[13877]
[13878]
[13879]
[13880]
[13881]
[13882]
[13883]
[13884]
[13885]
[13886]
[13887]
[13888]
[13889]
[13890]
[{"$f":"A13893+1","v":13891}]
[13892]
[13893]
[13894]
[13895]
[13896]
[13897]
[13898]
[13899]
[13900]
[13901]
[13902]
[13903]
[13904]
[13905]
[13906]
[13907]
[13908]
[13909]
[13910]
[13911]
[13912]
[13913]
[13914]
[13915]
[13916]
[13917]
[13918]
[13919]
[13920]
[13921]
[13922]
[13923]
[13924]
[13925]
[13926]
[13927]
[13928]
[13929]
[13930]
[13931]
[13932]
[13933]
[13934]
[13935]
[13936]
[13937]
[13938]
[13939]
[13940]
[13941]
[13942]
[13943]
[13944]
[13945]
[13946]
[13947]
[13948]
[13949]
[13950]
[13951]
[13952]
[13953]
[13954]
[{"$f":"A13957+1","v":13955}]
[13956]
[13957]
[13958]
[13959]
[13960]
[13961]
[13962]
[13963]
[13964]
[13965]
[13966]
[13967]
[13968]
[13969]
[13970]
[13971]
[13972]
[13973]
[13974]
[13975]
[13976]
[13977]
[13978]
[13979]
[13980]
[13981]
[13982]
[13983]
[13984]
[13985]
[13986]
[13987]
[13988]
[13989]
[13990]
[13991]
[13992]
[13993]
[13994]
[13995]
[13996]
[13997]
[13998]
[13999]
[14000]
[14001]
[14002]
[14003]
[14004]
[14005]
[14006]
[14007]
[14008]
[14009]
[14010]
[14011]
[14012]
[14013]
[14014]
[14015]
[14016]
[14017]
[14018]
[{"$f":"A14021+1","v":14019}]
[14020]
[14021]
[14022]
[14023]
[14024]
[14025]
[14026]
[14027]
[14028]
[14029]
[14030]
[14031]
[14032]
[14033]
[14034]
[14035]
[14036]
[14037]
[14038]
[14039]
[14040]
[14041]
[14042]
[14043]
[14044]
[14045]
[14046]
[14047]
[14048]
[14049]
[14050]
[14051]
[14052]
[14053]
[14054]
[14055]
[14056]
[14057]
[14058]
[14059]
[14060]
[14061]
[14062]
[14063]
[14064]
[14065]
[14066]
[14067]
[14068]
[14069]
[14070]
[14071]
[14072]
[14073]
[14074]
[14075]
[14076]
[14077]
[14078]
[14079]
[14080]
[14081]
[14082]
[{"$f":"A14085+1","v":14083}]
[14084]
[14085]
[14086]
[14087]
[14088]
[14089]
[14090]
[14091]
[14092]
[14093]
[14094]
[14095]
[14096]
[14097]
[14098]
[14099]
[14100]
[14101]
[14102]
[14103]
[14104]
[14105]
[14106]
[14107]
[14108]
[14109]
[14110]
[14111]
[14112]
[14113]
[14114]
[14115]
[14116]
[14117]
[14118]
[14119]
[14120]
[14121]
[14122]
[14123]
[14124]
[14125]
[14126]
[14127]
[14128]
[14129]
[14130]
[14131]
[14132]
[14133]
[14134]
[14135]
[14136]
[14137]
[14138]
[14139]
[14140]
[14141]
[14142]
[14143]
[14144]
[14145]
[14146]
[{"$f":"A14149+1","v":14147}]
[14148]
[14149]
[14150]
[14151]
[14152]
[14153]
[14154]
[14155]
[14156]
[14157]
[14158]
[14159]
[14160]
[14161]
[14162]
[14163]
[14164]
[14165]
[14166]
[14167]
[14168]
[14169]
[14170]
[14171]
[14172]
[14173]
[14174]
[14175]
[14176]
[14177]
[14178]
[14179]
[14180]
[14181]
[14182]
[14183]
[14184]
[14185]
[14186]
[14187]
[14188]
[14189]
[14190]
[14191]
[14192]
[14193]
[14194]
[14195]
[14196]
[14197]
[14198]
[14199]
[14200]
[14201]
[14202]
[14203]
[14204]
[14205]
[14206]
[14207]
[14208]
[14209]
[14210]
[{"$f":"A14213+1","v":14211}]
[14212]
[14213]
[14214]
[14215]
[14216]
[14217]
[14218]
[14219]
[14220]
[14221]
[14222]
[14223]
[14224]
[14225]
[14226]
[14227]
[14228]
[14229]
[14230]
[14231]
[14232]
[14233]
[14234]
[14235]
[14236]
[14237]
[14238]
[14239]
[14240]
[14241]
[14242]
[14243]
[14244]
[14245]
[14246]
[14247]
[14248]
[14249]
[14250]
[14251]
[14252]
[14253]
[14254]
[14255]
[14256]
[14257]
[14258]
[14259]
[14260]
[14261]
[14262]
[14263]
[14264]
[14265]
[14266]
[14267]
[14268]
[14269]
[14270]
[14271]
[14272]
[14273]
[14274]
[{"$f":"A14277+1","v":14275}]
[14276]
[14277]
[14278]
[14279]
[14280]
[14281]
[14282]
[14283]
[14284]
[14285]
[14286]
[14287]
[14288]
[14289]
[14290]
[14291]
[14292]
[14293]
[14294]
[14295]
[14296]
[14297]
[14298]
[14299]
[14300]
[14301]
[14302]
[14303]
[14304]
[14305]
[14306]
[14307]
[14308]
[14309]
[14310]
[14311]
[14312]
[14313]
[14314]
[14315]
[14316]
[14317]
[14318]
[14319]
[14320]
[14321]
[14322]
[14323]
[14324]
[14325]
[14326]
[14327]
[14328]
[14329]
[14330]
[14331]
[14332]
[14333]
[14334]
[14335]
[14336]
[14337]
[14338]
[{"$f":"A14341+1","v":14339}]
[14340]
[14341]
[14342]
[14343]
[14344]
[14345]
[14346]
[14347]
[14348]
[14349]
[14350]
[14351]
[14352]
[14353]
[14354]
[14355]
[14356]
[14357]
[14358]
[14359]
[14360]
[14361]
[14362]
[14363]
[14364]
[14365]
[14366]
[14367]
[14368]
[14369]
[14370]
[14371]
[14372]
[14373]
[14374]
[14375]
[14376]
[14377]
[14378]
[14379]
[14380]
[14381]
[14382]
[14383]
[14384]
[14385]
[14386]
[14387]
[14388]
[14389]
[14390]
[14391]
[14392]
[14393]
[14394]
[14395]
[14396]
[14397]
[14398]
[14399]
[14400]
[14401]
[14402]
[{"$f":"A14405+1","v":14403}]
[14404]
[14405]
[14406]
[14407]
[14408]
[14409]
[14410]
[14411]
[14412]
[14413]
[14414]
[14415]
[14416]
[14417]
[14418]
[14419]
[14420]
[14421]
[14422]
[14423]
[14424]
[14425]
[14426]
[14427]
[14428]
[14429]
[14430]
[14431]
[14432]
[14433]
[14434]
[14435]
[14436]
[14437]
[14438]
[14439]
[14440]
[14441]
[14442]
[14443]
[14444]
[14445]
[14446]
[14447]
[14448]
[14449]
[14450]
[14451]
[14452]
[14453]
[14454]
[14455]
[14456]
[14457]
[14458]
[14459]
[14460]
[14461]
[14462]
[14463]
[14464]
[14465]
[14466]
[{"$f":"A14469+1","v":14467}]
[14468]
[14469]
[14470]
[14471]
[14472]
[14473]
[14474]
[14475]
[14476]
[14477]
[14478]
[14479]
[14480]
[14481]
[14482]
[14483]
[14484]
[14485]
[14486]
[14487]
[14488]
[14489]
[14490]
[14491]
[14492]
[14493]
[14494]
[14495]
[14496]
[14497]
[14498]
[14499]
[14500]
[14501]
[14502]
[14503]
[14504]
[14505]
[14506]
[14507]
[14508]
[14509]
[14510]
[14511]
[14512]
[14513]
[14514]
[14515]
[14516]
[14517]
[14518]
[14519]
[14520]
[14521]
[14522]
[14523]
[14524]
[14525]
[14526]
[14527]
[14528]
[14529]
[14530]
[{"$f":"A14533+1","v":14531}]
[14532]
[14533]
[14534]
[14535]
[14536]
[14537]
[14538]
[14539]
[14540]
[14541]
[14542]
[14543]
[14544]
[14545]
[14546]
[14547]
[14548]
[14549]
[14550]
[14551]
[14552]
[14553]
[14554]
[14555]
[14556]
[14557]
[14558]
[14559]
[14560]
[14561]
[14562]
[14563]
[14564]
[14565]
[14566]
[14567]
[14568]
[14569]
[14570]
[14571]
[14572]
[14573]
[14574]
[14575]
[14576]
[14577]
[14578]
[14579]
[14580]
[14581]
[14582]
[14583]
[14584]
[14585]
[14586]
[14587]
[14588]
[14589]
[14590]
[14591]
[14592]
[14593]
[14594]
[{"$f":"A14597+1","v":14595}]
[14596]
[14597]
[14598]
[14599]
[14600]
[14601]
[14602]
[14603]
[14604]
[14605]
[14606]
[14607]
[14608]
[14609]
[14610]
[14611]
[14612]
[14613]
[14614]
[14615]
[14616]
[14617]
[14618]
[14619]
[14620]
[14621]
[14622]
[14623]
[14624]
[14625]
[14626]
[14627]
[14628]
[14629]
[14630]
[14631]
[14632]
[14633]
[14634]
[14635]
[14636]
[14637]
[14638]
[14639]
[14640]
[14641]
[14642]
[14643]
[14644]
[14645]
[14646]
[14647]
[14648]
[14649]
[14650]
[14651]
[14652]
[14653]
[14654]
[14655]
[14656]
[14657]
[14658]
[{"$f":"A14661+1","v":14659}]
[14660]
[14661]
[14662]
[14663]
[14664]
[14665]
[14666]
[14667]
[14668]
[14669]
[14670]
[14671]
[14672]
[14673]
[14674]
[14675]
[14676]
[14677]
[14678]
[14679]
[14680]
[14681]
[14682]
[14683]
[14684]
[14685]
[14686]
[14687]
[14688]
[14689]
[14690]
[14691]
[14692]
[14693]
[14694]
[14695]
[14696]
[14697]
[14698]
[14699]
[14700]
[14701]
[14702]
[14703]
[14704]
[14705]
[14706]
[14707]
[14708]
[14709]
[14710]
[14711]
[14712]
[14713]
[14714]
[14715]
[14716]
[14717]
[14718]
[14719]
[14720]
[14721]
[14722]
[{"$f":"A14725+1","v":14723}]
[14724]
[14725]
[14726]
[14727]
[14728]
[14729]
[14730]
[14731]
[14732]
[14733]
[14734]
[14735]
[14736]
[14737]
[14738]
[14739]
[14740]
[14741]
[14742]
[14743]
[14744]
[14745]
[14746]
[14747]
[14748]
[14749]
[14750]
[14751]
[14752]
[14753]
[14754]
[14755]
[14756]
[14757]
[14758]
[14759]
[14760]
[14761]
[14762]
[14763]
[14764]
[14765]
[14766]
[14767]
[14768]
[14769]
[14770]
[14771]
[14772]
[14773]
[14774]
[14775]
[14776]
[14777]
[14778]
[14779]
[14780]
[14781]
[14782]
[14783]
[14784]
[14785]
[14786]
[{"$f":"A14789+1","v":14787}]
[14788]
[14789]
[14790]
[14791]
[14792]
[14793]
[14794]
[14795]
[14796]
[14797]
[14798]
[14799]
[14800]
[14801]
[14802]
[14803]
[14804]
[14805]
[14806]
[14807]
[14808]
[14809]
[14810]
[14811]
[14812]
[14813]
[14814]
[14815]
[14816]
[14817]
[14818]
[14819]
[14820]
[14821]
[14822]
[14823]
[14824]
[14825]
[14826]
[14827]
[14828]
[14829]
[14830]
[14831]
[14832]
[14833]
[14834]
[14835]
[14836]
[14837]
[14838]
[14839]
[14840]
[14841]
[14842]
[14843]
[14844]
[14845]
[14846]
[14847]
[14848]
[14849]
[14850]
[{"$f":"A14853+1","v":14851}]
[14852]
[14853]
[14854]
[14855]
[14856]
[14857]
[14858]
[14859]
[14860]
[14861]
[14862]
[14863]
[14864]
[14865]
[14866]
[14867]
[14868]
[14869]
[14870]
[14871]
[14872]
[14873]
[14874]
[14875]
[14876]
[14877]
[14878]
[14879]
[14880]
[14881]
[14882]
[14883]
[14884]
[14885]
[14886]
[14887]
[14888]
[14889]
[14890]
[14891]
[14892]
[14893]
[14894]
[14895]
[14896]
[14897]
[14898]
[14899]
[14900]
[14901]
[14902]
[14903]
[14904]
[14905]
[14906]
[14907]
[14908]
[14909]
[14910]
[14911]
[14912]
[14913]
[14914]
[{"$f":"A14917+1","v":14915}]
[14916]
[14917]
[14918]
[14919]
[14920]
[14921]
[14922]
[14923]
[14924]
[14925]
[14926]
[14927]
[14928]
[14929]
[14930]
[14931]
[14932]
[14933]
[14934]
[14935]
[14936]
[14937]
[14938]
[14939]
[14940]
[14941]
[14942]
[14943]
[14944]
[14945]
[14946]
[14947]
[14948]
[14949]
[14950]
[14951]
[14952]
[14953]
[14954]
[14955]
[14956]
[14957]
[14958]
[14959]
[14960]
[14961]
[14962]
[14963]
[14964]
[14965]
[14966]
[14967]
[14968]
[14969]
[14970]
[14971]
[14972]
[14973]
[14974]
[14975]
[14976]
[14977]
[14978]
[{"$f":"A14981+1","v":14979}]
[14980]
[14981]
[14982]
[14983]
[14984]
[14985]
[14986]
[14987]
[14988]
[14989]
[14990]
[14991]
[14992]
[14993]
[14994]
[14995]
[14996]
[14997]
[14998]
[14999]
[15000]
[15001]
[15002]
[15003]
[15004]
[15005]
[15006]
[15007]
[15008]
[15009]
[15010]
[15011]
[15012]
[15013]
[15014]
[15015]
[15016]
[15017]
[15018]
[15019]
[15020]
[15021]
[15022]
[15023]
[15024]
[15025]
[15026]
[15027]
[15028]
[15029]
[15030]
[15031]
[15032]
[15033]
[15034]
[15035]
[15036]
[15037]
[15038]
[15039]
[15040]
[15041]
[15042]
[{"$f":"A15045+1","v":15043}]
[15044]
[15045]
[15046]
[15047]
[15048]
[15049]
[15050]
[15051]
[15052]
[15053]
[15054]
[15055]
[15056]
[15057]
[15058]
[15059]
[15060]
[15061]
[15062]
[15063]
[15064]
[15065]
[15066]
[15067]
[15068]
[15069]
[15070]
[15071]
[15072]
[15073]
[15074]
[15075]
[15076]
[15077]
[15078]
[15079]
[15080]
[15081]
[15082]
[15083]
[15084]
[15085]
[15086]
[15087]
[15088]
[15089]
[15090]
[15091]
[15092]
[15093]
[15094]
[15095]
[15096]
[15097]
[15098]
[15099]
[15100]
[15101]
[15102]
[15103]
[15104]
[15105]
[15106]
[{"$f":"A15109+1","v":15107}]
[15108]
[15109]
[15110]
[15111]
[15112]
[15113]
[15114]
[15115]
[15116]
[15117]
[15118]
[15119]
[15120]
[15121]
[15122]
[15123]
[15124]
[15125]
[15126]
[15127]
[15128]
[15129]
[15130]
[15131]
[15132]
[15133]
[15134]
[15135]
[15136]
[15137]
[15138]
[15139]
[15140]
[15141]
[15142]
[15143]
[15144]
[15145]
[15146]
[15147]
[15148]
[15149]
[15150]
[15151]
[15152]
[15153]
[15154]
[15155]
[15156]
[15157]
[15158]
[15159]
[15160]
[15161]
[15162]
[15163]
[15164]
[15165]
[15166]
[15167]
[15168]
[15169]
[15170]
[{"$f":"A15173+1","v":15171}]
[15172]
[15173]
[15174]
[15175]
[15176]
[15177]
[15178]
[15179]
[15180]
[15181]
[15182]
[15183]
[15184]
[15185]
[15186]
[15187]
[15188]
[15189]
[15190]
[15191]
[15192]
[15193]
[15194]
[15195]
[15196]
[15197]
[15198]
[15199]
[15200]
[15201]
[15202]
[15203]
[15204]
[15205]
[15206]
[15207]
[15208]
[15209]
[15210]
[15211]
[15212]
[15213]
[15214]
[15215]
[15216]
[15217]
[15218]
[15219]
[15220]
[15221]
[15222]
[15223]
[15224]
[15225]
[15226]
[15227]
[15228]
[15229]
[15230]
[15231]
[15232]
[15233]
[15234]
[{"$f":"A15237+1","v":15235}]
[15236]
[15237]
[15238]
[15239]
[15240]
[15241]
[15242]
[15243]
[15244]
[15245]
[15246]
[15247]
[15248]
[15249]
[15250]
[15251]
[15252]
[15253]
[15254]
[15255]
[15256]
[15257]
[15258]
[15259]
[15260]
[15261]
[15262]
[15263]
[15264]
[15265]
[15266]
[15267]
[15268]
[15269]
[15270]
[15271]
[15272]
[15273]
[15274]
[15275]
[15276]
[15277]
[15278]
[15279]
[15280]
[15281]
[15282]
[15283]
[15284]
[15285]
[15286]
[15287]
[15288]
[15289]
[15290]
[15291]
[15292]
[15293]
[15294]
[15295]
[15296]
[15297]
[15298]
[{"$f":"A15301+1","v":15299}]
[15300]
[15301]
[15302]
[15303]
[15304]
[15305]
[15306]
[15307]
[15308]
[15309]
[15310]
[15311]
[15312]
[15313]
[15314]
[15315]
[15316]
[15317]
[15318]
[15319]
[15320]
[15321]
[15322]
[15323]
[15324]
[15325]
[15326]
[15327]
[15328]
[15329]
[15330]
[15331]
[15332]
[15333]
[15334]
[15335]
[15336]
[15337]
[15338]
[15339]
[15340]
[15341]
[15342]
[15343]
[15344]
[15345]
[15346]
[15347]
[15348]
[15349]
[15350]
[15351]
[15352]
[15353]
[15354]
[15355]
[15356]
[15357]
[15358]
[15359]
[15360]
[15361]
[15362]
[{"$f":"A15365+1","v":15363}]
[15364]
[15365]
[15366]
[15367]
[15368]
[15369]
[15370]
[15371]
[15372]
[15373]
[15374]
[15375]
[15376]
[15377]
[15378]
[15379]
[15380]
[15381]
[15382]
[15383]
[15384]
[15385]
[15386]
[15387]
[15388]
[15389]
[15390]
[15391]
[15392]
[15393]
[15394]
[15395]
[15396]
[15397]
[15398]
[15399]
[15400]
[15401]
[15402]
[15403]
[15404]
[15405]
[15406]
[15407]
[15408]
[15409]
[15410]
[15411]
[15412]
[15413]
[15414]
[15415]
[15416]
[15417]
[15418]
[15419]
[15420]
[15421]
[15422]
[15423]
[15424]
[15425]
[15426]
[{"$f":"A15429+1","v":15427}]
[15428]
[15429]
[15430]
[15431]
[15432]
[15433]
[15434]
[15435]
[15436]
[15437]
[15438]
[15439]
[15440]
[15441]
[15442]
[15443]
[15444]
[15445]
[15446]
[15447]
[15448]
[15449]
[15450]
[15451]
[15452]
[15453]
[15454]
[15455]
[15456]
[15457]
[15458]
[15459]
[15460]
[15461]
[15462]
[15463]
[15464]
[15465]
[15466]
[15467]
[15468]
[15469]
[15470]
[15471]
[15472]
[15473]
[15474]
[15475]
[15476]
[15477]
[15478]
[15479]
[15480]
[15481]
[15482]
[15483]
[15484]
[15485]
[15486]
[15487]
[15488]
[15489]
[15490]
[{"$f":"A15493+1","v":15491}]
[15492]
[15493]
[15494]
[15495]
[15496]
[15497]
[15498]
[15499]
[15500]
[15501]
[15502]
[15503]
[15504]
[15505]
[15506]
[15507]
[15508]
[15509]
[15510]
[15511]
[15512]
[15513]
[15514]
[15515]
[15516]
[15517]
[15518]
[15519]
[15520]
[15521]
[15522]
[15523]
[15524]
[15525]
[15526]
[15527]
[15528]
[15529]
[15530]
[15531]
[15532]
[15533]
[15534]
[15535]
[15536]
[15537]
[15538]
[15539]
[15540]
[15541]
[15542]
[15543]
[15544]
[15545]
[15546]
[15547]
[15548]
[15549]
[15550]
[15551]
[15552]
[15553]
[15554]
[{"$f":"A15557+1","v":15555}]
[15556]
[15557]
[15558]
[15559]
[15560]
[15561]
[15562]
[15563]
[15564]
[15565]
[15566]
[15567]
[15568]
[15569]
[15570]
[15571]
[15572]
[15573]
[15574]
[15575]
[15576]
[15577]
[15578]
[15579]
[15580]
[15581]
[15582]
[15583]
[15584]
[15585]
[15586]
[15587]
[15588]
[15589]
[15590]
[15591]
[15592]
[15593]
[15594]
[15595]
[15596]
[15597]
[15598]
[15599]
[15600]
[15601]
[15602]
[15603]
[15604]
[15605]
[15606]
[15607]
[15608]
[15609]
[15610]
[15611]
[15612]
[15613]
[15614]
[15615]
[15616]
[15617]
[15618]
[{"$f":"A15621+1","v":15619}]
[15620]
[15621]
[15622]
[15623]
[15624]
[15625]
[15626]
[15627]
[15628]
[15629]
[15630]
[15631]
[15632]
[15633]
[15634]
[15635]
[15636]
[15637]
[15638]
[15639]
[15640]
[15641]
[15642]
[15643]
[15644]
[15645]
[15646]
[15647]
[15648]
[15649]
[15650]
[15651]
[15652]
[15653]
[15654]
[15655]
[15656]
[15657]
[15658]
[15659]
[15660]
[15661]
[15662]
[15663]
[15664]
[15665]
[15666]
[15667]
[15668]
[15669]
[15670]
[15671]
[15672]
[15673]
[15674]
[15675]
[15676]
[15677]
[15678]
[15679]
[15680]
[15681]
[15682]
[{"$f":"A15685+1","v":15683}]
[15684]
[15685]
[15686]
[15687]
[15688]
[15689]
[15690]
[15691]
[15692]
[15693]
[15694]
[15695]
[15696]
[15697]
[15698]
[15699]
[15700]
[15701]
[15702]
[15703]
[15704]
[15705]
[15706]
[15707]
[15708]
[15709]
[15710]
[15711]
[15712]
[15713]
[15714]
[15715]
[15716]
[15717]
[15718]
[15719]
[15720]
[15721]
[15722]
[15723]
[15724]
[15725]
[15726]
[15727]
[15728]
[15729]
[15730]
[15731]
[15732]
[15733]
[15734]
[15735]
[15736]
[15737]
[15738]
[15739]
[15740]
[15741]
[15742]
[15743]
[15744]
[15745]
[15746]
[{"$f":"A15749+1","v":15747}]
[15748]
[15749]
[15750]
[15751]
[15752]
[15753]
[15754]
[15755]
[15756]
[15757]
[15758]
[15759]
[15760]
[15761]
[15762]
[15763]
[15764]
[15765]
[15766]
[15767]
[15768]
[15769]
[15770]
[15771]
[15772]
[15773]
[15774]
[15775]
[15776]
[15777]
[15778]
[15779]
[15780]
[15781]
[15782]
[15783]
[15784]
[15785]
[15786]
[15787]
[15788]
[15789]
[15790]
[15791]
[15792]
[15793]
[15794]
[15795]
[15796]
[15797]
[15798]
[15799]
[15800]
[15801]
[15802]
[15803]
[15804]
[15805]
[15806]
[15807]
[15808]
[15809]
[15810]
[{"$f":"A15813+1","v":15811}]
[15812]
[15813]
[15814]
[15815]
[15816]
[15817]
[15818]
[15819]
[15820]
[15821]
[15822]
[15823]
[15824]
[15825]
[15826]
[15827]
[15828]
[15829]
[15830]
[15831]
[15832]
[15833]
[15834]
[15835]
[15836]
[15837]
[15838]
[15839]
[15840]
[15841]
[15842]
[15843]
[15844]
[15845]
[15846]
[15847]
[15848]
[15849]
[15850]
[15851]
[15852]
[15853]
[15854]
[15855]
[15856]
[15857]
[15858]
[15859]
[15860]
[15861]
[15862]
[15863]
[15864]
[15865]
[15866]
[15867]
[15868]
[15869]
[15870]
[15871]
[15872]
[15873]
[15874]
[{"$f":"A15877+1","v":15875}]
[15876]
[15877]
[15878]
[15879]
[15880]
[15881]
[15882]
[15883]
[15884]
[15885]
[15886]
[15887]
[15888]
[15889]
[15890]
[15891]
[15892]
[15893]
[15894]
[15895]
[15896]
[15897]
[15898]
[15899]
[15900]
[15901]
[15902]
[15903]
[15904]
[15905]
[15906]
[15907]
[15908]
[15909]
[15910]
[15911]
[15912]
[15913]
[15914]
[15915]
[15916]
[15917]
[15918]
[15919]
[15920]
[15921]
[15922]
[15923]
[15924]
[15925]
[15926]
[15927]
[15928]
[15929]
[15930]
[15931]
[15932]
[15933]
[15934]
[15935]
[15936]
[15937]
[15938]
[{"$f":"A15941+1","v":15939}]
[15940]
[15941]
[15942]
[15943]
[15944]
[15945]
[15946]
[15947]
[15948]
[15949]
[15950]
[15951]
[15952]
[15953]
[15954]
[15955]
[15956]
[15957]
[15958]
[15959]
[15960]
[15961]
[15962]
[15963]
[15964]
[15965]
[15966]
[15967]
[15968]
[15969]
[15970]
[15971]
[15972]
[15973]
[15974]
[15975]
[15976]
[15977]
[15978]
[15979]
[15980]
[15981]
[15982]
[15983]
[15984]
[15985]
[15986]
[15987]
[15988]
[15989]
[15990]
[15991]
[15992]
[15993]
[15994]
[15995]
[15996]
[15997]
[15998]
[15999]
[16000]
[16001]
[16002]
[{"$f":"A16005+1","v":16003}]
[16004]
[16005]
[16006]
[16007]
[16008]
[16009]
[16010]
[16011]
[16012]
[16013]
[16014]
[16015]
[16016]
[16017]
[16018]
[16019]
[16020]
[16021]
[16022]
[16023]
[16024]
[16025]
[16026]
[16027]
[16028]
[16029]
[16030]
[16031]
[16032]
[16033]
[16034]
[16035]
[16036]
[16037]
[16038]
[16039]
[16040]
[16041]
[16042]
[16043]
[16044]
[16045]
[16046]
[16047]
[16048]
[16049]
[16050]
[16051]
[16052]
[16053]
[16054]
[16055]
[16056]
[16057]
[16058]
[16059]
[16060]
[16061]
[16062]
[16063]
[16064]
[16065]
[16066]
[{"$f":"A16069+1","v":16067}]
[16068]
[16069]
[16070]
[16071]
[16072]
[16073]
[16074]
[16075]
[16076]
[16077]
[16078]
[16079]
[16080]
[16081]
[16082]
[16083]
[16084]
[16085]
[16086]
[16087]
[16088]
[16089]
[16090]
[16091]
[16092]
[16093]
[16094]
[16095]
[16096]
[16097]
[16098]
[16099]
[16100]
[16101]
[16102]
[16103]
[16104]
[16105]
[16106]
[16107]
[16108]
[16109]
[16110]
[16111]
[16112]
[16113]
[16114]
[16115]
[16116]
[16117]
[16118]
[16119]
[16120]
[16121]
[16122]
[16123]
[16124]
[16125]
[16126]
[16127]
[16128]
[16129]
[16130]
[{"$f":"A16133+1","v":16131}]
[16132]
[16133]
[16134]
[16135]
[16136]
[16137]
[16138]
[16139]
[16140]
[16141]
[16142]
[16143]
[16144]
[16145]
[16146]
[16147]
[16148]
[16149]
[16150]
[16151]
[16152]
[16153]
[16154]
[16155]
[16156]
[16157]
[16158]
[16159]
[16160]
[16161]
[16162]
[16163]
[16164]
[16165]
[16166]
[16167]
[16168]
[16169]
[16170]
[16171]
[16172]
[16173]
[16174]
[16175]
[16176]
[16177]
[16178]
[16179]
[16180]
[16181]
[16182]
[16183]
[16184]
[16185]
[16186]
[16187]
[16188]
[16189]
[16190]
[16191]
[16192]
[16193]
[16194]
[{"$f":"A16197+1","v":16195}]
[16196]
[16197]
[16198]
[16199]
[16200]
[16201]
[16202]
[16203]
[16204]
[16205]
[16206]
[16207]
[16208]
[16209]
[16210]
[16211]
[16212]
[16213]
[16214]
[16215]
[16216]
[16217]
[16218]
[16219]
[16220]
[16221]
[16222]
[16223]
[16224]
[16225]
[16226]
[16227]
[16228]
[16229]
[16230]
[16231]
[16232]
[16233]
[16234]
[16235]
[16236]
[16237]
[16238]
[16239]
[16240]
[16241]
[16242]
[16243]
[16244]
[16245]
[16246]
[16247]
[16248]
[16249]
[16250]
[16251]
[16252]
[16253]
[16254]
[16255]
[16256]
[16257]
[16258]
[{"$f":"A16261+1","v":16259}]
[16260]
[16261]
[16262]
[16263]
[16264]
[16265]
[16266]
[16267]
[16268]
[16269]
[16270]
[16271]
[16272]
[16273]
[16274]
[16275]
[16276]
[16277]
[16278]
[16279]
[16280]
[16281]
[16282]
[16283]
[16284]
[16285]
[16286]
[16287]
[16288]
[16289]
[16290]
[16291]
[16292]
[16293]
[16294]
[16295]
[16296]
[16297]
[16298]
[16299]
[16300]
[16301]
[16302]
[16303]
[16304]
[16305]
[16306]
[16307]
[16308]
[16309]
[16310]
[16311]
[16312]
[16313]
[16314]
[16315]
[16316]
[16317]
[16318]
[16319]
[16320]
[16321]
[16322]
[{"$f":"A16325+1","v":16323}]
[16324]
[16325]
[16326]
[16327]
[16328]
[16329]
[16330]
[16331]
[16332]
[16333]
[16334]
[16335]
[16336]
[16337]
[16338]
[16339]
[16340]
[16341]
[16342]
[16343]
[16344]
[16345]
[16346]
[16347]
[16348]
[16349]
[16350]
[16351]
[16352]
[16353]
[16354]
[16355]
[16356]
[16357]
[16358]
[16359]
[16360]
[16361]
[16362]
[16363]
[16364]
[16365]
[16366]
[16367]
[16368]
[16369]
[16370]
[16371]
[16372]
[16373]
[16374]
[16375]
[16376]
[16377]
[16378]
[16379]
[16380]
[16381]
[16382]
[16383]
[16384]
[16385]
[16386]
[{"$f":"A16389+1","v":16387}]
[16388]
[16389]
[16390]
[16391]
[16392]
[16393]
[16394]
[16395]
[16396]
[16397]
[16398]
[16399]
[16400]
[16401]
[16402]
[16403]
[16404]
[16405]
[16406]
[16407]
[16408]
[16409]
[16410]
[16411]
[16412]
[16413]
[16414]
[16415]
[16416]
[16417]
[16418]
[16419]
[16420]
[16421]
[16422]
[16423]
[16424]
[16425]
[16426]
[16427]
[16428]
[16429]
[16430]
[16431]
[16432]
[16433]
[16434]
[16435]
[16436]
[16437]
[16438]
[16439]
[16440]
[16441]
[16442]
[16443]
[16444]
[16445]
[16446]
[16447]
[16448]
[16449]
[16450]
[{"$f":"A16453+1","v":16451}]
[16452]
[16453]
[16454]
[16455]
[16456]
[16457]
[16458]
[16459]
[16460]
[16461]
[16462]
[16463]
[16464]
[16465]
[16466]
[16467]
[16468]
[16469]
[16470]
[16471]
[16472]
[16473]
[16474]
[16475]
[16476]
[16477]
[16478]
[16479]
[16480]
[16481]
[16482]
[16483]
[16484]
[16485]
[16486]
[16487]
[16488]
[16489]
[16490]
[16491]
[16492]
[16493]
[16494]
[16495]
[16496]
[16497]
[16498]
[16499]
[16500]
[16501]
[16502]
[16503]
[16504]
[16505]
[16506]
[16507]
[16508]
[16509]
[16510]
[16511]
[16512]
[16513]
[16514]
[{"$f":"A16517+1","v":16515}]
[16516]
[16517]
[16518]
[16519]
[16520]
[16521]
[16522]
[16523]
[16524]
[16525]
[16526]
[16527]
[16528]
[16529]
[16530]
[16531]
[16532]
[16533]
[16534]
[16535]
[16536]
[16537]
[16538]
[16539]
[16540]
[16541]
[16542]
[16543]
[16544]
[16545]
[16546]
[16547]
[16548]
[16549]
[16550]
[16551]
[16552]
[16553]
[16554]
[16555]
[16556]
[16557]
[16558]
[16559]
[16560]
[16561]
[16562]
[16563]
[16564]
[16565]
[16566]
[16567]
[16568]
[16569]
[16570]
[16571]
[16572]
[16573]
[16574]
[16575]
[16576]
[16577]
[16578]
[{"$f":"A16581+1","v":16579}]
[16580]
[16581]
[16582]
[16583]
[16584]
[16585]
[16586]
[16587]
[16588]
[16589]
[16590]
[16591]
[16592]
[16593]
[16594]
[16595]
[16596]
[16597]
[16598]
[16599]
[16600]
[16601]
[16602]
[16603]
[16604]
[16605]
[16606]
[16607]
[16608]
[16609]
[16610]
[16611]
[16612]
[16613]
[16614]
[16615]
[16616]
[16617]
[16618]
[16619]
[16620]
[16621]
[16622]
[16623]
[16624]
[16625]
[16626]
[16627]
[16628]
[16629]
[16630]
[16631]
[16632]
[16633]
[16634]
[16635]
[16636]
[16637]
[16638]
[16639]
[16640]
[16641]
[16642]
[{"$f":"A16645+1","v":16643}]
[16644]
[16645]
[16646]
[16647]
[16648]
[16649]
[16650]
[16651]
[16652]
[16653]
[16654]
[16655]
[16656]
[16657]
[16658]
[16659]
[16660]
[16661]
[16662]
[16663]
[16664]
[16665]
[16666]
[16667]
[16668]
[16669]
[16670]
[16671]
[16672]
[16673]
[16674]
[16675]
[16676]
[16677]
[16678]
[16679]
[16680]
[16681]
[16682]
[16683]
[16684]
[16685]
[16686]
[16687]
[16688]
[16689]
[16690]
[16691]
[16692]
[16693]
[16694]
[16695]
[16696]
[16697]
[16698]
[16699]
[16700]
[16701]
[16702]
[16703]
[16704]
[16705]
[16706]
[{"$f":"A16709+1","v":16707}]
[16708]
[16709]
[16710]
[16711]
[16712]
[16713]
[16714]
[16715]
[16716]
[16717]
[16718]
[16719]
[16720]
[16721]
[16722]
[16723]
[16724]
[16725]
[16726]
[16727]
[16728]
[16729]
[16730]
[16731]
[16732]
[16733]
[16734]
[16735]
[16736]
[16737]
[16738]
[16739]
[16740]
[16741]
[16742]
[16743]
[16744]
[16745]
[16746]
[16747]
[16748]
[16749]
[16750]
[16751]
[16752]
[16753]
[16754]
[16755]
[16756]
[16757]
[16758]
[16759]
[16760]
[16761]
[16762]
[16763]
[16764]
[16765]
[16766]
[16767]
[16768]
[16769]
[16770]
[{"$f":"A16773+1","v":16771}]
[16772]
[16773]
[16774]
[16775]
[16776]
[16777]
[16778]
[16779]
[16780]
[16781]
[16782]
[16783]
[16784]
[16785]
[16786]
[16787]
[16788]
[16789]
[16790]
[16791]
[16792]
[16793]
[16794]
[16795]
[16796]
[16797]
[16798]
[16799]
[16800]
[16801]
[16802]
[16803]
[16804]
[16805]
[16806]
[16807]
[16808]
[16809]
[16810]
[16811]
[16812]
[16813]
[16814]
[16815]
[16816]
[16817]
[16818]
[16819]
[16820]
[16821]
[16822]
[16823]
[16824]
[16825]
[16826]
[16827]
[16828]
[16829]
[16830]
[16831]
[16832]
[16833]
[16834]
[{"$f":"A16837+1","v":16835}]
[16836]
[16837]
[16838]
[16839]
[16840]
[16841]
[16842]
[16843]
[16844]
[16845]
[16846]
[16847]
[16848]
[16849]
[16850]
[16851]
[16852]
[16853]
[16854]
[16855]
[16856]
[16857]
[16858]
[16859]
[16860]
[16861]
[16862]
[16863]
[16864]
[16865]
[16866]
[16867]
[16868]
[16869]
[16870]
[16871]
[16872]
[16873]
[16874]
[16875]
[16876]
[16877]
[16878]
[16879]
[16880]
[16881]
[16882]
[16883]
[16884]
[16885]
[16886]
[16887]
[16888]
[16889]
[16890]
[16891]
[16892]
[16893]
[16894]
[16895]
[16896]
[16897]
[16898]
[{"$f":"A16901+1","v":16899}]
[16900]
[16901]
[16902]
[16903]
[16904]
[16905]
[16906]
[16907]
[16908]
[16909]
[16910]
[16911]
[16912]
[16913]
[16914]
[16915]
[16916]
[16917]
[16918]
[16919]
[16920]
[16921]
[16922]
[16923]
[16924]
[16925]
[16926]
[16927]
[16928]
[16929]
[16930]
[16931]
[16932]
[16933]
[16934]
[16935]
[16936]
[16937]
[16938]
[16939]
[16940]
[16941]
[16942]
[16943]
[16944]
[16945]
[16946]
[16947]
[16948]
[16949]
[16950]
[16951]
[16952]
[16953]
[16954]
[16955]
[16956]
[16957]
[16958]
[16959]
[16960]
[16961]
[16962]
[{"$f":"A16965+1","v":16963}]
[16964]
[16965]
[16966]
[16967]
[16968]
[16969]
[16970]
[16971]
[16972]
[16973]
[16974]
[16975]
[16976]
[16977]
[16978]
[16979]
[16980]
[16981]
[16982]
[16983]
[16984]
[16985]
[16986]
[16987]
[16988]
[16989]
[16990]
[16991]
[16992]
[16993]
[16994]
[16995]
[16996]
[16997]
[16998]
[16999]
[17000]
[17001]
[17002]
[17003]
[17004]
[17005]
[17006]
[17007]
[17008]
[17009]
[17010]
[17011]
[17012]
[17013]
[17014]
[17015]
[17016]
[17017]
[17018]
[17019]
[17020]
[17021]
[17022]
[17023]
[17024]
[17025]
[17026]
[{"$f":"A17029+1","v":17027}]
[17028]
[17029]
[17030]
[17031]
[17032]
[17033]
[17034]
[17035]
[17036]
[17037]
[17038]
[17039]
[17040]
[17041]
[17042]
[17043]
[17044]
[17045]
[17046]
[17047]
[17048]
[17049]
[17050]
[17051]
[17052]
[17053]
[17054]
[17055]
[17056]
[17057]
[17058]
[17059]
[17060]
[17061]
[17062]
[17063]
[17064]
[17065]
[17066]
[17067]
[17068]
[17069]
[17070]
[17071]
[17072]
[17073]
[17074]
[17075]
[17076]
[17077]
[17078]
[17079]
[17080]
[17081]
[17082]
[17083]
[17084]
[17085]
[17086]
[17087]
[17088]
[17089]
[17090]
[{"$f":"A17093+1","v":17091}]
[17092]
[17093]
[17094]
[17095]
[17096]
[17097]
[17098]
[17099]
[17100]
[17101]
[17102]
[17103]
[17104]
[17105]
[17106]
[17107]
[17108]
[17109]
[17110]
[17111]
[17112]
[17113]
[17114]
[17115]
[17116]
[17117]
[17118]
[17119]
[17120]
[17121]
[17122]
[17123]
[17124]
[17125]
[17126]
[17127]
[17128]
[17129]
[17130]
[17131]
[17132]
[17133]
[17134]
[17135]
[17136]
[17137]
[17138]
[17139]
[17140]
[17141]
[17142]
[17143]
[17144]
[17145]
[17146]
[17147]
[17148]
[17149]
[17150]
[17151]
[17152]
[17153]
[17154]
[{"$f":"A17157+1","v":17155}]
[17156]
[17157]
[17158]
[17159]
[17160]
[17161]
[17162]
[17163]
[17164]
[17165]
[17166]
[17167]
[17168]
[17169]
[17170]
[17171]
[17172]
[17173]
[17174]
[17175]
[17176]
[17177]
[17178]
[17179]
[17180]
[17181]
[17182]
[17183]
[17184]
[17185]
[17186]
[17187]
[17188]
[17189]
[17190]
[17191]
[17192]
[17193]
[17194]
[17195]
[17196]
[17197]
[17198]
[17199]
[17200]
[17201]
[17202]
[17203]
[17204]
[17205]
[17206]
[17207]
[17208]
[17209]
[17210]
[17211]
[17212]
[17213]
[17214]
[17215]
[17216]
[17217]
[17218]
[{"$f":"A17221+1","v":17219}]
[17220]
[17221]
[17222]
[17223]
[17224]
[17225]
[17226]
[17227]
[17228]
[17229]
[17230]
[17231]
[17232]
[17233]
[17234]
[17235]
[17236]
[17237]
[17238]
[17239]
[17240]
[17241]
[17242]
[17243]
[17244]
[17245]
[17246]
[17247]
[17248]
[17249]
[17250]
[17251]
[17252]
[17253]
[17254]
[17255]
[17256]
[17257]
[17258]
[17259]
[17260]
[17261]
[17262]
[17263]
[17264]
[17265]
[17266]
[17267]
[17268]
[17269]
[17270]
[17271]
[17272]
[17273]
[17274]
[17275]
[17276]
[17277]
[17278]
[17279]
[17280]
[17281]
[17282]
[{"$f":"A17285+1","v":17283}]
[17284]
[17285]
[17286]
[17287]
[17288]
[17289]
[17290]
[17291]
[17292]
[17293]
[17294]
[17295]
[17296]
[17297]
[17298]
[17299]
[17300]
[17301]
[17302]
[17303]
[17304]
[17305]
[17306]
[17307]
[17308]
[17309]
[17310]
[17311]
[17312]
[17313]
[17314]
[17315]
[17316]
[17317]
[17318]
[17319]
[17320]
[17321]
[17322]
[17323]
[17324]
[17325]
[17326]
[17327]
[17328]
[17329]
[17330]
[17331]
[17332]
[17333]
[17334]
[17335]
[17336]
[17337]
[17338]
[17339]
[17340]
[17341]
[17342]
[17343]
[17344]
[17345]
[17346]
[{"$f":"A17349+1","v":17347}]
[17348]
[17349]
[17350]
[17351]
[17352]
[17353]
[17354]
[17355]
[17356]
[17357]
[17358]
[17359]
[17360]
[17361]
[17362]
[17363]
[17364]
[17365]
[17366]
[17367]
[17368]
[17369]
[17370]
[17371]
[17372]
[17373]
[17374]
[17375]
[17376]
[17377]
[17378]
[17379]
[17380]
[17381]
[17382]
[17383]
[17384]
[17385]
[17386]
[17387]
[17388]
[17389]
[17390]
[17391]
[17392]
[17393]
[17394]
[17395]
[17396]
[17397]
[17398]
[17399]
[17400]
[17401]
[17402]
[17403]
[17404]
[17405]
[17406]
[17407]
[17408]
[17409]
[17410]
[{"$f":"A17413+1","v":17411}]
[17412]
[17413]
[17414]
[17415]
[17416]
[17417]
[17418]
[17419]
[17420]
[17421]
[17422]
[17423]
[17424]
[17425]
[17426]
[17427]
[17428]
[17429]
[17430]
[17431]
[17432]
[17433]
[17434]
[17435]
[17436]
[17437]
[17438]
[17439]
[17440]
[17441]
[17442]
[17443]
[17444]
[17445]
[17446]
[17447]
[17448]
[17449]
[17450]
[17451]
[17452]
[17453]
[17454]
[17455]
[17456]
[17457]
[17458]
[17459]
[17460]
[17461]
[17462]
[17463]
[17464]
[17465]
[17466]
[17467]
[17468]
[17469]
[17470]
[17471]
[17472]
[17473]
[17474]
[{"$f":"A17477+1","v":17475}]
[17476]
[17477]
[17478]
[17479]
[17480]
[17481]
[17482]
[17483]
[17484]
[17485]
[17486]
[17487]
[17488]
[17489]
[17490]
[17491]
[17492]
[17493]
[17494]
[17495]
[17496]
[17497]
[17498]
[17499]
[17500]
[17501]
[17502]
[17503]
[17504]
[17505]
[17506]
[17507]
[17508]
[17509]
[17510]
[17511]
[17512]
[17513]
[17514]
[17515]
[17516]
[17517]
[17518]
[17519]
[17520]
[17521]
[17522]
[17523]
[17524]
[17525]
[17526]
[17527]
[17528]
[17529]
[17530]
[17531]
[17532]
[17533]
[17534]
[17535]
[17536]
[17537]
[17538]
[{"$f":"A17541+1","v":17539}]
[17540]
[17541]
[17542]
[17543]
[17544]
[17545]
[17546]
[17547]
[17548]
[17549]
[17550]
[17551]
[17552]
[17553]
[17554]
[17555]
[17556]
[17557]
[17558]
[17559]
[17560]
[17561]
[17562]
[17563]
[17564]
[17565]
[17566]
[17567]
[17568]
[17569]
[17570]
[17571]
[17572]
[17573]
[17574]
[17575]
[17576]
[17577]
[17578]
[17579]
[17580]
[17581]
[17582]
[17583]
[17584]
[17585]
[17586]
[17587]
[17588]
[17589]
[17590]
[17591]
[17592]
[17593]
[17594]
[17595]
[17596]
[17597]
[17598]
[17599]
[17600]
[17601]
[17602]
[{"$f":"A17605+1","v":17603}]
[17604]
[17605]
[17606]
[17607]
[17608]
[17609]
[17610]
[17611]
[17612]
[17613]
[17614]
[17615]
[17616]
[17617]
[17618]
[17619]
[17620]
[17621]
[17622]
[17623]
[17624]
[17625]
[17626]
[17627]
[17628]
[17629]
[17630]
[17631]
[17632]
[17633]
[17634]
[17635]
[17636]
[17637]
[17638]
[17639]
[17640]
[17641]
[17642]
[17643]
[17644]
[17645]
[17646]
[17647]
[17648]
[17649]
[17650]
[17651]
[17652]
[17653]
[17654]
[17655]
[17656]
[17657]
[17658]
[17659]
[17660]
[17661]
[17662]
[17663]
[17664]
[17665]
[17666]
[{"$f":"A17669+1","v":17667}]
[17668]
[17669]
[17670]
[17671]
[17672]
[17673]
[17674]
[17675]
[17676]
[17677]
[17678]
[17679]
[17680]
[17681]
[17682]
[17683]
[17684]
[17685]
[17686]
[17687]
[17688]
[17689]
[17690]
[17691]
[17692]
[17693]
[17694]
[17695]
[17696]
[17697]
[17698]
[17699]
[17700]
[17701]
[17702]
[17703]
[17704]
[17705]
[17706]
[17707]
[17708]
[17709]
[17710]
[17711]
[17712]
[17713]
[17714]
[17715]
[17716]
[17717]
[17718]
[17719]
[17720]
[17721]
[17722]
[17723]
[17724]
[17725]
[17726]
[17727]
[17728]
[17729]
[17730]
[{"$f":"A17733+1","v":17731}]
[17732]
[17733]
[17734]
[17735]
[17736]
[17737]
[17738]
[17739]
[17740]
[17741]
[17742]
[17743]
[17744]
[17745]
[17746]
[17747]
[17748]
[17749]
[17750]
[17751]
[17752]
[17753]
[17754]
[17755]
[17756]
[17757]
[17758]
[17759]
[17760]
[17761]
[17762]
[17763]
[17764]
[17765]
[17766]
[17767]
[17768]
[17769]
[17770]
[17771]
[17772]
[17773]
[17774]
[17775]
[17776]
[17777]
[17778]
[17779]
[17780]
[17781]
[17782]
[17783]
[17784]
[17785]
[17786]
[17787]
[17788]
[17789]
[17790]
[17791]
[17792]
[17793]
[17794]
[{"$f":"A17797+1","v":17795}]
[17796]
[17797]
[17798]
[17799]
[17800]
[17801]
[17802]
[17803]
[17804]
[17805]
[17806]
[17807]
[17808]
[17809]
[17810]
[17811]
[17812]
[17813]
[17814]
[17815]
[17816]
[17817]
[17818]
[17819]
[17820]
[17821]
[17822]
[17823]
[17824]
[17825]
[17826]
[17827]
[17828]
[17829]
[17830]
[17831]
[17832]
[17833]
[17834]
[17835]
[17836]
[17837]
[17838]
[17839]
[17840]
[17841]
[17842]
[17843]
[17844]
[17845]
[17846]
[17847]
[17848]
[17849]
[17850]
[17851]
[17852]
[17853]
[17854]
[17855]
[17856]
[17857]
[17858]
[{"$f":"A17861+1","v":17859}]
[17860]
[17861]
[17862]
[17863]
[17864]
[17865]
[17866]
[17867]
[17868]
[17869]
[17870]
[17871]
[17872]
[17873]
[17874]
[17875]
[17876]
[17877]
[17878]
[17879]
[17880]
[17881]
[17882]
[17883]
[17884]
[17885]
[17886]
[17887]
[17888]
[17889]
[17890]
[17891]
[17892]
[17893]
[17894]
[17895]
[17896]
[17897]
[17898]
[17899]
[17900]
[17901]
[17902]
[17903]
[17904]
[17905]
[17906]
[17907]
[17908]
[17909]
[17910]
[17911]
[17912]
[17913]
[17914]
[17915]
[17916]
[17917]
[17918]
[17919]
[17920]
[17921]
[17922]
[{"$f":"A17925+1","v":17923}]
[17924]
[17925]
[17926]
[17927]
[17928]
[17929]
[17930]
[17931]
[17932]
[17933]
[17934]
[17935]
[17936]
[17937]
[17938]
[17939]
[17940]
[17941]
[17942]
[17943]
[17944]
[17945]
[17946]
[17947]
[17948]
[17949]
[17950]
[17951]
[17952]
[17953]
[17954]
[17955]
[17956]
[17957]
[17958]
[17959]
[17960]
[17961]
[17962]
[17963]
[17964]
[17965]
[17966]
[17967]
[17968]
[17969]
[17970]
[17971]
[17972]
[17973]
[17974]
[17975]
[17976]
[17977]
[17978]
[17979]
[17980]
[17981]
[17982]
[17983]
[17984]
[17985]
[17986]
[{"$f":"A17989+1","v":17987}]
[17988]
[17989]
[17990]
[17991]
[17992]
[17993]
[17994]
[17995]
[17996]
[17997]
[17998]
[17999]
[18000]
[18001]
[18002]
[18003]
[18004]
[18005]
[18006]
[18007]
[18008]
[18009]
[18010]
[18011]
[18012]
[18013]
[18014]
[18015]
[18016]
[18017]
[18018]
[18019]
[18020]
[18021]
[18022]
[18023]
[18024]
[18025]
[18026]
[18027]
[18028]
[18029]
[18030]
[18031]
[18032]
[18033]
[18034]
[18035]
[18036]
[18037]
[18038]
[18039]
[18040]
[18041]
[18042]
[18043]
[18044]
[18045]
[18046]
[18047]
[18048]
[18049]
[18050]
[{"$f":"A18053+1","v":18051}]
[18052]
[18053]
[18054]
[18055]
[18056]
[18057]
[18058]
[18059]
[18060]
[18061]
[18062]
[18063]
[18064]
[18065]
[18066]
[18067]
[18068]
[18069]
[18070]
[18071]
[18072]
[18073]
[18074]
[18075]
[18076]
[18077]
[18078]
[18079]
[18080]
[18081]
[18082]
[18083]
[18084]
[18085]
[18086]
[18087]
[18088]
[18089]
[18090]
[18091]
[18092]
[18093]
[18094]
[18095]
[18096]
[18097]
[18098]
[18099]
[18100]
[18101]
[18102]
[18103]
[18104]
[18105]
[18106]
[18107]
[18108]
[18109]
[18110]
[18111]
[18112]
[18113]
[18114]
[{"$f":"A18117+1","v":18115}]
[18116]
[18117]
[18118]
[18119]
[18120]
[18121]
[18122]
[18123]
[18124]
[18125]
[18126]
[18127]
[18128]
[18129]
[18130]
[18131]
[18132]
[18133]
[18134]
[18135]
[18136]
[18137]
[18138]
[18139]
[18140]
[18141]
[18142]
[18143]
[18144]
[18145]
[18146]
[18147]
[18148]
[18149]
[18150]
[18151]
[18152]
[18153]
[18154]
[18155]
[18156]
[18157]
[18158]
[18159]
[18160]
[18161]
[18162]
[18163]
[18164]
[18165]
[18166]
[18167]
[18168]
[18169]
[18170]
[18171]
[18172]
[18173]
[18174]
[18175]
[18176]
[18177]
[18178]
[{"$f":"A18181+1","v":18179}]
[18180]
[18181]
[18182]
[18183]
[18184]
[18185]
[18186]
[18187]
[18188]
[18189]
[18190]
[18191]
[18192]
[18193]
[18194]
[18195]
[18196]
[18197]
[18198]
[18199]
[18200]
[18201]
[18202]
[18203]
[18204]
[18205]
[18206]
[18207]
[18208]
[18209]
[18210]
[18211]
[18212]
[18213]
[18214]
[18215]
[18216]
[18217]
[18218]
[18219]
[18220]
[18221]
[18222]
[18223]
[18224]
[18225]
[18226]
[18227]
[18228]
[18229]
[18230]
[18231]
[18232]
[18233]
[18234]
[18235]
[18236]
[18237]
[18238]
[18239]
[18240]
[18241]
[18242]
[{"$f":"A18245+1","v":18243}]
[18244]
[18245]
[18246]
[18247]
[18248]
[18249]
[18250]
[18251]
[18252]
[18253]
[18254]
[18255]
[18256]
[18257]
[18258]
[18259]
[18260]
[18261]
[18262]
[18263]
[18264]
[18265]
[18266]
[18267]
[18268]
[18269]
[18270]
[18271]
[18272]
[18273]
[18274]
[18275]
[18276]
[18277]
[18278]
[18279]
[18280]
[18281]
[18282]
[18283]
[18284]
[18285]
[18286]
[18287]
[18288]
[18289]
[18290]
[18291]
[18292]
[18293]
[18294]
[18295]
[18296]
[18297]
[18298]
[18299]
[18300]
[18301]
[18302]
[18303]
[18304]
[18305]
[18306]
[{"$f":"A18309+1","v":18307}]
[18308]
[18309]
[18310]
[18311]
[18312]
[18313]
[18314]
[18315]
[18316]
[18317]
[18318]
[18319]
[18320]
[18321]
[18322]
[18323]
[18324]
[18325]
[18326]
[18327]
[18328]
[18329]
[18330]
[18331]
[18332]
[18333]
[18334]
[18335]
[18336]
[18337]
[18338]
[18339]
[18340]
[18341]
[18342]
[18343]
[18344]
[18345]
[18346]
[18347]
[18348]
[18349]
[18350]
[18351]
[18352]
[18353]
[18354]
[18355]
[18356]
[18357]
[18358]
[18359]
[18360]
[18361]
[18362]
[18363]
[18364]
[18365]
[18366]
[18367]
[18368]
[18369]
[18370]
[{"$f":"A18373+1","v":18371}]
[18372]
[18373]
[18374]
[18375]
[18376]
[18377]
[18378]
[18379]
[18380]
[18381]
[18382]
[18383]
[18384]
[18385]
[18386]
[18387]
[18388]
[18389]
[18390]
[18391]
[18392]
[18393]
[18394]
[18395]
[18396]
[18397]
[18398]
[18399]
[18400]
[18401]
[18402]
[18403]
[18404]
[18405]
[18406]
[18407]
[18408]
[18409]
[18410]
[18411]
[18412]
[18413]
[18414]
[18415]
[18416]
[18417]
[18418]
[18419]
[18420]
[18421]
[18422]
[18423]
[18424]
[18425]
[18426]
[18427]
[18428]
[18429]
[18430]
[18431]
[18432]
[18433]
[18434]
[{"$f":"A18437+1","v":18435}]
[18436]
[18437]
[18438]
[18439]
[18440]
[18441]
[18442]
[18443]
[18444]
[18445]
[18446]
[18447]
[18448]
[18449]
[18450]
[18451]
[18452]
[18453]
[18454]
[18455]
[18456]
[18457]
[18458]
[18459]
[18460]
[18461]
[18462]
[18463]
[18464]
[18465]
[18466]
[18467]
[18468]
[18469]
[18470]
[18471]
[18472]
[18473]
[18474]
[18475]
[18476]
[18477]
[18478]
[18479]
[18480]
[18481]
[18482]
[18483]
[18484]
[18485]
[18486]
[18487]
[18488]
[18489]
[18490]
[18491]
[18492]
[18493]
[18494]
[18495]
[18496]
[18497]
[18498]
[{"$f":"A18501+1","v":18499}]
[18500]
[18501]
[18502]
[18503]
[18504]
[18505]
[18506]
[18507]
[18508]
[18509]
[18510]
[18511]
[18512]
[18513]
[18514]
[18515]
[18516]
[18517]
[18518]
[18519]
[18520]
[18521]
[18522]
[18523]
[18524]
[18525]
[18526]
[18527]
[18528]
[18529]
[18530]
[18531]
[18532]
[18533]
[18534]
[18535]
[18536]
[18537]
[18538]
[18539]
[18540]
[18541]
[18542]
[18543]
[18544]
[18545]
[18546]
[18547]
[18548]
[18549]
[18550]
[18551]
[18552]
[18553]
[18554]
[18555]
[18556]
[18557]
[18558]
[18559]
[18560]
[18561]
[18562]
[{"$f":"A18565+1","v":18563}]
[18564]
[18565]
[18566]
[18567]
[18568]
[18569]
[18570]
[18571]
[18572]
[18573]
[18574]
[18575]
[18576]
[18577]
[18578]
[18579]
[18580]
[18581]
[18582]
[18583]
[18584]
[18585]
[18586]
[18587]
[18588]
[18589]
[18590]
[18591]
[18592]
[18593]
[18594]
[18595]
[18596]
[18597]
[18598]
[18599]
[18600]
[18601]
[18602]
[18603]
[18604]
[18605]
[18606]
[18607]
[18608]
[18609]
[18610]
[18611]
[18612]
[18613]
[18614]
[18615]
[18616]
[18617]
[18618]
[18619]
[18620]
[18621]
[18622]
[18623]
[18624]
[18625]
[18626]
[{"$f":"A18629+1","v":18627}]
[18628]
[18629]
[18630]
[18631]
[18632]
[18633]
[18634]
[18635]
[18636]
[18637]
[18638]
[18639]
[18640]
[18641]
[18642]
[18643]
[18644]
[18645]
[18646]
[18647]
[18648]
[18649]
[18650]
[18651]
[18652]
[18653]
[18654]
[18655]
[18656]
[18657]
[18658]
[18659]
[18660]
[18661]
[18662]
[18663]
[18664]
[18665]
[18666]
[18667]
[18668]
[18669]
[18670]
[18671]
[18672]
[18673]
[18674]
[18675]
[18676]
[18677]
[18678]
[18679]
[18680]
[18681]
[18682]
[18683]
[18684]
[18685]
[18686]
[18687]
[18688]
[18689]
[18690]
[{"$f":"A18693+1","v":18691}]
[18692]
[18693]
[18694]
[18695]
[18696]
[18697]
[18698]
[18699]
[18700]
[18701]
[18702]
[18703]
[18704]
[18705]
[18706]
[18707]
[18708]
[18709]
[18710]
[18711]
[18712]
[18713]
[18714]
[18715]
[18716]
[18717]
[18718]
[18719]
[18720]
[18721]
[18722]
[18723]
[18724]
[18725]
[18726]
[18727]
[18728]
[18729]
[18730]
[18731]
[18732]
[18733]
[18734]
[18735]
[18736]
[18737]
[18738]
[18739]
[18740]
[18741]
[18742]
[18743]
[18744]
[18745]
[18746]
[18747]
[18748]
[18749]
[18750]
[18751]
[18752]
[18753]
[18754]
[{"$f":"A18757+1","v":18755}]
[18756]
[18757]
[18758]
[18759]
[18760]
[18761]
[18762]
[18763]
[18764]
[18765]
[18766]
[18767]
[18768]
[18769]
[18770]
[18771]
[18772]
[18773]
[18774]
[18775]
[18776]
[18777]
[18778]
[18779]
[18780]
[18781]
[18782]
[18783]
[18784]
[18785]
[18786]
[18787]
[18788]
[18789]
[18790]
[18791]
[18792]
[18793]
[18794]
[18795]
[18796]
[18797]
[18798]
[18799]
[18800]
[18801]
[18802]
[18803]
[18804]
[18805]
[18806]
[18807]
[18808]
[18809]
[18810]
[18811]
[18812]
[18813]
[18814]
[18815]
[18816]
[18817]
[18818]
[{"$f":"A18821+1","v":18819}]
[18820]
[18821]
[18822]
[18823]
[18824]
[18825]
[18826]
[18827]
[18828]
[18829]
[18830]
[18831]
[18832]
[18833]
[18834]
[18835]
[18836]
[18837]
[18838]
[18839]
[18840]
[18841]
[18842]
[18843]
[18844]
[18845]
[18846]
[18847]
[18848]
[18849]
[18850]
[18851]
[18852]
[18853]
[18854]
[18855]
[18856]
[18857]
[18858]
[18859]
[18860]
[18861]
[18862]
[18863]
[18864]
[18865]
[18866]
[18867]
[18868]
[18869]
[18870]
[18871]
[18872]
[18873]
[18874]
[18875]
[18876]
[18877]
[18878]
[18879]
[18880]
[18881]
[18882]
[{"$f":"A18885+1","v":18883}]
[18884]
[18885]
[18886]
[18887]
[18888]
[18889]
[18890]
[18891]
[18892]
[18893]
[18894]
[18895]
[18896]
[18897]
[18898]
[18899]
[18900]
[18901]
[18902]
[18903]
[18904]
[18905]
[18906]
[18907]
[18908]
[18909]
[18910]
[18911]
[18912]
[18913]
[18914]
[18915]
[18916]
[18917]
[18918]
[18919]
[18920]
[18921]
[18922]
[18923]
[18924]
[18925]
[18926]
[18927]
[18928]
[18929]
[18930]
[18931]
[18932]
[18933]
[18934]
[18935]
[18936]
[18937]
[18938]
[18939]
[18940]
[18941]
[18942]
[18943]
[18944]
[18945]
[18946]
[{"$f":"A18949+1","v":18947}]
[18948]
[18949]
[18950]
[18951]
[18952]
[18953]
[18954]
[18955]
[18956]
[18957]
[18958]
[18959]
[18960]
[18961]
[18962]
[18963]
[18964]
[18965]
[18966]
[18967]
[18968]
[18969]
[18970]
[18971]
[18972]
[18973]
[18974]
[18975]
[18976]
[18977]
[18978]
[18979]
[18980]
[18981]
[18982]
[18983]
[18984]
[18985]
[18986]
[18987]
[18988]
[18989]
[18990]
[18991]
[18992]
[18993]
[18994]
[18995]
[18996]
[18997]
[18998]
[18999]
[19000]
[19001]
[19002]
[19003]
[19004]
[19005]
[19006]
[19007]
[19008]
[19009]
[19010]
[{"$f":"A19013+1","v":19011}]
[19012]
[19013]
[19014]
[19015]
[19016]
[19017]
[19018]
[19019]
[19020]
[19021]
[19022]
[19023]
[19024]
[19025]
[19026]
[19027]
[19028]
[19029]
[19030]
[19031]
[19032]
[19033]
[19034]
[19035]
[19036]
[19037]
[19038]
[19039]
[19040]
[19041]
[19042]
[19043]
[19044]
[19045]
[19046]
[19047]
[19048]
[19049]
[19050]
[19051]
[19052]
[19053]
[19054]
[19055]
[19056]
[19057]
[19058]
[19059]
[19060]
[19061]
[19062]
[19063]
[19064]
[19065]
[19066]
[19067]
[19068]
[19069]
[19070]
[19071]
[19072]
[19073]
[19074]
[{"$f":"A19077+1","v":19075}]
[19076]
[19077]
[19078]
[19079]
[19080]
[19081]
[19082]
[19083]
[19084]
[19085]
[19086]
[19087]
[19088]
[19089]
[19090]
[19091]
[19092]
[19093]
[19094]
[19095]
[19096]
[19097]
[19098]
[19099]
[19100]
[19101]
[19102]
[19103]
[19104]
[19105]
[19106]
[19107]
[19108]
[19109]
[19110]
[19111]
[19112]
[19113]
[19114]
[19115]
[19116]
[19117]
[19118]
[19119]
[19120]
[19121]
[19122]
[19123]
[19124]
[19125]
[19126]
[19127]
[19128]
[19129]
[19130]
[19131]
[19132]
[19133]
[19134]
[19135]
[19136]
[19137]
[19138]
[{"$f":"A19141+1","v":19139}]
[19140]
[19141]
[19142]
[19143]
[19144]
[19145]
[19146]
[19147]
[19148]
[19149]
[19150]
[19151]
[19152]
[19153]
[19154]
[19155]
[19156]
[19157]
[19158]
[19159]
[19160]
[19161]
[19162]
[19163]
[19164]
[19165]
[19166]
[19167]
[19168]
[19169]
[19170]
[19171]
[19172]
[19173]
[19174]
[19175]
[19176]
[19177]
[19178]
[19179]
[19180]
[19181]
[19182]
[19183]
[19184]
[19185]
[19186]
[19187]
[19188]
[19189]
[19190]
[19191]
[19192]
[19193]
[19194]
[19195]
[19196]
[19197]
[19198]
[19199]
[19200]
[19201]
[19202]
[{"$f":"A19205+1","v":19203}]
[19204]
[19205]
[19206]
[19207]
[19208]
[19209]
[19210]
[19211]
[19212]
[19213]
[19214]
[19215]
[19216]
[19217]
[19218]
[19219]
[19220]
[19221]
[19222]
[19223]
[19224]
[19225]
[19226]
[19227]
[19228]
[19229]
[19230]
[19231]
[19232]
[19233]
[19234]
[19235]
[19236]
[19237]
[19238]
[19239]
[19240]
[19241]
[19242]
[19243]
[19244]
[19245]
[19246]
[19247]
[19248]
[19249]
[19250]
[19251]
[19252]
[19253]
[19254]
[19255]
[19256]
[19257]
[19258]
[19259]
[19260]
[19261]
[19262]
[19263]
[19264]
[19265]
[19266]
[{"$f":"A19269+1","v":19267}]
[19268]
[19269]
[19270]
[19271]
[19272]
[19273]
[19274]
[19275]
[19276]
[19277]
[19278]
[19279]
[19280]
[19281]
[19282]
[19283]
[19284]
[19285]
[19286]
[19287]
[19288]
[19289]
[19290]
[19291]
[19292]
[19293]
[19294]
[19295]
[19296]
[19297]
[19298]
[19299]
[19300]
[19301]
[19302]
[19303]
[19304]
[19305]
[19306]
[19307]
[19308]
[19309]
[19310]
[19311]
[19312]
[19313]
[19314]
[19315]
[19316]
[19317]
[19318]
[19319]
[19320]
[19321]
[19322]
[19323]
[19324]
[19325]
[19326]
[19327]
[19328]
[19329]
[19330]
[{"$f":"A19333+1","v":19331}]
[19332]
[19333]
[19334]
[19335]
[19336]
[19337]
[19338]
[19339]
[19340]
[19341]
[19342]
[19343]
[19344]
[19345]
[19346]
[19347]
[19348]
[19349]
[19350]
[19351]
[19352]
[19353]
[19354]
[19355]
[19356]
[19357]
[19358]
[19359]
[19360]
[19361]
[19362]
[19363]
[19364]
[19365]
[19366]
[19367]
[19368]
[19369]
[19370]
[19371]
[19372]
[19373]
[19374]
[19375]
[19376]
[19377]
[19378]
[19379]
[19380]
[19381]
[19382]
[19383]
[19384]
[19385]
[19386]
[19387]
[19388]
[19389]
[19390]
[19391]
[19392]
[19393]
[19394]
[{"$f":"A19397+1","v":19395}]
[19396]
[19397]
[19398]
[19399]
[19400]
[19401]
[19402]
[19403]
[19404]
[19405]
[19406]
[19407]
[19408]
[19409]
[19410]
[19411]
[19412]
[19413]
[19414]
[19415]
[19416]
[19417]
[19418]
[19419]
[19420]
[19421]
[19422]
[19423]
[19424]
[19425]
[19426]
[19427]
[19428]
[19429]
[19430]
[19431]
[19432]
[19433]
[19434]
[19435]
[19436]
[19437]
[19438]
[19439]
[19440]
[19441]
[19442]
[19443]
[19444]
[19445]
[19446]
[19447]
[19448]
[19449]
[19450]
[19451]
[19452]
[19453]
[19454]
[19455]
[19456]
[19457]
[19458]
[{"$f":"A19461+1","v":19459}]
[19460]
[19461]
[19462]
[19463]
[19464]
[19465]
[19466]
[19467]
[19468]
[19469]
[19470]
[19471]
[19472]
[19473]
[19474]
[19475]
[19476]
[19477]
[19478]
[19479]
[19480]
[19481]
[19482]
[19483]
[19484]
[19485]
[19486]
[19487]
[19488]
[19489]
[19490]
[19491]
[19492]
[19493]
[19494]
[19495]
[19496]
[19497]
[19498]
[19499]
[19500]
[19501]
[19502]
[19503]
[19504]
[19505]
[19506]
[19507]
[19508]
[19509]
[19510]
[19511]
[19512]
[19513]
[19514]
[19515]
[19516]
[19517]
[19518]
[19519]
[19520]
[19521]
[19522]
[{"$f":"A19525+1","v":19523}]
[19524]
[19525]
[19526]
[19527]
[19528]
[19529]
[19530]
[19531]
[19532]
[19533]
[19534]
[19535]
[19536]
[19537]
[19538]
[19539]
[19540]
[19541]
[19542]
[19543]
[19544]
[19545]
[19546]
[19547]
[19548]
[19549]
[19550]
[19551]
[19552]
[19553]
[19554]
[19555]
[19556]
[19557]
[19558]
[19559]
[19560]
[19561]
[19562]
[19563]
[19564]
[19565]
[19566]
[19567]
[19568]
[19569]
[19570]
[19571]
[19572]
[19573]
[19574]
[19575]
[19576]
[19577]
[19578]
[19579]
[19580]
[19581]
[19582]
[19583]
[19584]
[19585]
[19586]
[{"$f":"A19589+1","v":19587}]
[19588]
[19589]
[19590]
[19591]
[19592]
[19593]
[19594]
[19595]
[19596]
[19597]
[19598]
[19599]
[19600]
[19601]
[19602]
[19603]
[19604]
[19605]
[19606]
[19607]
[19608]
[19609]
[19610]
[19611]
[19612]
[19613]
[19614]
[19615]
[19616]
[19617]
[19618]
[19619]
[19620]
[19621]
[19622]
[19623]
[19624]
[19625]
[19626]
[19627]
[19628]
[19629]
[19630]
[19631]
[19632]
[19633]
[19634]
[19635]
[19636]
[19637]
[19638]
[19639]
[19640]
[19641]
[19642]
[19643]
[19644]
[19645]
[19646]
[19647]
[19648]
[19649]
[19650]
[{"$f":"A19653+1","v":19651}]
[19652]
[19653]
[19654]
[19655]
[19656]
[19657]
[19658]
[19659]
[19660]
[19661]
[19662]
[19663]
[19664]
[19665]
[19666]
[19667]
[19668]
[19669]
[19670]
[19671]
[19672]
[19673]
[19674]
[19675]
[19676]
[19677]
[19678]
[19679]
[19680]
[19681]
[19682]
[19683]
[19684]
[19685]
[19686]
[19687]
[19688]
[19689]
[19690]
[19691]
[19692]
[19693]
[19694]
[19695]
[19696]
[19697]
[19698]
[19699]
[19700]
[19701]
[19702]
[19703]
[19704]
[19705]
[19706]
[19707]
[19708]
[19709]
[19710]
[19711]
[19712]
[19713]
[19714]
[{"$f":"A19717+1","v":19715}]
[19716]
[19717]
[19718]
[19719]
[19720]
[19721]
[19722]
[19723]
[19724]
[19725]
[19726]
[19727]
[19728]
[19729]
[19730]
[19731]
[19732]
[19733]
[19734]
[19735]
[19736]
[19737]
[19738]
[19739]
[19740]
[19741]
[19742]
[19743]
[19744]
[19745]
[19746]
[19747]
[19748]
[19749]
[19750]
[19751]
[19752]
[19753]
[19754]
[19755]
[19756]
[19757]
[19758]
[19759]
[19760]
[19761]
[19762]
[19763]
[19764]
[19765]
[19766]
[19767]
[19768]
[19769]
[19770]
[19771]
[19772]
[19773]
[19774]
[19775]
[19776]
[19777]
[19778]
[{"$f":"A19781+1","v":19779}]
[19780]
[19781]
[19782]
[19783]
[19784]
[19785]
[19786]
[19787]
[19788]
[19789]
[19790]
[19791]
[19792]
[19793]
[19794]
[19795]
[19796]
[19797]
[19798]
[19799]
[19800]
[19801]
[19802]
[19803]
[19804]
[19805]
[19806]
[19807]
[19808]
[19809]
[19810]
[19811]
[19812]
[19813]
[19814]
[19815]
[19816]
[19817]
[19818]
[19819]
[19820]
[19821]
[19822]
[19823]
[19824]
[19825]
[19826]
[19827]
[19828]
[19829]
[19830]
[19831]
[19832]
[19833]
[19834]
[19835]
[19836]
[19837]
[19838]
[19839]
[19840]
[19841]
[19842]
[{"$f":"A19845+1","v":19843}]
[19844]
[19845]
[19846]
[19847]
[19848]
[19849]
[19850]
[19851]
[19852]
[19853]
[19854]
[19855]
[19856]
[19857]
[19858]
[19859]
[19860]
[19861]
[19862]
[19863]
[19864]
[19865]
[19866]
[19867]
[19868]
[19869]
[19870]
[19871]
[19872]
[19873]
[19874]
[19875]
[19876]
[19877]
[19878]
[19879]
[19880]
[19881]
[19882]
[19883]
[19884]
[19885]
[19886]
[19887]
[19888]
[19889]
[19890]
[19891]
[19892]
[19893]
[19894]
[19895]
[19896]
[19897]
[19898]
[19899]
[19900]
[19901]
[19902]
[19903]
[19904]
[19905]
[19906]
[{"$f":"A19909+1","v":19907}]
[19908]
[19909]
[19910]
[19911]
[19912]
[19913]
[19914]
[19915]
[19916]
[19917]
[19918]
[19919]
[19920]
[19921]
[19922]
[19923]
[19924]
[19925]
[19926]
[19927]
[19928]
[19929]
[19930]
[19931]
[19932]
[19933]
[19934]
[19935]
[19936]
[19937]
[19938]
[19939]
[19940]
[19941]
[19942]
[19943]
[19944]
[19945]
[19946]
[19947]
[19948]
[19949]
[19950]
[19951]
[19952]
[19953]
[19954]
[19955]
[19956]
[19957]
[19958]
[19959]
[19960]
[19961]
[19962]
[19963]
[19964]
[19965]
[19966]
[19967]
[19968]
[19969]
[19970]
[{"$f":"A19973+1","v":19971}]
[19972]
[19973]
[19974]
[19975]
[19976]
[19977]
[19978]
[19979]
[19980]
[19981]
[19982]
[19983]
[19984]
[19985]
[19986]
[19987]
[19988]
[19989]
[19990]
[19991]
[19992]
[19993]
[19994]
[19995]
[19996]
[19997]
[19998]
[19999]
[20000]
[20001]
[20002]
[20003]
[20004]
[20005]
[20006]
[20007]
[20008]
[20009]
[20010]
[20011]
[20012]
[20013]
[20014]
[20015]
[20016]
[20017]
[20018]
[20019]
[20020]
[20021]
[20022]
[20023]
[20024]
[20025]
[20026]
[20027]
[20028]
[20029]
[20030]
[20031]
[20032]
[20033]
[20034]
[{"$f":"A20037+1","v":20035}]
[20036]
[20037]
[20038]
[20039]
[20040]
[20041]
[20042]
[20043]
[20044]
[20045]
[20046]
[20047]
[20048]
[20049]
[20050]
[20051]
[20052]
[20053]
[20054]
[20055]
[20056]
[20057]
[20058]
[20059]
[20060]
[20061]
[20062]
[20063]
[20064]
[20065]
[20066]
[20067]
[20068]
[20069]
[20070]
[20071]
[20072]
[20073]
[20074]
[20075]
[20076]
[20077]
[20078]
[20079]
[20080]
[20081]
[20082]
[20083]
[20084]
[20085]
[20086]
[20087]
[20088]
[20089]
[20090]
[20091]
[20092]
[20093]
[20094]
[20095]
[20096]
[20097]
[20098]
[{"$f":"A20101+1","v":20099}]
[20100]
[20101]
[20102]
[20103]
[20104]
[20105]
[20106]
[20107]
[20108]
[20109]
[20110]
[20111]
[20112]
[20113]
[20114]
[20115]
[20116]
[20117]
[20118]
[20119]
[20120]
[20121]
[20122]
[20123]
[20124]
[20125]
[20126]
[20127]
[20128]
[20129]
[20130]
[20131]
[20132]
[20133]
[20134]
[20135]
[20136]
[20137]
[20138]
[20139]
[20140]
[20141]
[20142]
[20143]
[20144]
[20145]
[20146]
[20147]
[20148]
[20149]
[20150]
[20151]
[20152]
[20153]
[20154]
[20155]
[20156]
[20157]
[20158]
[20159]
[20160]
[20161]
[20162]
[{"$f":"A20165+1","v":20163}]
[20164]
[20165]
[20166]
[20167]
[20168]
[20169]
[20170]
[20171]
[20172]
[20173]
[20174]
[20175]
[20176]
[20177]
[20178]
[20179]
[20180]
[20181]
[20182]
[20183]
[20184]
[20185]
[20186]
[20187]
[20188]
[20189]
[20190]
[20191]
[20192]
[20193]
[20194]
[20195]
[20196]
[20197]
[20198]
[20199]
[20200]
[20201]
[20202]
[20203]
[20204]
[20205]
[20206]
[20207]
[20208]
[20209]
[20210]
[20211]
[20212]
[20213]
[20214]
[20215]
[20216]
[20217]
[20218]
[20219]
[20220]
[20221]
[20222]
[20223]
[20224]
[20225]
[20226]
[{"$f":"A20229+1","v":20227}]
[20228]
[20229]
[20230]
[20231]
[20232]
[20233]
[20234]
[20235]
[20236]
[20237]
[20238]
[20239]
[20240]
[20241]
[20242]
[20243]
[20244]
[20245]
[20246]
[20247]
[20248]
[20249]
[20250]
[20251]
[20252]
[20253]
[20254]
[20255]
[20256]
[20257]
[20258]
[20259]
[20260]
[20261]
[20262]
[20263]
[20264]
[20265]
[20266]
[20267]
[20268]
[20269]
[20270]
[20271]
[20272]
[20273]
[20274]
[20275]
[20276]
[20277]
[20278]
[20279]
[20280]
[20281]
[20282]
[20283]
[20284]
[20285]
[20286]
[20287]
[20288]
[20289]
[20290]
[{"$f":"A20293+1","v":20291}]
[20292]
[20293]
[20294]
[20295]
[20296]
[20297]
[20298]
[20299]
[20300]
[20301]
[20302]
[20303]
[20304]
[20305]
[20306]
[20307]
[20308]
[20309]
[20310]
[20311]
[20312]
[20313]
[20314]
[20315]
[20316]
[20317]
[20318]
[20319]
[20320]
[20321]
[20322]
[20323]
[20324]
[20325]
[20326]
[20327]
[20328]
[20329]
[20330]
[20331]
[20332]
[20333]
[20334]
[20335]
[20336]
[20337]
[20338]
[20339]
[20340]
[20341]
[20342]
[20343]
[20344]
[20345]
[20346]
[20347]
[20348]
[20349]
[20350]
[20351]
[20352]
[20353]
[20354]
[{"$f":"A20357+1","v":20355}]
[20356]
[20357]
[20358]
[20359]
[20360]
[20361]
[20362]
[20363]
[20364]
[20365]
[20366]
[20367]
[20368]
[20369]
[20370]
[20371]
[20372]
[20373]
[20374]
[20375]
[20376]
[20377]
[20378]
[20379]
[20380]
[20381]
[20382]
[20383]
[20384]
[20385]
[20386]
[20387]
[20388]
[20389]
[20390]
[20391]
[20392]
[20393]
[20394]
[20395]
[20396]
[20397]
[20398]
[20399]
[20400]
[20401]
[20402]
[20403]
[20404]
[20405]
[20406]
[20407]
[20408]
[20409]
[20410]
[20411]
[20412]
[20413]
[20414]
[20415]
[20416]
[20417]
[20418]
[{"$f":"A20421+1","v":20419}]
[20420]
[20421]
[20422]
[20423]
[20424]
[20425]
[20426]
[20427]
[20428]
[20429]
[20430]
[20431]
[20432]
[20433]
[20434]
[20435]
[20436]
[20437]
[20438]
[20439]
[20440]
[20441]
[20442]
[20443]
[20444]
[20445]
[20446]
[20447]
[20448]
[20449]
[20450]
[20451]
[20452]
[20453]
[20454]
[20455]
[20456]
[20457]
[20458]
[20459]
[20460]
[20461]
[20462]
[20463]
[20464]
[20465]
[20466]
[20467]
[20468]
[20469]
[20470]
[20471]
[20472]
[20473]
[20474]
[20475]
[20476]
[20477]
[20478]
[20479]
[20480]
[20481]
[20482]
[{"$f":"A20485+1","v":20483}]
[20484]
[20485]
[20486]
[20487]
[20488]
[20489]
[20490]
[20491]
[20492]
[20493]
[20494]
[20495]
[20496]
[20497]
[20498]
[20499]
[20500]
[20501]
[20502]
[20503]
[20504]
[20505]
[20506]
[20507]
[20508]
[20509]
[20510]
[20511]
[20512]
[20513]
[20514]
[20515]
[20516]
[20517]
[20518]
[20519]
[20520]
[20521]
[20522]
[20523]
[20524]
[20525]
[20526]
[20527]
[20528]
[20529]
[20530]
[20531]
[20532]
[20533]
[20534]
[20535]
[20536]
[20537]
[20538]
[20539]
[20540]
[20541]
[20542]
[20543]
[20544]
[20545]
[20546]
[{"$f":"A20549+1","v":20547}]
[20548]
[20549]
[20550]
[20551]
[20552]
[20553]
[20554]
[20555]
[20556]
[20557]
[20558]
[20559]
[20560]
[20561]
[20562]
[20563]
[20564]
[20565]
[20566]
[20567]
[20568]
[20569]
[20570]
[20571]
[20572]
[20573]
[20574]
[20575]
[20576]
[20577]
[20578]
[20579]
[20580]
[20581]
[20582]
[20583]
[20584]
[20585]
[20586]
[20587]
[20588]
[20589]
[20590]
[20591]
[20592]
[20593]
[20594]
[20595]
[20596]
[20597]
[20598]
[20599]
[20600]
[20601]
[20602]
[20603]
[20604]
[20605]
[20606]
[20607]
[20608]
[20609]
[20610]
[{"$f":"A20613+1","v":20611}]
[20612]
[20613]
[20614]
[20615]
[20616]
[20617]
[20618]
[20619]
[20620]
[20621]
[20622]
[20623]
[20624]
[20625]
[20626]
[20627]
[20628]
[20629]
[20630]
[20631]
[20632]
[20633]
[20634]
[20635]
[20636]
[20637]
[20638]
[20639]
[20640]
[20641]
[20642]
[20643]
[20644]
[20645]
[20646]
[20647]
[20648]
[20649]
[20650]
[20651]
[20652]
[20653]
[20654]
[20655]
[20656]
[20657]
[20658]
[20659]
[20660]
[20661]
[20662]
[20663]
[20664]
[20665]
[20666]
[20667]
[20668]
[20669]
[20670]
[20671]
[20672]
[20673]
[20674]
[{"$f":"A20677+1","v":20675}]
[20676]
[20677]
[20678]
[20679]
[20680]
[20681]
[20682]
[20683]
[20684]
[20685]
[20686]
[20687]
[20688]
[20689]
[20690]
[20691]
[20692]
[20693]
[20694]
[20695]
[20696]
[20697]
[20698]
[20699]
[20700]
[20701]
[20702]
[20703]
[20704]
[20705]
[20706]
[20707]
[20708]
[20709]
[20710]
[20711]
[20712]
[20713]
[20714]
[20715]
[20716]
[20717]
[20718]
[20719]
[20720]
[20721]
[20722]
[20723]
[20724]
[20725]
[20726]
[20727]
[20728]
[20729]
[20730]
[20731]
[20732]
[20733]
[20734]
[20735]
[20736]
[20737]
[20738]
[{"$f":"A20741+1","v":20739}]
[20740]
[20741]
[20742]
[20743]
[20744]
[20745]
[20746]
[20747]
[20748]
[20749]
[20750]
[20751]
[20752]
[20753]
[20754]
[20755]
[20756]
[20757]
[20758]
[20759]
[20760]
[20761]
[20762]
[20763]
[20764]
[20765]
[20766]
[20767]
[20768]
[20769]
[20770]
[20771]
[20772]
[20773]
[20774]
[20775]
[20776]
[20777]
[20778]
[20779]
[20780]
[20781]
[20782]
[20783]
[20784]
[20785]
[20786]
[20787]
[20788]
[20789]
[20790]
[20791]
[20792]
[20793]
[20794]
[20795]
[20796]
[20797]
[20798]
[20799]
[20800]
[20801]
[20802]
[{"$f":"A20805+1","v":20803}]
[20804]
[20805]
[20806]
[20807]
[20808]
[20809]
[20810]
[20811]
[20812]
[20813]
[20814]
[20815]
[20816]
[20817]
[20818]
[20819]
[20820]
[20821]
[20822]
[20823]
[20824]
[20825]
[20826]
[20827]
[20828]
[20829]
[20830]
[20831]
[20832]
[20833]
[20834]
[20835]
[20836]
[20837]
[20838]
[20839]
[20840]
[20841]
[20842]
[20843]
[20844]
[20845]
[20846]
[20847]
[20848]
[20849]
[20850]
[20851]
[20852]
[20853]
[20854]
[20855]
[20856]
[20857]
[20858]
[20859]
[20860]
[20861]
[20862]
[20863]
[20864]
[20865]
[20866]
[{"$f":"A20869+1","v":20867}]
[20868]
[20869]
[20870]
[20871]
[20872]
[20873]
[20874]
[20875]
[20876]
[20877]
[20878]
[20879]
[20880]
[20881]
[20882]
[20883]
[20884]
[20885]
[20886]
[20887]
[20888]
[20889]
[20890]
[20891]
[20892]
[20893]
[20894]
[20895]
[20896]
[20897]
[20898]
[20899]
[20900]
[20901]
[20902]
[20903]
[20904]
[20905]
[20906]
[20907]
[20908]
[20909]
[20910]
[20911]
[20912]
[20913]
[20914]
[20915]
[20916]
[20917]
[20918]
[20919]
[20920]
[20921]
[20922]
[20923]
[20924]
[20925]
[20926]
[20927]
[20928]
[20929]
[20930]
[{"$f":"A20933+1","v":20931}]
[20932]
[20933]
[20934]
[20935]
[20936]
[20937]
[20938]
[20939]
[20940]
[20941]
[20942]
[20943]
[20944]
[20945]
[20946]
[20947]
[20948]
[20949]
[20950]
[20951]
[20952]
[20953]
[20954]
[20955]
[20956]
[20957]
[20958]
[20959]
[20960]
[20961]
[20962]
[20963]
[20964]
[20965]
[20966]
[20967]
[20968]
[20969]
[20970]
[20971]
[20972]
[20973]
[20974]
[20975]
[20976]
[20977]
[20978]
[20979]
[20980]
[20981]
[20982]
[20983]
[20984]
[20985]
[20986]
[20987]
[20988]
[20989]
[20990]
[20991]
[20992]
[20993]
[20994]
[{"$f":"A20997+1","v":20995}]
[20996]
[20997]
[20998]
[20999]
[21000]
[21001]
[21002]
[21003]
[21004]
[21005]
[21006]
[21007]
[21008]
[21009]
[21010]
[21011]
[21012]
[21013]
[21014]
[21015]
[21016]
[21017]
[21018]
[21019]
[21020]
[21021]
[21022]
[21023]
[21024]
[21025]
[21026]
[21027]
[21028]
[21029]
[21030]
[21031]
[21032]
[21033]
[21034]
[21035]
[21036]
[21037]
[21038]
[21039]
[21040]
[21041]
[21042]
[21043]
[21044]
[21045]
[21046]
[21047]
[21048]
[21049]
[21050]
[21051]
[21052]
[21053]
[21054]
[21055]
[21056]
[21057]
[21058]
[{"$f":"A21061+1","v":21059}]
[21060]
[21061]
[21062]
[21063]
[21064]
[21065]
[21066]
[21067]
[21068]
[21069]
[21070]
[21071]
[21072]
[21073]
[21074]
[21075]
[21076]
[21077]
[21078]
[21079]
[21080]
[21081]
[21082]
[21083]
[21084]
[21085]
[21086]
[21087]
[21088]
[21089]
[21090]
[21091]
[21092]
[21093]
[21094]
[21095]
[21096]
[21097]
[21098]
[21099]
[21100]
[21101]
[21102]
[21103]
[21104]
[21105]
[21106]
[21107]
[21108]
[21109]
[21110]
[21111]
[21112]
[21113]
[21114]
[21115]
[21116]
[21117]
[21118]
[21119]
[21120]
[21121]
[21122]
[{"$f":"A21125+1","v":21123}]
[21124]
[21125]
[21126]
[21127]
[21128]
[21129]
[21130]
[21131]
[21132]
[21133]
[21134]
[21135]
[21136]
[21137]
[21138]
[21139]
[21140]
[21141]
[21142]
[21143]
[21144]
[21145]
[21146]
[21147]
[21148]
[21149]
[21150]
[21151]
[21152]
[21153]
[21154]
[21155]
[21156]
[21157]
[21158]
[21159]
[21160]
[21161]
[21162]
[21163]
[21164]
[21165]
[21166]
[21167]
[21168]
[21169]
[21170]
[21171]
[21172]
[21173]
[21174]
[21175]
[21176]
[21177]
[21178]
[21179]
[21180]
[21181]
[21182]
[21183]
[21184]
[21185]
[21186]
[{"$f":"A21189+1","v":21187}]
[21188]
[21189]
[21190]
[21191]
[21192]
[21193]
[21194]
[21195]
[21196]
[21197]
[21198]
[21199]
[21200]
[21201]
[21202]
[21203]
[21204]
[21205]
[21206]
[21207]
[21208]
[21209]
[21210]
[21211]
[21212]
[21213]
[21214]
[21215]
[21216]
[21217]
[21218]
[21219]
[21220]
[21221]
[21222]
[21223]
[21224]
[21225]
[21226]
[21227]
[21228]
[21229]
[21230]
[21231]
[21232]
[21233]
[21234]
[21235]
[21236]
[21237]
[21238]
[21239]
[21240]
[21241]
[21242]
[21243]
[21244]
[21245]
[21246]
[21247]
[21248]
[21249]
[21250]
[{"$f":"A21253+1","v":21251}]
[21252]
[21253]
[21254]
[21255]
[21256]
[21257]
[21258]
[21259]
[21260]
[21261]
[21262]
[21263]
[21264]
[21265]
[21266]
[21267]
[21268]
[21269]
[21270]
[21271]
[21272]
[21273]
[21274]
[21275]
[21276]
[21277]
[21278]
[21279]
[21280]
[21281]
[21282]
[21283]
[21284]
[21285]
[21286]
[21287]
[21288]
[21289]
[21290]
[21291]
[21292]
[21293]
[21294]
[21295]
[21296]
[21297]
[21298]
[21299]
[21300]
[21301]
[21302]
[21303]
[21304]
[21305]
[21306]
[21307]
[21308]
[21309]
[21310]
[21311]
[21312]
[21313]
[21314]
[{"$f":"A21317+1","v":21315}]
[21316]
[21317]
[21318]
[21319]
[21320]
[21321]
[21322]
[21323]
[21324]
[21325]
[21326]
[21327]
[21328]
[21329]
[21330]
[21331]
[21332]
[21333]
[21334]
[21335]
[21336]
[21337]
[21338]
[21339]
[21340]
[21341]
[21342]
[21343]
[21344]
[21345]
[21346]
[21347]
[21348]
[21349]
[21350]
[21351]
[21352]
[21353]
[21354]
[21355]
[21356]
[21357]
[21358]
[21359]
[21360]
[21361]
[21362]
[21363]
[21364]
[21365]
[21366]
[21367]
[21368]
[21369]
[21370]
[21371]
[21372]
[21373]
[21374]
[21375]
[21376]
[21377]
[21378]
[{"$f":"A21381+1","v":21379}]
[21380]
[21381]
[21382]
[21383]
[21384]
[21385]
[21386]
[21387]
[21388]
[21389]
[21390]
[21391]
[21392]
[21393]
[21394]
[21395]
[21396]
[21397]
[21398]
[21399]
[21400]
[21401]
[21402]
[21403]
[21404]
[21405]
[21406]
[21407]
[21408]
[21409]
[21410]
[21411]
[21412]
[21413]
[21414]
[21415]
[21416]
[21417]
[21418]
[21419]
[21420]
[21421]
[21422]
[21423]
[21424]
[21425]
[21426]
[21427]
[21428]
[21429]
[21430]
[21431]
[21432]
[21433]
[21434]
[21435]
[21436]
[21437]
[21438]
[21439]
[21440]
[21441]
[21442]
[{"$f":"A21445+1","v":21443}]
[21444]
[21445]
[21446]
[21447]
[21448]
[21449]
[21450]
[21451]
[21452]
[21453]
[21454]
[21455]
[21456]
[21457]
[21458]
[21459]
[21460]
[21461]
[21462]
[21463]
[21464]
[21465]
[21466]
[21467]
[21468]
[21469]
[21470]
[21471]
[21472]
[21473]
[21474]
[21475]
[21476]
[21477]
[21478]
[21479]
[21480]
[21481]
[21482]
[21483]
[21484]
[21485]
[21486]
[21487]
[21488]
[21489]
[21490]
[21491]
[21492]
[21493]
[21494]
[21495]
[21496]
[21497]
[21498]
[21499]
[21500]
[21501]
[21502]
[21503]
[21504]
[21505]
[21506]
[{"$f":"A21509+1","v":21507}]
[21508]
[21509]
[21510]
[21511]
[21512]
[21513]
[21514]
[21515]
[21516]
[21517]
[21518]
[21519]
[21520]
[21521]
[21522]
[21523]
[21524]
[21525]
[21526]
[21527]
[21528]
[21529]
[21530]
[21531]
[21532]
[21533]
[21534]
[21535]
[21536]
[21537]
[21538]
[21539]
[21540]
[21541]
[21542]
[21543]
[21544]
[21545]
[21546]
[21547]
[21548]
[21549]
[21550]
[21551]
[21552]
[21553]
[21554]
[21555]
[21556]
[21557]
[21558]
[21559]
[21560]
[21561]
[21562]
[21563]
[21564]
[21565]
[21566]
[21567]
[21568]
[21569]
[21570]
[{"$f":"A21573+1","v":21571}]
[21572]
[21573]
[21574]
[21575]
[21576]
[21577]
[21578]
[21579]
[21580]
[21581]
[21582]
[21583]
[21584]
[21585]
[21586]
[21587]
[21588]
[21589]
[21590]
[21591]
[21592]
[21593]
[21594]
[21595]
[21596]
[21597]
[21598]
[21599]
[21600]
[21601]
[21602]
[21603]
[21604]
[21605]
[21606]
[21607]
[21608]
[21609]
[21610]
[21611]
[21612]
[21613]
[21614]
[21615]
[21616]
[21617]
[21618]
[21619]
[21620]
[21621]
[21622]
[21623]
[21624]
[21625]
[21626]
[21627]
[21628]
[21629]
[21630]
[21631]
[21632]
[21633]
[21634]
[{"$f":"A21637+1","v":21635}]
[21636]
[21637]
[21638]
[21639]
[21640]
[21641]
[21642]
[21643]
[21644]
[21645]
[21646]
[21647]
[21648]
[21649]
[21650]
[21651]
[21652]
[21653]
[21654]
[21655]
[21656]
[21657]
[21658]
[21659]
[21660]
[21661]
[21662]
[21663]
[21664]
[21665]
[21666]
[21667]
[21668]
[21669]
[21670]
[21671]
[21672]
[21673]
[21674]
[21675]
[21676]
[21677]
[21678]
[21679]
[21680]
[21681]
[21682]
[21683]
[21684]
[21685]
[21686]
[21687]
[21688]
[21689]
[21690]
[21691]
[21692]
[21693]
[21694]
[21695]
[21696]
[21697]
[21698]
[{"$f":"A21701+1","v":21699}]
[21700]
[21701]
[21702]
[21703]
[21704]
[21705]
[21706]
[21707]
[21708]
[21709]
[21710]
[21711]
[21712]
[21713]
[21714]
[21715]
[21716]
[21717]
[21718]
[21719]
[21720]
[21721]
[21722]
[21723]
[21724]
[21725]
[21726]
[21727]
[21728]
[21729]
[21730]
[21731]
[21732]
[21733]
[21734]
[21735]
[21736]
[21737]
[21738]
[21739]
[21740]
[21741]
[21742]
[21743]
[21744]
[21745]
[21746]
[21747]
[21748]
[21749]
[21750]
[21751]
[21752]
[21753]
[21754]
[21755]
[21756]
[21757]
[21758]
[21759]
[21760]
[21761]
[21762]
[{"$f":"A21765+1","v":21763}]
[21764]
[21765]
[21766]
[21767]
[21768]
[21769]
[21770]
[21771]
[21772]
[21773]
[21774]
[21775]
[21776]
[21777]
[21778]
[21779]
[21780]
[21781]
[21782]
[21783]
[21784]
[21785]
[21786]
[21787]
[21788]
[21789]
[21790]
[21791]
[21792]
[21793]
[21794]
[21795]
[21796]
[21797]
[21798]
[21799]
[21800]
[21801]
[21802]
[21803]
[21804]
[21805]
[21806]
[21807]
[21808]
[21809]
[21810]
[21811]
[21812]
[21813]
[21814]
[21815]
[21816]
[21817]
[21818]
[21819]
[21820]
[21821]
[21822]
[21823]
[21824]
[21825]
[21826]
[{"$f":"A21829+1","v":21827}]
[21828]
[21829]
[21830]
[21831]
[21832]
[21833]
[21834]
[21835]
[21836]
[21837]
[21838]
[21839]
[21840]
[21841]
[21842]
[21843]
[21844]
[21845]
[21846]
[21847]
[21848]
[21849]
[21850]
[21851]
[21852]
[21853]
[21854]
[21855]
[21856]
[21857]
[21858]
[21859]
[21860]
[21861]
[21862]
[21863]
[21864]
[21865]
[21866]
[21867]
[21868]
[21869]
[21870]
[21871]
[21872]
[21873]
[21874]
[21875]
[21876]
[21877]
[21878]
[21879]
[21880]
[21881]
[21882]
[21883]
[21884]
[21885]
[21886]
[21887]
[21888]
[21889]
[21890]
[{"$f":"A21893+1","v":21891}]
[21892]
[21893]
[21894]
[21895]
[21896]
[21897]
[21898]
[21899]
[21900]
[21901]
[21902]
[21903]
[21904]
[21905]
[21906]
[21907]
[21908]
[21909]
[21910]
[21911]
[21912]
[21913]
[21914]
[21915]
[21916]
[21917]
[21918]
[21919]
[21920]
[21921]
[21922]
[21923]
[21924]
[21925]
[21926]
[21927]
[21928]
[21929]
[21930]
[21931]
[21932]
[21933]
[21934]
[21935]
[21936]
[21937]
[21938]
[21939]
[21940]
[21941]
[21942]
[21943]
[21944]
[21945]
[21946]
[21947]
[21948]
[21949]
[21950]
[21951]
[21952]
[21953]
[21954]
[{"$f":"A21957+1","v":21955}]
[21956]
[21957]
[21958]
[21959]
[21960]
[21961]
[21962]
[21963]
[21964]
[21965]
[21966]
[21967]
[21968]
[21969]
[21970]
[21971]
[21972]
[21973]
[21974]
[21975]
[21976]
[21977]
[21978]
[21979]
[21980]
[21981]
[21982]
[21983]
[21984]
[21985]
[21986]
[21987]
[21988]
[21989]
[21990]
[21991]
[21992]
[21993]
[21994]
[21995]
[21996]
[21997]
[21998]
[21999]
[22000]
[22001]
[22002]
[22003]
[22004]
[22005]
[22006]
[22007]
[22008]
[22009]
[22010]
[22011]
[22012]
[22013]
[22014]
[22015]
[22016]
[22017]
[22018]
[{"$f":"A22021+1","v":22019}]
[22020]
[22021]
[22022]
[22023]
[22024]
[22025]
[22026]
[22027]
[22028]
[22029]
[22030]
[22031]
[22032]
[22033]
[22034]
[22035]
[22036]
[22037]
[22038]
[22039]
[22040]
[22041]
[22042]
[22043]
[22044]
[22045]
[22046]
[22047]
[22048]
[22049]
[22050]
[22051]
[22052]
[22053]
[22054]
[22055]
[22056]
[22057]
[22058]
[22059]
[22060]
[22061]
[22062]
[22063]
[22064]
[22065]
[22066]
[22067]
[22068]
[22069]
[22070]
[22071]
[22072]
[22073]
[22074]
[22075]
[22076]
[22077]
[22078]
[22079]
[22080]
[22081]
[22082]
[{"$f":"A22085+1","v":22083}]
[22084]
[22085]
[22086]
[22087]
[22088]
[22089]
[22090]
[22091]
[22092]
[22093]
[22094]
[22095]
[22096]
[22097]
[22098]
[22099]
[22100]
[22101]
[22102]
[22103]
[22104]
[22105]
[22106]
[22107]
[22108]
[22109]
[22110]
[22111]
[22112]
[22113]
[22114]
[22115]
[22116]
[22117]
[22118]
[22119]
[22120]
[22121]
[22122]
[22123]
[22124]
[22125]
[22126]
[22127]
[22128]
[22129]
[22130]
[22131]
[22132]
[22133]
[22134]
[22135]
[22136]
[22137]
[22138]
[22139]
[22140]
[22141]
[22142]
[22143]
[22144]
[22145]
[22146]
[{"$f":"A22149+1","v":22147}]
[22148]
[22149]
[22150]
[22151]
[22152]
[22153]
[22154]
[22155]
[22156]
[22157]
[22158]
[22159]
[22160]
[22161]
[22162]
[22163]
[22164]
[22165]
[22166]
[22167]
[22168]
[22169]
[22170]
[22171]
[22172]
[22173]
[22174]
[22175]
[22176]
[22177]
[22178]
[22179]
[22180]
[22181]
[22182]
[22183]
[22184]
[22185]
[22186]
[22187]
[22188]
[22189]
[22190]
[22191]
[22192]
[22193]
[22194]
[22195]
[22196]
[22197]
[22198]
[22199]
[22200]
[22201]
[22202]
[22203]
[22204]
[22205]
[22206]
[22207]
[22208]
[22209]
[22210]
[{"$f":"A22213+1","v":22211}]
[22212]
[22213]
[22214]
[22215]
[22216]
[22217]
[22218]
[22219]
[22220]
[22221]
[22222]
[22223]
[22224]
[22225]
[22226]
[22227]
[22228]
[22229]
[22230]
[22231]
[22232]
[22233]
[22234]
[22235]
[22236]
[22237]
[22238]
[22239]
[22240]
[22241]
[22242]
[22243]
[22244]
[22245]
[22246]
[22247]
[22248]
[22249]
[22250]
[22251]
[22252]
[22253]
[22254]
[22255]
[22256]
[22257]
[22258]
[22259]
[22260]
[22261]
[22262]
[22263]
[22264]
[22265]
[22266]
[22267]
[22268]
[22269]
[22270]
[22271]
[22272]
[22273]
[22274]
[{"$f":"A22277+1","v":22275}]
[22276]
[22277]
[22278]
[22279]
[22280]
[22281]
[22282]
[22283]
[22284]
[22285]
[22286]
[22287]
[22288]
[22289]
[22290]
[22291]
[22292]
[22293]
[22294]
[22295]
[22296]
[22297]
[22298]
[22299]
[22300]
[22301]
[22302]
[22303]
[22304]
[22305]
[22306]
[22307]
[22308]
[22309]
[22310]
[22311]
[22312]
[22313]
[22314]
[22315]
[22316]
[22317]
[22318]
[22319]
[22320]
[22321]
[22322]
[22323]
[22324]
[22325]
[22326]
[22327]
[22328]
[22329]
[22330]
[22331]
[22332]
[22333]
[22334]
[22335]
[22336]
[22337]
[22338]
[{"$f":"A22341+1","v":22339}]
[22340]
[22341]
[22342]
[22343]
[22344]
[22345]
[22346]
[22347]
[22348]
[22349]
[22350]
[22351]
[22352]
[22353]
[22354]
[22355]
[22356]
[22357]
[22358]
[22359]
[22360]
[22361]
[22362]
[22363]
[22364]
[22365]
[22366]
[22367]
[22368]
[22369]
[22370]
[22371]
[22372]
[22373]
[22374]
[22375]
[22376]
[22377]
[22378]
[22379]
[22380]
[22381]
[22382]
[22383]
[22384]
[22385]
[22386]
[22387]
[22388]
[22389]
[22390]
[22391]
[22392]
[22393]
[22394]
[22395]
[22396]
[22397]
[22398]
[22399]
[22400]
[22401]
[22402]
[{"$f":"A22405+1","v":22403}]
[22404]
[22405]
[22406]
[22407]
[22408]
[22409]
[22410]
[22411]
[22412]
[22413]
[22414]
[22415]
[22416]
[22417]
[22418]
[22419]
[22420]
[22421]
[22422]
[22423]
[22424]
[22425]
[22426]
[22427]
[22428]
[22429]
[22430]
[22431]
[22432]
[22433]
[22434]
[22435]
[22436]
[22437]
[22438]
[22439]
[22440]
[22441]
[22442]
[22443]
[22444]
[22445]
[22446]
[22447]
[22448]
[22449]
[22450]
[22451]
[22452]
[22453]
[22454]
[22455]
[22456]
[22457]
[22458]
[22459]
[22460]
[22461]
[22462]
[22463]
[22464]
[22465]
[22466]
[{"$f":"A22469+1","v":22467}]
[22468]
[22469]
[22470]
[22471]
[22472]
[22473]
[22474]
[22475]
[22476]
[22477]
[22478]
[22479]
[22480]
[22481]
[22482]
[22483]
[22484]
[22485]
[22486]
[22487]
[22488]
[22489]
[22490]
[22491]
[22492]
[22493]
[22494]
[22495]
[22496]
[22497]
[22498]
[22499]
[22500]
[22501]
[22502]
[22503]
[22504]
[22505]
[22506]
[22507]
[22508]
[22509]
[22510]
[22511]
[22512]
[22513]
[22514]
[22515]
[22516]
[22517]
[22518]
[22519]
[22520]
[22521]
[22522]
[22523]
[22524]
[22525]
[22526]
[22527]
[22528]
[22529]
[22530]
[{"$f":"A22533+1","v":22531}]
[22532]
[22533]
[22534]
[22535]
[22536]
[22537]
[22538]
[22539]
[22540]
[22541]
[22542]
[22543]
[22544]
[22545]
[22546]
[22547]
[22548]
[22549]
[22550]
[22551]
[22552]
[22553]
[22554]
[22555]
[22556]
[22557]
[22558]
[22559]
[22560]
[22561]
[22562]
[22563]
[22564]
[22565]
[22566]
[22567]
[22568]
[22569]
[22570]
[22571]
[22572]
[22573]
[22574]
[22575]
[22576]
[22577]
[22578]
[22579]
[22580]
[22581]
[22582]
[22583]
[22584]
[22585]
[22586]
[22587]
[22588]
[22589]
[22590]
[22591]
[22592]
[22593]
[22594]
[{"$f":"A22597+1","v":22595}]
[22596]
[22597]
[22598]
[22599]
[22600]
[22601]
[22602]
[22603]
[22604]
[22605]
[22606]
[22607]
[22608]
[22609]
[22610]
[22611]
[22612]
[22613]
[22614]
[22615]
[22616]
[22617]
[22618]
[22619]
[22620]
[22621]
[22622]
[22623]
[22624]
[22625]
[22626]
[22627]
[22628]
[22629]
[22630]
[22631]
[22632]
[22633]
[22634]
[22635]
[22636]
[22637]
[22638]
[22639]
[22640]
[22641]
[22642]
[22643]
[22644]
[22645]
[22646]
[22647]
[22648]
[22649]
[22650]
[22651]
[22652]
[22653]
[22654]
[22655]
[22656]
[22657]
[22658]
[{"$f":"A22661+1","v":22659}]
[22660]
[22661]
[22662]
[22663]
[22664]
[22665]
[22666]
[22667]
[22668]
[22669]
[22670]
[22671]
[22672]
[22673]
[22674]
[22675]
[22676]
[22677]
[22678]
[22679]
[22680]
[22681]
[22682]
[22683]
[22684]
[22685]
[22686]
[22687]
[22688]
[22689]
[22690]
[22691]
[22692]
[22693]
[22694]
[22695]
[22696]
[22697]
[22698]
[22699]
[22700]
[22701]
[22702]
[22703]
[22704]
[22705]
[22706]
[22707]
[22708]
[22709]
[22710]
[22711]
[22712]
[22713]
[22714]
[22715]
[22716]
[22717]
[22718]
[22719]
[22720]
[22721]
[22722]
[{"$f":"A22725+1","v":22723}]
[22724]
[22725]
[22726]
[22727]
[22728]
[22729]
[22730]
[22731]
[22732]
[22733]
[22734]
[22735]
[22736]
[22737]
[22738]
[22739]
[22740]
[22741]
[22742]
[22743]
[22744]
[22745]
[22746]
[22747]
[22748]
[22749]
[22750]
[22751]
[22752]
[22753]
[22754]
[22755]
[22756]
[22757]
[22758]
[22759]
[22760]
[22761]
[22762]
[22763]
[22764]
[22765]
[22766]
[22767]
[22768]
[22769]
[22770]
[22771]
[22772]
[22773]
[22774]
[22775]
[22776]
[22777]
[22778]
[22779]
[22780]
[22781]
[22782]
[22783]
[22784]
[22785]
[22786]
[{"$f":"A22789+1","v":22787}]
[22788]
[22789]
[22790]
[22791]
[22792]
[22793]
[22794]
[22795]
[22796]
[22797]
[22798]
[22799]
[22800]
[22801]
[22802]
[22803]
[22804]
[22805]
[22806]
[22807]
[22808]
[22809]
[22810]
[22811]
[22812]
[22813]
[22814]
[22815]
[22816]
[22817]
[22818]
[22819]
[22820]
[22821]
[22822]
[22823]
[22824]
[22825]
[22826]
[22827]
[22828]
[22829]
[22830]
[22831]
[22832]
[22833]
[22834]
[22835]
[22836]
[22837]
[22838]
[22839]
[22840]
[22841]
[22842]
[22843]
[22844]
[22845]
[22846]
[22847]
[22848]
[22849]
[22850]
[{"$f":"A22853+1","v":22851}]
[22852]
[22853]
[22854]
[22855]
[22856]
[22857]
[22858]
[22859]
[22860]
[22861]
[22862]
[22863]
[22864]
[22865]
[22866]
[22867]
[22868]
[22869]
[22870]
[22871]
[22872]
[22873]
[22874]
[22875]
[22876]
[22877]
[22878]
[22879]
[22880]
[22881]
[22882]
[22883]
[22884]
[22885]
[22886]
[22887]
[22888]
[22889]
[22890]
[22891]
[22892]
[22893]
[22894]
[22895]
[22896]
[22897]
[22898]
[22899]
[22900]
[22901]
[22902]
[22903]
[22904]
[22905]
[22906]
[22907]
[22908]
[22909]
[22910]
[22911]
[22912]
[22913]
[22914]
[{"$f":"A22917+1","v":22915}]
[22916]
[22917]
[22918]
[22919]
[22920]
[22921]
[22922]
[22923]
[22924]
[22925]
[22926]
[22927]
[22928]
[22929]
[22930]
[22931]
[22932]
[22933]
[22934]
[22935]
[22936]
[22937]
[22938]
[22939]
[22940]
[22941]
[22942]
[22943]
[22944]
[22945]
[22946]
[22947]
[22948]
[22949]
[22950]
[22951]
[22952]
[22953]
[22954]
[22955]
[22956]
[22957]
[22958]
[22959]
[22960]
[22961]
[22962]
[22963]
[22964]
[22965]
[22966]
[22967]
[22968]
[22969]
[22970]
[22971]
[22972]
[22973]
[22974]
[22975]
[22976]
[22977]
[22978]
[{"$f":"A22981+1","v":22979}]
[22980]
[22981]
[22982]
[22983]
[22984]
[22985]
[22986]
[22987]
[22988]
[22989]
[22990]
[22991]
[22992]
[22993]
[22994]
[22995]
[22996]
[22997]
[22998]
[22999]
[23000]
[23001]
[23002]
[23003]
[23004]
[23005]
[23006]
[23007]
[23008]
[23009]
[23010]
[23011]
[23012]
[23013]
[23014]
[23015]
[23016]
[23017]
[23018]
[23019]
[23020]
[23021]
[23022]
[23023]
[23024]
[23025]
[23026]
[23027]
[23028]
[23029]
[23030]
[23031]
[23032]
[23033]
[23034]
[23035]
[23036]
[23037]
[23038]
[23039]
[23040]
[23041]
[23042]
[{"$f":"A23045+1","v":23043}]
[23044]
[23045]
[23046]
[23047]
[23048]
[23049]
[23050]
[23051]
[23052]
[23053]
[23054]
[23055]
[23056]
[23057]
[23058]
[23059]
[23060]
[23061]
[23062]
[23063]
[23064]
[23065]
[23066]
[23067]
[23068]
[23069]
[23070]
[23071]
[23072]
[23073]
[23074]
[23075]
[23076]
[23077]
[23078]
[23079]
[23080]
[23081]
[23082]
[23083]
[23084]
[23085]
[23086]
[23087]
[23088]
[23089]
[23090]
[23091]
[23092]
[23093]
[23094]
[23095]
[23096]
[23097]
[23098]
[23099]
[23100]
[23101]
[23102]
[23103]
[23104]
[23105]
[23106]
[{"$f":"A23109+1","v":23107}]
[23108]
[23109]
[23110]
[23111]
[23112]
[23113]
[23114]
[23115]
[23116]
[23117]
[23118]
[23119]
[23120]
[23121]
[23122]
[23123]
[23124]
[23125]
[23126]
[23127]
[23128]
[23129]
[23130]
[23131]
[23132]
[23133]
[23134]
[23135]
[23136]
[23137]
[23138]
[23139]
[23140]
[23141]
[23142]
[23143]
[23144]
[23145]
[23146]
[23147]
[23148]
[23149]
[23150]
[23151]
[23152]
[23153]
[23154]
[23155]
[23156]
[23157]
[23158]
[23159]
[23160]
[23161]
[23162]
[23163]
[23164]
[23165]
[23166]
[23167]
[23168]
[23169]
[23170]
[{"$f":"A23173+1","v":23171}]
[23172]
[23173]
[23174]
[23175]
[23176]
[23177]
[23178]
[23179]
[23180]
[23181]
[23182]
[23183]
[23184]
[23185]
[23186]
[23187]
[23188]
[23189]
[23190]
[23191]
[23192]
[23193]
[23194]
[23195]
[23196]
[23197]
[23198]
[23199]
[23200]
[23201]
[23202]
[23203]
[23204]
[23205]
[23206]
[23207]
[23208]
[23209]
[23210]
[23211]
[23212]
[23213]
[23214]
[23215]
[23216]
[23217]
[23218]
[23219]
[23220]
[23221]
[23222]
[23223]
[23224]
[23225]
[23226]
[23227]
[23228]
[23229]
[23230]
[23231]
[23232]
[23233]
[23234]
[{"$f":"A23237+1","v":23235}]
[23236]
[23237]
[23238]
[23239]
[23240]
[23241]
[23242]
[23243]
[23244]
[23245]
[23246]
[23247]
[23248]
[23249]
[23250]
[23251]
[23252]
[23253]
[23254]
[23255]
[23256]
[23257]
[23258]
[23259]
[23260]
[23261]
[23262]
[23263]
[23264]
[23265]
[23266]
[23267]
[23268]
[23269]
[23270]
[23271]
[23272]
[23273]
[23274]
[23275]
[23276]
[23277]
[23278]
[23279]
[23280]
[23281]
[23282]
[23283]
[23284]
[23285]
[23286]
[23287]
[23288]
[23289]
[23290]
[23291]
[23292]
[23293]
[23294]
[23295]
[23296]
[23297]
[23298]
[{"$f":"A23301+1","v":23299}]
[23300]
[23301]
[23302]
[23303]
[23304]
[23305]
[23306]
[23307]
[23308]
[23309]
[23310]
[23311]
[23312]
[23313]
[23314]
[23315]
[23316]
[23317]
[23318]
[23319]
[23320]
[23321]
[23322]
[23323]
[23324]
[23325]
[23326]
[23327]
[23328]
[23329]
[23330]
[23331]
[23332]
[23333]
[23334]
[23335]
[23336]
[23337]
[23338]
[23339]
[23340]
[23341]
[23342]
[23343]
[23344]
[23345]
[23346]
[23347]
[23348]
[23349]
[23350]
[23351]
[23352]
[23353]
[23354]
[23355]
[23356]
[23357]
[23358]
[23359]
[23360]
[23361]
[23362]
[{"$f":"A23365+1","v":23363}]
[23364]
[23365]
[23366]
[23367]
[23368]
[23369]
[23370]
[23371]
[23372]
[23373]
[23374]
[23375]
[23376]
[23377]
[23378]
[23379]
[23380]
[23381]
[23382]
[23383]
[23384]
[23385]
[23386]
[23387]
[23388]
[23389]
[23390]
[23391]
[23392]
[23393]
[23394]
[23395]
[23396]
[23397]
[23398]
[23399]
[23400]
[23401]
[23402]
[23403]
[23404]
[23405]
[23406]
[23407]
[23408]
[23409]
[23410]
[23411]
[23412]
[23413]
[23414]
[23415]
[23416]
[23417]
[23418]
[23419]
[23420]
[23421]
[23422]
[23423]
[23424]
[23425]
[23426]
[{"$f":"A23429+1","v":23427}]
[23428]
[23429]
[23430]
[23431]
[23432]
[23433]
[23434]
[23435]
[23436]
[23437]
[23438]
[23439]
[23440]
[23441]
[23442]
[23443]
[23444]
[23445]
[23446]
[23447]
[23448]
[23449]
[23450]
[23451]
[23452]
[23453]
[23454]
[23455]
[23456]
[23457]
[23458]
[23459]
[23460]
[23461]
[23462]
[23463]
[23464]
[23465]
[23466]
[23467]
[23468]
[23469]
[23470]
[23471]
[23472]
[23473]
[23474]
[23475]
[23476]
[23477]
[23478]
[23479]
[23480]
[23481]
[23482]
[23483]
[23484]
[23485]
[23486]
[23487]
[23488]
[23489]
[23490]
[{"$f":"A23493+1","v":23491}]
[23492]
[23493]
[23494]
[23495]
[23496]
[23497]
[23498]
[23499]
[23500]
[23501]
[23502]
[23503]
[23504]
[23505]
[23506]
[23507]
[23508]
[23509]
[23510]
[23511]
[23512]
[23513]
[23514]
[23515]
[23516]
[23517]
[23518]
[23519]
[23520]
[23521]
[23522]
[23523]
[23524]
[23525]
[23526]
[23527]
[23528]
[23529]
[23530]
[23531]
[23532]
[23533]
[23534]
[23535]
[23536]
[23537]
[23538]
[23539]
[23540]
[23541]
[23542]
[23543]
[23544]
[23545]
[23546]
[23547]
[23548]
[23549]
[23550]
[23551]
[23552]
[23553]
[23554]
[{"$f":"A23557+1","v":23555}]
[23556]
[23557]
[23558]
[23559]
[23560]
[23561]
[23562]
[23563]
[23564]
[23565]
[23566]
[23567]
[23568]
[23569]
[23570]
[23571]
[23572]
[23573]
[23574]
[23575]
[23576]
[23577]
[23578]
[23579]
[23580]
[23581]
[23582]
[23583]
[23584]
[23585]
[23586]
[23587]
[23588]
[23589]
[23590]
[23591]
[23592]
[23593]
[23594]
[23595]
[23596]
[23597]
[23598]
[23599]
[23600]
[23601]
[23602]
[23603]
[23604]
[23605]
[23606]
[23607]
[23608]
[23609]
[23610]
[23611]
[23612]
[23613]
[23614]
[23615]
[23616]
[23617]
[23618]
[{"$f":"A23621+1","v":23619}]
[23620]
[23621]
[23622]
[23623]
[23624]
[23625]
[23626]
[23627]
[23628]
[23629]
[23630]
[23631]
[23632]
[23633]
[23634]
[23635]
[23636]
[23637]
[23638]
[23639]
[23640]
[23641]
[23642]
[23643]
[23644]
[23645]
[23646]
[23647]
[23648]
[23649]
[23650]
[23651]
[23652]
[23653]
[23654]
[23655]
[23656]
[23657]
[23658]
[23659]
[23660]
[23661]
[23662]
[23663]
[23664]
[23665]
[23666]
[23667]
[23668]
[23669]
[23670]
[23671]
[23672]
[23673]
[23674]
[23675]
[23676]
[23677]
[23678]
[23679]
[23680]
[23681]
[23682]
[{"$f":"A23685+1","v":23683}]
[23684]
[23685]
[23686]
[23687]
[23688]
[23689]
[23690]
[23691]
[23692]
[23693]
[23694]
[23695]
[23696]
[23697]
[23698]
[23699]
[23700]
[23701]
[23702]
[23703]
[23704]
[23705]
[23706]
[23707]
[23708]
[23709]
[23710]
[23711]
[23712]
[23713]
[23714]
[23715]
[23716]
[23717]
[23718]
[23719]
[23720]
[23721]
[23722]
[23723]
[23724]
[23725]
[23726]
[23727]
[23728]
[23729]
[23730]
[23731]
[23732]
[23733]
[23734]
[23735]
[23736]
[23737]
[23738]
[23739]
[23740]
[23741]
[23742]
[23743]
[23744]
[23745]
[23746]
[{"$f":"A23749+1","v":23747}]
[23748]
[23749]
[23750]
[23751]
[23752]
[23753]
[23754]
[23755]
[23756]
[23757]
[23758]
[23759]
[23760]
[23761]
[23762]
[23763]
[23764]
[23765]
[23766]
[23767]
[23768]
[23769]
[23770]
[23771]
[23772]
[23773]
[23774]
[23775]
[23776]
[23777]
[23778]
[23779]
[23780]
[23781]
[23782]
[23783]
[23784]
[23785]
[23786]
[23787]
[23788]
[23789]
[23790]
[23791]
[23792]
[23793]
[23794]
[23795]
[23796]
[23797]
[23798]
[23799]
[23800]
[23801]
[23802]
[23803]
[23804]
[23805]
[23806]
[23807]
[23808]
[23809]
[23810]
[{"$f":"A23813+1","v":23811}]
[23812]
[23813]
[23814]
[23815]
[23816]
[23817]
[23818]
[23819]
[23820]
[23821]
[23822]
[23823]
[23824]
[23825]
[23826]
[23827]
[23828]
[23829]
[23830]
[23831]
[23832]
[23833]
[23834]
[23835]
[23836]
[23837]
[23838]
[23839]
[23840]
[23841]
[23842]
[23843]
[23844]
[23845]
[23846]
[23847]
[23848]
[23849]
[23850]
[23851]
[23852]
[23853]
[23854]
[23855]
[23856]
[23857]
[23858]
[23859]
[23860]
[23861]
[23862]
[23863]
[23864]
[23865]
[23866]
[23867]
[23868]
[23869]
[23870]
[23871]
[23872]
[23873]
[23874]
[{"$f":"A23877+1","v":23875}]
[23876]
[23877]
[23878]
[23879]
[23880]
[23881]
[23882]
[23883]
[23884]
[23885]
[23886]
[23887]
[23888]
[23889]
[23890]
[23891]
[23892]
[23893]
[23894]
[23895]
[23896]
[23897]
[23898]
[23899]
[23900]
[23901]
[23902]
[23903]
[23904]
[23905]
[23906]
[23907]
[23908]
[23909]
[23910]
[23911]
[23912]
[23913]
[23914]
[23915]
[23916]
[23917]
[23918]
[23919]
[23920]
[23921]
[23922]
[23923]
[23924]
[23925]
[23926]
[23927]
[23928]
[23929]
[23930]
[23931]
[23932]
[23933]
[23934]
[23935]
[23936]
[23937]
[23938]
[{"$f":"A23941+1","v":23939}]
[23940]
[23941]
[23942]
[23943]
[23944]
[23945]
[23946]
[23947]
[23948]
[23949]
[23950]
[23951]
[23952]
[23953]
[23954]
[23955]
[23956]
[23957]
[23958]
[23959]
[23960]
[23961]
[23962]
[23963]
[23964]
[23965]
[23966]
[23967]
[23968]
[23969]
[23970]
[23971]
[23972]
[23973]
[23974]
[23975]
[23976]
[23977]
[23978]
[23979]
[23980]
[23981]
[23982]
[23983]
[23984]
[23985]
[23986]
[23987]
[23988]
[23989]
[23990]
[23991]
[23992]
[23993]
[23994]
[23995]
[23996]
[23997]
[23998]
[23999]
[24000]
[24001]
[24002]
[{"$f":"A24005+1","v":24003}]
[24004]
[24005]
[24006]
[24007]
[24008]
[24009]
[24010]
[24011]
[24012]
[24013]
[24014]
[24015]
[24016]
[24017]
[24018]
[24019]
[24020]
[24021]
[24022]
[24023]
[24024]
[24025]
[24026]
[24027]
[24028]
[24029]
[24030]
[24031]
[24032]
[24033]
[24034]
[24035]
[24036]
[24037]
[24038]
[24039]
[24040]
[24041]
[24042]
[24043]
[24044]
[24045]
[24046]
[24047]
[24048]
[24049]
[24050]
[24051]
[24052]
[24053]
[24054]
[24055]
[24056]
[24057]
[24058]
[24059]
[24060]
[24061]
[24062]
[24063]
[24064]
[24065]
[24066]
[{"$f":"A24069+1","v":24067}]
[24068]
[24069]
[24070]
[24071]
[24072]
[24073]
[24074]
[24075]
[24076]
[24077]
[24078]
[24079]
[24080]
[24081]
[24082]
[24083]
[24084]
[24085]
[24086]
[24087]
[24088]
[24089]
[24090]
[24091]
[24092]
[24093]
[24094]
[24095]
[24096]
[24097]
[24098]
[24099]
[24100]
[24101]
[24102]
[24103]
[24104]
[24105]
[24106]
[24107]
[24108]
[24109]
[24110]
[24111]
[24112]
[24113]
[24114]
[24115]
[24116]
[24117]
[24118]
[24119]
[24120]
[24121]
[24122]
[24123]
[24124]
[24125]
[24126]
[24127]
[24128]
[24129]
[24130]
[{"$f":"A24133+1","v":24131}]
[24132]
[24133]
[24134]
[24135]
[24136]
[24137]
[24138]
[24139]
[24140]
[24141]
[24142]
[24143]
[24144]
[24145]
[24146]
[24147]
[24148]
[24149]
[24150]
[24151]
[24152]
[24153]
[24154]
[24155]
[24156]
[24157]
[24158]
[24159]
[24160]
[24161]
[24162]
[24163]
[24164]
[24165]
[24166]
[24167]
[24168]
[24169]
[24170]
[24171]
[24172]
[24173]
[24174]
[24175]
[24176]
[24177]
[24178]
[24179]
[24180]
[24181]
[24182]
[24183]
[24184]
[24185]
[24186]
[24187]
[24188]
[24189]
[24190]
[24191]
[24192]
[24193]
[24194]
[{"$f":"A24197+1","v":24195}]
[24196]
[24197]
[24198]
[24199]
[24200]
[24201]
[24202]
[24203]
[24204]
[24205]
[24206]
[24207]
[24208]
[24209]
[24210]
[24211]
[24212]
[24213]
[24214]
[24215]
[24216]
[24217]
[24218]
[24219]
[24220]
[24221]
[24222]
[24223]
[24224]
[24225]
[24226]
[24227]
[24228]
[24229]
[24230]
[24231]
[24232]
[24233]
[24234]
[24235]
[24236]
[24237]
[24238]
[24239]
[24240]
[24241]
[24242]
[24243]
[24244]
[24245]
[24246]
[24247]
[24248]
[24249]
[24250]
[24251]
[24252]
[24253]
[24254]
[24255]
[24256]
[24257]
[24258]
[{"$f":"A24261+1","v":24259}]
[24260]
[24261]
[24262]
[24263]
[24264]
[24265]
[24266]
[24267]
[24268]
[24269]
[24270]
[24271]
[24272]
[24273]
[24274]
[24275]
[24276]
[24277]
[24278]
[24279]
[24280]
[24281]
[24282]
[24283]
[24284]
[24285]
[24286]
[24287]
[24288]
[24289]
[24290]
[24291]
[24292]
[24293]
[24294]
[24295]
[24296]
[24297]
[24298]
[24299]
[24300]
[24301]
[24302]
[24303]
[24304]
[24305]
[24306]
[24307]
[24308]
[24309]
[24310]
[24311]
[24312]
[24313]
[24314]
[24315]
[24316]
[24317]
[24318]
[24319]
[24320]
[24321]
[24322]
[{"$f":"A24325+1","v":24323}]
[24324]
[24325]
[24326]
[24327]
[24328]
[24329]
[24330]
[24331]
[24332]
[24333]
[24334]
[24335]
[24336]
[24337]
[24338]
[24339]
[24340]
[24341]
[24342]
[24343]
[24344]
[24345]
[24346]
[24347]
[24348]
[24349]
[24350]
[24351]
[24352]
[24353]
[24354]
[24355]
[24356]
[24357]
[24358]
[24359]
[24360]
[24361]
[24362]
[24363]
[24364]
[24365]
[24366]
[24367]
[24368]
[24369]
[24370]
[24371]
[24372]
[24373]
[24374]
[24375]
[24376]
[24377]
[24378]
[24379]
[24380]
[24381]
[24382]
[24383]
[24384]
[24385]
[24386]
[{"$f":"A24389+1","v":24387}]
[24388]
[24389]
[24390]
[24391]
[24392]
[24393]
[24394]
[24395]
[24396]
[24397]
[24398]
[24399]
[24400]
[24401]
[24402]
[24403]
[24404]
[24405]
[24406]
[24407]
[24408]
[24409]
[24410]
[24411]
[24412]
[24413]
[24414]
[24415]
[24416]
[24417]
[24418]
[24419]
[24420]
[24421]
[24422]
[24423]
[24424]
[24425]
[24426]
[24427]
[24428]
[24429]
[24430]
[24431]
[24432]
[24433]
[24434]
[24435]
[24436]
[24437]
[24438]
[24439]
[24440]
[24441]
[24442]
[24443]
[24444]
[24445]
[24446]
[24447]
[24448]
[24449]
[24450]
[{"$f":"A24453+1","v":24451}]
[24452]
[24453]
[24454]
[24455]
[24456]
[24457]
[24458]
[24459]
[24460]
[24461]
[24462]
[24463]
[24464]
[24465]
[24466]
[24467]
[24468]
[24469]
[24470]
[24471]
[24472]
[24473]
[24474]
[24475]
[24476]
[24477]
[24478]
[24479]
[24480]
[24481]
[24482]
[24483]
[24484]
[24485]
[24486]
[24487]
[24488]
[24489]
[24490]
[24491]
[24492]
[24493]
[24494]
[24495]
[24496]
[24497]
[24498]
[24499]
[24500]
[24501]
[24502]
[24503]
[24504]
[24505]
[24506]
[24507]
[24508]
[24509]
[24510]
[24511]
[24512]
[24513]
[24514]
[{"$f":"A24517+1","v":24515}]
[24516]
[24517]
[24518]
[24519]
[24520]
[24521]
[24522]
[24523]
[24524]
[24525]
[24526]
[24527]
[24528]
[24529]
[24530]
[24531]
[24532]
[24533]
[24534]
[24535]
[24536]
[24537]
[24538]
[24539]
[24540]
[24541]
[24542]
[24543]
[24544]
[24545]
[24546]
[24547]
[24548]
[24549]
[24550]
[24551]
[24552]
[24553]
[24554]
[24555]
[24556]
[24557]
[24558]
[24559]
[24560]
[24561]
[24562]
[24563]
[24564]
[24565]
[24566]
[24567]
[24568]
[24569]
[24570]
[24571]
[24572]
[24573]
[24574]
[24575]
[24576]
[24577]
[24578]
[{"$f":"A24581+1","v":24579}]
[24580]
[24581]
[24582]
[24583]
[24584]
[24585]
[24586]
[24587]
[24588]
[24589]
[24590]
[24591]
[24592]
[24593]
[24594]
[24595]
[24596]
[24597]
[24598]
[24599]
[24600]
[24601]
[24602]
[24603]
[24604]
[24605]
[24606]
[24607]
[24608]
[24609]
[24610]
[24611]
[24612]
[24613]
[24614]
[24615]
[24616]
[24617]
[24618]
[24619]
[24620]
[24621]
[24622]
[24623]
[24624]
[24625]
[24626]
[24627]
[24628]
[24629]
[24630]
[24631]
[24632]
[24633]
[24634]
[24635]
[24636]
[24637]
[24638]
[24639]
[24640]
[24641]
[24642]
[{"$f":"A24645+1","v":24643}]
[24644]
[24645]
[24646]
[24647]
[24648]
[24649]
[24650]
[24651]
[24652]
[24653]
[24654]
[24655]
[24656]
[24657]
[24658]
[24659]
[24660]
[24661]
[24662]
[24663]
[24664]
[24665]
[24666]
[24667]
[24668]
[24669]
[24670]
[24671]
[24672]
[24673]
[24674]
[24675]
[24676]
[24677]
[24678]
[24679]
[24680]
[24681]
[24682]
[24683]
[24684]
[24685]
[24686]
[24687]
[24688]
[24689]
[24690]
[24691]
[24692]
[24693]
[24694]
[24695]
[24696]
[24697]
[24698]
[24699]
[24700]
[24701]
[24702]
[24703]
[24704]
[24705]
[24706]
[{"$f":"A24709+1","v":24707}]
[24708]
[24709]
[24710]
[24711]
[24712]
[24713]
[24714]
[24715]
[24716]
[24717]
[24718]
[24719]
[24720]
[24721]
[24722]
[24723]
[24724]
[24725]
[24726]
[24727]
[24728]
[24729]
[24730]
[24731]
[24732]
[24733]
[24734]
[24735]
[24736]
[24737]
[24738]
[24739]
[24740]
[24741]
[24742]
[24743]
[24744]
[24745]
[24746]
[24747]
[24748]
[24749]
[24750]
[24751]
[24752]
[24753]
[24754]
[24755]
[24756]
[24757]
[24758]
[24759]
[24760]
[24761]
[24762]
[24763]
[24764]
[24765]
[24766]
[24767]
[24768]
[24769]
[24770]
[{"$f":"A24773+1","v":24771}]
[24772]
[24773]
[24774]
[24775]
[24776]
[24777]
[24778]
[24779]
[24780]
[24781]
[24782]
[24783]
[24784]
[24785]
[24786]
[24787]
[24788]
[24789]
[24790]
[24791]
[24792]
[24793]
[24794]
[24795]
[24796]
[24797]
[24798]
[24799]
[24800]
[24801]
[24802]
[24803]
[24804]
[24805]
[24806]
[24807]
[24808]
[24809]
[24810]
[24811]
[24812]
[24813]
[24814]
[24815]
[24816]
[24817]
[24818]
[24819]
[24820]
[24821]
[24822]
[24823]
[24824]
[24825]
[24826]
[24827]
[24828]
[24829]
[24830]
[24831]
[24832]
[24833]
[24834]
[{"$f":"A24837+1","v":24835}]
[24836]
[24837]
[24838]
[24839]
[24840]
[24841]
[24842]
[24843]
[24844]
[24845]
[24846]
[24847]
[24848]
[24849]
[24850]
[24851]
[24852]
[24853]
[24854]
[24855]
[24856]
[24857]
[24858]
[24859]
[24860]
[24861]
[24862]
[24863]
[24864]
[24865]
[24866]
[24867]
[24868]
[24869]
[24870]
[24871]
[24872]
[24873]
[24874]
[24875]
[24876]
[24877]
[24878]
[24879]
[24880]
[24881]
[24882]
[24883]
[24884]
[24885]
[24886]
[24887]
[24888]
[24889]
[24890]
[24891]
[24892]
[24893]
[24894]
[24895]
[24896]
[24897]
[24898]
[{"$f":"A24901+1","v":24899}]
[24900]
[24901]
[24902]
[24903]
[24904]
[24905]
[24906]
[24907]
[24908]
[24909]
[24910]
[24911]
[24912]
[24913]
[24914]
[24915]
[24916]
[24917]
[24918]
[24919]
[24920]
[24921]
[24922]
[24923]
[24924]
[24925]
[24926]
[24927]
[24928]
[24929]
[24930]
[24931]
[24932]
[24933]
[24934]
[24935]
[24936]
[24937]
[24938]
[24939]
[24940]
[24941]
[24942]
[24943]
[24944]
[24945]
[24946]
[24947]
[24948]
[24949]
[24950]
[24951]
[24952]
[24953]
[24954]
[24955]
[24956]
[24957]
[24958]
[24959]
[24960]
[24961]
[24962]
[{"$f":"A24965+1","v":24963}]
[24964]
[24965]
[24966]
[24967]
[24968]
[24969]
[24970]
[24971]
[24972]
[24973]
[24974]
[24975]
[24976]
[24977]
[24978]
[24979]
[24980]
[24981]
[24982]
[24983]
[24984]
[24985]
[24986]
[24987]
[24988]
[24989]
[24990]
[24991]
[24992]
[24993]
[24994]
[24995]
[24996]
[24997]
[24998]
[24999]
[25000]
[25001]
[25002]
[25003]
[25004]
[25005]
[25006]
[25007]
[25008]
[25009]
[25010]
[25011]
[25012]
[25013]
[25014]
[25015]
[25016]
[25017]
[25018]
[25019]
[25020]
[25021]
[25022]
[25023]
[25024]
[25025]
[25026]
[{"$f":"A25029+1","v":25027}]
[25028]
[25029]
[25030]
[25031]
[25032]
[25033]
[25034]
[25035]
[25036]
[25037]
[25038]
[25039]
[25040]
[25041]
[25042]
[25043]
[25044]
[25045]
[25046]
[25047]
[25048]
[25049]
[25050]
[25051]
[25052]
[25053]
[25054]
[25055]
[25056]
[25057]
[25058]
[25059]
[25060]
[25061]
[25062]
[25063]
[25064]
[25065]
[25066]
[25067]
[25068]
[25069]
[25070]
[25071]
[25072]
[25073]
[25074]
[25075]
[25076]
[25077]
[25078]
[25079]
[25080]
[25081]
[25082]
[25083]
[25084]
[25085]
[25086]
[25087]
[25088]
[25089]
[25090]
[{"$f":"A25093+1","v":25091}]
[25092]
[25093]
[25094]
[25095]
[25096]
[25097]
[25098]
[25099]
[25100]
[25101]
[25102]
[25103]
[25104]
[25105]
[25106]
[25107]
[25108]
[25109]
[25110]
[25111]
[25112]
[25113]
[25114]
[25115]
[25116]
[25117]
[25118]
[25119]
[25120]
[25121]
[25122]
[25123]
[25124]
[25125]
[25126]
[25127]
[25128]
[25129]
[25130]
[25131]
[25132]
[25133]
[25134]
[25135]
[25136]
[25137]
[25138]
[25139]
[25140]
[25141]
[25142]
[25143]
[25144]
[25145]
[25146]
[25147]
[25148]
[25149]
[25150]
[25151]
[25152]
[25153]
[25154]
[{"$f":"A25157+1","v":25155}]
[25156]
[25157]
[25158]
[25159]
[25160]
[25161]
[25162]
[25163]
[25164]
[25165]
[25166]
[25167]
[25168]
[25169]
[25170]
[25171]
[25172]
[25173]
[25174]
[25175]
[25176]
[25177]
[25178]
[25179]
[25180]
[25181]
[25182]
[25183]
[25184]
[25185]
[25186]
[25187]
[25188]
[25189]
[25190]
[25191]
[25192]
[25193]
[25194]
[25195]
[25196]
[25197]
[25198]
[25199]
[25200]
[25201]
[25202]
[25203]
[25204]
[25205]
[25206]
[25207]
[25208]
[25209]
[25210]
[25211]
[25212]
[25213]
[25214]
[25215]
[25216]
[25217]
[25218]
[{"$f":"A25221+1","v":25219}]
[25220]
[25221]
[25222]
[25223]
[25224]
[25225]
[25226]
[25227]
[25228]
[25229]
[25230]
[25231]
[25232]
[25233]
[25234]
[25235]
[25236]
[25237]
[25238]
[25239]
[25240]
[25241]
[25242]
[25243]
[25244]
[25245]
[25246]
[25247]
[25248]
[25249]
[25250]
[25251]
[25252]
[25253]
[25254]
[25255]
[25256]
[25257]
[25258]
[25259]
[25260]
[25261]
[25262]
[25263]
[25264]
[25265]
[25266]
[25267]
[25268]
[25269]
[25270]
[25271]
[25272]
[25273]
[25274]
[25275]
[25276]
[25277]
[25278]
[25279]
[25280]
[25281]
[25282]
[{"$f":"A25285+1","v":25283}]
[25284]
[25285]
[25286]
[25287]
[25288]
[25289]
[25290]
[25291]
[25292]
[25293]
[25294]
[25295]
[25296]
[25297]
[25298]
[25299]
[25300]
[25301]
[25302]
[25303]
[25304]
[25305]
[25306]
[25307]
[25308]
[25309]
[25310]
[25311]
[25312]
[25313]
[25314]
[25315]
[25316]
[25317]
[25318]
[25319]
[25320]
[25321]
[25322]
[25323]
[25324]
[25325]
[25326]
[25327]
[25328]
[25329]
[25330]
[25331]
[25332]
[25333]
[25334]
[25335]
[25336]
[25337]
[25338]
[25339]
[25340]
[25341]
[25342]
[25343]
[25344]
[25345]
[25346]
[{"$f":"A25349+1","v":25347}]
[25348]
[25349]
[25350]
[25351]
[25352]
[25353]
[25354]
[25355]
[25356]
[25357]
[25358]
[25359]
[25360]
[25361]
[25362]
[25363]
[25364]
[25365]
[25366]
[25367]
[25368]
[25369]
[25370]
[25371]
[25372]
[25373]
[25374]
[25375]
[25376]
[25377]
[25378]
[25379]
[25380]
[25381]
[25382]
[25383]
[25384]
[25385]
[25386]
[25387]
[25388]
[25389]
[25390]
[25391]
[25392]
[25393]
[25394]
[25395]
[25396]
[25397]
[25398]
[25399]
[25400]
[25401]
[25402]
[25403]
[25404]
[25405]
[25406]
[25407]
[25408]
[25409]
[25410]
[{"$f":"A25413+1","v":25411}]
[25412]
[25413]
[25414]
[25415]
[25416]
[25417]
[25418]
[25419]
[25420]
[25421]
[25422]
[25423]
[25424]
[25425]
[25426]
[25427]
[25428]
[25429]
[25430]
[25431]
[25432]
[25433]
[25434]
[25435]
[25436]
[25437]
[25438]
[25439]
[25440]
[25441]
[25442]
[25443]
[25444]
[25445]
[25446]
[25447]
[25448]
[25449]
[25450]
[25451]
[25452]
[25453]
[25454]
[25455]
[25456]
[25457]
[25458]
[25459]
[25460]
[25461]
[25462]
[25463]
[25464]
[25465]
[25466]
[25467]
[25468]
[25469]
[25470]
[25471]
[25472]
[25473]
[25474]
[{"$f":"A25477+1","v":25475}]
[25476]
[25477]
[25478]
[25479]
[25480]
[25481]
[25482]
[25483]
[25484]
[25485]
[25486]
[25487]
[25488]
[25489]
[25490]
[25491]
[25492]
[25493]
[25494]
[25495]
[25496]
[25497]
[25498]
[25499]
[25500]
[25501]
[25502]
[25503]
[25504]
[25505]
[25506]
[25507]
[25508]
[25509]
[25510]
[25511]
[25512]
[25513]
[25514]
[25515]
[25516]
[25517]
[25518]
[25519]
[25520]
[25521]
[25522]
[25523]
[25524]
[25525]
[25526]
[25527]
[25528]
[25529]
[25530]
[25531]
[25532]
[25533]
[25534]
[25535]
[25536]
[25537]
[25538]
[{"$f":"A25541+1","v":25539}]
[25540]
[25541]
[25542]
[25543]
[25544]
[25545]
[25546]
[25547]
[25548]
[25549]
[25550]
[25551]
[25552]
[25553]
[25554]
[25555]
[25556]
[25557]
[25558]
[25559]
[25560]
[25561]
[25562]
[25563]
[25564]
[25565]
[25566]
[25567]
[25568]
[25569]
[25570]
[25571]
[25572]
[25573]
[25574]
[25575]
[25576]
[25577]
[25578]
[25579]
[25580]
[25581]
[25582]
[25583]
[25584]
[25585]
[25586]
[25587]
[25588]
[25589]
[25590]
[25591]
[25592]
[25593]
[25594]
[25595]
[25596]
[25597]
[25598]
[25599]
[25600]
[25601]
[25602]
[{"$f":"A25605+1","v":25603}]
[25604]
[25605]
[25606]
[25607]
[25608]
[25609]
[25610]
[25611]
[25612]
[25613]
[25614]
[25615]
[25616]
[25617]
[25618]
[25619]
[25620]
[25621]
[25622]
[25623]
[25624]
[25625]
[25626]
[25627]
[25628]
[25629]
[25630]
[25631]
[25632]
[25633]
[25634]
[25635]
[25636]
[25637]
[25638]
[25639]
[25640]
[25641]
[25642]
[25643]
[25644]
[25645]
[25646]
[25647]
[25648]
[25649]
[25650]
[25651]
[25652]
[25653]
[25654]
[25655]
[25656]
[25657]
[25658]
[25659]
[25660]
[25661]
[25662]
[25663]
[25664]
[25665]
[25666]
[{"$f":"A25669+1","v":25667}]
[25668]
[25669]
[25670]
[25671]
[25672]
[25673]
[25674]
[25675]
[25676]
[25677]
[25678]
[25679]
[25680]
[25681]
[25682]
[25683]
[25684]
[25685]
[25686]
[25687]
[25688]
[25689]
[25690]
[25691]
[25692]
[25693]
[25694]
[25695]
[25696]
[25697]
[25698]
[25699]
[25700]
[25701]
[25702]
[25703]
[25704]
[25705]
[25706]
[25707]
[25708]
[25709]
[25710]
[25711]
[25712]
[25713]
[25714]
[25715]
[25716]
[25717]
[25718]
[25719]
[25720]
[25721]
[25722]
[25723]
[25724]
[25725]
[25726]
[25727]
[25728]
[25729]
[25730]
[{"$f":"A25733+1","v":25731}]
[25732]
[25733]
[25734]
[25735]
[25736]
[25737]
[25738]
[25739]
[25740]
[25741]
[25742]
[25743]
[25744]
[25745]
[25746]
[25747]
[25748]
[25749]
[25750]
[25751]
[25752]
[25753]
[25754]
[25755]
[25756]
[25757]
[25758]
[25759]
[25760]
[25761]
[25762]
[25763]
[25764]
[25765]
[25766]
[25767]
[25768]
[25769]
[25770]
[25771]
[25772]
[25773]
[25774]
[25775]
[25776]
[25777]
[25778]
[25779]
[25780]
[25781]
[25782]
[25783]
[25784]
[25785]
[25786]
[25787]
[25788]
[25789]
[25790]
[25791]
[25792]
[25793]
[25794]
[{"$f":"A25797+1","v":25795}]
[25796]
[25797]
[25798]
[25799]
[25800]
[25801]
[25802]
[25803]
[25804]
[25805]
[25806]
[25807]
[25808]
[25809]
[25810]
[25811]
[25812]
[25813]
[25814]
[25815]
[25816]
[25817]
[25818]
[25819]
[25820]
[25821]
[25822]
[25823]
[25824]
[25825]
[25826]
[25827]
[25828]
[25829]
[25830]
[25831]
[25832]
[25833]
[25834]
[25835]
[25836]
[25837]
[25838]
[25839]
[25840]
[25841]
[25842]
[25843]
[25844]
[25845]
[25846]
[25847]
[25848]
[25849]
[25850]
[25851]
[25852]
[25853]
[25854]
[25855]
[25856]
[25857]
[25858]
[{"$f":"A25861+1","v":25859}]
[25860]
[25861]
[25862]
[25863]
[25864]
[25865]
[25866]
[25867]
[25868]
[25869]
[25870]
[25871]
[25872]
[25873]
[25874]
[25875]
[25876]
[25877]
[25878]
[25879]
[25880]
[25881]
[25882]
[25883]
[25884]
[25885]
[25886]
[25887]
[25888]
[25889]
[25890]
[25891]
[25892]
[25893]
[25894]
[25895]
[25896]
[25897]
[25898]
[25899]
[25900]
[25901]
[25902]
[25903]
[25904]
[25905]
[25906]
[25907]
[25908]
[25909]
[25910]
[25911]
[25912]
[25913]
[25914]
[25915]
[25916]
[25917]
[25918]
[25919]
[25920]
[25921]
[25922]
[{"$f":"A25925+1","v":25923}]
[25924]
[25925]
[25926]
[25927]
[25928]
[25929]
[25930]
[25931]
[25932]
[25933]
[25934]
[25935]
[25936]
[25937]
[25938]
[25939]
[25940]
[25941]
[25942]
[25943]
[25944]
[25945]
[25946]
[25947]
[25948]
[25949]
[25950]
[25951]
[25952]
[25953]
[25954]
[25955]
[25956]
[25957]
[25958]
[25959]
[25960]
[25961]
[25962]
[25963]
[25964]
[25965]
[25966]
[25967]
[25968]
[25969]
[25970]
[25971]
[25972]
[25973]
[25974]
[25975]
[25976]
[25977]
[25978]
[25979]
[25980]
[25981]
[25982]
[25983]
[25984]
[25985]
[25986]
[{"$f":"A25989+1","v":25987}]
[25988]
[25989]
[25990]
[25991]
[25992]
[25993]
[25994]
[25995]
[25996]
[25997]
[25998]
[25999]
[26000]
[26001]
[26002]
[26003]
[26004]
[26005]
[26006]
[26007]
[26008]
[26009]
[26010]
[26011]
[26012]
[26013]
[26014]
[26015]
[26016]
[26017]
[26018]
[26019]
[26020]
[26021]
[26022]
[26023]
[26024]
[26025]
[26026]
[26027]
[26028]
[26029]
[26030]
[26031]
[26032]
[26033]
[26034]
[26035]
[26036]
[26037]
[26038]
[26039]
[26040]
[26041]
[26042]
[26043]
[26044]
[26045]
[26046]
[26047]
[26048]
[26049]
[26050]
[{"$f":"A26053+1","v":26051}]
[26052]
[26053]
[26054]
[26055]
[26056]
[26057]
[26058]
[26059]
[26060]
[26061]
[26062]
[26063]
[26064]
[26065]
[26066]
[26067]
[26068]
[26069]
[26070]
[26071]
[26072]
[26073]
[26074]
[26075]
[26076]
[26077]
[26078]
[26079]
[26080]
[26081]
[26082]
[26083]
[26084]
[26085]
[26086]
[26087]
[26088]
[26089]
[26090]
[26091]
[26092]
[26093]
[26094]
[26095]
[26096]
[26097]
[26098]
[26099]
[26100]
[26101]
[26102]
[26103]
[26104]
[26105]
[26106]
[26107]
[26108]
[26109]
[26110]
[26111]
[26112]
[26113]
[26114]
[{"$f":"A26117+1","v":26115}]
[26116]
[26117]
[26118]
[26119]
[26120]
[26121]
[26122]
[26123]
[26124]
[26125]
[26126]
[26127]
[26128]
[26129]
[26130]
[26131]
[26132]
[26133]
[26134]
[26135]
[26136]
[26137]
[26138]
[26139]
[26140]
[26141]
[26142]
[26143]
[26144]
[26145]
[26146]
[26147]
[26148]
[26149]
[26150]
[26151]
[26152]
[26153]
[26154]
[26155]
[26156]
[26157]
[26158]
[26159]
[26160]
[26161]
[26162]
[26163]
[26164]
[26165]
[26166]
[26167]
[26168]
[26169]
[26170]
[26171]
[26172]
[26173]
[26174]
[26175]
[26176]
[26177]
[26178]
[{"$f":"A26181+1","v":26179}]
[26180]
[26181]
[26182]
[26183]
[26184]
[26185]
[26186]
[26187]
[26188]
[26189]
[26190]
[26191]
[26192]
[26193]
[26194]
[26195]
[26196]
[26197]
[26198]
[26199]
[26200]
[26201]
[26202]
[26203]
[26204]
[26205]
[26206]
[26207]
[26208]
[26209]
[26210]
[26211]
[26212]
[26213]
[26214]
[26215]
[26216]
[26217]
[26218]
[26219]
[26220]
[26221]
[26222]
[26223]
[26224]
[26225]
[26226]
[26227]
[26228]
[26229]
[26230]
[26231]
[26232]
[26233]
[26234]
[26235]
[26236]
[26237]
[26238]
[26239]
[26240]
[26241]
[26242]
[{"$f":"A26245+1","v":26243}]
[26244]
[26245]
[26246]
[26247]
[26248]
[26249]
[26250]
[26251]
[26252]
[26253]
[26254]
[26255]
[26256]
[26257]
[26258]
[26259]
[26260]
[26261]
[26262]
[26263]
[26264]
[26265]
[26266]
[26267]
[26268]
[26269]
[26270]
[26271]
[26272]
[26273]
[26274]
[26275]
[26276]
[26277]
[26278]
[26279]
[26280]
[26281]
[26282]
[26283]
[26284]
[26285]
[26286]
[26287]
[26288]
[26289]
[26290]
[26291]
[26292]
[26293]
[26294]
[26295]
[26296]
[26297]
[26298]
[26299]
[26300]
[26301]
[26302]
[26303]
[26304]
[26305]
[26306]
[{"$f":"A26309+1","v":26307}]
[26308]
[26309]
[26310]
[26311]
[26312]
[26313]
[26314]
[26315]
[26316]
[26317]
[26318]
[26319]
[26320]
[26321]
[26322]
[26323]
[26324]
[26325]
[26326]
[26327]
[26328]
[26329]
[26330]
[26331]
[26332]
[26333]
[26334]
[26335]
[26336]
[26337]
[26338]
[26339]
[26340]
[26341]
[26342]
[26343]
[26344]
[26345]
[26346]
[26347]
[26348]
[26349]
[26350]
[26351]
[26352]
[26353]
[26354]
[26355]
[26356]
[26357]
[26358]
[26359]
[26360]
[26361]
[26362]
[26363]
[26364]
[26365]
[26366]
[26367]
[26368]
[26369]
[26370]
[{"$f":"A26373+1","v":26371}]
[26372]
[26373]
[26374]
[26375]
[26376]
[26377]
[26378]
[26379]
[26380]
[26381]
[26382]
[26383]
[26384]
[26385]
[26386]
[26387]
[26388]
[26389]
[26390]
[26391]
[26392]
[26393]
[26394]
[26395]
[26396]
[26397]
[26398]
[26399]
[26400]
[26401]
[26402]
[26403]
[26404]
[26405]
[26406]
[26407]
[26408]
[26409]
[26410]
[26411]
[26412]
[26413]
[26414]
[26415]
[26416]
[26417]
[26418]
[26419]
[26420]
[26421]
[26422]
[26423]
[26424]
[26425]
[26426]
[26427]
[26428]
[26429]
[26430]
[26431]
[26432]
[26433]
[26434]
[{"$f":"A26437+1","v":26435}]
[26436]
[26437]
[26438]
[26439]
[26440]
[26441]
[26442]
[26443]
[26444]
[26445]
[26446]
[26447]
[26448]
[26449]
[26450]
[26451]
[26452]
[26453]
[26454]
[26455]
[26456]
[26457]
[26458]
[26459]
[26460]
[26461]
[26462]
[26463]
[26464]
[26465]
[26466]
[26467]
[26468]
[26469]
[26470]
[26471]
[26472]
[26473]
[26474]
[26475]
[26476]
[26477]
[26478]
[26479]
[26480]
[26481]
[26482]
[26483]
[26484]
[26485]
[26486]
[26487]
[26488]
[26489]
[26490]
[26491]
[26492]
[26493]
[26494]
[26495]
[26496]
[26497]
[26498]
[{"$f":"A26501+1","v":26499}]
[26500]
[26501]
[26502]
[26503]
[26504]
[26505]
[26506]
[26507]
[26508]
[26509]
[26510]
[26511]
[26512]
[26513]
[26514]
[26515]
[26516]
[26517]
[26518]
[26519]
[26520]
[26521]
[26522]
[26523]
[26524]
[26525]
[26526]
[26527]
[26528]
[26529]
[26530]
[26531]
[26532]
[26533]
[26534]
[26535]
[26536]
[26537]
[26538]
[26539]
[26540]
[26541]
[26542]
[26543]
[26544]
[26545]
[26546]
[26547]
[26548]
[26549]
[26550]
[26551]
[26552]
[26553]
[26554]
[26555]
[26556]
[26557]
[26558]
[26559]
[26560]
[26561]
[26562]
[{"$f":"A26565+1","v":26563}]
[26564]
[26565]
[26566]
[26567]
[26568]
[26569]
[26570]
[26571]
[26572]
[26573]
[26574]
[26575]
[26576]
[26577]
[26578]
[26579]
[26580]
[26581]
[26582]
[26583]
[26584]
[26585]
[26586]
[26587]
[26588]
[26589]
[26590]
[26591]
[26592]
[26593]
[26594]
[26595]
[26596]
[26597]
[26598]
[26599]
[26600]
[26601]
[26602]
[26603]
[26604]
[26605]
[26606]
[26607]
[26608]
[26609]
[26610]
[26611]
[26612]
[26613]
[26614]
[26615]
[26616]
[26617]
[26618]
[26619]
[26620]
[26621]
[26622]
[26623]
[26624]
[26625]
[26626]
[{"$f":"A26629+1","v":26627}]
[26628]
[26629]
[26630]
[26631]
[26632]
[26633]
[26634]
[26635]
[26636]
[26637]
[26638]
[26639]
[26640]
[26641]
[26642]
[26643]
[26644]
[26645]
[26646]
[26647]
[26648]
[26649]
[26650]
[26651]
[26652]
[26653]
[26654]
[26655]
[26656]
[26657]
[26658]
[26659]
[26660]
[26661]
[26662]
[26663]
[26664]
[26665]
[26666]
[26667]
[26668]
[26669]
[26670]
[26671]
[26672]
[26673]
[26674]
[26675]
[26676]
[26677]
[26678]
[26679]
[26680]
[26681]
[26682]
[26683]
[26684]
[26685]
[26686]
[26687]
[26688]
[26689]
[26690]
[{"$f":"A26693+1","v":26691}]
[26692]
[26693]
[26694]
[26695]
[26696]
[26697]
[26698]
[26699]
[26700]
[26701]
[26702]
[26703]
[26704]
[26705]
[26706]
[26707]
[26708]
[26709]
[26710]
[26711]
[26712]
[26713]
[26714]
[26715]
[26716]
[26717]
[26718]
[26719]
[26720]
[26721]
[26722]
[26723]
[26724]
[26725]
[26726]
[26727]
[26728]
[26729]
[26730]
[26731]
[26732]
[26733]
[26734]
[26735]
[26736]
[26737]
[26738]
[26739]
[26740]
[26741]
[26742]
[26743]
[26744]
[26745]
[26746]
[26747]
[26748]
[26749]
[26750]
[26751]
[26752]
[26753]
[26754]
[{"$f":"A26757+1","v":26755}]
[26756]
[26757]
[26758]
[26759]
[26760]
[26761]
[26762]
[26763]
[26764]
[26765]
[26766]
[26767]
[26768]
[26769]
[26770]
[26771]
[26772]
[26773]
[26774]
[26775]
[26776]
[26777]
[26778]
[26779]
[26780]
[26781]
[26782]
[26783]
[26784]
[26785]
[26786]
[26787]
[26788]
[26789]
[26790]
[26791]
[26792]
[26793]
[26794]
[26795]
[26796]
[26797]
[26798]
[26799]
[26800]
[26801]
[26802]
[26803]
[26804]
[26805]
[26806]
[26807]
[26808]
[26809]
[26810]
[26811]
[26812]
[26813]
[26814]
[26815]
[26816]
[26817]
[26818]
[{"$f":"A26821+1","v":26819}]
[26820]
[26821]
[26822]
[26823]
[26824]
[26825]
[26826]
[26827]
[26828]
[26829]
[26830]
[26831]
[26832]
[26833]
[26834]
[26835]
[26836]
[26837]
[26838]
[26839]
[26840]
[26841]
[26842]
[26843]
[26844]
[26845]
[26846]
[26847]
[26848]
[26849]
[26850]
[26851]
[26852]
[26853]
[26854]
[26855]
[26856]
[26857]
[26858]
[26859]
[26860]
[26861]
[26862]
[26863]
[26864]
[26865]
[26866]
[26867]
[26868]
[26869]
[26870]
[26871]
[26872]
[26873]
[26874]
[26875]
[26876]
[26877]
[26878]
[26879]
[26880]
[26881]
[26882]
[{"$f":"A26885+1","v":26883}]
[26884]
[26885]
[26886]
[26887]
[26888]
[26889]
[26890]
[26891]
[26892]
[26893]
[26894]
[26895]
[26896]
[26897]
[26898]
[26899]
[26900]
[26901]
[26902]
[26903]
[26904]
[26905]
[26906]
[26907]
[26908]
[26909]
[26910]
[26911]
[26912]
[26913]
[26914]
[26915]
[26916]
[26917]
[26918]
[26919]
[26920]
[26921]
[26922]
[26923]
[26924]
[26925]
[26926]
[26927]
[26928]
[26929]
[26930]
[26931]
[26932]
[26933]
[26934]
[26935]
[26936]
[26937]
[26938]
[26939]
[26940]
[26941]
[26942]
[26943]
[26944]
[26945]
[26946]
[{"$f":"A26949+1","v":26947}]
[26948]
[26949]
[26950]
[26951]
[26952]
[26953]
[26954]
[26955]
[26956]
[26957]
[26958]
[26959]
[26960]
[26961]
[26962]
[26963]
[26964]
[26965]
[26966]
[26967]
[26968]
[26969]
[26970]
[26971]
[26972]
[26973]
[26974]
[26975]
[26976]
[26977]
[26978]
[26979]
[26980]
[26981]
[26982]
[26983]
[26984]
[26985]
[26986]
[26987]
[26988]
[26989]
[26990]
[26991]
[26992]
[26993]
[26994]
[26995]
[26996]
[26997]
[26998]
[26999]
[27000]
[27001]
[27002]
[27003]
[27004]
[27005]
[27006]
[27007]
[27008]
[27009]
[27010]
[{"$f":"A27013+1","v":27011}]
[27012]
[27013]
[27014]
[27015]
[27016]
[27017]
[27018]
[27019]
[27020]
[27021]
[27022]
[27023]
[27024]
[27025]
[27026]
[27027]
[27028]
[27029]
[27030]
[27031]
[27032]
[27033]
[27034]
[27035]
[27036]
[27037]
[27038]
[27039]
[27040]
[27041]
[27042]
[27043]
[27044]
[27045]
[27046]
[27047]
[27048]
[27049]
[27050]
[27051]
[27052]
[27053]
[27054]
[27055]
[27056]
[27057]
[27058]
[27059]
[27060]
[27061]
[27062]
[27063]
[27064]
[27065]
[27066]
[27067]
[27068]
[27069]
[27070]
[27071]
[27072]
[27073]
[27074]
[{"$f":"A27077+1","v":27075}]
[27076]
[27077]
[27078]
[27079]
[27080]
[27081]
[27082]
[27083]
[27084]
[27085]
[27086]
[27087]
[27088]
[27089]
[27090]
[27091]
[27092]
[27093]
[27094]
[27095]
[27096]
[27097]
[27098]
[27099]
[27100]
[27101]
[27102]
[27103]
[27104]
[27105]
[27106]
[27107]
[27108]
[27109]
[27110]
[27111]
[27112]
[27113]
[27114]
[27115]
[27116]
[27117]
[27118]
[27119]
[27120]
[27121]
[27122]
[27123]
[27124]
[27125]
[27126]
[27127]
[27128]
[27129]
[27130]
[27131]
[27132]
[27133]
[27134]
[27135]
[27136]
[27137]
[27138]
[{"$f":"A27141+1","v":27139}]
[27140]
[27141]
[27142]
[27143]
[27144]
[27145]
[27146]
[27147]
[27148]
[27149]
[27150]
[27151]
[27152]
[27153]
[27154]
[27155]
[27156]
[27157]
[27158]
[27159]
[27160]
[27161]
[27162]
[27163]
[27164]
[27165]
[27166]
[27167]
[27168]
[27169]
[27170]
[27171]
[27172]
[27173]
[27174]
[27175]
[27176]
[27177]
[27178]
[27179]
[27180]
[27181]
[27182]
[27183]
[27184]
[27185]
[27186]
[27187]
[27188]
[27189]
[27190]
[27191]
[27192]
[27193]
[27194]
[27195]
[27196]
[27197]
[27198]
[27199]
[27200]
[27201]
[27202]
[{"$f":"A27205+1","v":27203}]
[27204]
[27205]
[27206]
[27207]
[27208]
[27209]
[27210]
[27211]
[27212]
[27213]
[27214]
[27215]
[27216]
[27217]
[27218]
[27219]
[27220]
[27221]
[27222]
[27223]
[27224]
[27225]
[27226]
[27227]
[27228]
[27229]
[27230]
[27231]
[27232]
[27233]
[27234]
[27235]
[27236]
[27237]
[27238]
[27239]
[27240]
[27241]
[27242]
[27243]
[27244]
[27245]
[27246]
[27247]
[27248]
[27249]
[27250]
[27251]
[27252]
[27253]
[27254]
[27255]
[27256]
[27257]
[27258]
[27259]
[27260]
[27261]
[27262]
[27263]
[27264]
[27265]
[27266]
[{"$f":"A27269+1","v":27267}]
[27268]
[27269]
[27270]
[27271]
[27272]
[27273]
[27274]
[27275]
[27276]
[27277]
[27278]
[27279]
[27280]
[27281]
[27282]
[27283]
[27284]
[27285]
[27286]
[27287]
[27288]
[27289]
[27290]
[27291]
[27292]
[27293]
[27294]
[27295]
[27296]
[27297]
[27298]
[27299]
[27300]
[27301]
[27302]
[27303]
[27304]
[27305]
[27306]
[27307]
[27308]
[27309]
[27310]
[27311]
[27312]
[27313]
[27314]
[27315]
[27316]
[27317]
[27318]
[27319]
[27320]
[27321]
[27322]
[27323]
[27324]
[27325]
[27326]
[27327]
[27328]
[27329]
[27330]
[{"$f":"A27333+1","v":27331}]
[27332]
[27333]
[27334]
[27335]
[27336]
[27337]
[27338]
[27339]
[27340]
[27341]
[27342]
[27343]
[27344]
[27345]
[27346]
[27347]
[27348]
[27349]
[27350]
[27351]
[27352]
[27353]
[27354]
[27355]
[27356]
[27357]
[27358]
[27359]
[27360]
[27361]
[27362]
[27363]
[27364]
[27365]
[27366]
[27367]
[27368]
[27369]
[27370]
[27371]
[27372]
[27373]
[27374]
[27375]
[27376]
[27377]
[27378]
[27379]
[27380]
[27381]
[27382]
[27383]
[27384]
[27385]
[27386]
[27387]
[27388]
[27389]
[27390]
[27391]
[27392]
[27393]
[27394]
[{"$f":"A27397+1","v":27395}]
[27396]
[27397]
[27398]
[27399]
[27400]
[27401]
[27402]
[27403]
[27404]
[27405]
[27406]
[27407]
[27408]
[27409]
[27410]
[27411]
[27412]
[27413]
[27414]
[27415]
[27416]
[27417]
[27418]
[27419]
[27420]
[27421]
[27422]
[27423]
[27424]
[27425]
[27426]
[27427]
[27428]
[27429]
[27430]
[27431]
[27432]
[27433]
[27434]
[27435]
[27436]
[27437]
[27438]
[27439]
[27440]
[27441]
[27442]
[27443]
[27444]
[27445]
[27446]
[27447]
[27448]
[27449]
[27450]
[27451]
[27452]
[27453]
[27454]
[27455]
[27456]
[27457]
[27458]
[{"$f":"A27461+1","v":27459}]
[27460]
[27461]
[27462]
[27463]
[27464]
[27465]
[27466]
[27467]
[27468]
[27469]
[27470]
[27471]
[27472]
[27473]
[27474]
[27475]
[27476]
[27477]
[27478]
[27479]
[27480]
[27481]
[27482]
[27483]
[27484]
[27485]
[27486]
[27487]
[27488]
[27489]
[27490]
[27491]
[27492]
[27493]
[27494]
[27495]
[27496]
[27497]
[27498]
[27499]
[27500]
[27501]
[27502]
[27503]
[27504]
[27505]
[27506]
[27507]
[27508]
[27509]
[27510]
[27511]
[27512]
[27513]
[27514]
[27515]
[27516]
[27517]
[27518]
[27519]
[27520]
[27521]
[27522]
[{"$f":"A27525+1","v":27523}]
[27524]
[27525]
[27526]
[27527]
[27528]
[27529]
[27530]
[27531]
[27532]
[27533]
[27534]
[27535]
[27536]
[27537]
[27538]
[27539]
[27540]
[27541]
[27542]
[27543]
[27544]
[27545]
[27546]
[27547]
[27548]
[27549]
[27550]
[27551]
[27552]
[27553]
[27554]
[27555]
[27556]
[27557]
[27558]
[27559]
[27560]
[27561]
[27562]
[27563]
[27564]
[27565]
[27566]
[27567]
[27568]
[27569]
[27570]
[27571]
[27572]
[27573]
[27574]
[27575]
[27576]
[27577]
[27578]
[27579]
[27580]
[27581]
[27582]
[27583]
[27584]
[27585]
[27586]
[{"$f":"A27589+1","v":27587}]
[27588]
[27589]
[27590]
[27591]
[27592]
[27593]
[27594]
[27595]
[27596]
[27597]
[27598]
[27599]
[27600]
[27601]
[27602]
[27603]
[27604]
[27605]
[27606]
[27607]
[27608]
[27609]
[27610]
[27611]
[27612]
[27613]
[27614]
[27615]
[27616]
[27617]
[27618]
[27619]
[27620]
[27621]
[27622]
[27623]
[27624]
[27625]
[27626]
[27627]
[27628]
[27629]
[27630]
[27631]
[27632]
[27633]
[27634]
[27635]
[27636]
[27637]
[27638]
[27639]
[27640]
[27641]
[27642]
[27643]
[27644]
[27645]
[27646]
[27647]
[27648]
[27649]
[27650]
[{"$f":"A27653+1","v":27651}]
[27652]
[27653]
[27654]
[27655]
[27656]
[27657]
[27658]
[27659]
[27660]
[27661]
[27662]
[27663]
[27664]
[27665]
[27666]
[27667]
[27668]
[27669]
[27670]
[27671]
[27672]
[27673]
[27674]
[27675]
[27676]
[27677]
[27678]
[27679]
[27680]
[27681]
[27682]
[27683]
[27684]
[27685]
[27686]
[27687]
[27688]
[27689]
[27690]
[27691]
[27692]
[27693]
[27694]
[27695]
[27696]
[27697]
[27698]
[27699]
[27700]
[27701]
[27702]
[27703]
[27704]
[27705]
[27706]
[27707]
[27708]
[27709]
[27710]
[27711]
[27712]
[27713]
[27714]
[{"$f":"A27717+1","v":27715}]
[27716]
[27717]
[27718]
[27719]
[27720]
[27721]
[27722]
[27723]
[27724]
[27725]
[27726]
[27727]
[27728]
[27729]
[27730]
[27731]
[27732]
[27733]
[27734]
[27735]
[27736]
[27737]
[27738]
[27739]
[27740]
[27741]
[27742]
[27743]
[27744]
[27745]
[27746]
[27747]
[27748]
[27749]
[27750]
[27751]
[27752]
[27753]
[27754]
[27755]
[27756]
[27757]
[27758]
[27759]
[27760]
[27761]
[27762]
[27763]
[27764]
[27765]
[27766]
[27767]
[27768]
[27769]
[27770]
[27771]
[27772]
[27773]
[27774]
[27775]
[27776]
[27777]
[27778]
[{"$f":"A27781+1","v":27779}]
[27780]
[27781]
[27782]
[27783]
[27784]
[27785]
[27786]
[27787]
[27788]
[27789]
[27790]
[27791]
[27792]
[27793]
[27794]
[27795]
[27796]
[27797]
[27798]
[27799]
[27800]
[27801]
[27802]
[27803]
[27804]
[27805]
[27806]
[27807]
[27808]
[27809]
[27810]
[27811]
[27812]
[27813]
[27814]
[27815]
[27816]
[27817]
[27818]
[27819]
[27820]
[27821]
[27822]
[27823]
[27824]
[27825]
[27826]
[27827]
[27828]
[27829]
[27830]
[27831]
[27832]
[27833]
[27834]
[27835]
[27836]
[27837]
[27838]
[27839]
[27840]
[27841]
[27842]
[{"$f":"A27845+1","v":27843}]
[27844]
[27845]
[27846]
[27847]
[27848]
[27849]
[27850]
[27851]
[27852]
[27853]
[27854]
[27855]
[27856]
[27857]
[27858]
[27859]
[27860]
[27861]
[27862]
[27863]
[27864]
[27865]
[27866]
[27867]
[27868]
[27869]
[27870]
[27871]
[27872]
[27873]
[27874]
[27875]
[27876]
[27877]
[27878]
[27879]
[27880]
[27881]
[27882]
[27883]
[27884]
[27885]
[27886]
[27887]
[27888]
[27889]
[27890]
[27891]
[27892]
[27893]
[27894]
[27895]
[27896]
[27897]
[27898]
[27899]
[27900]
[27901]
[27902]
[27903]
[27904]
[27905]
[27906]
[{"$f":"A27909+1","v":27907}]
[27908]
[27909]
[27910]
[27911]
[27912]
[27913]
[27914]
[27915]
[27916]
[27917]
[27918]
[27919]
[27920]
[27921]
[27922]
[27923]
[27924]
[27925]
[27926]
[27927]
[27928]
[27929]
[27930]
[27931]
[27932]
[27933]
[27934]
[27935]
[27936]
[27937]
[27938]
[27939]
[27940]
[27941]
[27942]
[27943]
[27944]
[27945]
[27946]
[27947]
[27948]
[27949]
[27950]
[27951]
[27952]
[27953]
[27954]
[27955]
[27956]
[27957]
[27958]
[27959]
[27960]
[27961]
[27962]
[27963]
[27964]
[27965]
[27966]
[27967]
[27968]
[27969]
[27970]
[{"$f":"A27973+1","v":27971}]
[27972]
[27973]
[27974]
[27975]
[27976]
[27977]
[27978]
[27979]
[27980]
[27981]
[27982]
[27983]
[27984]
[27985]
[27986]
[27987]
[27988]
[27989]
[27990]
[27991]
[27992]
[27993]
[27994]
[27995]
[27996]
[27997]
[27998]
[27999]
[28000]
[28001]
[28002]
[28003]
[28004]
[28005]
[28006]
[28007]
[28008]
[28009]
[28010]
[28011]
[28012]
[28013]
[28014]
[28015]
[28016]
[28017]
[28018]
[28019]
[28020]
[28021]
[28022]
[28023]
[28024]
[28025]
[28026]
[28027]
[28028]
[28029]
[28030]
[28031]
[28032]
[28033]
[28034]
[{"$f":"A28037+1","v":28035}]
[28036]
[28037]
[28038]
[28039]
[28040]
[28041]
[28042]
[28043]
[28044]
[28045]
[28046]
[28047]
[28048]
[28049]
[28050]
[28051]
[28052]
[28053]
[28054]
[28055]
[28056]
[28057]
[28058]
[28059]
[28060]
[28061]
[28062]
[28063]
[28064]
[28065]
[28066]
[28067]
[28068]
[28069]
[28070]
[28071]
[28072]
[28073]
[28074]
[28075]
[28076]
[28077]
[28078]
[28079]
[28080]
[28081]
[28082]
[28083]
[28084]
[28085]
[28086]
[28087]
[28088]
[28089]
[28090]
[28091]
[28092]
[28093]
[28094]
[28095]
[28096]
[28097]
[28098]
[{"$f":"A28101+1","v":28099}]
[28100]
[28101]
[28102]
[28103]
[28104]
[28105]
[28106]
[28107]
[28108]
[28109]
[28110]
[28111]
[28112]
[28113]
[28114]
[28115]
[28116]
[28117]
[28118]
[28119]
[28120]
[28121]
[28122]
[28123]
[28124]
[28125]
[28126]
[28127]
[28128]
[28129]
[28130]
[28131]
[28132]
[28133]
[28134]
[28135]
[28136]
[28137]
[28138]
[28139]
[28140]
[28141]
[28142]
[28143]
[28144]
[28145]
[28146]
[28147]
[28148]
[28149]
[28150]
[28151]
[28152]
[28153]
[28154]
[28155]
[28156]
[28157]
[28158]
[28159]
[28160]
[28161]
[28162]
[{"$f":"A28165+1","v":28163}]
[28164]
[28165]
[28166]
[28167]
[28168]
[28169]
[28170]
[28171]
[28172]
[28173]
[28174]
[28175]
[28176]
[28177]
[28178]
[28179]
[28180]
[28181]
[28182]
[28183]
[28184]
[28185]
[28186]
[28187]
[28188]
[28189]
[28190]
[28191]
[28192]
[28193]
[28194]
[28195]
[28196]
[28197]
[28198]
[28199]
[28200]
[28201]
[28202]
[28203]
[28204]
[28205]
[28206]
[28207]
[28208]
[28209]
[28210]
[28211]
[28212]
[28213]
[28214]
[28215]
[28216]
[28217]
[28218]
[28219]
[28220]
[28221]
[28222]
[28223]
[28224]
[28225]
[28226]
[{"$f":"A28229+1","v":28227}]
[28228]
[28229]
[28230]
[28231]
[28232]
[28233]
[28234]
[28235]
[28236]
[28237]
[28238]
[28239]
[28240]
[28241]
[28242]
[28243]
[28244]
[28245]
[28246]
[28247]
[28248]
[28249]
[28250]
[28251]
[28252]
[28253]
[28254]
[28255]
[28256]
[28257]
[28258]
[28259]
[28260]
[28261]
[28262]
[28263]
[28264]
[28265]
[28266]
[28267]
[28268]
[28269]
[28270]
[28271]
[28272]
[28273]
[28274]
[28275]
[28276]
[28277]
[28278]
[28279]
[28280]
[28281]
[28282]
[28283]
[28284]
[28285]
[28286]
[28287]
[28288]
[28289]
[28290]
[{"$f":"A28293+1","v":28291}]
[28292]
[28293]
[28294]
[28295]
[28296]
[28297]
[28298]
[28299]
[28300]
[28301]
[28302]
[28303]
[28304]
[28305]
[28306]
[28307]
[28308]
[28309]
[28310]
[28311]
[28312]
[28313]
[28314]
[28315]
[28316]
[28317]
[28318]
[28319]
[28320]
[28321]
[28322]
[28323]
[28324]
[28325]
[28326]
[28327]
[28328]
[28329]
[28330]
[28331]
[28332]
[28333]
[28334]
[28335]
[28336]
[28337]
[28338]
[28339]
[28340]
[28341]
[28342]
[28343]
[28344]
[28345]
[28346]
[28347]
[28348]
[28349]
[28350]
[28351]
[28352]
[28353]
[28354]
[{"$f":"A28357+1","v":28355}]
[28356]
[28357]
[28358]
[28359]
[28360]
[28361]
[28362]
[28363]
[28364]
[28365]
[28366]
[28367]
[28368]
[28369]
[28370]
[28371]
[28372]
[28373]
[28374]
[28375]
[28376]
[28377]
[28378]
[28379]
[28380]
[28381]
[28382]
[28383]
[28384]
[28385]
[28386]
[28387]
[28388]
[28389]
[28390]
[28391]
[28392]
[28393]
[28394]
[28395]
[28396]
[28397]
[28398]
[28399]
[28400]
[28401]
[28402]
[28403]
[28404]
[28405]
[28406]
[28407]
[28408]
[28409]
[28410]
[28411]
[28412]
[28413]
[28414]
[28415]
[28416]
[28417]
[28418]
[{"$f":"A28421+1","v":28419}]
[28420]
[28421]
[28422]
[28423]
[28424]
[28425]
[28426]
[28427]
[28428]
[28429]
[28430]
[28431]
[28432]
[28433]
[28434]
[28435]
[28436]
[28437]
[28438]
[28439]
[28440]
[28441]
[28442]
[28443]
[28444]
[28445]
[28446]
[28447]
[28448]
[28449]
[28450]
[28451]
[28452]
[28453]
[28454]
[28455]
[28456]
[28457]
[28458]
[28459]
[28460]
[28461]
[28462]
[28463]
[28464]
[28465]
[28466]
[28467]
[28468]
[28469]
[28470]
[28471]
[28472]
[28473]
[28474]
[28475]
[28476]
[28477]
[28478]
[28479]
[28480]
[28481]
[28482]
[{"$f":"A28485+1","v":28483}]
[28484]
[28485]
[28486]
[28487]
[28488]
[28489]
[28490]
[28491]
[28492]
[28493]
[28494]
[28495]
[28496]
[28497]
[28498]
[28499]
[28500]
[28501]
[28502]
[28503]
[28504]
[28505]
[28506]
[28507]
[28508]
[28509]
[28510]
[28511]
[28512]
[28513]
[28514]
[28515]
[28516]
[28517]
[28518]
[28519]
[28520]
[28521]
[28522]
[28523]
[28524]
[28525]
[28526]
[28527]
[28528]
[28529]
[28530]
[28531]
[28532]
[28533]
[28534]
[28535]
[28536]
[28537]
[28538]
[28539]
[28540]
[28541]
[28542]
[28543]
[28544]
[28545]
[28546]
[{"$f":"A28549+1","v":28547}]
[28548]
[28549]
[28550]
[28551]
[28552]
[28553]
[28554]
[28555]
[28556]
[28557]
[28558]
[28559]
[28560]
[28561]
[28562]
[28563]
[28564]
[28565]
[28566]
[28567]
[28568]
[28569]
[28570]
[28571]
[28572]
[28573]
[28574]
[28575]
[28576]
[28577]
[28578]
[28579]
[28580]
[28581]
[28582]
[28583]
[28584]
[28585]
[28586]
[28587]
[28588]
[28589]
[28590]
[28591]
[28592]
[28593]
[28594]
[28595]
[28596]
[28597]
[28598]
[28599]
[28600]
[28601]
[28602]
[28603]
[28604]
[28605]
[28606]
[28607]
[28608]
[28609]
[28610]
[{"$f":"A28613+1","v":28611}]
[28612]
[28613]
[28614]
[28615]
[28616]
[28617]
[28618]
[28619]
[28620]
[28621]
[28622]
[28623]
[28624]
[28625]
[28626]
[28627]
[28628]
[28629]
[28630]
[28631]
[28632]
[28633]
[28634]
[28635]
[28636]
[28637]
[28638]
[28639]
[28640]
[28641]
[28642]
[28643]
[28644]
[28645]
[28646]
[28647]
[28648]
[28649]
[28650]
[28651]
[28652]
[28653]
[28654]
[28655]
[28656]
[28657]
[28658]
[28659]
[28660]
[28661]
[28662]
[28663]
[28664]
[28665]
[28666]
[28667]
[28668]
[28669]
[28670]
[28671]
[28672]
[28673]
[28674]
[{"$f":"A28677+1","v":28675}]
[28676]
[28677]
[28678]
[28679]
[28680]
[28681]
[28682]
[28683]
[28684]
[28685]
[28686]
[28687]
[28688]
[28689]
[28690]
[28691]
[28692]
[28693]
[28694]
[28695]
[28696]
[28697]
[28698]
[28699]
[28700]
[28701]
[28702]
[28703]
[28704]
[28705]
[28706]
[28707]
[28708]
[28709]
[28710]
[28711]
[28712]
[28713]
[28714]
[28715]
[28716]
[28717]
[28718]
[28719]
[28720]
[28721]
[28722]
[28723]
[28724]
[28725]
[28726]
[28727]
[28728]
[28729]
[28730]
[28731]
[28732]
[28733]
[28734]
[28735]
[28736]
[28737]
[28738]
[{"$f":"A28741+1","v":28739}]
[28740]
[28741]
[28742]
[28743]
[28744]
[28745]
[28746]
[28747]
[28748]
[28749]
[28750]
[28751]
[28752]
[28753]
[28754]
[28755]
[28756]
[28757]
[28758]
[28759]
[28760]
[28761]
[28762]
[28763]
[28764]
[28765]
[28766]
[28767]
[28768]
[28769]
[28770]
[28771]
[28772]
[28773]
[28774]
[28775]
[28776]
[28777]
[28778]
[28779]
[28780]
[28781]
[28782]
[28783]
[28784]
[28785]
[28786]
[28787]
[28788]
[28789]
[28790]
[28791]
[28792]
[28793]
[28794]
[28795]
[28796]
[28797]
[28798]
[28799]
[28800]
[28801]
[28802]
[{"$f":"A28805+1","v":28803}]
[28804]
[28805]
[28806]
[28807]
[28808]
[28809]
[28810]
[28811]
[28812]
[28813]
[28814]
[28815]
[28816]
[28817]
[28818]
[28819]
[28820]
[28821]
[28822]
[28823]
[28824]
[28825]
[28826]
[28827]
[28828]
[28829]
[28830]
[28831]
[28832]
[28833]
[28834]
[28835]
[28836]
[28837]
[28838]
[28839]
[28840]
[28841]
[28842]
[28843]
[28844]
[28845]
[28846]
[28847]
[28848]
[28849]
[28850]
[28851]
[28852]
[28853]
[28854]
[28855]
[28856]
[28857]
[28858]
[28859]
[28860]
[28861]
[28862]
[28863]
[28864]
[28865]
[28866]
[{"$f":"A28869+1","v":28867}]
[28868]
[28869]
[28870]
[28871]
[28872]
[28873]
[28874]
[28875]
[28876]
[28877]
[28878]
[28879]
[28880]
[28881]
[28882]
[28883]
[28884]
[28885]
[28886]
[28887]
[28888]
[28889]
[28890]
[28891]
[28892]
[28893]
[28894]
[28895]
[28896]
[28897]
[28898]
[28899]
[28900]
[28901]
[28902]
[28903]
[28904]
[28905]
[28906]
[28907]
[28908]
[28909]
[28910]
[28911]
[28912]
[28913]
[28914]
[28915]
[28916]
[28917]
[28918]
[28919]
[28920]
[28921]
[28922]
[28923]
[28924]
[28925]
[28926]
[28927]
[28928]
[28929]
[28930]
[{"$f":"A28933+1","v":28931}]
[28932]
[28933]
[28934]
[28935]
[28936]
[28937]
[28938]
[28939]
[28940]
[28941]
[28942]
[28943]
[28944]
[28945]
[28946]
[28947]
[28948]
[28949]
[28950]
[28951]
[28952]
[28953]
[28954]
[28955]
[28956]
[28957]
[28958]
[28959]
[28960]
[28961]
[28962]
[28963]
[28964]
[28965]
[28966]
[28967]
[28968]
[28969]
[28970]
[28971]
[28972]
[28973]
[28974]
[28975]
[28976]
[28977]
[28978]
[28979]
[28980]
[28981]
[28982]
[28983]
[28984]
[28985]
[28986]
[28987]
[28988]
[28989]
[28990]
[28991]
[28992]
[28993]
[28994]
[{"$f":"A28997+1","v":28995}]
[28996]
[28997]
[28998]
[28999]
[29000]
[29001]
[29002]
[29003]
[29004]
[29005]
[29006]
[29007]
[29008]
[29009]
[29010]
[29011]
[29012]
[29013]
[29014]
[29015]
[29016]
[29017]
[29018]
[29019]
[29020]
[29021]
[29022]
[29023]
[29024]
[29025]
[29026]
[29027]
[29028]
[29029]
[29030]
[29031]
[29032]
[29033]
[29034]
[29035]
[29036]
[29037]
[29038]
[29039]
[29040]
[29041]
[29042]
[29043]
[29044]
[29045]
[29046]
[29047]
[29048]
[29049]
[29050]
[29051]
[29052]
[29053]
[29054]
[29055]
[29056]
[29057]
[29058]
[{"$f":"A29061+1","v":29059}]
[29060]
[29061]
[29062]
[29063]
[29064]
[29065]
[29066]
[29067]
[29068]
[29069]
[29070]
[29071]
[29072]
[29073]
[29074]
[29075]
[29076]
[29077]
[29078]
[29079]
[29080]
[29081]
[29082]
[29083]
[29084]
[29085]
[29086]
[29087]
[29088]
[29089]
[29090]
[29091]
[29092]
[29093]
[29094]
[29095]
[29096]
[29097]
[29098]
[29099]
[29100]
[29101]
[29102]
[29103]
[29104]
[29105]
[29106]
[29107]
[29108]
[29109]
[29110]
[29111]
[29112]
[29113]
[29114]
[29115]
[29116]
[29117]
[29118]
[29119]
[29120]
[29121]
[29122]
[{"$f":"A29125+1","v":29123}]
[29124]
[29125]
[29126]
[29127]
[29128]
[29129]
[29130]
[29131]
[29132]
[29133]
[29134]
[29135]
[29136]
[29137]
[29138]
[29139]
[29140]
[29141]
[29142]
[29143]
[29144]
[29145]
[29146]
[29147]
[29148]
[29149]
[29150]
[29151]
[29152]
[29153]
[29154]
[29155]
[29156]
[29157]
[29158]
[29159]
[29160]
[29161]
[29162]
[29163]
[29164]
[29165]
[29166]
[29167]
[29168]
[29169]
[29170]
[29171]
[29172]
[29173]
[29174]
[29175]
[29176]
[29177]
[29178]
[29179]
[29180]
[29181]
[29182]
[29183]
[29184]
[29185]
[29186]
[{"$f":"A29189+1","v":29187}]
[29188]
[29189]
[29190]
[29191]
[29192]
[29193]
[29194]
[29195]
[29196]
[29197]
[29198]
[29199]
[29200]
[29201]
[29202]
[29203]
[29204]
[29205]
[29206]
[29207]
[29208]
[29209]
[29210]
[29211]
[29212]
[29213]
[29214]
[29215]
[29216]
[29217]
[29218]
[29219]
[29220]
[29221]
[29222]
[29223]
[29224]
[29225]
[29226]
[29227]
[29228]
[29229]
[29230]
[29231]
[29232]
[29233]
[29234]
[29235]
[29236]
[29237]
[29238]
[29239]
[29240]
[29241]
[29242]
[29243]
[29244]
[29245]
[29246]
[29247]
[29248]
[29249]
[29250]
[{"$f":"A29253+1","v":29251}]
[29252]
[29253]
[29254]
[29255]
[29256]
[29257]
[29258]
[29259]
[29260]
[29261]
[29262]
[29263]
[29264]
[29265]
[29266]
[29267]
[29268]
[29269]
[29270]
[29271]
[29272]
[29273]
[29274]
[29275]
[29276]
[29277]
[29278]
[29279]
[29280]
[29281]
[29282]
[29283]
[29284]
[29285]
[29286]
[29287]
[29288]
[29289]
[29290]
[29291]
[29292]
[29293]
[29294]
[29295]
[29296]
[29297]
[29298]
[29299]
[29300]
[29301]
[29302]
[29303]
[29304]
[29305]
[29306]
[29307]
[29308]
[29309]
[29310]
[29311]
[29312]
[29313]
[29314]
[{"$f":"A29317+1","v":29315}]
[29316]
[29317]
[29318]
[29319]
[29320]
[29321]
[29322]
[29323]
[29324]
[29325]
[29326]
[29327]
[29328]
[29329]
[29330]
[29331]
[29332]
[29333]
[29334]
[29335]
[29336]
[29337]
[29338]
[29339]
[29340]
[29341]
[29342]
[29343]
[29344]
[29345]
[29346]
[29347]
[29348]
[29349]
[29350]
[29351]
[29352]
[29353]
[29354]
[29355]
[29356]
[29357]
[29358]
[29359]
[29360]
[29361]
[29362]
[29363]
[29364]
[29365]
[29366]
[29367]
[29368]
[29369]
[29370]
[29371]
[29372]
[29373]
[29374]
[29375]
[29376]
[29377]
[29378]
[{"$f":"A29381+1","v":29379}]
[29380]
[29381]
[29382]
[29383]
[29384]
[29385]
[29386]
[29387]
[29388]
[29389]
[29390]
[29391]
[29392]
[29393]
[29394]
[29395]
[29396]
[29397]
[29398]
[29399]
[29400]
[29401]
[29402]
[29403]
[29404]
[29405]
[29406]
[29407]
[29408]
[29409]
[29410]
[29411]
[29412]
[29413]
[29414]
[29415]
[29416]
[29417]
[29418]
[29419]
[29420]
[29421]
[29422]
[29423]
[29424]
[29425]
[29426]
[29427]
[29428]
[29429]
[29430]
[29431]
[29432]
[29433]
[29434]
[29435]
[29436]
[29437]
[29438]
[29439]
[29440]
[29441]
[29442]
[{"$f":"A29445+1","v":29443}]
[29444]
[29445]
[29446]
[29447]
[29448]
[29449]
[29450]
[29451]
[29452]
[29453]
[29454]
[29455]
[29456]
[29457]
[29458]
[29459]
[29460]
[29461]
[29462]
[29463]
[29464]
[29465]
[29466]
[29467]
[29468]
[29469]
[29470]
[29471]
[29472]
[29473]
[29474]
[29475]
[29476]
[29477]
[29478]
[29479]
[29480]
[29481]
[29482]
[29483]
[29484]
[29485]
[29486]
[29487]
[29488]
[29489]
[29490]
[29491]
[29492]
[29493]
[29494]
[29495]
[29496]
[29497]
[29498]
[29499]
[29500]
[29501]
[29502]
[29503]
[29504]
[29505]
[29506]
[{"$f":"A29509+1","v":29507}]
[29508]
[29509]
[29510]
[29511]
[29512]
[29513]
[29514]
[29515]
[29516]
[29517]
[29518]
[29519]
[29520]
[29521]
[29522]
[29523]
[29524]
[29525]
[29526]
[29527]
[29528]
[29529]
[29530]
[29531]
[29532]
[29533]
[29534]
[29535]
[29536]
[29537]
[29538]
[29539]
[29540]
[29541]
[29542]
[29543]
[29544]
[29545]
[29546]
[29547]
[29548]
[29549]
[29550]
[29551]
[29552]
[29553]
[29554]
[29555]
[29556]
[29557]
[29558]
[29559]
[29560]
[29561]
[29562]
[29563]
[29564]
[29565]
[29566]
[29567]
[29568]
[29569]
[29570]
[{"$f":"A29573+1","v":29571}]
[29572]
[29573]
[29574]
[29575]
[29576]
[29577]
[29578]
[29579]
[29580]
[29581]
[29582]
[29583]
[29584]
[29585]
[29586]
[29587]
[29588]
[29589]
[29590]
[29591]
[29592]
[29593]
[29594]
[29595]
[29596]
[29597]
[29598]
[29599]
[29600]
[29601]
[29602]
[29603]
[29604]
[29605]
[29606]
[29607]
[29608]
[29609]
[29610]
[29611]
[29612]
[29613]
[29614]
[29615]
[29616]
[29617]
[29618]
[29619]
[29620]
[29621]
[29622]
[29623]
[29624]
[29625]
[29626]
[29627]
[29628]
[29629]
[29630]
[29631]
[29632]
[29633]
[29634]
[{"$f":"A29637+1","v":29635}]
[29636]
[29637]
[29638]
[29639]
[29640]
[29641]
[29642]
[29643]
[29644]
[29645]
[29646]
[29647]
[29648]
[29649]
[29650]
[29651]
[29652]
[29653]
[29654]
[29655]
[29656]
[29657]
[29658]
[29659]
[29660]
[29661]
[29662]
[29663]
[29664]
[29665]
[29666]
[29667]
[29668]
[29669]
[29670]
[29671]
[29672]
[29673]
[29674]
[29675]
[29676]
[29677]
[29678]
[29679]
[29680]
[29681]
[29682]
[29683]
[29684]
[29685]
[29686]
[29687]
[29688]
[29689]
[29690]
[29691]
[29692]
[29693]
[29694]
[29695]
[29696]
[29697]
[29698]
[{"$f":"A29701+1","v":29699}]
[29700]
[29701]
[29702]
[29703]
[29704]
[29705]
[29706]
[29707]
[29708]
[29709]
[29710]
[29711]
[29712]
[29713]
[29714]
[29715]
[29716]
[29717]
[29718]
[29719]
[29720]
[29721]
[29722]
[29723]
[29724]
[29725]
[29726]
[29727]
[29728]
[29729]
[29730]
[29731]
[29732]
[29733]
[29734]
[29735]
[29736]
[29737]
[29738]
[29739]
[29740]
[29741]
[29742]
[29743]
[29744]
[29745]
[29746]
[29747]
[29748]
[29749]
[29750]
[29751]
[29752]
[29753]
[29754]
[29755]
[29756]
[29757]
[29758]
[29759]
[29760]
[29761]
[29762]
[{"$f":"A29765+1","v":29763}]
[29764]
[29765]
[29766]
[29767]
[29768]
[29769]
[29770]
[29771]
[29772]
[29773]
[29774]
[29775]
[29776]
[29777]
[29778]
[29779]
[29780]
[29781]
[29782]
[29783]
[29784]
[29785]
[29786]
[29787]
[29788]
[29789]
[29790]
[29791]
[29792]
[29793]
[29794]
[29795]
[29796]
[29797]
[29798]
[29799]
[29800]
[29801]
[29802]
[29803]
[29804]
[29805]
[29806]
[29807]
[29808]
[29809]
[29810]
[29811]
[29812]
[29813]
[29814]
[29815]
[29816]
[29817]
[29818]
[29819]
[29820]
[29821]
[29822]
[29823]
[29824]
[29825]
[29826]
[{"$f":"A29829+1","v":29827}]
[29828]
[29829]
[29830]
[29831]
[29832]
[29833]
[29834]
[29835]
[29836]
[29837]
[29838]
[29839]
[29840]
[29841]
[29842]
[29843]
[29844]
[29845]
[29846]
[29847]
[29848]
[29849]
[29850]
[29851]
[29852]
[29853]
[29854]
[29855]
[29856]
[29857]
[29858]
[29859]
[29860]
[29861]
[29862]
[29863]
[29864]
[29865]
[29866]
[29867]
[29868]
[29869]
[29870]
[29871]
[29872]
[29873]
[29874]
[29875]
[29876]
[29877]
[29878]
[29879]
[29880]
[29881]
[29882]
[29883]
[29884]
[29885]
[29886]
[29887]
[29888]
[29889]
[29890]
[{"$f":"A29893+1","v":29891}]
[29892]
[29893]
[29894]
[29895]
[29896]
[29897]
[29898]
[29899]
[29900]
[29901]
[29902]
[29903]
[29904]
[29905]
[29906]
[29907]
[29908]
[29909]
[29910]
[29911]
[29912]
[29913]
[29914]
[29915]
[29916]
[29917]
[29918]
[29919]
[29920]
[29921]
[29922]
[29923]
[29924]
[29925]
[29926]
[29927]
[29928]
[29929]
[29930]
[29931]
[29932]
[29933]
[29934]
[29935]
[29936]
[29937]
[29938]
[29939]
[29940]
[29941]
[29942]
[29943]
[29944]
[29945]
[29946]
[29947]
[29948]
[29949]
[29950]
[29951]
[29952]
[29953]
[29954]
[{"$f":"A29957+1","v":29955}]
[29956]
[29957]
[29958]
[29959]
[29960]
[29961]
[29962]
[29963]
[29964]
[29965]
[29966]
[29967]
[29968]
[29969]
[29970]
[29971]
[29972]
[29973]
[29974]
[29975]
[29976]
[29977]
[29978]
[29979]
[29980]
[29981]
[29982]
[29983]
[29984]
[29985]
[29986]
[29987]
[29988]
[29989]
[29990]
[29991]
[29992]
[29993]
[29994]
[29995]
[29996]
[29997]
[29998]
[29999]
[30000]
[30001]
[30002]
[30003]
[30004]
[30005]
[30006]
[30007]
[30008]
[30009]
[30010]
[30011]
[30012]
[30013]
[30014]
[30015]
[30016]
[30017]
[30018]
[{"$f":"A30021+1","v":30019}]
[30020]
[30021]
[30022]
[30023]
[30024]
[30025]
[30026]
[30027]
[30028]
[30029]
[30030]
[30031]
[30032]
[30033]
[30034]
[30035]
[30036]
[30037]
[30038]
[30039]
[30040]
[30041]
[30042]
[30043]
[30044]
[30045]
[30046]
[30047]
[30048]
[30049]
[30050]
[30051]
[30052]
[30053]
[30054]
[30055]
[30056]
[30057]
[30058]
[30059]
[30060]
[30061]
[30062]
[30063]
[30064]
[30065]
[30066]
[30067]
[30068]
[30069]
[30070]
[30071]
[30072]
[30073]
[30074]
[30075]
[30076]
[30077]
[30078]
[30079]
[30080]
[30081]
[30082]
[{"$f":"A30085+1","v":30083}]
[30084]
[30085]
[30086]
[30087]
[30088]
[30089]
[30090]
[30091]
[30092]
[30093]
[30094]
[30095]
[30096]
[30097]
[30098]
[30099]
[30100]
[30101]
[30102]
[30103]
[30104]
[30105]
[30106]
[30107]
[30108]
[30109]
[30110]
[30111]
[30112]
[30113]
[30114]
[30115]
[30116]
[30117]
[30118]
[30119]
[30120]
[30121]
[30122]
[30123]
[30124]
[30125]
[30126]
[30127]
[30128]
[30129]
[30130]
[30131]
[30132]
[30133]
[30134]
[30135]
[30136]
[30137]
[30138]
[30139]
[30140]
[30141]
[30142]
[30143]
[30144]
[30145]
[30146]
[{"$f":"A30149+1","v":30147}]
[30148]
[30149]
[30150]
[30151]
[30152]
[30153]
[30154]
[30155]
[30156]
[30157]
[30158]
[30159]
[30160]
[30161]
[30162]
[30163]
[30164]
[30165]
[30166]
[30167]
[30168]
[30169]
[30170]
[30171]
[30172]
[30173]
[30174]
[30175]
[30176]
[30177]
[30178]
[30179]
[30180]
[30181]
[30182]
[30183]
[30184]
[30185]
[30186]
[30187]
[30188]
[30189]
[30190]
[30191]
[30192]
[30193]
[30194]
[30195]
[30196]
[30197]
[30198]
[30199]
[30200]
[30201]
[30202]
[30203]
[30204]
[30205]
[30206]
[30207]
[30208]
[30209]
[30210]
[{"$f":"A30213+1","v":30211}]
[30212]
[30213]
[30214]
[30215]
[30216]
[30217]
[30218]
[30219]
[30220]
[30221]
[30222]
[30223]
[30224]
[30225]
[30226]
[30227]
[30228]
[30229]
[30230]
[30231]
[30232]
[30233]
[30234]
[30235]
[30236]
[30237]
[30238]
[30239]
[30240]
[30241]
[30242]
[30243]
[30244]
[30245]
[30246]
[30247]
[30248]
[30249]
[30250]
[30251]
[30252]
[30253]
[30254]
[30255]
[30256]
[30257]
[30258]
[30259]
[30260]
[30261]
[30262]
[30263]
[30264]
[30265]
[30266]
[30267]
[30268]
[30269]
[30270]
[30271]
[30272]
[30273]
[30274]
[{"$f":"A30277+1","v":30275}]
[30276]
[30277]
[30278]
[30279]
[30280]
[30281]
[30282]
[30283]
[30284]
[30285]
[30286]
[30287]
[30288]
[30289]
[30290]
[30291]
[30292]
[30293]
[30294]
[30295]
[30296]
[30297]
[30298]
[30299]
[30300]
[30301]
[30302]
[30303]
[30304]
[30305]
[30306]
[30307]
[30308]
[30309]
[30310]
[30311]
[30312]
[30313]
[30314]
[30315]
[30316]
[30317]
[30318]
[30319]
[30320]
[30321]
[30322]
[30323]
[30324]
[30325]
[30326]
[30327]
[30328]
[30329]
[30330]
[30331]
[30332]
[30333]
[30334]
[30335]
[30336]
[30337]
[30338]
[{"$f":"A30341+1","v":30339}]
[30340]
[30341]
[30342]
[30343]
[30344]
[30345]
[30346]
[30347]
[30348]
[30349]
[30350]
[30351]
[30352]
[30353]
[30354]
[30355]
[30356]
[30357]
[30358]
[30359]
[30360]
[30361]
[30362]
[30363]
[30364]
[30365]
[30366]
[30367]
[30368]
[30369]
[30370]
[30371]
[30372]
[30373]
[30374]
[30375]
[30376]
[30377]
[30378]
[30379]
[30380]
[30381]
[30382]
[30383]
[30384]
[30385]
[30386]
[30387]
[30388]
[30389]
[30390]
[30391]
[30392]
[30393]
[30394]
[30395]
[30396]
[30397]
[30398]
[30399]
[30400]
[30401]
[30402]
[{"$f":"A30405+1","v":30403}]
[30404]
[30405]
[30406]
[30407]
[30408]
[30409]
[30410]
[30411]
[30412]
[30413]
[30414]
[30415]
[30416]
[30417]
[30418]
[30419]
[30420]
[30421]
[30422]
[30423]
[30424]
[30425]
[30426]
[30427]
[30428]
[30429]
[30430]
[30431]
[30432]
[30433]
[30434]
[30435]
[30436]
[30437]
[30438]
[30439]
[30440]
[30441]
[30442]
[30443]
[30444]
[30445]
[30446]
[30447]
[30448]
[30449]
[30450]
[30451]
[30452]
[30453]
[30454]
[30455]
[30456]
[30457]
[30458]
[30459]
[30460]
[30461]
[30462]
[30463]
[30464]
[30465]
[30466]
[{"$f":"A30469+1","v":30467}]
[30468]
[30469]
[30470]
[30471]
[30472]
[30473]
[30474]
[30475]
[30476]
[30477]
[30478]
[30479]
[30480]
[30481]
[30482]
[30483]
[30484]
[30485]
[30486]
[30487]
[30488]
[30489]
[30490]
[30491]
[30492]
[30493]
[30494]
[30495]
[30496]
[30497]
[30498]
[30499]
[30500]
[30501]
[30502]
[30503]
[30504]
[30505]
[30506]
[30507]
[30508]
[30509]
[30510]
[30511]
[30512]
[30513]
[30514]
[30515]
[30516]
[30517]
[30518]
[30519]
[30520]
[30521]
[30522]
[30523]
[30524]
[30525]
[30526]
[30527]
[30528]
[30529]
[30530]
[{"$f":"A30533+1","v":30531}]
[30532]
[30533]
[30534]
[30535]
[30536]
[30537]
[30538]
[30539]
[30540]
[30541]
[30542]
[30543]
[30544]
[30545]
[30546]
[30547]
[30548]
[30549]
[30550]
[30551]
[30552]
[30553]
[30554]
[30555]
[30556]
[30557]
[30558]
[30559]
[30560]
[30561]
[30562]
[30563]
[30564]
[30565]
[30566]
[30567]
[30568]
[30569]
[30570]
[30571]
[30572]
[30573]
[30574]
[30575]
[30576]
[30577]
[30578]
[30579]
[30580]
[30581]
[30582]
[30583]
[30584]
[30585]
[30586]
[30587]
[30588]
[30589]
[30590]
[30591]
[30592]
[30593]
[30594]
[{"$f":"A30597+1","v":30595}]
[30596]
[30597]
[30598]
[30599]
[30600]
[30601]
[30602]
[30603]
[30604]
[30605]
[30606]
[30607]
[30608]
[30609]
[30610]
[30611]
[30612]
[30613]
[30614]
[30615]
[30616]
[30617]
[30618]
[30619]
[30620]
[30621]
[30622]
[30623]
[30624]
[30625]
[30626]
[30627]
[30628]
[30629]
[30630]
[30631]
[30632]
[30633]
[30634]
[30635]
[30636]
[30637]
[30638]
[30639]
[30640]
[30641]
[30642]
[30643]
[30644]
[30645]
[30646]
[30647]
[30648]
[30649]
[30650]
[30651]
[30652]
[30653]
[30654]
[30655]
[30656]
[30657]
[30658]
[{"$f":"A30661+1","v":30659}]
[30660]
[30661]
[30662]
[30663]
[30664]
[30665]
[30666]
[30667]
[30668]
[30669]
[30670]
[30671]
[30672]
[30673]
[30674]
[30675]
[30676]
[30677]
[30678]
[30679]
[30680]
[30681]
[30682]
[30683]
[30684]
[30685]
[30686]
[30687]
[30688]
[30689]
[30690]
[30691]
[30692]
[30693]
[30694]
[30695]
[30696]
[30697]
[30698]
[30699]
[30700]
[30701]
[30702]
[30703]
[30704]
[30705]
[30706]
[30707]
[30708]
[30709]
[30710]
[30711]
[30712]
[30713]
[30714]
[30715]
[30716]
[30717]
[30718]
[30719]
[30720]
[30721]
[30722]
[{"$f":"A30725+1","v":30723}]
[30724]
[30725]
[30726]
[30727]
[30728]
[30729]
[30730]
[30731]
[30732]
[30733]
[30734]
[30735]
[30736]
[30737]
[30738]
[30739]
[30740]
[30741]
[30742]
[30743]
[30744]
[30745]
[30746]
[30747]
[30748]
[30749]
[30750]
[30751]
[30752]
[30753]
[30754]
[30755]
[30756]
[30757]
[30758]
[30759]
[30760]
[30761]
[30762]
[30763]
[30764]
[30765]
[30766]
[30767]
[30768]
[30769]
[30770]
[30771]
[30772]
[30773]
[30774]
[30775]
[30776]
[30777]
[30778]
[30779]
[30780]
[30781]
[30782]
[30783]
[30784]
[30785]
[30786]
[{"$f":"A30789+1","v":30787}]
[30788]
[30789]
[30790]
[30791]
[30792]
[30793]
[30794]
[30795]
[30796]
[30797]
[30798]
[30799]
[30800]
[30801]
[30802]
[30803]
[30804]
[30805]
[30806]
[30807]
[30808]
[30809]
[30810]
[30811]
[30812]
[30813]
[30814]
[30815]
[30816]
[30817]
[30818]
[30819]
[30820]
[30821]
[30822]
[30823]
[30824]
[30825]
[30826]
[30827]
[30828]
[30829]
[30830]
[30831]
[30832]
[30833]
[30834]
[30835]
[30836]
[30837]
[30838]
[30839]
[30840]
[30841]
[30842]
[30843]
[30844]
[30845]
[30846]
[30847]
[30848]
[30849]
[30850]
[{"$f":"A30853+1","v":30851}]
[30852]
[30853]
[30854]
[30855]
[30856]
[30857]
[30858]
[30859]
[30860]
[30861]
[30862]
[30863]
[30864]
[30865]
[30866]
[30867]
[30868]
[30869]
[30870]
[30871]
[30872]
[30873]
[30874]
[30875]
[30876]
[30877]
[30878]
[30879]
[30880]
[30881]
[30882]
[30883]
[30884]
[30885]
[30886]
[30887]
[30888]
[30889]
[30890]
[30891]
[30892]
[30893]
[30894]
[30895]
[30896]
[30897]
[30898]
[30899]
[30900]
[30901]
[30902]
[30903]
[30904]
[30905]
[30906]
[30907]
[30908]
[30909]
[30910]
[30911]
[30912]
[30913]
[30914]
[{"$f":"A30917+1","v":30915}]
[30916]
[30917]
[30918]
[30919]
[30920]
[30921]
[30922]
[30923]
[30924]
[30925]
[30926]
[30927]
[30928]
[30929]
[30930]
[30931]
[30932]
[30933]
[30934]
[30935]
[30936]
[30937]
[30938]
[30939]
[30940]
[30941]
[30942]
[30943]
[30944]
[30945]
[30946]
[30947]
[30948]
[30949]
[30950]
[30951]
[30952]
[30953]
[30954]
[30955]
[30956]
[30957]
[30958]
[30959]
[30960]
[30961]
[30962]
[30963]
[30964]
[30965]
[30966]
[30967]
[30968]
[30969]
[30970]
[30971]
[30972]
[30973]
[30974]
[30975]
[30976]
[30977]
[30978]
[{"$f":"A30981+1","v":30979}]
[30980]
[30981]
[30982]
[30983]
[30984]
[30985]
[30986]
[30987]
[30988]
[30989]
[30990]
[30991]
[30992]
[30993]
[30994]
[30995]
[30996]
[30997]
[30998]
[30999]
[31000]
[31001]
[31002]
[31003]
[31004]
[31005]
[31006]
[31007]
[31008]
[31009]
[31010]
[31011]
[31012]
[31013]
[31014]
[31015]
[31016]
[31017]
[31018]
[31019]
[31020]
[31021]
[31022]
[31023]
[31024]
[31025]
[31026]
[31027]
[31028]
[31029]
[31030]
[31031]
[31032]
[31033]
[31034]
[31035]
[31036]
[31037]
[31038]
[31039]
[31040]
[31041]
[31042]
[{"$f":"A31045+1","v":31043}]
[31044]
[31045]
[31046]
[31047]
[31048]
[31049]
[31050]
[31051]
[31052]
[31053]
[31054]
[31055]
[31056]
[31057]
[31058]
[31059]
[31060]
[31061]
[31062]
[31063]
[31064]
[31065]
[31066]
[31067]
[31068]
[31069]
[31070]
[31071]
[31072]
[31073]
[31074]
[31075]
[31076]
[31077]
[31078]
[31079]
[31080]
[31081]
[31082]
[31083]
[31084]
[31085]
[31086]
[31087]
[31088]
[31089]
[31090]
[31091]
[31092]
[31093]
[31094]
[31095]
[31096]
[31097]
[31098]
[31099]
[31100]
[31101]
[31102]
[31103]
[31104]
[31105]
[31106]
[{"$f":"A31109+1","v":31107}]
[31108]
[31109]
[31110]
[31111]
[31112]
[31113]
[31114]
[31115]
[31116]
[31117]
[31118]
[31119]
[31120]
[31121]
[31122]
[31123]
[31124]
[31125]
[31126]
[31127]
[31128]
[31129]
[31130]
[31131]
[31132]
[31133]
[31134]
[31135]
[31136]
[31137]
[31138]
[31139]
[31140]
[31141]
[31142]
[31143]
[31144]
[31145]
[31146]
[31147]
[31148]
[31149]
[31150]
[31151]
[31152]
[31153]
[31154]
[31155]
[31156]
[31157]
[31158]
[31159]
[31160]
[31161]
[31162]
[31163]
[31164]
[31165]
[31166]
[31167]
[31168]
[31169]
[31170]
[{"$f":"A31173+1","v":31171}]
[31172]
[31173]
[31174]
[31175]
[31176]
[31177]
[31178]
[31179]
[31180]
[31181]
[31182]
[31183]
[31184]
[31185]
[31186]
[31187]
[31188]
[31189]
[31190]
[31191]
[31192]
[31193]
[31194]
[31195]
[31196]
[31197]
[31198]
[31199]
[31200]
[31201]
[31202]
[31203]
[31204]
[31205]
[31206]
[31207]
[31208]
[31209]
[31210]
[31211]
[31212]
[31213]
[31214]
[31215]
[31216]
[31217]
[31218]
[31219]
[31220]
[31221]
[31222]
[31223]
[31224]
[31225]
[31226]
[31227]
[31228]
[31229]
[31230]
[31231]
[31232]
[31233]
[31234]
[{"$f":"A31237+1","v":31235}]
[31236]
[31237]
[31238]
[31239]
[31240]
[31241]
[31242]
[31243]
[31244]
[31245]
[31246]
[31247]
[31248]
[31249]
[31250]
[31251]
[31252]
[31253]
[31254]
[31255]
[31256]
[31257]
[31258]
[31259]
[31260]
[31261]
[31262]
[31263]
[31264]
[31265]
[31266]
[31267]
[31268]
[31269]
[31270]
[31271]
[31272]
[31273]
[31274]
[31275]
[31276]
[31277]
[31278]
[31279]
[31280]
[31281]
[31282]
[31283]
[31284]
[31285]
[31286]
[31287]
[31288]
[31289]
[31290]
[31291]
[31292]
[31293]
[31294]
[31295]
[31296]
[31297]
[31298]
[{"$f":"A31301+1","v":31299}]
[31300]
[31301]
[31302]
[31303]
[31304]
[31305]
[31306]
[31307]
[31308]
[31309]
[31310]
[31311]
[31312]
[31313]
[31314]
[31315]
[31316]
[31317]
[31318]
[31319]
[31320]
[31321]
[31322]
[31323]
[31324]
[31325]
[31326]
[31327]
[31328]
[31329]
[31330]
[31331]
[31332]
[31333]
[31334]
[31335]
[31336]
[31337]
[31338]
[31339]
[31340]
[31341]
[31342]
[31343]
[31344]
[31345]
[31346]
[31347]
[31348]
[31349]
[31350]
[31351]
[31352]
[31353]
[31354]
[31355]
[31356]
[31357]
[31358]
[31359]
[31360]
[31361]
[31362]
[{"$f":"A31365+1","v":31363}]
[31364]
[31365]
[31366]
[31367]
[31368]
[31369]
[31370]
[31371]
[31372]
[31373]
[31374]
[31375]
[31376]
[31377]
[31378]
[31379]
[31380]
[31381]
[31382]
[31383]
[31384]
[31385]
[31386]
[31387]
[31388]
[31389]
[31390]
[31391]
[31392]
[31393]
[31394]
[31395]
[31396]
[31397]
[31398]
[31399]
[31400]
[31401]
[31402]
[31403]
[31404]
[31405]
[31406]
[31407]
[31408]
[31409]
[31410]
[31411]
[31412]
[31413]
[31414]
[31415]
[31416]
[31417]
[31418]
[31419]
[31420]
[31421]
[31422]
[31423]
[31424]
[31425]
[31426]
[{"$f":"A31429+1","v":31427}]
[31428]
[31429]
[31430]
[31431]
[31432]
[31433]
[31434]
[31435]
[31436]
[31437]
[31438]
[31439]
[31440]
[31441]
[31442]
[31443]
[31444]
[31445]
[31446]
[31447]
[31448]
[31449]
[31450]
[31451]
[31452]
[31453]
[31454]
[31455]
[31456]
[31457]
[31458]
[31459]
[31460]
[31461]
[31462]
[31463]
[31464]
[31465]
[31466]
[31467]
[31468]
[31469]
[31470]
[31471]
[31472]
[31473]
[31474]
[31475]
[31476]
[31477]
[31478]
[31479]
[31480]
[31481]
[31482]
[31483]
[31484]
[31485]
[31486]
[31487]
[31488]
[31489]
[31490]
[{"$f":"A31493+1","v":31491}]
[31492]
[31493]
[31494]
[31495]
[31496]
[31497]
[31498]
[31499]
[31500]
[31501]
[31502]
[31503]
[31504]
[31505]
[31506]
[31507]
[31508]
[31509]
[31510]
[31511]
[31512]
[31513]
[31514]
[31515]
[31516]
[31517]
[31518]
[31519]
[31520]
[31521]
[31522]
[31523]
[31524]
[31525]
[31526]
[31527]
[31528]
[31529]
[31530]
[31531]
[31532]
[31533]
[31534]
[31535]
[31536]
[31537]
[31538]
[31539]
[31540]
[31541]
[31542]
[31543]
[31544]
[31545]
[31546]
[31547]
[31548]
[31549]
[31550]
[31551]
[31552]
[31553]
[31554]
[{"$f":"A31557+1","v":31555}]
[31556]
[31557]
[31558]
[31559]
[31560]
[31561]
[31562]
[31563]
[31564]
[31565]
[31566]
[31567]
[31568]
[31569]
[31570]
[31571]
[31572]
[31573]
[31574]
[31575]
[31576]
[31577]
[31578]
[31579]
[31580]
[31581]
[31582]
[31583]
[31584]
[31585]
[31586]
[31587]
[31588]
[31589]
[31590]
[31591]
[31592]
[31593]
[31594]
[31595]
[31596]
[31597]
[31598]
[31599]
[31600]
[31601]
[31602]
[31603]
[31604]
[31605]
[31606]
[31607]
[31608]
[31609]
[31610]
[31611]
[31612]
[31613]
[31614]
[31615]
[31616]
[31617]
[31618]
[{"$f":"A31621+1","v":31619}]
[31620]
[31621]
[31622]
[31623]
[31624]
[31625]
[31626]
[31627]
[31628]
[31629]
[31630]
[31631]
[31632]
[31633]
[31634]
[31635]
[31636]
[31637]
[31638]
[31639]
[31640]
[31641]
[31642]
[31643]
[31644]
[31645]
[31646]
[31647]
[31648]
[31649]
[31650]
[31651]
[31652]
[31653]
[31654]
[31655]
[31656]
[31657]
[31658]
[31659]
[31660]
[31661]
[31662]
[31663]
[31664]
[31665]
[31666]
[31667]
[31668]
[31669]
[31670]
[31671]
[31672]
[31673]
[31674]
[31675]
[31676]
[31677]
[31678]
[31679]
[31680]
[31681]
[31682]
[{"$f":"A31685+1","v":31683}]
[31684]
[31685]
[31686]
[31687]
[31688]
[31689]
[31690]
[31691]
[31692]
[31693]
[31694]
[31695]
[31696]
[31697]
[31698]
[31699]
[31700]
[31701]
[31702]
[31703]
[31704]
[31705]
[31706]
[31707]
[31708]
[31709]
[31710]
[31711]
[31712]
[31713]
[31714]
[31715]
[31716]
[31717]
[31718]
[31719]
[31720]
[31721]
[31722]
[31723]
[31724]
[31725]
[31726]
[31727]
[31728]
[31729]
[31730]
[31731]
[31732]
[31733]
[31734]
[31735]
[31736]
[31737]
[31738]
[31739]
[31740]
[31741]
[31742]
[31743]
[31744]
[31745]
[31746]
[{"$f":"A31749+1","v":31747}]
[31748]
[31749]
[31750]
[31751]
[31752]
[31753]
[31754]
[31755]
[31756]
[31757]
[31758]
[31759]
[31760]
[31761]
[31762]
[31763]
[31764]
[31765]
[31766]
[31767]
[31768]
[31769]
[31770]
[31771]
[31772]
[31773]
[31774]
[31775]
[31776]
[31777]
[31778]
[31779]
[31780]
[31781]
[31782]
[31783]
[31784]
[31785]
[31786]
[31787]
[31788]
[31789]
[31790]
[31791]
[31792]
[31793]
[31794]
[31795]
[31796]
[31797]
[31798]
[31799]
[31800]
[31801]
[31802]
[31803]
[31804]
[31805]
[31806]
[31807]
[31808]
[31809]
[31810]
[{"$f":"A31813+1","v":31811}]
[31812]
[31813]
[31814]
[31815]
[31816]
[31817]
[31818]
[31819]
[31820]
[31821]
[31822]
[31823]
[31824]
[31825]
[31826]
[31827]
[31828]
[31829]
[31830]
[31831]
[31832]
[31833]
[31834]
[31835]
[31836]
[31837]
[31838]
[31839]
[31840]
[31841]
[31842]
[31843]
[31844]
[31845]
[31846]
[31847]
[31848]
[31849]
[31850]
[31851]
[31852]
[31853]
[31854]
[31855]
[31856]
[31857]
[31858]
[31859]
[31860]
[31861]
[31862]
[31863]
[31864]
[31865]
[31866]
[31867]
[31868]
[31869]
[31870]
[31871]
[31872]
[31873]
[31874]
[{"$f":"A31877+1","v":31875}]
[31876]
[31877]
[31878]
[31879]
[31880]
[31881]
[31882]
[31883]
[31884]
[31885]
[31886]
[31887]
[31888]
[31889]
[31890]
[31891]
[31892]
[31893]
[31894]
[31895]
[31896]
[31897]
[31898]
[31899]
[31900]
[31901]
[31902]
[31903]
[31904]
[31905]
[31906]
[31907]
[31908]
[31909]
[31910]
[31911]
[31912]
[31913]
[31914]
[31915]
[31916]
[31917]
[31918]
[31919]
[31920]
[31921]
[31922]
[31923]
[31924]
[31925]
[31926]
[31927]
[31928]
[31929]
[31930]
[31931]
[31932]
[31933]
[31934]
[31935]
[31936]
[31937]
[31938]
[{"$f":"A31941+1","v":31939}]
[31940]
[31941]
[31942]
[31943]
[31944]
[31945]
[31946]
[31947]
[31948]
[31949]
[31950]
[31951]
[31952]
[31953]
[31954]
[31955]
[31956]
[31957]
[31958]
[31959]
[31960]
[31961]
[31962]
[31963]
[31964]
[31965]
[31966]
[31967]
[31968]
[31969]
[31970]
[31971]
[31972]
[31973]
[31974]
[31975]
[31976]
[31977]
[31978]
[31979]
[31980]
[31981]
[31982]
[31983]
[31984]
[31985]
[31986]
[31987]
[31988]
[31989]
[31990]
[31991]
[31992]
[31993]
[31994]
[31995]
[31996]
[31997]
[31998]
[31999]
[32000]
[32001]
[32002]
[{"$f":"A32005+1","v":32003}]
[32004]
[32005]
[32006]
[32007]
[32008]
[32009]
[32010]
[32011]
[32012]
[32013]
[32014]
[32015]
[32016]
[32017]
[32018]
[32019]
[32020]
[32021]
[32022]
[32023]
[32024]
[32025]
[32026]
[32027]
[32028]
[32029]
[32030]
[32031]
[32032]
[32033]
[32034]
[32035]
[32036]
[32037]
[32038]
[32039]
[32040]
[32041]
[32042]
[32043]
[32044]
[32045]
[32046]
[32047]
[32048]
[32049]
[32050]
[32051]
[32052]
[32053]
[32054]
[32055]
[32056]
[32057]
[32058]
[32059]
[32060]
[32061]
[32062]
[32063]
[32064]
[32065]
[32066]
[{"$f":"A32069+1","v":32067}]
[32068]
[32069]
[32070]
[32071]
[32072]
[32073]
[32074]
[32075]
[32076]
[32077]
[32078]
[32079]
[32080]
[32081]
[32082]
[32083]
[32084]
[32085]
[32086]
[32087]
[32088]
[32089]
[32090]
[32091]
[32092]
[32093]
[32094]
[32095]
[32096]
[32097]
[32098]
[32099]
[32100]
[32101]
[32102]
[32103]
[32104]
[32105]
[32106]
[32107]
[32108]
[32109]
[32110]
[32111]
[32112]
[32113]
[32114]
[32115]
[32116]
[32117]
[32118]
[32119]
[32120]
[32121]
[32122]
[32123]
[32124]
[32125]
[32126]
[32127]
[32128]
[32129]
[32130]
[{"$f":"A32133+1","v":32131}]
[32132]
[32133]
[32134]
[32135]
[32136]
[32137]
[32138]
[32139]
[32140]
[32141]
[32142]
[32143]
[32144]
[32145]
[32146]
[32147]
[32148]
[32149]
[32150]
[32151]
[32152]
[32153]
[32154]
[32155]
[32156]
[32157]
[32158]
[32159]
[32160]
[32161]
[32162]
[32163]
[32164]
[32165]
[32166]
[32167]
[32168]
[32169]
[32170]
[32171]
[32172]
[32173]
[32174]
[32175]
[32176]
[32177]
[32178]
[32179]
[32180]
[32181]
[32182]
[32183]
[32184]
[32185]
[32186]
[32187]
[32188]
[32189]
[32190]
[32191]
[32192]
[32193]
[32194]
[{"$f":"A32197+1","v":32195}]
[32196]
[32197]
[32198]
[32199]
[32200]
[32201]
[32202]
[32203]
[32204]
[32205]
[32206]
[32207]
[32208]
[32209]
[32210]
[32211]
[32212]
[32213]
[32214]
[32215]
[32216]
[32217]
[32218]
[32219]
[32220]
[32221]
[32222]
[32223]
[32224]
[32225]
[32226]
[32227]
[32228]
[32229]
[32230]
[32231]
[32232]
[32233]
[32234]
[32235]
[32236]
[32237]
[32238]
[32239]
[32240]
[32241]
[32242]
[32243]
[32244]
[32245]
[32246]
[32247]
[32248]
[32249]
[32250]
[32251]
[32252]
[32253]
[32254]
[32255]
[32256]
[32257]
[32258]
[{"$f":"A32261+1","v":32259}]
[32260]
[32261]
[32262]
[32263]
[32264]
[32265]
[32266]
[32267]
[32268]
[32269]
[32270]
[32271]
[32272]
[32273]
[32274]
[32275]
[32276]
[32277]
[32278]
[32279]
[32280]
[32281]
[32282]
[32283]
[32284]
[32285]
[32286]
[32287]
[32288]
[32289]
[32290]
[32291]
[32292]
[32293]
[32294]
[32295]
[32296]
[32297]
[32298]
[32299]
[32300]
[32301]
[32302]
[32303]
[32304]
[32305]
[32306]
[32307]
[32308]
[32309]
[32310]
[32311]
[32312]
[32313]
[32314]
[32315]
[32316]
[32317]
[32318]
[32319]
[32320]
[32321]
[32322]
[{"$f":"A32325+1","v":32323}]
[32324]
[32325]
[32326]
[32327]
[32328]
[32329]
[32330]
[32331]
[32332]
[32333]
[32334]
[32335]
[32336]
[32337]
[32338]
[32339]
[32340]
[32341]
[32342]
[32343]
[32344]
[32345]
[32346]
[32347]
[32348]
[32349]
[32350]
[32351]
[32352]
[32353]
[32354]
[32355]
[32356]
[32357]
[32358]
[32359]
[32360]
[32361]
[32362]
[32363]
[32364]
[32365]
[32366]
[32367]
[32368]
[32369]
[32370]
[32371]
[32372]
[32373]
[32374]
[32375]
[32376]
[32377]
[32378]
[32379]
[32380]
[32381]
[32382]
[32383]
[32384]
[32385]
[32386]
[{"$f":"A32389+1","v":32387}]
[32388]
[32389]
[32390]
[32391]
[32392]
[32393]
[32394]
[32395]
[32396]
[32397]
[32398]
[32399]
[32400]
[32401]
[32402]
[32403]
[32404]
[32405]
[32406]
[32407]
[32408]
[32409]
[32410]
[32411]
[32412]
[32413]
[32414]
[32415]
[32416]
[32417]
[32418]
[32419]
[32420]
[32421]
[32422]
[32423]
[32424]
[32425]
[32426]
[32427]
[32428]
[32429]
[32430]
[32431]
[32432]
[32433]
[32434]
[32435]
[32436]
[32437]
[32438]
[32439]
[32440]
[32441]
[32442]
[32443]
[32444]
[32445]
[32446]
[32447]
[32448]
[32449]
[32450]
[{"$f":"A32453+1","v":32451}]
[32452]
[32453]
[32454]
[32455]
[32456]
[32457]
[32458]
[32459]
[32460]
[32461]
[32462]
[32463]
[32464]
[32465]
[32466]
[32467]
[32468]
[32469]
[32470]
[32471]
[32472]
[32473]
[32474]
[32475]
[32476]
[32477]
[32478]
[32479]
[32480]
[32481]
[32482]
[32483]
[32484]
[32485]
[32486]
[32487]
[32488]
[32489]
[32490]
[32491]
[32492]
[32493]
[32494]
[32495]
[32496]
[32497]
[32498]
[32499]
[32500]
[32501]
[32502]
[32503]
[32504]
[32505]
[32506]
[32507]
[32508]
[32509]
[32510]
[32511]
[32512]
[32513]
[32514]
[{"$f":"A32517+1","v":32515}]
[32516]
[32517]
[32518]
[32519]
[32520]
[32521]
[32522]
[32523]
[32524]
[32525]
[32526]
[32527]
[32528]
[32529]
[32530]
[32531]
[32532]
[32533]
[32534]
[32535]
[32536]
[32537]
[32538]
[32539]
[32540]
[32541]
[32542]
[32543]
[32544]
[32545]
[32546]
[32547]
[32548]
[32549]
[32550]
[32551]
[32552]
[32553]
[32554]
[32555]
[32556]
[32557]
[32558]
[32559]
[32560]
[32561]
[32562]
[32563]
[32564]
[32565]
[32566]
[32567]
[32568]
[32569]
[32570]
[32571]
[32572]
[32573]
[32574]
[32575]
[32576]
[32577]
[32578]
[{"$f":"A32581+1","v":32579}]
[32580]
[32581]
[32582]
[32583]
[32584]
[32585]
[32586]
[32587]
[32588]
[32589]
[32590]
[32591]
[32592]
[32593]
[32594]
[32595]
[32596]
[32597]
[32598]
[32599]
[32600]
[32601]
[32602]
[32603]
[32604]
[32605]
[32606]
[32607]
[32608]
[32609]
[32610]
[32611]
[32612]
[32613]
[32614]
[32615]
[32616]
[32617]
[32618]
[32619]
[32620]
[32621]
[32622]
[32623]
[32624]
[32625]
[32626]
[32627]
[32628]
[32629]
[32630]
[32631]
[32632]
[32633]
[32634]
[32635]
[32636]
[32637]
[32638]
[32639]
[32640]
[32641]
[32642]
[{"$f":"A32645+1","v":32643}]
[32644]
[32645]
[32646]
[32647]
[32648]
[32649]
[32650]
[32651]
[32652]
[32653]
[32654]
[32655]
[32656]
[32657]
[32658]
[32659]
[32660]
[32661]
[32662]
[32663]
[32664]
[32665]
[32666]
[32667]
[32668]
[32669]
[32670]
[32671]
[32672]
[32673]
[32674]
[32675]
[32676]
[32677]
[32678]
[32679]
[32680]
[32681]
[32682]
[32683]
[32684]
[32685]
[32686]
[32687]
[32688]
[32689]
[32690]
[32691]
[32692]
[32693]
[32694]
[32695]
[32696]
[32697]
[32698]
[32699]
[32700]
[32701]
[32702]
[32703]
[32704]
[32705]
[32706]
[{"$f":"A32709+1","v":32707}]
[32708]
[32709]
[32710]
[32711]
[32712]
[32713]
[32714]
[32715]
[32716]
[32717]
[32718]
[32719]
[32720]
[32721]
[32722]
[32723]
[32724]
[32725]
[32726]
[32727]
[32728]
[32729]
[32730]
[32731]
[32732]
[32733]
[32734]
[32735]
[32736]
[32737]
[32738]
[32739]
[32740]
[32741]
[32742]
[32743]
[32744]
[32745]
[32746]
[32747]
[32748]
[32749]
[32750]
[32751]
[32752]
[32753]
[32754]
[32755]
[32756]
[32757]
[32758]
[32759]
[32760]
[32761]
[32762]
[32763]
[32764]
[32765]
[32766]
[32767]
[32768]
[32769]
[32770]
[{"$f":"A32773+1","v":32771}]
[32772]
[32773]
[32774]
[32775]
[32776]
[32777]
[32778]
[32779]
[32780]
[32781]
[32782]
[32783]
[32784]
[32785]
[32786]
[32787]
[32788]
[32789]
[32790]
[32791]
[32792]
[32793]
[32794]
[32795]
[32796]
[32797]
[32798]
[32799]
[32800]
[32801]
[32802]
[32803]
[32804]
[32805]
[32806]
[32807]
[32808]
[32809]
[32810]
[32811]
[32812]
[32813]
[32814]
[32815]
[32816]
[32817]
[32818]
[32819]
[32820]
[32821]
[32822]
[32823]
[32824]
[32825]
[32826]
[32827]
[32828]
[32829]
[32830]
[32831]
[32832]
[32833]
[32834]
[{"$f":"A32837+1","v":32835}]
[32836]
[32837]
[32838]
[32839]
[32840]
[32841]
[32842]
[32843]
[32844]
[32845]
[32846]
[32847]
[32848]
[32849]
[32850]
[32851]
[32852]
[32853]
[32854]
[32855]
[32856]
[32857]
[32858]
[32859]
[32860]
[32861]
[32862]
[32863]
[32864]
[32865]
[32866]
[32867]
[32868]
[32869]
[32870]
[32871]
[32872]
[32873]
[32874]
[32875]
[32876]
[32877]
[32878]
[32879]
[32880]
[32881]
[32882]
[32883]
[32884]
[32885]
[32886]
[32887]
[32888]
[32889]
[32890]
[32891]
[32892]
[32893]
[32894]
[32895]
[32896]
[32897]
[32898]
[{"$f":"A32901+1","v":32899}]
[32900]
[32901]
[32902]
[32903]
[32904]
[32905]
[32906]
[32907]
[32908]
[32909]
[32910]
[32911]
[32912]
[32913]
[32914]
[32915]
[32916]
[32917]
[32918]
[32919]
[32920]
[32921]
[32922]
[32923]
[32924]
[32925]
[32926]
[32927]
[32928]
[32929]
[32930]
[32931]
[32932]
[32933]
[32934]
[32935]
[32936]
[32937]
[32938]
[32939]
[32940]
[32941]
[32942]
[32943]
[32944]
[32945]
[32946]
[32947]
[32948]
[32949]
[32950]
[32951]
[32952]
[32953]
[32954]
[32955]
[32956]
[32957]
[32958]
[32959]
[32960]
[32961]
[32962]
[{"$f":"A32965+1","v":32963}]
[32964]
[32965]
[32966]
[32967]
[32968]
[32969]
[32970]
[32971]
[32972]
[32973]
[32974]
[32975]
[32976]
[32977]
[32978]
[32979]
[32980]
[32981]
[32982]
[32983]
[32984]
[32985]
[32986]
[32987]
[32988]
[32989]
[32990]
[32991]
[32992]
[32993]
[32994]
[32995]
[32996]
[32997]
[32998]
[32999]
[33000]
[33001]
[33002]
[33003]
[33004]
[33005]
[33006]
[33007]
[33008]
[33009]
[33010]
[33011]
[33012]
[33013]
[33014]
[33015]
[33016]
[33017]
[33018]
[33019]
[33020]
[33021]
[33022]
[33023]
[33024]
[33025]
[33026]
[{"$f":"A33029+1","v":33027}]
[33028]
[33029]
[33030]
[33031]
[33032]
[33033]
[33034]
[33035]
[33036]
[33037]
[33038]
[33039]
[33040]
[33041]
[33042]
[33043]
[33044]
[33045]
[33046]
[33047]
[33048]
[33049]
[33050]
[33051]
[33052]
[33053]
[33054]
[33055]
[33056]
[33057]
[33058]
[33059]
[33060]
[33061]
[33062]
[33063]
[33064]
[33065]
[33066]
[33067]
[33068]
[33069]
[33070]
[33071]
[33072]
[33073]
[33074]
[33075]
[33076]
[33077]
[33078]
[33079]
[33080]
[33081]
[33082]
[33083]
[33084]
[33085]
[33086]
[33087]
[33088]
[33089]
[33090]
[{"$f":"A33093+1","v":33091}]
[33092]
[33093]
[33094]
[33095]
[33096]
[33097]
[33098]
[33099]
[33100]
[33101]
[33102]
[33103]
[33104]
[33105]
[33106]
[33107]
[33108]
[33109]
[33110]
[33111]
[33112]
[33113]
[33114]
[33115]
[33116]
[33117]
[33118]
[33119]
[33120]
[33121]
[33122]
[33123]
[33124]
[33125]
[33126]
[33127]
[33128]
[33129]
[33130]
[33131]
[33132]
[33133]
[33134]
[33135]
[33136]
[33137]
[33138]
[33139]
[33140]
[33141]
[33142]
[33143]
[33144]
[33145]
[33146]
[33147]
[33148]
[33149]
[33150]
[33151]
[33152]
[33153]
[33154]
[{"$f":"A33157+1","v":33155}]
[33156]
[33157]
[33158]
[33159]
[33160]
[33161]
[33162]
[33163]
[33164]
[33165]
[33166]
[33167]
[33168]
[33169]
[33170]
[33171]
[33172]
[33173]
[33174]
[33175]
[33176]
[33177]
[33178]
[33179]
[33180]
[33181]
[33182]
[33183]
[33184]
[33185]
[33186]
[33187]
[33188]
[33189]
[33190]
[33191]
[33192]
[33193]
[33194]
[33195]
[33196]
[33197]
[33198]
[33199]
[33200]
[33201]
[33202]
[33203]
[33204]
[33205]
[33206]
[33207]
[33208]
[33209]
[33210]
[33211]
[33212]
[33213]
[33214]
[33215]
[33216]
[33217]
[33218]
[{"$f":"A33221+1","v":33219}]
[33220]
[33221]
[33222]
[33223]
[33224]
[33225]
[33226]
[33227]
[33228]
[33229]
[33230]
[33231]
[33232]
[33233]
[33234]
[33235]
[33236]
[33237]
[33238]
[33239]
[33240]
[33241]
[33242]
[33243]
[33244]
[33245]
[33246]
[33247]
[33248]
[33249]
[33250]
[33251]
[33252]
[33253]
[33254]
[33255]
[33256]
[33257]
[33258]
[33259]
[33260]
[33261]
[33262]
[33263]
[33264]
[33265]
[33266]
[33267]
[33268]
[33269]
[33270]
[33271]
[33272]
[33273]
[33274]
[33275]
[33276]
[33277]
[33278]
[33279]
[33280]
[33281]
[33282]
[{"$f":"A33285+1","v":33283}]
[33284]
[33285]
[33286]
[33287]
[33288]
[33289]
[33290]
[33291]
[33292]
[33293]
[33294]
[33295]
[33296]
[33297]
[33298]
[33299]
[33300]
[33301]
[33302]
[33303]
[33304]
[33305]
[33306]
[33307]
[33308]
[33309]
[33310]
[33311]
[33312]
[33313]
[33314]
[33315]
[33316]
[33317]
[33318]
[33319]
[33320]
[33321]
[33322]
[33323]
[33324]
[33325]
[33326]
[33327]
[33328]
[33329]
[33330]
[33331]
[33332]
[33333]
[33334]
[33335]
[33336]
[33337]
[33338]
[33339]
[33340]
[33341]
[33342]
[33343]
[33344]
[33345]
[33346]
[{"$f":"A33349+1","v":33347}]
[33348]
[33349]
[33350]
[33351]
[33352]
[33353]
[33354]
[33355]
[33356]
[33357]
[33358]
[33359]
[33360]
[33361]
[33362]
[33363]
[33364]
[33365]
[33366]
[33367]
[33368]
[33369]
[33370]
[33371]
[33372]
[33373]
[33374]
[33375]
[33376]
[33377]
[33378]
[33379]
[33380]
[33381]
[33382]
[33383]
[33384]
[33385]
[33386]
[33387]
[33388]
[33389]
[33390]
[33391]
[33392]
[33393]
[33394]
[33395]
[33396]
[33397]
[33398]
[33399]
[33400]
[33401]
[33402]
[33403]
[33404]
[33405]
[33406]
[33407]
[33408]
[33409]
[33410]
[{"$f":"A33413+1","v":33411}]
[33412]
[33413]
[33414]
[33415]
[33416]
[33417]
[33418]
[33419]
[33420]
[33421]
[33422]
[33423]
[33424]
[33425]
[33426]
[33427]
[33428]
[33429]
[33430]
[33431]
[33432]
[33433]
[33434]
[33435]
[33436]
[33437]
[33438]
[33439]
[33440]
[33441]
[33442]
[33443]
[33444]
[33445]
[33446]
[33447]
[33448]
[33449]
[33450]
[33451]
[33452]
[33453]
[33454]
[33455]
[33456]
[33457]
[33458]
[33459]
[33460]
[33461]
[33462]
[33463]
[33464]
[33465]
[33466]
[33467]
[33468]
[33469]
[33470]
[33471]
[33472]
[33473]
[33474]
[{"$f":"A33477+1","v":33475}]
[33476]
[33477]
[33478]
[33479]
[33480]
[33481]
[33482]
[33483]
[33484]
[33485]
[33486]
[33487]
[33488]
[33489]
[33490]
[33491]
[33492]
[33493]
[33494]
[33495]
[33496]
[33497]
[33498]
[33499]
[33500]
[33501]
[33502]
[33503]
[33504]
[33505]
[33506]
[33507]
[33508]
[33509]
[33510]
[33511]
[33512]
[33513]
[33514]
[33515]
[33516]
[33517]
[33518]
[33519]
[33520]
[33521]
[33522]
[33523]
[33524]
[33525]
[33526]
[33527]
[33528]
[33529]
[33530]
[33531]
[33532]
[33533]
[33534]
[33535]
[33536]
[33537]
[33538]
[{"$f":"A33541+1","v":33539}]
[33540]
[33541]
[33542]
[33543]
[33544]
[33545]
[33546]
[33547]
[33548]
[33549]
[33550]
[33551]
[33552]
[33553]
[33554]
[33555]
[33556]
[33557]
[33558]
[33559]
[33560]
[33561]
[33562]
[33563]
[33564]
[33565]
[33566]
[33567]
[33568]
[33569]
[33570]
[33571]
[33572]
[33573]
[33574]
[33575]
[33576]
[33577]
[33578]
[33579]
[33580]
[33581]
[33582]
[33583]
[33584]
[33585]
[33586]
[33587]
[33588]
[33589]
[33590]
[33591]
[33592]
[33593]
[33594]
[33595]
[33596]
[33597]
[33598]
[33599]
[33600]
[33601]
[33602]
[{"$f":"A33605+1","v":33603}]
[33604]
[33605]
[33606]
[33607]
[33608]
[33609]
[33610]
[33611]
[33612]
[33613]
[33614]
[33615]
[33616]
[33617]
[33618]
[33619]
[33620]
[33621]
[33622]
[33623]
[33624]
[33625]
[33626]
[33627]
[33628]
[33629]
[33630]
[33631]
[33632]
[33633]
[33634]
[33635]
[33636]
[33637]
[33638]
[33639]
[33640]
[33641]
[33642]
[33643]

{"sheet":"TRAFOS MUESTRA","index":4,"n_rows":1637,"n_cols":8,"rows_kept":1637,"cut":false,"hidden":false,"merged":[]}
[null,1,{"$f":"B1+1","v":2},{"$f":"C1+1","v":3},4,5,6,7]
["No.","A02CODIGO","A02FECHAINFORMACION","A02GRUPO","A02CAPACIDADNOMINAL","A02KVAMAXIMON1","A02RELACIONTRANSFORMACION","A02FACTORCARGA"]
[1,50501502,"2007-10-10",3,15,13.5,"13.2/208"]
[{"$f":"A3+1","v":2},10500518,"2007-10-10",1,25,5,"13.2/208"]
[{"$f":"A4+1","v":3},20101201,"2007-10-10",4,15,3.6,"13.2/208"]
[4,50501703,"2007-10-10",3,15,0.9,"13.2/208"]
[5,50501707,"2007-10-10",3,10,0.9,"13.2/208"]
[6,50100208,"2007-10-10",3,15,8.1,"13.2/208"]
[7,50501705,"2007-10-10",3,15,0.9,"13.2/208"]
[8,10201013,"2007-10-10",2,200,170,"13.2/208"]
[9,20100101,"2007-10-10",3,150,120,"13.2/208"]
[10,10200801,"2007-10-10",2,300,300,"13.2/208"]
[11,10500301,"2007-10-10",1,112.5,200,"13.2/208"]
[12,10301606,"2007-10-10",2,150,100,"13.2/208"]
[13,10300011,"2007-10-10",2,150,100,"13.2/208"]
[14,10400601,"2007-10-10",1,45,35,"13.2/208"]
[15,10500011,"2007-10-10",2,300,250,"13.2/208"]
[16,10100006,"2007-10-10",2,150,90,"13.2/208"]
[17,30100701,"2007-10-10",3,45,30,"13.2/208"]
[18,10301607,"2007-10-10",1,112.5,100,"13.2/208"]
[19,10200421,"2007-10-10",2,300,200,"13.2/208"]
[20,10201510,"2007-10-10",2,150,100,"13.2/208"]
[21,30200601,"2007-10-10",3,150,100,"13.2/208"]
[22,10202702,"2007-10-10",1,150,80,"13.2/208"]
[23,40200105,"2007-10-10",1,112.5,90,"13.2/208"]
[24,50200010,"2007-10-10",3,500,50,"13.2/208"]
[25,10300806,"2007-10-10",2,300,150,"13.2/208"]
[26,10200408,"2007-10-10",2,75,65,"13.2/208"]
[27,30200801,"2007-10-10",3,150,30,"13.2/208"]
[28,10401301,"2007-10-10",2,400,200,"13.2/208"]
[29,10500511,"2007-10-10",2,112.5,50,"13.2/208"]
[30,10300201,"2007-10-10",1,75,250,"13.2/208"]
[31,10100107,"2007-10-10",2,112.5,300,"13.2/208"]
[32,10501108,"2007-10-10",1,150,100,"13.2/208"]
[33,10301107,"2007-10-10",2,150,100,"13.2/208"]
[34,30100105,"2007-10-10",1,30,20,"13.2/208"]
[35,20200508,"2007-10-10",4,10,1.8,"13.2/208"]
[36,20205902,"2007-10-10",4,30,1.8,"13.2/208"]
[37,30201516,"2007-10-10",4,50,1.8,"13.2/208"]
[38,50301305,"2007-10-10",1,75,1.8,"13.2/208"]
[39,20300701,"2007-10-10",4,15,1.8,"13.2/208"]
[40,30102205,"2007-10-10",1,15,3.6,"13.2/208"]
[41]
[42]
[43]
[44]
[45]
[46]
[47]
[48]
[49]
[50]
[51]
[52]
[53]
[54]
[55]
[56]
[57]
[58]
[59]
[60]
[61]
[62]
[63]
[64]
[65]
[66]
[{"$f":"A68+1","v":67}]
[68]
[69]
[70]
[71]
[72]
[73]
[74]
[75]
[76]
[77]
[78]
[79]
[80]
[81]
[82]
[83]
[84]
[85]
[86]
[87]
[88]
[89]
[90]
[91]
[92]
[93]
[94]
[95]
[96]
[97]
[98]
[99]
[100]
[101]
[102]
[103]
[104]
[105]
[106]
[107]
[108]
[109]
[110]
[111]
[112]
[113]
[114]
[115]
[116]
[117]
[118]
[119]
[120]
[121]
[122]
[123]
[124]
[125]
[126]
[127]
[128]
[129]
[130]
[{"$f":"A132+1","v":131}]
[132]
[133]
[134]
[135]
[136]
[137]
[138]
[139]
[140]
[141]
[142]
[143]
[144]
[145]
[146]
[147]
[148]
[149]
[150]
[151]
[152]
[153]
[154]
[155]
[156]
[157]
[158]
[159]
[160]
[161]
[162]
[163]
[164]
[165]
[166]
[167]
[168]
[169]
[170]
[171]
[172]
[173]
[174]
[175]
[176]
[177]
[178]
[179]
[180]
[181]
[182]
[183]
[184]
[185]
[186]
[187]
[188]
[189]
[190]
[191]
[192]
[193]
[194]
[{"$f":"A196+1","v":195}]
[196]
[197]
[198]
[199]
[200]
[201]
[202]
[203]
[204]
[205]
[206]
[207]
[208]
[209]
[210]
[211]
[212]
[213]
[214]
[215]
[216]
[217]
[218]
[219]
[220]
[221]
[222]
[223]
[224]
[225]
[226]
[227]
[228]
[229]
[230]
[231]
[232]
[233]
[234]
[235]
[236]
[237]
[238]
[239]
[240]
[241]
[242]
[243]
[244]
[245]
[246]
[247]
[248]
[249]
[250]
[251]
[252]
[253]
[254]
[255]
[256]
[257]
[258]
[{"$f":"A260+1","v":259}]
[260]
[261]
[262]
[263]
[264]
[265]
[266]
[267]
[268]
[269]
[270]
[271]
[272]
[273]
[274]
[275]
[276]
[277]
[278]
[279]
[280]
[281]
[282]
[283]
[284]
[285]
[286]
[287]
[288]
[289]
[290]
[291]
[292]
[293]
[294]
[295]
[296]
[297]
[298]
[299]
[300]
[301]
[302]
[303]
[304]
[305]
[306]
[307]
[308]
[309]
[310]
[311]
[312]
[313]
[314]
[315]
[316]
[317]
[318]
[319]
[320]
[321]
[322]
[{"$f":"A324+1","v":323}]
[324]
[325]
[326]
[327]
[328]
[329]
[330]
[331]
[332]
[333]
[334]
[335]
[336]
[337]
[338]
[339]
[340]
[341]
[342]
[343]
[344]
[345]
[346]
[347]
[348]
[349]
[350]
[351]
[352]
[353]
[354]
[355]
[356]
[357]
[358]
[359]
[360]
[361]
[362]
[363]
[364]
[365]
[366]
[367]
[368]
[369]
[370]
[371]
[372]
[373]
[374]
[375]
[376]
[377]
[378]
[379]
[380]
[381]
[382]
[383]
[384]
[385]
[386]
[{"$f":"A388+1","v":387}]
[388]
[389]
[390]
[391]
[392]
[393]
[394]
[395]
[396]
[397]
[398]
[399]
[400]
[401]
[402]
[403]
[404]
[405]
[406]
[407]
[408]
[409]
[410]
[411]
[412]
[413]
[414]
[415]
[416]
[417]
[418]
[419]
[420]
[421]
[422]
[423]
[424]
[425]
[426]
[427]
[428]
[429]
[430]
[431]
[432]
[433]
[434]
[435]
[436]
[437]
[438]
[439]
[440]
[441]
[442]
[443]
[444]
[445]
[446]
[447]
[448]
[449]
[450]
[{"$f":"A452+1","v":451}]
[452]
[453]
[454]
[455]
[456]
[457]
[458]
[459]
[460]
[461]
[462]
[463]
[464]
[465]
[466]
[467]
[468]
[469]
[470]
[471]
[472]
[473]
[474]
[475]
[476]
[477]
[478]
[479]
[480]
[481]
[482]
[483]
[484]
[485]
[486]
[487]
[488]
[489]
[490]
[491]
[492]
[493]
[494]
[495]
[496]
[497]
[498]
[499]
[500]
[501]
[502]
[503]
[504]
[505]
[506]
[507]
[508]
[509]
[510]
[511]
[512]
[513]
[514]
[{"$f":"A516+1","v":515}]
[516]
[517]
[518]
[519]
[520]
[521]
[522]
[523]
[524]
[525]
[526]
[527]
[528]
[529]
[530]
[531]
[532]
[533]
[534]
[535]
[536]
[537]
[538]
[539]
[540]
[541]
[542]
[543]
[544]
[545]
[546]
[547]
[548]
[549]
[550]
[551]
[552]
[553]
[554]
[555]
[556]
[557]
[558]
[559]
[560]
[561]
[562]
[563]
[564]
[565]
[566]
[567]
[568]
[569]
[570]
[571]
[572]
[573]
[574]
[575]
[576]
[577]
[578]
[{"$f":"A580+1","v":579}]
[580]
[581]
[582]
[583]
[584]
[585]
[586]
[587]
[588]
[589]
[590]
[591]
[592]
[593]
[594]
[595]
[596]
[597]
[598]
[599]
[600]
[601]
[602]
[603]
[604]
[605]
[606]
[607]
[608]
[609]
[610]
[611]
[612]
[613]
[614]
[615]
[616]
[617]
[618]
[619]
[620]
[621]
[622]
[623]
[624]
[625]
[626]
[627]
[628]
[629]
[630]
[631]
[632]
[633]
[634]
[635]
[636]
[637]
[638]
[639]
[640]
[641]
[642]
[{"$f":"A644+1","v":643}]
[644]
[645]
[646]
[647]
[648]
[649]
[650]
[651]
[652]
[653]
[654]
[655]
[656]
[657]
[658]
[659]
[660]
[661]
[662]
[663]
[664]
[665]
[666]
[667]
[668]
[669]
[670]
[671]
[672]
[673]
[674]
[675]
[676]
[677]
[678]
[679]
[680]
[681]
[682]
[683]
[684]
[685]
[686]
[687]
[688]
[689]
[690]
[691]
[692]
[693]
[694]
[695]
[696]
[697]
[698]
[699]
[700]
[701]
[702]
[703]
[704]
[705]
[706]
[{"$f":"A708+1","v":707}]
[708]
[709]
[710]
[711]
[712]
[713]
[714]
[715]
[716]
[717]
[718]
[719]
[720]
[721]
[722]
[723]
[724]
[725]
[726]
[727]
[728]
[729]
[730]
[731]
[732]
[733]
[734]
[735]
[736]
[737]
[738]
[739]
[740]
[741]
[742]
[743]
[744]
[745]
[746]
[747]
[748]
[749]
[750]
[751]
[752]
[753]
[754]
[755]
[756]
[757]
[758]
[759]
[760]
[761]
[762]
[763]
[764]
[765]
[766]
[767]
[768]
[769]
[770]
[{"$f":"A772+1","v":771}]
[772]
[773]
[774]
[775]
[776]
[777]
[778]
[779]
[780]
[781]
[782]
[783]
[784]
[785]
[786]
[787]
[788]
[789]
[790]
[791]
[792]
[793]
[794]
[795]
[796]
[797]
[798]
[799]
[800]
[801]
[802]
[803]
[804]
[805]
[806]
[807]
[808]
[809]
[810]
[811]
[812]
[813]
[814]
[815]
[816]
[817]
[818]
[819]
[820]
[821]
[822]
[823]
[824]
[825]
[826]
[827]
[828]
[829]
[830]
[831]
[832]
[833]
[834]
[{"$f":"A836+1","v":835}]
[836]
[837]
[838]
[839]
[840]
[841]
[842]
[843]
[844]
[845]
[846]
[847]
[848]
[849]
[850]
[851]
[852]
[853]
[854]
[855]
[856]
[857]
[858]
[859]
[860]
[861]
[862]
[863]
[864]
[865]
[866]
[867]
[868]
[869]
[870]
[871]
[872]
[873]
[874]
[875]
[876]
[877]
[878]
[879]
[880]
[881]
[882]
[883]
[884]
[885]
[886]
[887]
[888]
[889]
[890]
[891]
[892]
[893]
[894]
[895]
[896]
[897]
[898]
[{"$f":"A900+1","v":899}]
[900]
[901]
[902]
[903]
[904]
[905]
[906]
[907]
[908]
[909]
[910]
[911]
[912]
[913]
[914]
[915]
[916]
[917]
[918]
[919]
[920]
[921]
[922]
[923]
[924]
[925]
[926]
[927]
[928]
[929]
[930]
[931]
[932]
[933]
[934]
[935]
[936]
[937]
[938]
[939]
[940]
[941]
[942]
[943]
[944]
[945]
[946]
[947]
[948]
[949]
[950]
[951]
[952]
[953]
[954]
[955]
[956]
[957]
[958]
[959]
[960]
[961]
[962]
[{"$f":"A964+1","v":963}]
[964]
[965]
[966]
[967]
[968]
[969]
[970]
[971]
[972]
[973]
[974]
[975]
[976]
[977]
[978]
[979]
[980]
[981]
[982]
[983]
[984]
[985]
[986]
[987]
[988]
[989]
[990]
[991]
[992]
[993]
[994]
[995]
[996]
[997]
[998]
[999]
[1000]
[1001]
[1002]
[1003]
[1004]
[1005]
[1006]
[1007]
[1008]
[1009]
[1010]
[1011]
[1012]
[1013]
[1014]
[1015]
[1016]
[1017]
[1018]
[1019]
[1020]
[1021]
[1022]
[1023]
[1024]
[1025]
[1026]
[{"$f":"A1028+1","v":1027}]
[1028]
[1029]
[1030]
[1031]
[1032]
[1033]
[1034]
[1035]
[1036]
[1037]
[1038]
[1039]
[1040]
[1041]
[1042]
[1043]
[1044]
[1045]
[1046]
[1047]
[1048]
[1049]
[1050]
[1051]
[1052]
[1053]
[1054]
[1055]
[1056]
[1057]
[1058]
[1059]
[1060]
[1061]
[1062]
[1063]
[1064]
[1065]
[1066]
[1067]
[1068]
[1069]
[1070]
[1071]
[1072]
[1073]
[1074]
[1075]
[1076]
[1077]
[1078]
[1079]
[1080]
[1081]
[1082]
[1083]
[1084]
[1085]
[1086]
[1087]
[1088]
[1089]
[1090]
[{"$f":"A1092+1","v":1091}]
[1092]
[1093]
[1094]
[1095]
[1096]
[1097]
[1098]
[1099]
[1100]
[1101]
[1102]
[1103]
[1104]
[1105]
[1106]
[1107]
[1108]
[1109]
[1110]
[1111]
[1112]
[1113]
[1114]
[1115]
[1116]
[1117]
[1118]
[1119]
[1120]
[1121]
[1122]
[1123]
[1124]
[1125]
[1126]
[1127]
[1128]
[1129]
[1130]
[1131]
[1132]
[1133]
[1134]
[1135]
[1136]
[1137]
[1138]
[1139]
[1140]
[1141]
[1142]
[1143]
[1144]
[1145]
[1146]
[1147]
[1148]
[1149]
[1150]
[1151]
[1152]
[1153]
[1154]
[{"$f":"A1156+1","v":1155}]
[1156]
[1157]
[1158]
[1159]
[1160]
[1161]
[1162]
[1163]
[1164]
[1165]
[1166]
[1167]
[1168]
[1169]
[1170]
[1171]
[1172]
[1173]
[1174]
[1175]
[1176]
[1177]
[1178]
[1179]
[1180]
[1181]
[1182]
[1183]
[1184]
[1185]
[1186]
[1187]
[1188]
[1189]
[1190]
[1191]
[1192]
[1193]
[1194]
[1195]
[1196]
[1197]
[1198]
[1199]
[1200]
[1201]
[1202]
[1203]
[1204]
[1205]
[1206]
[1207]
[1208]
[1209]
[1210]
[1211]
[1212]
[1213]
[1214]
[1215]
[1216]
[1217]
[1218]
[{"$f":"A1220+1","v":1219}]
[1220]
[1221]
[1222]
[1223]
[1224]
[1225]
[1226]
[1227]
[1228]
[1229]
[1230]
[1231]
[1232]
[1233]
[1234]
[1235]
[1236]
[1237]
[1238]
[1239]
[1240]
[1241]
[1242]
[1243]
[1244]
[1245]
[1246]
[1247]
[1248]
[1249]
[1250]
[1251]
[1252]
[1253]
[1254]
[1255]
[1256]
[1257]
[1258]
[1259]
[1260]
[1261]
[1262]
[1263]
[1264]
[1265]
[1266]
[1267]
[1268]
[1269]
[1270]
[1271]
[1272]
[1273]
[1274]
[1275]
[1276]
[1277]
[1278]
[1279]
[1280]
[1281]
[1282]
[{"$f":"A1284+1","v":1283}]
[1284]
[1285]
[1286]
[1287]
[1288]
[1289]
[1290]
[1291]
[1292]
[1293]
[1294]
[1295]
[1296]
[1297]
[1298]
[1299]
[1300]
[1301]
[1302]
[1303]
[1304]
[1305]
[1306]
[1307]
[1308]
[1309]
[1310]
[1311]
[1312]
[1313]
[1314]
[1315]
[1316]
[1317]
[1318]
[1319]
[1320]
[1321]
[1322]
[1323]
[1324]
[1325]
[1326]
[1327]
[1328]
[1329]
[1330]
[1331]
[1332]
[1333]
[1334]
[1335]
[1336]
[1337]
[1338]
[1339]
[1340]
[1341]
[1342]
[1343]
[1344]
[1345]
[1346]
[{"$f":"A1348+1","v":1347}]
[1348]
[1349]
[1350]
[1351]
[1352]
[1353]
[1354]
[1355]
[1356]
[1357]
[1358]
[1359]
[1360]
[1361]
[1362]
[1363]
[1364]
[1365]
[1366]
[1367]
[1368]
[1369]
[1370]
[1371]
[1372]
[1373]
[1374]
[1375]
[1376]
[1377]
[1378]
[1379]
[1380]
[1381]
[1382]
[1383]
[1384]
[1385]
[1386]
[1387]
[1388]
[1389]
[1390]
[1391]
[1392]
[1393]
[1394]
[1395]
[1396]
[1397]
[1398]
[1399]
[1400]
[1401]
[1402]
[1403]
[1404]
[1405]
[1406]
[1407]
[1408]
[1409]
[1410]
[{"$f":"A1412+1","v":1411}]
[1412]
[1413]
[1414]
[1415]
[1416]
[1417]
[1418]
[1419]
[1420]
[1421]
[1422]
[1423]
[1424]
[1425]
[1426]
[1427]
[1428]
[1429]
[1430]
[1431]
[1432]
[1433]
[1434]
[1435]
[1436]
[1437]
[1438]
[1439]
[1440]
[1441]
[1442]
[1443]
[1444]
[1445]
[1446]
[1447]
[1448]
[1449]
[1450]
[1451]
[1452]
[1453]
[1454]
[1455]
[1456]
[1457]
[1458]
[1459]
[1460]
[1461]
[1462]
[1463]
[1464]
[1465]
[1466]
[1467]
[1468]
[1469]
[1470]
[1471]
[1472]
[1473]
[1474]
[{"$f":"A1476+1","v":1475}]
[1476]
[1477]
[1478]
[1479]
[1480]
[1481]
[1482]
[1483]
[1484]
[1485]
[1486]
[1487]
[1488]
[1489]
[1490]
[1491]
[1492]
[1493]
[1494]
[1495]
[1496]
[1497]
[1498]
[1499]
[1500]
[1501]
[1502]
[1503]
[1504]
[1505]
[1506]
[1507]
[1508]
[1509]
[1510]
[1511]
[1512]
[1513]
[1514]
[1515]
[1516]
[1517]
[1518]
[1519]
[1520]
[1521]
[1522]
[1523]
[1524]
[1525]
[1526]
[1527]
[1528]
[1529]
[1530]
[1531]
[1532]
[1533]
[1534]
[1535]
[1536]
[1537]
[1538]
[{"$f":"A1540+1","v":1539}]
[1540]
[1541]
[1542]
[1543]
[1544]
[1545]
[1546]
[1547]
[1548]
[1549]
[1550]
[1551]
[1552]
[1553]
[1554]
[1555]
[1556]
[1557]
[1558]
[1559]
[1560]
[1561]
[1562]
[1563]
[1564]
[1565]
[1566]
[1567]
[1568]
[1569]
[1570]
[1571]
[1572]
[1573]
[1574]
[1575]
[1576]
[1577]
[1578]
[1579]
[1580]
[1581]
[1582]
[1583]
[1584]
[1585]
[1586]
[1587]
[1588]
[1589]
[1590]
[1591]
[1592]
[1593]
[1594]
[1595]
[1596]
[1597]
[1598]
[1599]
[1600]
[1601]
[1602]
[{"$f":"A1604+1","v":1603}]
[1604]
[1605]
[1606]
[1607]
[1608]
[1609]
[1610]
[1611]
[1612]
[1613]
[1614]
[1615]
[1616]
[1617]
[1618]
[1619]
[1620]
[1621]
[1622]
[1623]
[1624]
[1625]
[1626]
[1627]
[1628]
[1629]
[1630]
[1631]
[1632]
[1633]
[1634]
[1635]

{"sheet":"COSTO ELEMENTOS N1","index":5,"n_rows":356,"n_cols":8,"rows_kept":356,"cut":false,"hidden":false,"merged":[]}
["INFORMACIÓN DE COSTOS",null,"Pesos a diciembre de 2007"]
[]
["TIPO CONDUCTOR"]
["A","AISLADO"]
["D","DESNUDO"]
["T","TRENZADO"]
[]
["MATERIAL CONDUCTOR"]
["AL","ALUMINIO"]
["CU","COBRE"]
[]
["TIPO RED"]
["A","ÁEREA"]
["S","SUBTERRANEA"]
[]
["TIPOS DE CAMARAS"]
["S","SENCILLA"]
["D","DOBLE"]
["A","ALUMBRADO"]
["T","TELEFONO"]
[]
["MATERIALES DE POSTES"]
["CO","CONCRETO","P"]
["MA","MADERA","P"]
["ME","METÁLICO","P"]
["PA","PALOMILLA","P"]
[]
["COSTOS DE ELEMENTOS E INSTALACIÓN"]
[]
["INSTALACIÓN CONDUCTORES"]
["TIPO RED","TIPO CONDUCTOR","RED/CONDUCTOR","INSTALACIÓN [$/m]"]
[{"$f":"$A$13","v":"A"},{"$f":"A4","v":"A"},{"$f":"A32&\"-\"&B32","v":"A-A"},1859.5385799999999]
[{"$f":"$A$13","v":"A"},{"$f":"A5","v":"D"},{"$f":"A33&\"-\"&B33","v":"A-D"},1859.5385799999999]
[{"$f":"$A$13","v":"A"},{"$f":"A6","v":"T"},{"$f":"A34&\"-\"&B34","v":"A-T"},1859.5385799999999]
[{"$f":"$A$14","v":"S"},{"$f":"A4","v":"A"},{"$f":"A35&\"-\"&B35","v":"S-A"},1675.3885800000003]
[{"$f":"$A$14","v":"S"},{"$f":"A6","v":"T"},{"$f":"A36&\"-\"&B36","v":"S-T"},1210.1512225000001]
[]
["PORCENTAJE POSTES RETENCIÓN/SUSPENSIÓN"]
[null,"PORCENTAJE"]
["SUSPENSIÓN",0.7]
["RETENSIÓN",0.30000000000000004]
[]
["INSTALACIÓN Y ACCESORIOS POSTES"]
["TIPO","RED  COMUN",null,"RED  TRENZADA"]
[null,"ACCESORIOS","INSTALACIÓN (URBANO)","ACCESORIOS","INSTALACIÓN (RURAL)"]
["SUSPENSIÓN",17617.977512950813,233556.26303030306,32314.916645939913,314042.72022727266]
["RETENSIÓN",50117.490496299084,233556.26303030306,67846.986359686445,314042.72022727266]
["PONDERADO",{"$f":"SUMPRODUCT($B40:$B41,B46:B47)","v":27367.831407955295},{"$f":"SUMPRODUCT($B40:$B41,C46:C47)","v":233556.26303030306},{"$f":"SUMPRODUCT($B40:$B41,D46:D47)","v":42974.537560063873},{"$f":"SUMPRODUCT($B40:$B41,E46:E47)","v":314042.72022727266}]
[]
["INSTALACIÓN Y ACCESORIOS POSTES POR TIPO DE CONDUCTOR Y LOCALIZACIÓN"]
["GRUPO","TIPO CONDUCTOR","GRUPO/TIPO CONDUCTOR","ACCESORIOS","INSTALACIÓN","TOTAL"]
[1,{"$f":"$A$4","v":"A"},{"$f":"A52&\"-\"&B52","v":"1-A"},24117.880109620462,233556.26303030306,257674.14313992352]
[2,{"$f":"$A$4","v":"A"},{"$f":"A53&\"-\"&B53","v":"2-A"},24117.880109620462,233556.26303030306,257674.14313992352]
[3,{"$f":"$A$4","v":"A"},"3-A",24117.880109620462,233556.26303030306,257674.14313992352]
[4,{"$f":"$A$4","v":"A"},"4-A",24117.880109620462,314042.72022727266,338160.60033689311]
[1,{"$f":"$A$5","v":"D"},"1-D",24117.880109620462,233556.26303030306,257674.14313992352]
[2,{"$f":"$A$5","v":"D"},"2-D",24117.880109620462,233556.26303030306,257674.14313992352]
[3,"D","3-D",24117.880109620462,233556.26303030306,257674.14313992352]
[4,"D","4-D",24117.880109620462,314042.72022727266,338160.60033689311]
[1,{"$f":"$A$6","v":"T"},"1-T",39421.330588689219,233556.26303030306,272977.59361899225]
[2,{"$f":"$A$6","v":"T"},"2-T",39421.330588689219,233556.26303030306,272977.59361899225]
[3,"T","3-T",39421.330588689219,233556.26303030306,272977.59361899225]
[4,"T","4-T",39421.330588689219,314042.72022727266,353464.05081596191]
[]
["COSTOS ADICIONALES CAMARAS (INGENIERÍA, INTERVENTORÍA, OTROS)"]
["TIPO CÁMARA","TIPO","INGENIERÍA Y OTROS [$/Cámara]"]
["SENCILLA","S",38184.300000000003]
["DOBLE","D",38184.300000000003]
["TELEFONO","T",38184.300000000003]
["ALUMBRADO PÚBLICO","A",38184.300000000003]
[]
["INSTALACIÓN CANALIZACIÓN"]
[null,"INSTALACIÓN [$/m]"]
["BANCO DE DUCTOS 1 Ø 4\" PVC  A BANCO DE DUCTOS 12 Ø 4\" PVC",4596.3549999999996]
[]
["COSTO DE CONDUCTORES"]
[null,"DESCRIPCIÓN",null,null,"COSTO DDP [$/m]"]
["CONDUCTORES","TIPO","MATERIAL","CALIBRE"]
["A-Al-1","AISLADO","ALUMINIO",1,1915.2820298312949]
["A-Al-2","AISLADO","ALUMINIO",2,1492.9573743218534]
["A-Al-4","AISLADO","ALUMINIO",4,892.65991409886544]
["A-Al-6","AISLADO","ALUMINIO",6,515.06896355796368]
["A-Al-8","AISLADO","ALUMINIO",8,515.06896355796368]
["A-Al-10","AISLADO","ALUMINIO",10,515.06896355796368]
["A-Al-12","AISLADO","ALUMINIO",12,515.06896355796368]
["A-Al-250","AISLADO","ALUMINIO",250,5966.8088787561564]
["A-Al-350","AISLADO","ALUMINIO",350,8574.3509715997607]
["A-Al-1/0","AISLADO","ALUMINIO","1/0",2447.7574212310128]
["A-Al-2/0","AISLADO","ALUMINIO","2/0",3118.7629957591125]
["A-Al-3/0","AISLADO","ALUMINIO","3/0",3965.3363370992233]
["A-Al-4/0","AISLADO","ALUMINIO","4/0",5031.7301426395798]
["A-Al-6/0","AISLADO","ALUMINIO","6/0",6648.3966200510076]
["A-Cu-1","AISLADO","COBRE",1,8721.2699691982998]
["A-Cu-2","AISLADO","COBRE",2,6985.7995923762628]
["A-Cu-4","AISLADO","COBRE",4,4518.9806512898085]
["A-Cu-6","AISLADO","COBRE",6,2967.3357244045001]
["A-Cu-8","AISLADO","COBRE",8,1992.8631779657007]
["A-Cu-10","AISLADO","COBRE",10,1378.1350604353427]
["A-Cu-12","AISLADO","COBRE",12,992.69460089058441]
["A-Cu-14","AISLADO","COBRE",14,750.16360403857493]
["A-Cu-250","AISLADO","COBRE",250,25370.321203790605]
["A-Cu-300","AISLADO","COBRE",300,30383.023795613717]
["A-Cu-350","AISLADO","COBRE",350,36085.565979134888]
["A-Cu-400","AISLADO","COBRE",400,40406.452361518692]
["A-Cu-500","AISLADO","COBRE",500,50416.044603234877]
["A-Cu-1/0","AISLADO","COBRE","1/0",10909.385808767776]
["A-Cu-1x350KCM","AISLADO","COBRE","1x350KCM",36085.565979134888]
["A-Cu-2/0","AISLADO","COBRE","2/0",13666.767557818741]
["A-Cu-2x350KCM","AISLADO","COBRE","2x350KCM",72171.131958269776]
["A-Cu-2x4/0","AISLADO","COBRE","2x4/0",43055.552629581107]
["A-Cu-2x500KCM","AISLADO","COBRE","2x500KCM",100832.08920646975]
["A-Cu-3/0","AISLADO","COBRE","3/0",17145.614782427838]
["A-Cu-4/0","AISLADO","COBRE","4/0",21527.776314790553]
["A-Cu-6/0","AISLADO","COBRE","6/0",28171.188543149183]
["D-Al-1","DESNUDO","ALUMINIO",1,1692.6635401325159]
["D-Al-2","DESNUDO","ALUMINIO",2,1400.0133059270786]
["D-Al-4","DESNUDO","ALUMINIO",4,984.03666322960009]
["D-Al-6","DESNUDO","ALUMINIO",6,722.38468845594593]
["D-Al-8","DESNUDO","ALUMINIO",8,558.06058200574]
["D-Al-10","DESNUDO","ALUMINIO",10,454.39973594891649]
["D-Al-12","DESNUDO","ALUMINIO",12,389.40338552743549]
["D-Al-14","DESNUDO","ALUMINIO",14,348.5056819545344]
["D-Al-180","DESNUDO","ALUMINIO",180,4945.4808927644808]
["D-Al-336","DESNUDO","ALUMINIO",336,6312.0708247033126]
["D-Al-1/0","DESNUDO","ALUMINIO","1/0",2061.6428217560006]
["D-Al-2/0","DESNUDO","ALUMINIO","2/0",2526.6167132327496]
["D-Al-3/0","DESNUDO","ALUMINIO","3/0",3113.2504401138085]
["D-Al-4/0","DESNUDO","ALUMINIO","4/0",3852.2089472134157]
["D-Al-6/0","DESNUDO","ALUMINIO","6/0",4972.4793767857118]
["D-Cu-1","DESNUDO","COBRE",1,8721.2699691982998]
["D-Cu-2","DESNUDO","COBRE",2,6985.7995923762628]
["D-Cu-4","DESNUDO","COBRE",4,4518.9806512898085]
["D-Cu-6","DESNUDO","COBRE",6,2967.3357244045001]
["D-Cu-8","DESNUDO","COBRE",8,1992.8631779657007]
["D-Cu-10","DESNUDO","COBRE",10,1378.1350604353427]
["D-Cu-12","DESNUDO","COBRE",12,992.69460089058441]
["D-Cu-14","DESNUDO","COBRE",14,750.16360403857493]
["D-Cu-16","DESNUDO","COBRE",16,599.34767038080543]
["D-Cu-750","DESNUDO","COBRE",750,49753.877659914397]
["D-Cu-1/0","DESNUDO","COBRE","1/0",10909.385808767776]
["D-Cu-2/0","DESNUDO","COBRE","2/0",13666.767557818741]
["D-Cu-6/0","DESNUDO","COBRE","6/0",28171.188543149183]
["T-Al-2","TRENZADO","ALUMINIO",2,1243.6151378214763]
["T-Al-4","TRENZADO","ALUMINIO",4,643.31767759848833]
["T-Al-6","TRENZADO","ALUMINIO",6,643.31767759848833]
["T-Al-8","TRENZADO","ALUMINIO",8,643.31767759848833]
["T-Al-1/0","TRENZADO","ALUMINIO","1/0",2198.4151847306357]
["T-Al-2/0","TRENZADO","ALUMINIO","2/0",2869.4207592587354]
["T-Al-4/0","TRENZADO","ALUMINIO","4/0",4782.3879061392026]
["T-Cu-2","TRENZADO","COBRE",2,7662.6678494465086]
["T-Cu-4","TRENZADO","COBRE",4,5195.8489083600543]
["T-Cu-6","TRENZADO","COBRE",6,3644.2039814747459]
["T-Cu-8","TRENZADO","COBRE",8,2669.7314350359466]
["T-Cu-10","TRENZADO","COBRE",10,2055.0033175055887]
["T-Cu-12","TRENZADO","COBRE",12,1669.5628579608301]
["T-Cu-1/0","TRENZADO","COBRE","1/0",11586.25406583802]
["T-Cu-2/0","TRENZADO","COBRE","2/0",14343.635814888985]
[]
["COSTO CANALIZACIÓN CÁMARAS"]
["TIPO CÁMARA","COSTO CANALIZACIÓN [$/m]"]
["A-1",91478.194055120955]
["A-2",91478.194055120955]
["A-3",136406.295257886]
["A-4",136406.295257886]
["A-5",180891.85812769202]
["A-6",180891.85812769202]
["A-7",272370.05218281294]
["A-10",317298.15338557801]
["A-11",361783.71625538403]
["A-12",361783.71625538403]
["D-1",91478.194055120955]
["D-2",91478.194055120955]
["D-3",136406.295257886]
["D-4",136406.295257886]
["D-5",180891.85812769202]
["D-6",180891.85812769202]
["D-7",272370.05218281294]
["D-8",272812.590515772]
["D-9",364290.78457089292]
["D-10",317298.15338557801]
["D-11",361783.71625538403]
["D-12",361783.71625538403]
["D-13",272370.05218281294]
["D-14",453261.91031050496]
["D-15",453261.91031050496]
["D-16",453261.91031050496]
["D-17",542675.57438307605]
["D-18",542675.57438307605]
["D-20",634153.76843819697]
["S-1",91478.194055120955]
["S-2",91478.194055120955]
["S-3",136406.295257886]
["S-4",136406.295257886]
["S-5",180891.85812769202]
["S-6",180891.85812769202]
["S-7",272370.05218281294]
["S-8",272812.590515772]
["S-9",364290.78457089292]
["S-10",317298.15338557801]
["S-11",361783.71625538403]
["S-12",361783.71625538403]
["S-13",272370.05218281294]
["S-14",453261.91031050496]
["S-15",453261.91031050496]
["S-16",453261.91031050496]
["S-17",542675.57438307605]
["S-18",542675.57438307605]
["S-24",723567.43251076806]
["T-1",91478.194055120955]
["T-2",91478.194055120955]
["T-3",136406.295257886]
["T-4",136406.295257886]
["T-5",180891.85812769202]
["T-6",180891.85812769202]
["T-7",272370.05218281294]
["T-8",272812.590515772]
[]
["COSTO DE APOYOS"]
[null,"DESCRIPCIÓN"]
["APOYOS","TIPO","TIPO CAJA / MATERIAL POSTE","NUMERO DUCTOS / ALTURA POSTE","COSTO DDP POSTE / COSTO CAMARA INSTALADA"]
["Co-6","A","CO",6,266710.97483328887]
["Co-7","A","CO",7,266710.97483328887]
["Co-8","A","CO",8,266710.97483328887]
["Co-9","A","CO",9,266710.97483328887]
["Co-10","A","CO",10,266710.97483328887]
["Co-11","A","CO",11,266710.97483328887]
["Co-12","A","CO",12,370242.56759508885]
["Co-13","A","CO",13,370242.56759508885]
["Co-14","A","CO",14,0]
["Co-15","A","CO",15,0]
["Co-16","A","CO",16,0]
["Co-16.5","A","CO",16.5,0]
["Co-18","A","CO",18,0]
["Ma-6","A","MA",6,221698.63360320294]
["Ma-7","A","MA",7,221698.63360320294]
["Ma-8","A","MA",8,221698.63360320294]
["Ma-9","A","MA",9,221698.63360320294]
["Ma-10","A","MA",10,221698.63360320294]
["Ma-11","A","MA",11,221698.63360320294]
["Ma-12","A","MA",12,221698.63360320294]
["Ma-14","A","MA",14,0]
["Me-6","A","ME",6,0]
["Me-7","A","ME",7,0]
["Me-8","A","ME",8,0]
["Me-9","A","ME",9,0]
["Me-9.15","A","ME",9.15,0]
["Me-9.5","A","ME",9.5,0]
["Me-10","A","ME",10,0]
["Me-11","A","ME",11,0]
["Me-12","A","ME",12,0]
["Me-13","A","ME",13,0]
["Me-14","A","ME",14,0]
["Me-15","A","ME",15,0]
["Me-18","A","ME",18,0]
["Pa-6","A","PA",6,32314.916645939913]
["Pa-7","A","PA",7,32314.916645939913]
["Pa-8","A","PA",8,32314.916645939913]
["Pa-9","A","PA",9,32314.916645939913]
["Pa-10","A","PA",10,32314.916645939913]
["Pa-11","A","PA",11,32314.916645939913]
["Pa-12","A","PA",12,32314.916645939913]
["A-1","S","A",1,694975.57291807234]
["A-2","S","A",2,694975.57291807234]
["A-3","S","A",3,694975.57291807234]
["A-4","S","A",4,694975.57291807234]
["A-5","S","A",5,694975.57291807234]
["A-6","S","A",6,694975.57291807234]
["A-7","S","A",7,694975.57291807234]
["A-10","S","A",10,694975.57291807234]
["A-11","S","A",11,694975.57291807234]
["A-12","S","A",12,694975.57291807234]
["D-1","S","D",1,1381005.7970062131]
["D-2","S","D",2,1381005.7970062131]
["D-3","S","D",3,1381005.7970062131]
["D-4","S","D",4,1381005.7970062131]
["D-5","S","D",5,1381005.7970062131]
["D-6","S","D",6,1381005.7970062131]
["D-7","S","D",7,1381005.7970062131]
["D-8","S","D",8,1381005.7970062131]
["D-9","S","D",9,1381005.7970062131]
["D-10","S","D",10,1381005.7970062131]
["D-11","S","D",11,1381005.7970062131]
["D-12","S","D",12,1381005.7970062131]
["D-13","S","D",13,1381005.7970062131]
["D-14","S","D",14,1381005.7970062131]
["D-15","S","D",15,1381005.7970062131]
["D-16","S","D",16,1381005.7970062131]
["D-17","S","D",17,1381005.7970062131]
["D-18","S","D",18,1381005.7970062131]
["D-20","S","D",20,1381005.7970062131]
["S-1","S","S",1,817618.32108008512]
["S-2","S","S",2,817618.32108008512]
["S-3","S","S",3,817618.32108008512]
["S-4","S","S",4,817618.32108008512]
["S-5","S","S",5,817618.32108008512]
["S-6","S","S",6,817618.32108008512]
["S-7","S","S",7,817618.32108008512]
["S-8","S","S",8,817618.32108008512]
["S-9","S","S",9,817618.32108008512]
["S-10","S","S",10,817618.32108008512]
["S-11","S","S",11,817618.32108008512]
["S-12","S","S",12,817618.32108008512]
["S-13","S","S",13,817618.32108008512]
["S-14","S","S",14,817618.32108008512]
["S-15","S","S",15,817618.32108008512]
["S-16","S","S",16,817618.32108008512]
["S-17","S","S",17,817618.32108008512]
["S-18","S","S",18,817618.32108008512]
["S-24","S","S",24,817618.32108008512]
["T-1","S","T",1,817618.32108008512]
["T-2","S","T",2,817618.32108008512]
["T-3","S","T",3,817618.32108008512]
["T-4","S","T",4,817618.32108008512]
["T-5","S","T",5,817618.32108008512]
["T-6","S","T",6,817618.32108008512]
["T-7","S","T",7,817618.32108008512]
["T-8","S","T",8,817618.32108008512]
[]
["TRANSFORMADORES"]
[null,"FASES","KVA","TIPO","COSTO DDP","ACCESORIOS","INSTALACIÓN","TOTAL"]
[{"$f":"B321&\"-\"&C321","v":"1-5"},1,5,"ÁEREO",1174595.8513395831,613737.127282192,1318721.7849999999,{"$f":"SUM(E321:G321)","v":3107054.763621775}]
[{"$f":"B322&\"-\"&C322","v":"1-10"},1,10,"ÁEREO",1494052.4761060497,613737.127282192,1318721.7849999999,{"$f":"SUM(E322:G322)","v":3426511.3883882416}]
["1-15",1,15,"ÁEREO",1691738.5366930054,613737.127282192,1318721.7849999999,3624197.448975197]
["1-25",1,25,"ÁEREO",2649281.8466666667,613737.127282192,1318721.7849999999,4581740.7589488588]
["1-37.5",1,37.5,"ÁEREO",3585307.8929291954,613737.127282192,1318721.7849999999,5517766.8052113876]
["1-50",1,50,"ÁEREO",3949898.8138598134,613737.127282192,1318721.7849999999,5882357.726142006]
["3-15",3,15,"ÁEREO",2840113.4862213917,613737.127282192,1318721.7849999999,4772572.3985035839]
["3-20",3,20,"ÁEREO",2638448.9682367705,613737.127282192,1318721.7849999999,4570907.8805189626]
["3-30",3,30,"ÁEREO",4016518.3858746011,613737.127282192,1318721.7849999999,5948977.2981567932]
["3-45",3,45,"ÁEREO",4778986.0209663194,613737.127282192,1318721.7849999999,6711444.9332485115]
["3-50",3,50,"ÁEREO",4778986.0209663194,613737.127282192,1318721.7849999999,6711444.9332485115]
["3-75",3,75,"ÁEREO",6269976.6094069527,613737.127282192,1318721.7849999999,8202435.5216891449]
["3-112.5",3,112.5,"ÁEREO",8671007.4768799618,613737.127282192,1318721.7849999999,10603466.389162153]
["3-150",3,150,"ÁEREO",10124375.308111474,613737.127282192,1318721.7849999999,12056834.220393665]
["3-225",3,225,"PEDESTAL",15875456.951580258,1831769.1630289096,8764553.057500001,26471779.172109168]
["3-250",3,250,"PEDESTAL",15875456.951580258,1831769.1630289096,8764553.057500001,26471779.172109168]
["3-300",3,300,"PEDESTAL",13211499.571747366,1831769.1630289096,8764553.057500001,23807821.792276278]
["3-400",3,400,"PEDESTAL",19048020.390832823,1831769.1630289096,8764553.057500001,29644342.611361735]
["3-500",3,500,"PEDESTAL",24042511.734657317,1831769.1630289096,8764553.057500001,34638833.955186233]
["3-630",3,630,"PEDESTAL",20173143.295127325,1831769.1630289096,8764553.057500001,30769465.515656237]
["3-1000",3,1000,"PEDESTAL",40443044.300578997,1831769.1630289096,8764553.057500001,51039366.521107912]
["3-112.5",3,112.5,"SUBESTACIÓN",12761677.064145157,13697837.990266073,2786523.1268750001,29246038.181286231]
["3-150",3,150,"SUBESTACIÓN",12548999.344389265,13697837.990266073,2786523.1268750001,29033360.461530335]
["3-225",3,225,"SUBESTACIÓN",17769565.861182518,13697837.990266073,2786523.1268750001,34253926.978323594]
["3-250",3,250,"SUBESTACIÓN",18424003.895687059,13697837.990266073,2786523.1268750001,34908365.012828134]
["3-300",3,300,"SUBESTACIÓN",8537558.437835902,13697837.990266073,2786523.1268750001,25021919.554976977]
["3-400",3,400,"SUBESTACIÓN",25008178.230614632,13697837.990266073,2786523.1268750001,41492539.3477557]
["3-500",3,500,"SUBESTACIÓN",29397627.787233021,13697837.990266073,2786523.1268750001,45881988.904374093]
["3-630",3,630,"SUBESTACIÓN",35103912.210836917,17967491.751357183,3237747.1768749999,56309151.139069103]
["3-1000",3,1000,"SUBESTACIÓN",51344875.57032495,17967491.751357183,3237747.1768749999,72550114.498557121]
[]
["PUESTA A TIERRA"]
[null,"VALOR"]
["ACCESORIOS",43037.175563489582]
["VARILLA COPPERWELD",28056.349409996852]
["TOTAL",{"$f":"SUM(B354:B355)","v":71093.524973486434}]

{"sheet":"TRANSFORMADORES","index":6,"n_rows":8,"n_cols":2,"rows_kept":8,"cut":false,"hidden":false,"merged":[]}
["TRANSFORMADORES DE DISTRIBUCIÓN "]
[]
["GRUPO DE CALIDAD"," TRANSFORMADORES DE DISTRIBUCIÓN"]
[1,150]
[2,400]
[3,350]
[4,1500]
["TOTAL",{"$f":"SUM(B4:B7)","v":2400}]